Workbook

Sheet INVESTĪCIJU PLĀNS 2025
A1: Nr. | B1: Projekta nosaukums | C1: Sasaiste ar Rīcības plāna pasākumiem | D1: Atbildīgā iestāde vai struktūrvienība | E1: Cits finansējuma avots | F1: Priekšlikumi 2025.gada investīciju plānam | G1: Finansējums | H1: Finansējums | I1: Finansējums | J1: Finansējums | K1: Finansējums | L1: Grozījumi, septembris | M1: Grozījumi, jūnijs | N1: Grozījumi maijs | O1: Grozījumi, februāris | P1: Pārejošais finansējums | Q1: 1.prioritāte | R1: 2.prioritāte | S1: Punktu skaits kopā | T1: VĒRTĒŠANAS KRITĒRIJI
T2: Noslēgts līgums/ saistības (pārejošs līgums, saistošie noteikumi) | U2: Izstrādāts un spēkā esošs būvprojekts | V2: ES fondu vai cits ārējais līdzfinansējums | W2: Iedzīvotāju iniciatīvas projekts | X2: stratēģiski nozīmīgs investīciju projekts (vairāk kā vienā apkaimē) | Y2: Vides pieejamība | Z2: iekļauts aktuālajā trīs gadu investīciju plānā
A3: VTP1 SABIEDRISKI AKTĪVS IEDZĪVOTĀJS | T3: 2 | U3: 1 | V3: 2 | W3: 1 | X3: 1 | Y3: 1 | Z3: 1
A4: RV1 IZGLĪTĪBA
A5: 1 | B5: Paaugstināt pirmsskolas izglītības pakalpojumu pieejamību | C5: R1.1 | D5: IKSP, II, PĪP, APP | E5: ERAF 4 000 000 Aizņēmums/ 2 346 887 EUR | F5: 1) SAM 4.2.1.7. projekta "Pirmsskolas izglītības iestādes būvniecība Tīrainē, Mārupes novadā" īstenošana (Nr.4.2.1.7./1/23/A/006) | L5: =SUM(K6:K9) -> 4084352 | M5: =SUM(H6:H9) -> 3285582 | N5: =SUM(I6:I9) -> 3285582 | O5: =SUM(H6:H9) -> 3285582 | P5: =SUM(G8) -> 32671 | Q5: =SUM(G6:G9) -> 5711724 | S5: =SUM(T5:Z9) -> 7 | T5: 2 | U5: 1 | V5: 2 | Y5: 1 | Z5: 1
F6: Bērnudārza un Kungu ielas pagarinājuma būvniecība - (05.03.2025. līgums ar SIA ARČERS, līguma Nr.1/4-2.2/13-2025) 12 594 464 EUR (2025.gads - 8 062 730 EUR (ERAF - 4 000 000 EUR, PB 4 040 264 EUR, aizņēmums - 2 346 887 EUR) , 2026.gadā 4 531 734 EUR (ERAF 1 000 000 EUR, PB - 3 554 208 EUR) | G6: 5578013 | H6: 3151871 | I6: 3231126 | J6: 3231126 | K6: 4040264
F7: Sadales gāzes vada izbūve (23.02.2025. līgums Nr. 1/4-2.1/62/2025, GASO, AS, summa 4088) | G7: 29040 | H7: 29040 | I7: 4088 | J7: 4088 | K7: 4088
F8: Autoruzraudzība 40 838 EUR (13.07.23.gada līgums Nr.1/4-2/316-2023 ar SIA "AR 4") - 2025.gadā 30 000 EUR, 2026.gadā 10 838 EUR) | G8: 32671 | H8: 32671 | I8: 32671 | J8: 32671 | K8: 30000
F9: Būvuzraudzība (06.03.2025.līgums ar SIA "Prokrial" 23 595 EUR (2025.gadā - 10 000 EUR, 2026.gadā - 13 595 EUR) | G9: 72000 | H9: 72000 | I9: 17697 | J9: 17697 | K9: 10000
A10: 2 | F10: 2) Piņķu pirmsskolas izglītības iestādes būvprojekta izstrāde | L10: 0 | M10: 0 | N10: 0 | O10: 0 | P10: 0 | Q10: 0 | R10: 250000 | S10: =SUM(T10:Z13) -> 3 | X10: 1 | Y10: 1 | Z10: 1
F11: Projektēšana 250 000 EUR (lēmums pēc izpētes veikšanas) - 2.prioritāte | G11: 250000 | H11: 250000 | I11: 250000 | J11: 250000 | K11: 250000
F12: Ekspertīze 10 000 EUR (2026)
F13: Autoruzraudzība 35 000 EUR (2026)
A14: 3 | E14: ESF/ 316 054 EUR | F14: 3) Projekta "Bērnu pieskatīšanas pakalpojumi Mārupes novadā" īstenošana Kopējais finansējums līdz 2029.gadam 1 890 000 EUR (ESF 1 375 920 EUR, PB 514 080 EUR) | L14: 130000 | M14: 130000 | N14: =SUM(I15) -> 130000 | O14: =SUM(H15) -> 100000 | Q14: =SUM(G15) -> 100000 | S14: =SUM(T14:Z15) -> 5 | T14: 2 | V14: 2 | Z14: 1
F15: ESF finansējums - 316 054 EUR, PB līdzfinansējums 80 000 EUR un PB priekšfinansējums - 50 000 EUR | G15: 100000 | H15: 100000 | I15: 130000 | J15: 130000 | K15: 130000
A16: 4 | B16: Paaugstināt pamata un vidējās izglītības pieejamību | C16: R1.2 | D16: IKSP, II, PĪP | F16: 1) Skultes sākumskolas un sporta laukuma būvniecība | L16: =SUM(G17) -> 50000 | M16: =SUM(H17) -> 50000 | N16: =SUM(I17) -> 50000 | O16: =SUM(H17) -> 50000 | Q16: 50000 | R16: 250000 | S16: =SUM(T16:Z21) -> 3 | X16: 1 | Y16: 1 | Z16: 1
F17: Projektēšana 230 000 EUR (meta konkurss 2025.gadam - 50 000 EUR un projektēšanas uzsākšana, projektēšanas turpināšana 2.prioritāte) | G17: 50000 | H17: 50000 | I17: 50000 | J17: 50000 | K17: 50000
F18: Būvprojekta ekspertīze 2.prioritāte | G18: 20000 | H18: 20000 | I18: 20000 | J18: 20000 | K18: 20000
F19: Autoruzraudzība 2 300 EUR (2026.gads)
F20: Būvniecība 8 000 000 EUR (2026.gads)
F21: Būvuzraudzība 70 000 EUR (2026.gads)
A22: 5 | F22: 2) Zemes iegāde "Boļi-A" un "Boļi-B" ar platību 93979 m2 vispārējās izglītības iestādes būvniecības vajadzībām | G22: 2500000 | H22: 2500000 | I22: 2500000 | J22: 2500000 | K22: 2500000 | L22: =SUM(G22) -> 2500000 | M22: =SUM(H22) -> 2500000 | N22: =SUM(I22) -> 2500000 | O22: =SUM(H22) -> 2500000 | Q22: 0 | R22: 0 | S22: =SUM(T22:Z22) -> 6 | T22: 2 | V22: 2 | X22: 1 | Y22: 1
A23: 6 | B23: Zināšanu veicināšana pedagogiem un izglītojamajiem | C23: R1.9, R12.8 | D23: IKSP | E23: VISC/ 54 127 EUR | F23: Projekta "Mācību procesa kvalitātes pilnveide, īstenojot pedagogu profesionālās darbības atbalsta sistēmas attīstību, izglītojamo izcilības aktivitāšu nodrošināšanu un metodiskā atbalsta materiālu izstrādi pedagogam" īstenošana Kopā līdz 2028.gadam 254 349 EUR 2025.gads - 54 127 EUR; 2026.gads - 87 255 EUR; 2027.gads - 87 255 EUR; 2028.gads - 36 336 EUR. | G23: 0 | H23: 0 | I23: 0 | J23: 0 | K23: 0 | L23: =SUM(G23) -> 0 | M23: =SUM(H23) -> 0 | N23: =SUM(I23) -> 0 | O23: 0 | Q23: =SUM(G23) -> 0 | S23: =SUM(T23:Z23) -> 4 | T23: 2 | V23: 2
C24: R1.9, R12.8 | E24: ESF+/ 121 900 EUR | F24: Projekta "STEM un pilsoniskās līdzdalības norises plašākai izglītības pieredzei un karjeras izvēlei" īstenošana | K24: 0 | L24: 0
A25: 7 | B25: Nodrošināt kvalitatīvu izglītības vidi un materiāltehnisko bāzi pirmsskolas, vispārējās un interešu izglītības īstenošanai | C25: R1.7 | D25: PII Saimīte, PĪP | F25: Āra rotaļu laukuma iekārtu nomaiņa | L25: =SUM(K26:K28) -> 39931 | M25: =SUM(H26:H28) -> 36250 | N25: =SUM(I26:I28) -> 36250 | O25: =SUM(H26:H28) -> 36250 | P25: 0 | Q25: =SUM(G26:G28) -> 36250 | T25: Materiāltehniskai bāzei nav vērtējums, katru gadu šai sadaļai sniedz priekšlikumus pēc nepieciešamības. Šobrīd kopējais materiāltehniskās bāzes finansējums izglītības iestādēm veido 849 468 EUR. Trīs gadu plānā uz trim gadiem norādītais finansējums šobrīd ir 900 000 EUR, respektīvi katru kadu pa 300 000 EUR.
F26: Projekta dokumentācijas izstrāde (līgums Nr. 1/4-2.1/247-2025 SIA "Jūrmalas Mežaparki") | G26: 2000 | H26: 2000 | I26: 2000 | J26: 2000 | K26: 2178
F27: Iekārtu izmaksas (līgums Nr. 1/4-2.1/247-2025 SIA "Jūrmalas Mežaparki") | G27: 24000 | H27: 24000 | I27: 24000 | J27: 24000 | K27: 27503
F28: Uzstādīšanas izmaksas | G28: 10250 | H28: 10250 | I28: 10250 | J28: 10250 | K28: 10250
A29: 8 | D29: Babītes PII, PĪP | F29: Āra rotaļu laukuma iekārtu nomaiņa | L29: =SUM(K30:K32) -> 33025 | M29: =SUM(H30:H32) -> 33025 | N29: =SUM(I30:I32) -> 33025 | O29: =SUM(H30:H32) -> 33025 | Q29: =SUM(G30:G32) -> 33025
F30: Gumijas seguma izveidošana | G30: 10243 | H30: 10243 | I30: 10243 | J30: 10243 | K30: 10243
F31: Izpilduzmērījums | G31: 350 | H31: 350 | I31: 350 | J31: 350 | K31: 350
F32: Iekārtu izmaksas | G32: 22432 | H32: 22432 | I32: 22432 | J32: 22432 | K32: 22432
A33: 9 | D33: Lienīte, PĪP | F33: 1) 4 ieejas kāpņu pārbūve Amatas ielā 2 | L33: =SUM(K34:K40) -> 88974 | M33: =SUM(J34:J40) -> 101992 | N33: =SUM(I34:I40) -> 101992 | O33: =SUM(H34:H40) -> 100994 | P33: =SUM(G34:G40) -> 100994 | Q33: =SUM(G34:G40) -> 100994
F34: Paskaidrojuma raksts | G34: 5816 | H34: 5816 | I34: 5816 | J34: 5816 | K34: 5816
F35: Autoruzraudzība | G35: 1035 | H35: 1035 | I35: 1035 | J35: 1035 | K35: 1035
F36: Būvniecība | G36: 56558 | H36: 56558 | I36: 56558 | J36: 56558 | K36: 56558
F37: Būvuzraudzība | G37: 1967 | H37: 1967 | I37: 1967 | J37: 1967 | K37: 1967
F38: Projekta izmaiņas un papildus darbi (Līgums 1/4-2/464-2024 no 21.08.2024.) | G38: 11987 | H38: 11987 | I38: 10798 | J38: 10798 | K38: 10798
F39: Kāpņu jumtiņu ekspertīze | I39: 2187 | J39: 2187 | K39: 1800
F40: Pacēlāja iegāde (vai cits risinājums vides pieejamības nodrošināšanai) | G40: 23631 | H40: 23631 | I40: 23631 | J40: 23631 | K40: 11000
...

Sheet IELAS UN CEĻI 2025
A1: Nr. | B1: Projekta nosaukums | C1: Priekšlikumi 2025.gadam | D1: Finansējums | E1: Finansējums | F1: Pārejošais finansējums | G1: Finansējums | H1: Finansējums | I1: Grozījumi, septembris | J1: Grozījumi, maijs | K1: Grozījumi, februāris | L1: 1.prioritāte | M1: 2.prioritāte | N1: PUNKTU SKAITS KOPĀ | O1: VĒRTĒŠANAS KRITĒRIJI
O2: Noslēgts līgums/ saistības (pārejošs līgums, saistošie noteikumi) | P2: Izstrādāts un spēkā esošs būvprojekts | Q2: ES fondu vai cits ārējais līdzfinansējums | R2: Iedzīvotāju iniciatīvas projekts | S2: stratēģiski nozīmīgs investīciju projekts (vairāk kā vienā apkaimē) | T2: Vides pieejamība | U2: iekļauts aktuālajā trīs gadu investīciju plānā
B3: Ielu un ceļu infrastruktūras izbūve un pārbūve Mārupes novadā 2025.gadā | F3: =SUM(F5,F12:F25,F27:F35,F39,F44:F65,F67,F73:F80,F82:F86,F90:F119,F121:F145,F147,F153:F159,F161:F175,F180:F188,F190:F199,F201,F206) -> 559313 | I3: =SUM(I5,I12:I25,I27:I37,I39,I44:I65,I67,I73:I80,I82,I90:I119,I121,I136:I145,I147,I153:I159,I161:I178,I180:I188,I190:I199,I201,I206) -> 1355514 | J3: =SUM(J5,J12:J25,J27:J37,J39,J44:J65,J67,J73:J80,J82,J90:J119,J121,J136:J145,J147,J153:J159,J161:J178,J180:J188,J190:J199,J201,J206) -> 1354216 | K3: =SUM(K5,K12:K25,K27:K37,K39,K44:K65,K67,K73:K80,K82:K86,K90:K119,K121:K145,K147,K153:K159,K161:K178,K180:K188,K190:K199,K201,K206) -> 1276618 | L3: =SUM(L5,L12:L25,L27:L35,L39,L44:L65,L67,L73:L80,L82:L86,L90:L119,L121:L145,L147,L153:L159,L161:L178,L180:L188,L190:L199,L201,L206) -> 1285773 | M3: =SUM(M5,M12:M25,M27:M35,M39,M44:M65,M67,M73:M80,M82:M86,M90:M119,M121:M145,M147,M155:M159,M161:M175,M180:M188,M190:M199,M201,M206) -> 12892456
A4: I Ielu un ceļu infrastruktūras sakārtošana
A5: 1 | B5: Gājēju pāreju, ātrumvaļņu un citu drošības pasākumu veikšana | C5: Gaujas ielas (caurtekas) pārbūve novadgrāvja 41312:P:21 šķērsojumā | F5: =SUM(D6) -> 5022 | I5: =SUM(H6:H9) -> 27341 | J5: =SUM(G6) -> 5022 | K5: =SUM(E6) -> 5022 | L5: =SUM(D6) -> 5022 | M5: =SUM(G7:G9) -> 114591 | N5: =SUM(O5:U9) -> 3 | O5: 2 | U5: 1
C6: Ieceres dokumentācijas izstrāde (09.12.2024. līgums Nr.1/4-2/666-2024 ar SIA “Ceļu inženieri”) | D6: 5022 | E6: 5022 | G6: 5022 | H6: 5022
C7: Autoruzraudzība 1000 EUR | D7: 500 | E7: 500 | G7: 1000
C8: Būvniecība 111 591 EUR (plānots atkārtots iepirkums, 2025.gadā paredzēt 20% - 22 319 EUR) | D8: 60000 | E8: 60000 | G8: 111591 | H8: 22319
C9: Būvuzraudzība 2000 EUR | D9: 1000 | E9: 1000 | G9: 2000
A10: II Gājēju un veloceļu infrastruktūras sakārtošana
A11: MĀRUPES APKAIME
A12: 2 | B12: Gājēju – veloceliņa ceļa izbūve Lielajā ielā no Daugavas ielas līdz Kantora ielai | C12: Lielā iela no Valsts reģionālā autoceļa P132 (Rīga – Jaunmārupe) līdz Valsts vietējam autoceļam V15 (Rīgas robeža – Silnieki – Puķulejas) - projektētais garums – 2 225m | F12: =SUM(D13) -> 43681 | I12: =SUM(H13) -> 40071 | J12: =SUM(G13) -> 43681 | K12: =SUM(E13) -> 43681 | L12: =SUM(D13) -> 43681 | M12: =SUM(D14:D16) -> 1239369 | N12: =SUM(O12:U16) -> 5 | O12: 2 | S12: 1 | T12: 1 | U12: 1
C13: Projektēšana (28.12.2023. līgums Nr. 1/4-2/654-2023 - pārejošs finansējums, piemērots līgumsods 3 610 EUR)) | D13: 43681 | E13: 43681 | G13: 43681 | H13: 40071
C14: Autruzraudzība (28.12.2023. līgums Nr. 1/4-2/655-2023 nepieciešams pie būvniecības) | D14: 4369 | E14: 4369 | G14: 4369 | H14: 4369
C15: Būvniecība 2. prioritāte | D15: 1210000 | E15: 1210000 | G15: 1210000 | H15: 1210000
C16: Būvuzraudzība 2. prioritāte | D16: 25000 | E16: 25000 | G16: 25000 | H16: 25000
A17: 3 | B17: Gājēju-velosipēdistu ceļa izbūve gar pašvaldības ceļu C – 30 “Vizmas- Vecais Mārupes ceļš” no Rožu ielas līdz Valsts autoceļam P132 | C17: Gājēju-velosipēdistu ceļa izbūve gar pašvaldības ceļu C – 30 “Vizmas- Vecais Mārupes ceļš” no Rožu ielas līdz Valsts autoceļam P132 (garums - 0.532 m) | F17: =SUM(D18:D20) -> 194038 | I17: =SUM(H18:H20) -> 194038 | J17: =SUM(G18:G20) -> 194038 | K17: =SUM(E18:E20) -> 194038 | L17: =SUM(D18:D20) -> 194038 | N17: =SUM(O17:U20) -> 5 | O17: 2 | P17: 1 | T17: 1 | U17: 1
C18: Autoruzraudzība - 2469 (pārejošais finansējums) (27.11.2023. līgums Nr. 1/4-2/578-2023, Ceļu inženieri, SIA)) | D18: 2469 | E18: 2469 | G18: 2469 | H18: 2469
C19: Būvniecība (23.10.2024. līgums Nr. 1/4-2/575-2024, GP Holding, SIA) | D19: 187684 | E19: 187684 | G19: 187684 | H19: 187684
C20: Būvuzraudzība (23.10.2024. līgums Nr. 1/4-2/579-2024, PRO VIA, SIA) | D20: 3885 | E20: 3885 | G20: 3885 | H20: 3885
A21: 4 | B21: Ventas ielas (posmā no Dzelzceļa ielas līdz Kurmales ielai) gājēju celiņa pārbūve | C21: Gājēju celiņa izbūve Ventas ielas posmā no Kurmales līdz Dzelzceļa ielai | F21: =SUM(D22) -> 19481 | I21: =SUM(H22) -> 17533 | J21: =SUM(G22) -> 19481 | K21: =SUM(E22) -> 19481 | L21: =SUM(D22) -> 19481 | M21: =SUM(D23:D25) -> 497949 | N21: =SUM(O21:U25) -> 4 | O21: 2 | T21: 1 | U21: 1
C22: Projektēšana 19 481 EUR (25.04.2024. līgums Nr. 1/4-2/240-2024 ar Global Projekt, SIA) - (līgumsods 1948 EUR) | D22: 19481 | E22: 19481 | G22: 19481 | H22: 17533
C23: Autoruzraudzība 1 949 EUR (2025.gads - 25.04.2024. līgums Nr. 1/4-2/241-2024 ar Global Projekt, SIA) | D23: 1949 | E23: 1949 | G23: 1949 | H23: 1949
C24: Būvniecība | D24: 484000 | E24: 484000 | G24: 484000 | H24: 484000
C25: Būvuzraudzība | D25: 12000 | E25: 12000 | G25: 12000 | H25: 12000
A26: SPILVES APKAIME
A27: 5 | B27: Gājēju ietves un apgaismojuma izbūve Kleistu ielas posmā no Klusās ielas līdz kalēju ielai, Mežāres | C27: Gājēju ietves un apgaismojuma izbūve Kleistu ielas posmā no Klusās ielas līdz Kalēju ielai ~0.34km, Mežāres | F27: 0 | I27: =SUM(H28:H30) -> 125169 | J27: =SUM(G28:G30) -> 105513 | K27: =SUM(E28:E30) -> 105513 | L27: =SUM(D28:D30) -> 105513 | M27: 0 | N27: =SUM(O27:U30) -> 3 | P27: 1 | T27: 1 | U27: 1
C28: Autoruzraudzība | D28: 1513 | E28: 1513 | G28: 1513 | H28: 1513
C29: Būvdarbi (07.08.2025. līgums Nr. 1/4-2.2/72-2025 ar SIA Certa Būve) | D29: 100000 | E29: 100000 | G29: 100000 | H29: 119656
C30: Būvuzraudzība | D30: 4000 | E30: 4000 | G30: 4000 | H30: 4000
A31: 6 | B31: Gājēju ceļa izbūve Kleistu ielas posmā no Alstu ielas līdz C-57, Spilve | C31: Izbūvēts savienojums ar esošajiem gājēju ceļu posmiem Kleistu ielas posmā no Alstu ielas līdz C-57 (~0,6km) | F31: 0 | I31: =SUM(H32) -> 15767 | J31: =SUM(G32) -> 27000 | K31: =SUM(E32) -> 27000 | L31: =SUM(D32) -> 27000 | N31: =SUM(O31:U35) -> 3 | R31: 1 | T31: 1 | U31: 1
C32: Projektēšana (23.07.2025. līgums Nr. 1/4-2.2/64-2025 ar SIA Varg Industries) | D32: 27000 | E32: 27000 | G32: 27000 | H32: 15767
C33: Autoruzraudzība 3 715 EUR (23.07.2025. līgums Nr. 1/4-2.2/65-2025 ar SIA Varg Industries - nepieciešams pie būvniecības)
C34: Būvdarbi 300 000 EUR (2026.gads)
C35: Būvuzraudzība 8 000 EUR (2026.gads)
A36: 7 | B36: Gājēju – veloceliņa un apgaismojuma izbūve Gravu ielas posmā no valsts vietējā autoceļa V10 Babītes stacija – Vārnukrogs līdz Žubīšu ielai, Spilvē | C36: Izbūvēts apgaismots gājēju-veloceļa posms Gravu ielā, Spilvē, Babītes pagastā | F36: =SUM(D37:D37) -> 845 | I36: =SUM(H37) -> 845 | J36: =SUM(G37) -> 845 | K36: =SUM(E37) -> 845 | L36: =SUM(D37:D37) -> 845
C37: Būvuzraudzība - 845 EUR (līg. 02.10.2023., Nr.1/4-2/464-2023) pārejošais finansējums | D37: 845 | E37: 845 | G37: 845 | H37: 845
A38: PIŅĶU APKAIME
A39: 8 | B39: Gājēju - veloceļa un apgaismojuma izbūve starp Piņķu un Vīkuļu ciemiem | C39: Gājēju - veloceļa un apgaismojuma izbūve starp Piņķu un Vīkuļu ciemiem, Babītes pagastā, ~2,2km | F39: =SUM(D40:D42) -> 47349 | I39: =SUM(H40:H42) -> 47382 | J39: =SUM(G40:G42) -> 47382 | K39: =SUM(E40:E42) -> 47349 | L39: =SUM(D40:D42) -> 47349 | N39: =SUM(O39:U42) -> 6 | O39: 2 | P39: 1 | R39: 1 | T39: 1 | U39: 1
C40: Autoruzraudzība (līg. 29.08.2023. Nr.1/4-2/387-2023, SIA BM-Projekts- pārejošais finansējums) | D40: 3025 | E40: 3025 | G40: 3025 | H40: 3025
...

Sheet APGAISMOJUMS 2025
A1: Nr. | B1: Projekta nosaukums | C1: Provizoriskās projekta kopējās izmaksas (EUR) 2023.-2025.gadā | D1: Plānotie finanšu avoti | G1: Projekta rezultatīvie rādītāji 2025. - 2027.gadam | H1: Priekšlikumi 2025.gadam | I1: Finansējums | J1: Pārejošais finansējums | K1: Finansējums | L1: Finansējums | M1: Grozījumi, septembris | N1: Grozījumi, maijs | O1: 1.prioritāte | P1: 2.prioritāte | Q1: Punktu skaits kopā | R1: VĒRTĒŠANAS KRITĒRIJI
D2: ES finansējums | E2: Pašvaldības finansējums | F2: Citi | R2: Noslēgts līgums/ saistības (pārejošs līgums, saistošie noteikumi) | S2: Izstrādāts un spēkā esošs būvprojekts | T2: ES fondu vai cits ārējais līdzfinansējums | U2: Iedzīvotāju iniciatīvas projekts | V2: stratēģiski nozīmīgs investīciju projekts (vairāk kā vienā apkaimē) | W2: Vides pieejamība | X2: iekļauts aktuālajā trīs gadu investīciju plānā
B3: Ielu un ceļu apgaismojuma izbūves un pārbūve Mārupes novadā 2023. - 2025. gadam | C3: =SUM(#REF!,#REF!,#REF!,#REF!,#REF!,#REF!,#REF!,#REF!,#REF!,C13,C16,C29,C40,C43,#REF!,C47:C47,#REF!,C55,#REF!,C71,C74,C62) -> #REF! | D3: =SUM(#REF!,#REF!,#REF!,#REF!,#REF!,#REF!,#REF!,#REF!,#REF!,D13,D16,D29,D40,D43,#REF!,D47,#REF!,D55,#REF!,D71,D74,D62) -> #REF! | E3: =SUM(#REF!,#REF!,#REF!,#REF!,#REF!,#REF!,#REF!,#REF!,#REF!,E13,E16,E29,E40,E43,#REF!,E47:E47,#REF!,E55,#REF!,E71,E74,E62) -> #REF! | F3: =SUM(#REF!,#REF!,#REF!,#REF!,#REF!,#REF!,#REF!,#REF!,#REF!,F13,F16,F29,F40,F43,#REF!,F47,#REF!,F55,#REF!,F71,F74,F62) -> #REF! | J3: =SUM(J4:J11,J13:J18,J29:J38,J40:J45,J47:J53,J55:J60,J62:J69,J71:J81,J83:J90) -> 56507 | M3: =SUM(M4:M11,M13:M27,M29:M38,M40:M45,M47:M53,M55:M60,M62:M69,M71:M81,M83:M90) -> 283940 | N3: =SUM(N4:N11,N13:N27,N29:N38,N40:N45,N47:N53,N55:N60,N62:N69,N71:N81,N83:N90) -> 244287 | O3: =SUM(O4:O11,O13:O27,O29:O38,O40:O45,O47:O53,O55:O60,O62:O69,O71:O81,O83:O90) -> 245582 | P3: =SUM(P4:P11,P13:P18,P29:P38,P40:P45,P47:P53,P55:P60,P62:P69,P71:P81,P83:P90) -> 291352
A4: 1 | G4: Pašvaldības objekti (suņu pastaigas, bērnu, trenažieru laukumi un atpūtas laukumi un parki) | H4: Pašvaldības objektu apgaismojuma izbūve (Suņu pastaigu laukumi Tīrainē un Piņķos, Trenažieru laukums Piņķos pie ūdenskrātuves, Babītē pie dzelzceļa stacijas, Dzilnuciems Kungu iela, bērnu laukumi Meldriņu ielā un Liepu alejā, Pūpes parks ) | J4: 0 | M4: =SUM(L5) -> 8589 | N4: =SUM(K5) -> 9500 | O4: =SUM(I5) -> 9500 | P4: =SUM(I6:I7) -> 43730 | Q4: =SUM(R4:X7) -> 3 | U4: 1 | V4: 1 | W4: 1
H5: Projektēšana (01.08.2025. līgums Nr. 1/4-2.2/71-2025 ar SIA MON Projekti) | I5: 9500 | K5: 9500 | L5: 8589
H6: Būvniecība | I6: 43000 | K6: 43000 | L6: 43000
H7: Autoruzraudzība | I7: 730 | K7: 730 | L7: 730
A8: 2 | G8: Gājēju pāreju -speciālā apgaismojuma uzstādīšana | H8: Speciālo gājēju pāreju apgaismojuma ZEBRA Calipso izbūve (Gājēju pāreju -speciālā apgaismojuma uzstādīšana Jelgavas ceļš, Gaujas iela, Mārupītes gatve, Ventas iela, Kleistu iela, Babītes iela, Jūrmalas iela, Rīgas iela, Sēbruciems) | J8: 0 | M8: =SUM(L9:L11) -> 17875 | N8: =SUM(K9:K11) -> 17875 | O8: =SUM(I9:I11) -> 17875 | P8: 0 | Q8: =SUM(R8:X11) -> 3 | U8: 1 | V8: 1 | W8: 1
H9: Projektēšana | I9: 5000 | K9: 5000 | L9: 5000
H10: Būvniecība (2025.gads - 12 500 EUR, 2026.gads - 12 500 EUR) | I10: 12500 | K10: 12500 | L10: 12500
H11: Autoruzraudzība (2025. gads 375 EUR, 2026.gads - 375 EUR) | I11: 375 | K11: 375 | L11: 375
A12: MĀRUPES APKAIME
A13: 3 | B13: Mauriņu ielas posma no Ventas ielas līdz Trenču ielai apgaismojuma izbūve | C13: 22000 | D13: 0 | E13: 22000 | F13: 0 | G13: Veikta apgaismojuma izbūve Mauriņu ielas posma (330m) no Ventas ielas līdz Trenču ielai. | H13: Veikta apgaismojuma izbūve Mauriņu ielas posma (330m) no Ventas ielas līdz Trenču ielai | J13: =SUM(I14:I15) -> 15878 | M13: =SUM(L14:L15) -> 18989 | N13: =SUM(K14:K15) -> 18989 | O13: =SUM(J13:J15) -> 15878 | P13: 0 | Q13: =SUM(R13:X15) -> 5 | R13: 2 | S13: 1 | W13: 1 | X13: 1
H14: Būvniecība 19 091 EUR (10.06.2024. līgums Nr. 1/4-2/338-2024 ar Latgales sakaru serviss, SIA) | I14: 15778 | K14: 18889 | L14: 18889
H15: Autoruzraudzība 100 EUR (līgums Nr. 1/4-2/633-2024) | I15: 100 | K15: 100 | L15: 100
A16: 4 | B16: Mārupītes gatves posma no esošā apgaismojuma balsta līdz Lapiņu dambim apgaismojuma izbūve | C16: 22000 | D16: 0 | E16: 22000 | F16: 0 | G16: Veikta apgaismojuma izbūve Mārupītes gatves posma (300m) no esošā apgaismojuma balsta līdz Lapiņu dambim. | H16: Veikta apgaismojuma izbūve Mārupītes gatves posma (300m) no esošā apgaismojuma balsta līdz Lapiņu dambim | J16: =SUM(I17:I18) -> 3361 | M16: =SUM(L17:L18) -> 3454 | N16: =SUM(K17:K18) -> 3454 | O16: =SUM(I17:I18) -> 3361 | P16: 0 | Q16: =SUM(R16:X18) -> 5 | R16: 2 | S16: 1 | W16: 1 | X16: 1
H17: Būvniecība 19 288 EUR (10.06.2024. līgums Nr. 1/4-2/338-2024 ar Latgales sakaru serviss, SIA) | I17: 2039 | K17: 2132 | L17: 2132
H18: Autoruzraudzība 100 EUR (līgums Nr. 1/4-2/633-2024) | I18: 1322 | K18: 1322 | L18: 1322
A19: 5 | B19: Mārupītes gatves posma no esošā apgaismojuma balsta līdz Lapiņu dambim apgaismojuma izbūve | C19: 22000 | D19: 0 | E19: 22000 | F19: 0 | G19: Veikta apgaismojuma izbūve Kokles ielā (300m) | H19: Veikta apgaismojuma izbūve Kokles ielā (300m) | M19: 0 | N19: 0 | O19: 0 | P19: 4200 | Q19: =SUM(R19:X22) -> 2 | U19: 1 | W19: 1
H20: Projektēšana (2.prioritāte) | I20: 4200 | K20: 4200 | L20: 4200
H21: Būvniecība 34 000 EUR (2026)
H22: Autoruzraudzība 510 EUR (2026)
A23: 6 | G23: Veikta apgaismojuma izbūve Brīvnieku ielas posmā no Kurmales ielas līdz īpašumam Brīvnieku iela 1 (200m) | H23: Veikta apgaismojuma līnijas projekta izstrāde Brīvnieku ielas posmā no Kurmales ielas līdz īpašumam Brīvnieku iela 1 (200m) | M23: 0 | N23: 0 | O23: 0 | P23: 2500 | Q23: =SUM(R23:X24) -> 2 | U23: 1 | W23: 1
H24: Projektēšana (2.prioritāte) | I24: 2500 | K24: 2500 | L24: 2500
A25: 7 | G25: Veikta apgaismojuma izbūve Māliņu ielas posmam | H25: Māliņu ielas posma (220m) apgaismojuma izbūve | M25: 0 | N25: 0 | O25: 0 | P25: 2500 | Q25: 1 | U25: 1 | W25: 1
H26: Projektēšana (2.prioritāte) | I26: 2500 | K26: 2500 | L26: 2500
H27: Izbūve 20 000 EUR (2026-2027)
A28: TĒRIŅU APKAIME
A29: 8 | B29: Palejas ielas posma no esošās apgaismojuma līnijas pie Sniķeru ielas līdz Meldriņu ielai apgaismojuma izbūve | C29: 22500 | D29: 0 | E29: 22500 | F29: 0 | G29: Veikti projektēšanas darbi Palejas ielas posma no esošās apgaismojuma līnijas pie Sniķeru ielas līdz Meldriņu ielai apgaismojuma izbūvei. | H29: Veikta apgaismojuma izbūve Palejas ielas posma no esošās apgaismojuma līnijas pie Sniķeru ielas līdz Meldriņu ielai apgaismojuma izbūvei | J29: =SUM(I30:I31) -> 12324 | M29: =SUM(L30:L31) -> 12149 | N29: =SUM(K30:K31) -> 12149 | O29: =SUM(I30:I31) -> 12324 | P29: 0 | Q29: =SUM(R29:X31) -> 5 | R29: 1 | S29: 1 | U29: 1 | W29: 1 | X29: 1
H30: Būvniecība 36 024 EUR (10.06.2024. līgums Nr. 1/4-2/338-2024 ar Latgales sakaru serviss, SIA) | I30: 12224 | K30: 12049 | L30: 12049
H31: Autoruzraudzība 100 EUR (līgums Nr. 1/4-2/633-2024) | I31: 100 | K31: 100 | L31: 100
A32: 9 | B32: Ziedleju ielas posms no Daibes līdz Vārpu ielai un Vārpu ielas posms no Ziedleju līdz Lielai ielai apgaismojuma projektēšana (1000m) | G32: Veikta Ziedleju ielas posma no Daibes līdz Vārpu ielai un Vārpu ielas posma no Ziedleju līdz Lielai ielai apgaismojuma izbūve | H32: Ziedleju ielas posms no Daibes līdz Vārpu ielai un Vārpu ielas posms no Ziedleju līdz Lielai ielai apgaismojuma (1000m) | J32: =SUM(I34) -> 242 | M32: =SUM(L33:L34) -> 69591 | N32: =SUM(K33:K34) -> 50242 | O32: =SUM(I33:I34) -> 50242 | P32: 0 | Q32: =SUM(R32:X34) -> 4 | S32: 1 | U32: 1 | W32: 1 | X32: 1
B33: 5 | H33: Būvniecība (10.06.2025. līgums Nr. 1/7-2.2/54-2025 ar SIA DELTA EM, SIA) | I33: 50000 | K33: 50000 | L33: 69349
H34: Autoruzraudzība (līgums Nr. 1/4-2/193-2024 ar Ceļu inženieru birojs, SIA) | I34: 242 | K34: 242 | L34: 242
A35: 10 | G35: Ozolkalna ielas posma no Stīpnieku ceļa līdz Robežnieku ielai apgaismojuma izbūve | H35: Ozolkalna ielas posma no Stīpnieku ceļa līdz Robežnieku ielai apgaismojuma izbūve (līdz izprojektētajam atkritumu šķirošanas laukumam) (500m) | J35: 0 | M35: =SUM(L36) -> 2904 | N35: =SUM(K36) -> 2904 | O35: =SUM(I36:I38) -> 3500 | P35: 0 | Q35: =SUM(R35:X38) -> 4 | R35: 1 | T35: 1 | V35: 1 | W35: 1
H36: Projektēšana (01.04.2025. Līgums Nr. 1/42.1/139-2025 SIA "K2 Projekts") | I36: 3500 | K36: 2904 | L36: 2904
H37: Būvniecība
H38: Autoruzraudzība 484 EUR (01.04.2025. Līgums Nr. 1/42.1/140-2025 SIA "K2 Projekts") nepieciešams pie būvniecības
A39: TĪRAINES APKAIME
A40: 11 | B40: Stūnīšu ielas posma no Lapiņu dambja līdz Olaines novada robežai apgaismojuma izbūve | C40: 13500 | D40: 0 | E40: 13500 | F40: 0 | G40: Veikta apgaismojuma izbūve Stūnīšu ielas posma (150m) no Lapiņu dambja līdz Olaines novada robežai. | H40: Veikta apgaismojuma izbūve Stūnīšu ielas posma (150m) no Lapiņu dambja līdz Olaines novada robežai (2.prioritāte) | J40: 0 | M40: 0 | N40: 0 | O40: 0 | P40: =SUM(I41:I42) -> 10200 | Q40: =SUM(R40:X42) -> 3 | S40: 1 | W40: 1 | X40: 1
...

Sheet MELIORĀCIJA 2025
A1: Nr. | B1: Projekta nosaukums | C1: Cits finansējuma avots | D1: Investīciju plāns 2025.gadam | E1: Finansējums | F1: Finansējums | G1: Finansējums | H1: Finansējums | I1: Grozījumi, septembris | J1: Grozījumi, maijs | K1: Grozījumi, februāris | L1: Pārejošais finansējums | M1: 1.prioritāte | N1: 2.prioritāte
I3: =SUM(I4:I61) -> 1083875 | J3: =SUM(J4:J61) -> 1287589 | K3: =SUM(K4:K61) -> 297024 | L3: =SUM(L4:L61) -> 200321 | M3: =SUM(M4:M61) -> 299216 | N3: =SUM(N4:N51) -> 308800
A4: 1 | B4: Sūkņu stacijas izbūve uz Pašvaldības nozīmes koplietošanas ūdens notekas Nr 41312:P:2 (novietojums tiek precizēts) | D4: Sūkņu stacijas izbūve uz Pašvaldības nozīmes koplietošanas ūdens notekas Nr 41312:P:2 | I4: =SUM(H5) -> 25000 | J4: =SUM(G5) -> 25000 | K4: =SUM(F5) -> 25000 | M4: =SUM(E5) -> 25000 | N4: =SUM(E6) -> 30000
D5: Zemes iegāde | E5: 25000 | F5: 25000 | G5: 25000 | H5: 25000
D6: Projekta izstrāde (2.prioritāte) | E6: 30000 | F6: 30000 | G6: 30000 | H6: 30000
D7: Būvuzraudzība 4 000 EUR (2026)
D8: Būvniecība 100 000 EUR (2026)
A9: 2 | B9: Rožu ielas Babītē lietusūdens kanalizācijas pārbūve (novietojums pie dzelzceļa pretī Babītes stacijai) | D9: Rožu ielas Babītē lietus kanalizācijas pārbūve | I9: =SUM(H10:H14) -> 7926 | J9: =SUM(G10:G14) -> 62821 | K9: =SUM(F10:F14) -> 62006 | L9: =SUM(E10:E10) -> 6111 | M9: =SUM(E10:E14) -> 62006
D10: Būvprojekta izstrāde | E10: 6111 | F10: 6111 | G10: 6111 | H10: 6111
D11: Elektropiegādes projekta izstrāde sūkņu stacijai | E11: 1000 | F11: 1000 | G11: 1815 | H11: 1815
D12: Elektroapgādes izbūve sūkņu stacijai 1 895 EUR | E12: 1895 | F12: 1895 | G12: 1895 | H12: 0
D13: Būvuzraudzība 3 000 EUR | E13: 3000 | F13: 3000 | G13: 3000 | H13: 0
D14: Būvniecība 50 000 EUR | E14: 50000 | F14: 50000 | G14: 50000 | H14: 0
A15: 3 | B15: Notekas 41312:4 posma piketi 06/40-11/80 pārbūve, aizvietojot ar liela izmēra kolektoru. (novietojums gar Paleju ielu.) | D15: Notekas 41312:4 posma (Palejas ielas posms) piketi 06/40-11/80 pārbūve, aizvietojot ar liela izmēra kolektoru | I15: =SUM(H16) -> 5179 | J15: =SUM(G16) -> 5179 | K15: =SUM(F16) -> 5179 | L15: =SUM(E16) -> 5179 | M15: =SUM(E16:E20) -> 5179
D16: Projektēšana 6 474 EUR (līgums ar IK AL MELIOR, 16.12.2024., Nr. 1/4-2/677-2024) | E16: 5179 | F16: 5179 | G16: 5179 | H16: 5179
D17: Būvuzraudzība 1.kārta 3500 EUR (2026)
D18: Būvuzraudzība 2.kārta 3500 EUR (2026)
D19: Būvniecība 1.kārta 90 000 EUR(2026)
D20: Būvniecība 2.kārta 90 000 EUR (2026)
A21: 4 | B21: Notekas 41312:7 posma piketi 00/00-15/05, 1.505km pārbūve. (novietojums gar Lapiņu dambi Tīrainē) | D21: Notekas 41312:7 posma piketi 00/00-15/05, 1.505km pārbūve | I21: =SUM(H22:H23) -> 7887 | J21: =SUM(G22:G23) -> 7887 | K21: =SUM(F22:F23) -> 7887 | L21: =SUM(E22:E23) -> 7887 | M21: =SUM(E22:E23) -> 7887 | N21: =SUM(E24:E25) -> 48000
D22: Projektēšana 4 526 EUR (27.12.2023. līgums Nr. 1/4-2/648-2023, AL MELIOR, SIA) - 2024.gads | E22: 3168 | F22: 3168 | G22: 3168 | H22: 3168
D23: Projektēšana EPK kabeļa pārbūves projekts (17.12.2024. līgums Nr. 1/4-2/682-2024, Ceļu inženieru birojs, SIA) | E23: 4719 | F23: 4719 | G23: 4719 | H23: 4719
D24: Būvuzraudzība (2.prioritāte) | E24: 3000 | F24: 3000 | G24: 3000 | H24: 3000
D25: Būvdarbi (2.prioritāte) | E25: 45000 | F25: 45000 | G25: 45000 | H25: 45000
A26: 5 | B26: Notekas 3812223:P:26 posma pik. 39/00-56/90 1,79km pārbūve (novietojums gar Bieriņu purvu, turpinājums paralēli Zeltiņu ielai gar Bieriņu purva malu) | D26: Notekas 3812223:P:26 posma pik. 39/00-56/90 1,79km pārbūve | I26: =SUM(H27) -> 3693 | J26: =SUM(G27) -> 3693 | K26: =SUM(F27) -> 3693 | L26: =SUM(E27) -> 3693 | M26: =SUM(E27) -> 3693
D27: Projektēšana 5 276 EUR (27.12.2023. līgums Nr. 1/4-2/648-2023, AL MELIOR, SIA) | E27: 3693 | F27: 3693 | G27: 3693 | H27: 3693
A28: 6 | B28: Notekas 3812223:P:85 pik. 00/00-05/94, 0.594km pārbūve. (novietojums sākas no Lībiešu ielas, šķērso Lielās ielas D galu) | D28: Notekas 3812223:P:85 pik. 00/00-05/94, 0.594km pārbūve | I28: =SUM(H29) -> 4453 | J28: =SUM(G29) -> 4453 | K28: =SUM(F29) -> 4453 | L28: =SUM(E29) -> 4453 | M28: =SUM(E29:E31) -> 4453
D29: Projektēšana (līgums ar IK AL MELIOR) | E29: 4453 | F29: 4453 | G29: 4453 | H29: 4453
D30: Būvuzraudzība 2 000 EUR (2026)
D31: Būvniecība 30 000 EUR (2026)
A32: 7 | B32: Zeltiņu un Liliju ielas krustojuma caurtekas pārbūve | D32: Zeltiņu un Liliju ielas krustojuma caurtekas pārbūve | I32: =SUM(H33:H34) -> 3071 | J32: =SUM(G33:G34) -> 3071 | K32: =SUM(F33:F34) -> 3071 | L32: =SUM(E33:E34) -> 3071 | M32: =SUM(E33:E34) -> 3071 | N32: =SUM(E35:E36) -> 26000
D33: Projektēšana 1 967 EUR (27.12.2023. līgums Nr. 1/4-2/648-2023, AL MELIOR, SIA) | E33: 1377 | F33: 1377 | G33: 1377 | H33: 1377
D34: Projektēšana Tet optiskā kabeļa pārbūvei | E34: 1694 | F34: 1694 | G34: 1694 | H34: 1694
D35: Būvuzraudzība 2 000 EUR (2.prioritāte) | E35: 2000 | F35: 2000 | G35: 2000 | H35: 2000
D36: Būvniecība 24 000 EUR (2.prioritāte) | E36: 24000 | F36: 24000 | G36: 24000 | H36: 24000
A37: 8 | B37: Liliju ielas posma drenāžas ierīkošana (novietojums Liliju un Pededzes ielas krustojums) | D37: Liliju ielas posma drenāžas ierīkošana | I37: 0 | J37: 0 | K37: 0 | M37: 0 | N37: =SUM(E38:E39) -> 29000
D38: Būvuzraudzība | E38: 2000 | F38: 2000 | G38: 2000 | H38: 2000
D39: Būvniecība | E39: 27000 | F39: 27000 | G39: 27000 | H39: 27000
A40: 9 | B40: Upesgrīvas ielas posma drenāžas ierīkošana (novietojums no Palejas ielas krustojuma līdz Rīgas valstspilsētas robežai) | D40: Upesgrīvas ielas posma drenāžas ierīkošana | I40: 0 | J40: 0 | K40: 0 | M40: 0 | N40: =SUM(E41:E42) -> 32000
D41: Būvuzraudzība | E41: 2000 | F41: 2000 | G41: 2000 | H41: 2000
...

Sheet MKP_2025
A1: Nr. | B1: Projekta nosaukums | C1: Atbildīgā iestāde | D1: Cits finansējuma avots | E1: Priekšlikumi 2025.gadam | F1: Pārejošais finansējums | G1: Grozījumi, septembris | H1: Grozījumi, maijs | I1: 1.prioritāte | J1: 2.prioritāte | K1: KOPĀ 2025.GADĀ
A3: 1 | B3: Ūdenssaimniecības pakalpojumu attīstība Mārupes pagastā | C3: MKP | D3: 0 | E3: 1) Jaunas ūdensgūtnes, ūdens sagatavošanas stacijas, ūdens rezervuāra un 2. pacēluma sūkņu stacijas izbūve Viršu ielā 20, Tīrainē Projektēšana un būvdarbi (apvienotais līgums): Kopējais finansējums: 4 085 800 EUR 2026.gads - 400 000 EUR (MNP finansējums) 2026.gads - 1 842 900 EUR (MKP finansējums 73 600 EUR, MNP - 1 769 300 EUR) 2027.gads - 1 842 900 EUR (MKP finansējums 73 600 EUR, MNP - 1 769 300 EUR) | I3: 0 | J3: 0 | K3: =SUM(I3:I6) -> 0
D4: MNP galvojums/ 140 000 EUR | E4: 2) Administratīvo telpu izbūve Viršu ielā 20, Tīrainē Projektēšana un būvdarbi (apvienotais līgums): Kopējā summa: 1 440 000 EUR 2026.gads - 140 000 EUR (MKP aizņēmums ar MNP galvojumu) 2026.gads - 600 000 EUR (MKP aizņēmums ar MNP galvojumu) 2027.gads - 700 000 EUR (MKP aizņēmums ar MNP galvojumu) | I4: 0
A5: 1 | D5: MKP/ 20 000 EUR | E5: 3) Uzsākta dzeramā ūdens apgādes tīklu tehniskā projekta izstrāde Mārupes pagastā. 2025.gads - 20 000 EUR (MKP finansējums) 2026.gads - 18 800 EUR (MKP finansējums) | I5: 0
A6: 2 | D6: MKP/ 30 000 EUR | E6: 4) Uzsākta sadzīves kanalizācijas infrastruktūras tīklu tehniskā projekta izstrāde Mārupes pagastā. 2025.gads - 30 000 EUR (MKP finansējums) 2026.gads - 38 425 EUR (MKP finansējums) | I6: 0
A7: 3 | B7: Ūdenssaimniecības pakalpojumu attīstība Babītes pagastā | C7: MKP | D7: MKP/ 38 500 EUR | E7: 1)Ūdenssaimniecības attīstība Spilves ciemā, izbūvējot: 2.1) jaunus ūdensapgādes un kanalizācijas tīklus; 2.2) jaunas un rekonstruētas kanalizācijas sūkņu stacijas). Kopējā summa: 4 845 508 EUR 2025.gads - 538 500 EUR (MNP finansējums - 500 000 EUR, MKP finansējums - 38 500 EUR) 2026.gads - 2 820 400 EUR (MNP finansējums) 2027.gads - 1 504 708 EUR (MNP finansējums) | G7: 100000 | H7: 500000 | I7: 2025108 | J7: 2820400 | K7: =SUM(I7:I10) -> 2250788
A8: 4 | D8: MKP/ 50 000 EUR | E8: 2) Babītes – Piņķu kanalizācijas sistēmas tīklu pieslēgšanas pie Jūrmalas – Rīgas kanalizācijas spiedvada, t.sk. rezerves spiedvada, būvprojekta izstrāde Izbūvēti kanalizācijas spiedvadi - 7500 m, KSS – 1 gab (KSS izbūves nepieciešamība tiks precizēta būvprojekta izstrādes laikā). Kopējā summa: 2 600 000 EUR 2025.gads - 50 000 EUR (MKP aizņēmums) 2026.gads - 561 000 EUR (MNP finansējums - 511 000 EUR, MKP aizņēmums - 50 000 EUR) 2027.gads - 1 989 000 EUR (MNP finansējums) | G8: 0 | H8: 0 | I8: 0
A9: 5 | D9: MKP/ 20 000 EUR | E9: 3) Kanalizācijas aku (28 gab.) pārbūve Rīgas ielā, Piņķos, novēršot sērūdeņraža radītos aku konstrukcijas bojājumus Kopējā summa: 350 000 EUR 2025.gads - 145 260 EUR (MKP finansējums PVN izmaksas - 25 210 EUR, MNP finansējums - 120 050 EUR) (Noslēgusies iepirkuma procedūra. Līguma slēgšanas tiesības piešķirtas - SIA "AKR Group"; piedāvātā līguma cena - EUR 120 050,00 bez PVN (PVN izmaksas EUR 25 210.50 sedz MKP)); 2026.gads - 218 000 EUR (MNP finansējums) | G9: 0 | H9: 100000 | I9: 112000
A10: 6 | D10: 0 | E10: 4) Piņķu NAI notekūdeņu attīrīšanas jaudas palielināšana (īstermiņa risinājums līdz spiedvada Piņķi - Jūrmala izbūvei, ņemot vērā, ka Piņķu NAI ir sasniegts notekūdeņu attīrīšanas limits) 2025.gads - 83 600 EUR (MNP finansējums) 2026.gads - 334 729 EUR (MNP finansējums) | G10: 83600 | H10: 83600 | I10: 113680
E11: KOPĀ | G11: =SUM(G5:G10) -> 183600 | H11: =SUM(H7:H10) -> 683600 | I11: =SUM(I3:I10) -> 2250788 | J11: =SUM(J3:J10) -> 2820400
B14: ŪKT Spilve
B15: Izdevumu pozīcijas | C15: 2023 | D15: 2024 | E15: 2025 | F15: 2026 | I15: 2027 | J15: 2028 | K15: Kopā | L15: Finansējuma avoti
L16: MKP | M16: MND
B17: Projektēšana | C17: 14400 | D17: 38500 | E17: 0 | F17: 0 | I17: 0 | J17: 0 | K17: =SUM(C17:J17) -> 52900 | L17: =K17 -> 52900 | M17: 0
B18: ŪKT būvdarbi | C18: 0 | D18: 0 | E18: =4009415.97/2 -> 2004708 | F18: 2800000 | I18: 0 | J18: 0 | K18: =SUM(C18:J18) -> 4804708 | L18: 0 | M18: =K18 -> 4804708
B19: ŪKT uzraudzība | C19: 0 | D19: 0 | E19: =38000/2 -> 19000 | F19: =38000/2 -> 19000 | I19: 0 | J19: 0 | K19: =SUM(C19:J19) -> 38000 | L19: 0 | M19: =K19 -> 38000
B20: ŪKT autoruzraudzība | C20: 0 | D20: 0 | E20: =2800/2 -> 1400 | F20: =2800/2 -> 1400 | I20: 0 | J20: 0 | K20: =SUM(C20:J20) -> 2800 | L20: 0 | M20: =K20 -> 2800
B21: Kopā | C21: =SUM(C17:C20) -> 14400 | D21: =SUM(D17:D20) -> 38500 | E21: =SUM(E17:E20) -> 2025108 | F21: =SUM(F17:F20) -> 2820400 | I21: =SUM(I17:I20) -> 0 | J21: =SUM(J17:J20) -> 0 | K21: =SUM(K17:K20) -> 4898408 | L21: =SUM(L17:L20) -> 52900 | M21: =SUM(M18:M20) -> 4845508
B24: Spiedvads Piņķi - Jūrmala/Rīga
B25: Izdevumu pozīcijas | C25: 2023 | D25: 2024 | E25: 2025 | F25: 2026 | I25: 2027 | J25: 2028 | K25: Kopā | L25: Finansējuma avoti
L26: MKP | M26: MND
B27: Projektēšana | C27: 0 | D27: 0 | E27: 100000 | F27: 0 | I27: 0 | J27: 0 | K27: =SUM(C27:J27) -> 100000 | L27: 100000 | M27: 0
B28: ŪKT būvdarbi | C28: 0 | D28: 0 | E28: 0 | F28: 500000 | I28: 1945000 | J28: 0 | K28: =SUM(C28:J28) -> 2445000 | L28: 0 | M28: 2445000
B29: ŪKT uzraudzība | C29: 0 | D29: 0 | E29: 0 | F29: 10000 | I29: 40000 | J29: 0 | K29: =SUM(C29:J29) -> 50000 | L29: 0 | M29: 50000
B30: ŪKT autoruzraudzība | C30: 0 | D30: 0 | E30: 0 | F30: 1000 | I30: 4000 | J30: 0 | K30: =SUM(C30:J30) -> 5000 | L30: 0 | M30: 5000
B31: Kopā | C31: =SUM(C27:C30) -> 0 | D31: =SUM(D27:D30) -> 0 | E31: 0 | F31: =SUM(F27:F30) -> 511000 | I31: =SUM(I27:I30) -> 1989000 | J31: =SUM(J27:J30) -> 0 | K31: =SUM(C31:J31) -> 2500000 | L31: =SUM(L27:L30) -> 100000 | M31: =SUM(M27:M30) -> 2500000
B34: Kanalizācijas aku (28 gab) atjaunošana - Rīgas iela, Piņķi
B35: Izdevumu pozīcijas | C35: 2023 | D35: 2024 | E35: 2025 | F35: 2026 | I35: 2027 | J35: 2028 | K35: Kopā | L35: Finansējuma avoti
L36: MKP | M36: MND
B37: Tehniskā apsekošana /Projektēšana | C37: 0 | D37: 0 | E37: 20000 | F37: 0 | I37: 0 | J37: 0 | K37: =SUM(C37:J37) -> 20000 | L37: 20000 | M37: 0 | O37: Apvienotais projektēt un būvēt līgums
B38: Aku atjaunošanas būvdarbi | C38: 0 | D38: 0 | E38: 100000 | F38: 200000 | I38: 0 | J38: 0 | K38: =SUM(C38:J38) -> 300000 | L38: 0 | M38: 300000
B39: Aku atjaunošanas būvuzraudzība | C39: 0 | D39: 0 | E39: 10000 | F39: 15000 | I39: 0 | J39: 0 | K39: =SUM(C39:J39) -> 25000 | L39: 0 | M39: 25000
B40: Aku atjaunošanas autoruzraudzība | C40: 0 | D40: 0 | E40: 2000 | F40: 3000 | I40: 0 | J40: 0 | K40: =SUM(C40:J40) -> 5000 | L40: 0 | M40: 5000
B41: Kopā | C41: =SUM(C37:C40) -> 0 | D41: =SUM(D37:D40) -> 0 | E41: =SUM(E37:E40) -> 132000 | F41: =SUM(F37:F40) -> 218000 | I41: 0 | J41: =SUM(J37:J40) -> 0 | K41: =SUM(C41:J41) -> 350000 | L41: =SUM(L37:L40) -> 20000 | M41: =SUM(M37:M40) -> 330000
B44: ŪKT Mārupe
B45: Izdevumu pozīcijas | C45: 2023 | D45: 2024 | E45: 2025 | F45: 2026 | I45: 2027 | J45: 2028 | K45: Kopā | L45: Finansējuma avoti
L46: MKP ar MND galvojumu | M46: MND
B47: Projektēšana | C47: 0 | D47: 0 | E47: =38800+68425 -> 107225 | F47: 0 | I47: 0 | J47: 0 | K47: =SUM(C47:J47) -> 107225 | L47: =K47 -> 107225 | M47: 0
B48: Būvdarbi | C48: 0 | D48: 0 | E48: 0 | F48: 0 | I48: 0 | J48: 0 | K48: =SUM(C48:J48) -> 0 | L48: =K48 -> 0 | M48: 0
B49: Būvuzraudzība | C49: 0 | D49: 0 | E49: 0 | F49: 0 | I49: 0 | J49: 0 | K49: =SUM(C49:J49) -> 0 | L49: =K49 -> 0 | M49: 0
...

Sheet VELO INFRASTRUKTŪRA
A1: Nr. | B1: Projekta nosaukums | C1: Atbildīgā iestāde | D1: Cits finansējuma avots | E1: Priekšlikumi 2024.gadam | F1: Grozījumi, septembris | G1: Grozījumi, maijs | H1: Pārejošais finansējums | I1: Grozījumi, Septembris | K1: 1.prioritāte | L1: 2.prioritāte
A3: 2 | B3: Reģionāla mēroga veloinfrastruktūras izveide virzienā (V7) Rīga (pilsētas robeža) – Mārupe – Jaunmārupe | C3: PĪP, APP | D3: ANM/ 1 630 189 EUR | E3: MAZCENU POSMS 1) Būvniecība.Līgums ar SIA "MITBAU AC", noslēgts 03.03.25.par summu 216 446 EUR (ANM – 142 540 €, PB – 88 160 € (iekļauti 10% maks.piepras.priekšapmaksas ANM daļas segšanai)) Kopā 2025.gadā EUR 230 700 € 2) Būvuzraudzība. Līgums ar SIA "Marčuks", noslēgts 13.03.25.par summu 7 508.50 : (PB – 7 508.50 €). Kopā 2025.gadā 7 508.50 € 3) Autoruzraudzība. Līgums ar SIA "BM PROJEKTS", noslēgts 18.08.2023. par summu 605 EUR (pārejošs finansējums EUR 605) Kopā 2025.gadā 605 € KOPĀ 2025.gadā (PB 96 668.05 EUR, ANM 142 540 EUR, pārejošs finansējums 605 EUR) | F3: 3960 | G3: 4151 | H3: 605 | I3: =J3 -> 96280 | J3: 96280 | K3: =J3 -> 96280
A4: 3 | E4: VECOZOLU/ROŽU IELU POSMS 1) Būvniecība. Līgums ar SIA "Baltijas Būve", noslēgts 21.02.25.par summu 1 264 874.09: (ANM – 585 118 €, PB – 738 269 € ((iekļauti 10% maks.piepras.priekšapmaksas ANM daļas segšanai)) Kopā 2025.gadā EUR 1 323 367 € 2) Būvuzraudzība PB – 21 614 EUR (11.03.2025. līgums ar SIA PRO VIA, Nr. 1/4-2.2/18-2025). Kopā 2025.gadā EUR 21 614 € 3) Autoruzraudzība. Līgums ar SIA "Ceļu Komforts Rīga", noslēgts 16.08.2023. par summu 3 630 EUR (pārejošs finansējums EUR 3 630) Kopā 2025.gadā EUR 3 630 € 4) Elektrolīnijas pārbūve. Līgums ar AS "Sadales tīkli", noslēgts 10.05.25. par summu 63 623.94 EUR) PB - 64 000 EUR Kopā 2025.gadā EUR 64 000 € KOPĀ 2025.GADĀ (PB 827 513 EUR, ANM 585 118 EUR, pārejošs finansējums 3 630 EUR) | F4: 30733 | G4: 30733 | H4: 3630 | I4: =J4 -> 827513 | J4: 827513 | K4: =J4 -> 827513
A5: 4 | E5: TĪRAINES/DZELZCEĻA POSMS 1) Būvniecība. Līgums ar SIA "Valkas ceļi", noslēgts 19.02.25.par summu 1 194 573.52 EUR (ANM – 902 531 €, PB – 382 298 € ((iekļauti 10% maks.piepras.priekšapmaksas ANM daļas segšanai)) Kopā 2025.gadā EUR 1 284 829 € 2) Būvuzraudzība. Līgums ar SIA "Marčuks", noslēgts 13.03.25.par summu 13 733.50 EUR : (PB – 13 740 €). Kopā 2025.gadā EUR 13 740 € 3) Autoruzraudzība. Līgums ar SIA "BM PROJEKTS", noslēgts 18.08.2023. par summu 2 904 EUR (pārejošs finansējums EUR 2 904) Kopā 2025.gadā 2 904 EUR 4) Elektrolīnijas pārbuve. Līgums ar AS "Sadales tīkls", noslēgts 28.04.25.par summu 1 696.81 EUR. 5) Zemes lietošanas atlīdzība VAS "Latvijas dzelzceļš", noslēgts 08.07.2025 par summu 942 EUR Kopā 2025.gadā EUR 2 639 EUR KOPĀ 2025.GADĀ (PB 402 000 EUR, ANM 902 531, pārejošs finansējums 2 904 EUR) | F5: 19905 | G5: 19905 | H5: 2904 | I5: 402000 | J5: 400000 | K5: =J5 -> 400000
E6: KOPĀ 2025.gadā: 2 800 000 EUR PB - 1 332 932 EUR (7 139 EUR - pārejošais finansējums, 2025.gadā - 1 325 793 EUR) ANM - 1 630 189 EUR | F6: =SUM(F3:F5) -> 54598 | G6: =SUM(G3:G5) -> 54789 | H6: =SUM(H3:H5) -> 7139 | I6: =SUM(I3,I4,I5,H6) -> 1332932 | J6: =SUM(J3:J5)+H6 -> 1330932 | K6: =SUM(K3:K5)+H6 -> 1330932
A7: 1 | B7: Reģionāla mēroga veloinfrastruktūras izveide virzienā (V8) Rīga (pilsētas robeža) – Babīte – Piņķi (Piņķu ūdenskrātuve) (detalizētāk pa pozīcijām pielikumā "Velo infrastruktūra") | C7: PĪP, APP | D7: ANM/ 689 599 EUR | E7: PIŅĶU POSMS 1) Būvniecība. Pirmais posms. Līgums ar SIA "Tilts", noslēgts 24.02.25. par summu 220 380.64 EUR (ANM –196 846 €, PB – 43 221 € (iekļauti 10% maks.piepras.priekšapmaksas ANM daļas segšanai)) Kopā 2025.gadā EUR 240 066 € 2) Būvuzraudzība. Līgums ar SIA "Baltline Globe" noslēgts 13.03.25.par summu 11824.12 EUR: (PB – 12 000 €). Kopā 2025.gadā EUR 12 000 € 3) Autoruzraudzība. Līgums ar SIA "Global Project", noslēgts 17.08.2023. par summu 2 395 EUR (pārejošs finansējums EUR 2 395) KOPĀ 2025.GADĀ (PB 57 700EUR, ANM 196 846 EUR, pārejošs finansējums 2 395 EUR) | F7: 16771 | G7: 16771 | H7: 2395 | I7: =K7 -> 57000 | K7: 57000
A8: 2 | E8: PRIEŽCIEMA POSMS 1) Būvniecība. Līgums ar SIA "Mitbau AC" noslēgts 03.03.25. par summu 603 070 EUR: (ANM – 403 744 €, PB – 239 704 € (iekļauti 10% maks.piepras.priekšapmaksas ANM daļas segšanai)) Kopā 2025.gadā EUR 643 448 € 2) Būvuzraudzība. Līgums ar SIA "Marčuks" noslēgts 13.03.25.par summu 11 117.48 EUR: (PB – 12 000 €). Kopā 2025.gadā EUR 12 000 € 3) Autoruzraudzība. Līgums ar SIA "BM PROJEKTS", noslēgts 18.08.2023. par summu 1 815 EUR (pārejošs finansējums EUR 1 815) KOPĀ 2025.GADĀ (PB 254 704 EUR, ANM 403 744 EUR, pārejošs finansējums 1 815 EUR) | F8: 11604 | G8: 11604 | H8: 1815 | I8: =K8 -> 254704 | K8: 254704
A9: 3 | E9: BABĪTES POSMS 1) Būvniecība. Līgums ar SIA "Tilts" noslēgts 24.02.2025. par summu 476 760.39 EUR: (ANM – 89 010 €, PB – 396 653 € (iekļauti 10% maks.piepras.priekšapmaksas ANM daļas segšanai)) Kopā 2025.gadā EUR 396 653 € 2) Būvuzraudzība. Līgums ar SIA "Baltline Blobe" noslēgts 13.03.25.par summu 9 906 EUR: (PB – 10 000 €). Kopā 2025.gadā EUR 10 000 € 3) Autoruzraudzība. Līgums ar SIA "BM PROJEKTS", noslēgts 18.08.2023. par summu 1 815 EUR (pārejošs finansējums EUR 1 815) 4) Elektrolīnijas pārbūve. Līgums ar AS "Sadales tīkls" noslēgts 28.04.25.par summu 2 519.35 EUR (PB 2 520 EUR). Kopā 2025.gadā 2 520 EUR KOPĀ 2025.GADĀ (PB 409 173 EUR, ANM 89 010 EUR, pārejošs finansējums 1 815 EUR) | F9: 10333 | G9: 10333 | H9: 1815 | I9: =K9 -> 408653 | K9: 408653
E10: KOPĀ: 1 406 641 EUR PB - 726 382 EUR (pārejošais finansējums - 6 025 EUR, 2025.gadā - 720 357 EUR) ANM - 689 599 EUR | F10: =SUM(F7:F9) -> 38708 | G10: =SUM(G7:G9) -> 38708 | H10: =SUM(H7:H9) -> 6025 | I10: =SUM(I7,I8,I9,H10) -> 726382 | K10: =SUM(K7:K9)+H10 -> 726382
H11: KOPĀ | I11: =SUM(I6,I10) -> 2059314

Sheet Ēku saraksts
A1: Iestādes nosaukums | B1: Adrese | C1: Kadastra Nr. | D1: Ekspluatācijas uzsākšanas gads | E1: Lietderīgā platība (iekštelpu platība) | F1: Apkures veids (Katliem norādīt jaudu un kurināmo) | G1: Mehāniskā ventilācija | H1: Karstā ūdens sagatavošanas veids | I1: Dzesēšana | J1: Fasāde siltināta | K1: Siltumskaitītājs/kurināma uzskaite (kādi pieejamie dati, laika griezums) | L1: Vai ir viedais elektroenerģijas skaitītājs (pieejami ikstundas dati)? | M1: Nepieciešams ēkas energosertifikāts | N1: Nepieciešama tehniskā apsekošana | O1: Pasākumi | P1: Specifiskās prasības | Q1: Saules paneļu izvērtējums | R1: Jumta tehnisko stāvokļa novērtējums saules paneļiem | S1: Kolonna1 | T1: Specifikācijas izstrāde - SIA "Ekodoma" 180 EUR bez PVN | U1: Pašvaldības izmaksas: PVN 21% | V1: Pašvaldības izmaksas: 10% (no summas bez PVN) | W1: ALTUM grants: 90% (no summas bez PVN) | X1: Pašvaldības izmaksas: 5% no granta summas | Y1: Pašvaldības izmaksas KOPĀ (ieskaitot PVN) | Z1: Iestādei rezervētā nauda 2025.gadā (līdz septembra grozījumiem) | AA1: Komentāri
A2: Dzīvojamā ēka | B2: "Mildas", Babīte, Babītes pag., Mārupes nov., LV-2101 | C2: 80480040419009 | D2: 1950 | E2: 449.4 | F2: Dabasgāze (Junkers ZBR65-2L: 1x65kW) | G2: Daļēji (Lokālās nosūces) | H2: Dabasgāzes katls + akumulācijas tvertne | I2: Nē | J2: Jā | K2: Dabasgāzes uzskaite (3 gadi) | L2: Ir | M2: Nē | N2: Jā | O2: Tehniskās apsekošanas atzinums (periodiskais) | P2: Papildus - tehniski ekonomiskais pamatojums siltumapgādes pārejai no fosilā un atjaunīgo enerģiju; saules paneļu uzstādīšanas izvērtējums un slēdziens par jumta tehnisko stāvokli saules paneļu izvietošanai | Q2: Jā | R2: Jā | S2: 2000 | T2: =180/23 -> 7.826087 | U2: =S2*1.21-S2+Table3[[#This Row],[Specifikācijas izstrāde - SIA "Ekodoma" 180 EUR bez PVN]]*1.21-Table3[[#This Row],[Specifikācijas izstrāde - SIA "Ekodoma" 180 EUR bez PVN]] -> 421.64348 | V2: =S2*0.1 -> 200 | W2: =S2-V2 -> 1800 | X2: =W2*0.05 -> 90 | Y2: =U2+V2+X2 -> 711.64348
A3: MĀRUPES AMBULANCE 1, SIA | B3: Amatas iela 14, Mārupe, Mārupes novads, LV-2167 | C3: 80760070823001 | D3: 1974 | E3: 248.8 | F3: Dabasgāze (1x~25 kW) | G3: Nē | H3: Dabasgāzes katls | I3: Jā | J3: Jā | K3: Dabasgāzes uzskaite (3 gadi) | L3: Ir | M3: Jā | N3: Jā | O3: Tehniskās apsekošanas atzinums (periodiskais) | P3: Papildus - tehniski ekonomiskais pamatojums siltumapgādes pārejai no fosilā un atjaunīgo enerģiju; saules paneļu uzstādīšanas izvērtējums un slēdziens par jumta tehnisko stāvokli saules paneļu izvietošanai | Q3: Jā | R3: Jā | S3: 1400 | T3: =180/23 -> 7.826087 | U3: =S3*1.21-S3+Table3[[#This Row],[Specifikācijas izstrāde - SIA "Ekodoma" 180 EUR bez PVN]]*1.21-Table3[[#This Row],[Specifikācijas izstrāde - SIA "Ekodoma" 180 EUR bez PVN]] -> 295.64348 | V3: =S3*0.1 -> 140 | W3: =S3-V3 -> 1260 | X3: =W3*0.05 -> 63 | Y3: =U3+V3+X3 -> 498.64348
A4: Pirmsskolas izglītības iestāde "Lienīte", filiāle | B4: Amatas iela 2, Mārupe, Mārupes novads, LV-2167 | C4: 80760070560001 | D4: 1972 | E4: 1540.5 | F4: CSA | G4: Daļēji (Lokālās nosūces) | H4: CSA | I4: Nē | J4: Jā | K4: Siltumenerģijas skaitītājs (kopā apkure un karstā ūdens sagatavošana) | L4: Ir | M4: Nē | N4: Jā | O4: Tehniskās apsekošanas atzinums (periodiskais) un padziļinātā - jumts | P4: Būvkonstruktora slēdziens un risinājums saules PV paneļu izvietošanai uz jumta ar balastu (saules paneļu jaudas un saražotā aprēķins ir veikts) | R4: Jā | S4: 1600 | T4: =180/23 -> 7.826087 | U4: =S4*1.21-S4+Table3[[#This Row],[Specifikācijas izstrāde - SIA "Ekodoma" 180 EUR bez PVN]]*1.21-Table3[[#This Row],[Specifikācijas izstrāde - SIA "Ekodoma" 180 EUR bez PVN]] -> 337.64348 | V4: =S4*0.1 -> 160 | W4: =S4-V4 -> 1440 | X4: =W4*0.05 -> 72 | Y4: =U4+V4+X4 -> 569.64348
A5: Mārupes novada pašvaldība (un citu iestāžu telpas) | B5: Daugavas iela 29, Mārupe, Mārupes novads, LV-2167 | C5: 80760070824001 | D5: 1947 (piebūve ap 2007) | E5: 1738.3 | F5: Dabasgāze (Vitodens 200-W: 2x60kW) | G5: Jā | H5: Dabasgāzes katls + akumulācijas tvertne + elektriskie boileri (vasarā) | I5: Jā | J5: Nē vecai daļai/ jā piebūvei | K5: Dabasgāzes uzskaite (5 gadi) | L5: Ir | M5: Nē | N5: Jā | O5: Tehniskās apsekošanas atzinums (periodiskais) padziļināta izpēte (pārbūves iecere) | P5: Izvērtēt būvkonstrukciju tehnisko stāvokli un iespēju izbūvēt ēkai papildus stāvus, papildes starpstāvu pārsegumu, mainīt telpu plānojumu. | S5: 6600 | T5: =180/23 -> 7.826087 | U5: =S5*1.21-S5+Table3[[#This Row],[Specifikācijas izstrāde - SIA "Ekodoma" 180 EUR bez PVN]]*1.21-Table3[[#This Row],[Specifikācijas izstrāde - SIA "Ekodoma" 180 EUR bez PVN]] -> 1387.6435 | V5: =S5*0.1 -> 660 | W5: =S5-V5 -> 5940 | X5: =W5*0.05 -> 297 | Y5: =U5+V5+X5 -> 2344.6435
A6: Mārupes sporta centrs, tribīnes (t.sk. tiesnešu telpa 10,60 m2) | B6: Īvju iela 5, Jaunmārupe, Mārupes pag., Mārupes nov., LV-2166 | C6: 80760110084002 | D6: 2018 | E6: 366.6 | F6: EL | G6: nav | H6: nav | I6: Jā | J6: Nē | K6: Nē (kopējais elektroenerģijas skaitītājs sporta kompleksam) | L6: Ir | M6: Nē | N6: Jā | O6: Tehniskās apsekošanas atzinums (periodiskais) | P6: Papildus - saules paneļu uzstādīšanas izvērtējums un slēdziens par jumta tehnisko stāvokli saules paneļu izvietošanai | Q6: Jā | R6: Jā | S6: 1500 | T6: =180/23 -> 7.826087 | U6: =S6*1.21-S6+Table3[[#This Row],[Specifikācijas izstrāde - SIA "Ekodoma" 180 EUR bez PVN]]*1.21-Table3[[#This Row],[Specifikācijas izstrāde - SIA "Ekodoma" 180 EUR bez PVN]] -> 316.64348 | V6: =S6*0.1 -> 150 | W6: =S6-V6 -> 1350 | X6: =W6*0.05 -> 67.5 | Y6: =U6+V6+X6 -> 534.14348
A7: Mārupes sporta centrs, ģērbtuvju ēka | B7: Īvju iela 5, Jaunmārupe, Mārupes pag., Mārupes nov., LV-2166 | C7: 80760110084003 | D7: 2019 | E7: 134.2 | F7: EL | G7: Daļēji (Lokālās nosūces) | H7: Elektriskie boileri | I7: Nē | J7: Jā | K7: Nē (kopējais elektroenerģijas skaitītājs sporta kompleksam) | L7: Ir | M7: Jā | N7: Jā | O7: Tehniskās apsekošanas atzinums (periodiskais) | P7: Papildus - saules paneļu uzstādīšanas izvērtējums un slēdziens par jumta tehnisko stāvokli saules paneļu izvietošanai | Q7: Jā | R7: Jā | S7: 1400 | T7: =180/23 -> 7.826087 | U7: =S7*1.21-S7+Table3[[#This Row],[Specifikācijas izstrāde - SIA "Ekodoma" 180 EUR bez PVN]]*1.21-Table3[[#This Row],[Specifikācijas izstrāde - SIA "Ekodoma" 180 EUR bez PVN]] -> 295.64348 | V7: =S7*0.1 -> 140 | W7: =S7-V7 -> 1260 | X7: =W7*0.05 -> 63 | Y7: =U7+V7+X7 -> 498.64348
A8: Mārupes Valsts ģimnāzija | B8: Kantora iela 97, Mārupe, Mārupes novads, LV-2167 | C8: 80760030456001 | D8: 1971 (piebūve 2019) | E8: 10376.4 | F8: Dabasgāze (vecā ēka EURONOM: 1x500kW; piebūve Vitoplex 100: 2x620kW) | G8: Nē (vecākā daļa)/ Jā (ar siltuma atguvi) | H8: Dabasgāzes katls + akumulācijas tvertne + elektriskie boileri | I8: Nē | J8: Jā | K8: Dabasgāzes uzskaite (5 gadi) | L8: Ir | M8: Nē | N8: Jā | O8: Ventilācijas sistēmu audits; Ēkas atsevišķu daļu būvkonstrukciju siltumizolācijas audits; Tehniskās apsekošanas atzinums (periodiskais) padziļinātā izpēte (lifta un pacēlāja iebūve) | P8: Gaisa daudzuma atbilstība aktuālām normatīvām prasībām, iekārtu energoefektivitātes novērtējus un tehniski ekonomiskais pamatojums ventilācijas sistēmu nomaiņai/pārbūvei vai iekārtu nomaiņai; Siltumizolācijas problēmzonu apsekojums un tehniski ekonomiskais pamatojums defektu novēršanai; TAA - padziļinātā izpēte (lifta un pacēlāja iebūve); Papildus - tehniski ekonomiskais pamatojums siltumapgādes pārejai no fosilā un atjaunīgo enerģiju; saules paneļu uzstādīšanas izvērtējums un slēdziens par jumta tehnisko stāvokli saules paneļu izvietošanai | Q8: Jā | R8: Jā | S8: 4885 | T8: =180/23 -> 7.826087 | U8: =S8*1.21-S8+Table3[[#This Row],[Specifikācijas izstrāde - SIA "Ekodoma" 180 EUR bez PVN]]*1.21-Table3[[#This Row],[Specifikācijas izstrāde - SIA "Ekodoma" 180 EUR bez PVN]] -> 1027.4935 | V8: =S8*0.1 -> 488.5 | W8: =S8-V8 -> 4396.5 | X8: =W8*0.05 -> 219.825 | Y8: =U8+V8+X8 -> 1735.8185 | Z8: 12000 | AA8: Mērķis: Lifta izbūves un ventilācijas/ siltināšanas priekšizpēte centrālā korpusa vecajā ēkā. 12 000 EUR. Skolas vadībai ir nosūtīta informācija par ALTUM līdzfinansējuma summu - pārējo iestāde uz septembra grozījumiem prasīs citām vajadzībām
A9: Mārupes novada Sporta skola | B9: Kantora iela 97, Mārupe, Mārupes novads, LV-2167 | C9: 80760030456011 | D9: 2012 | E9: 2303.4 | F9: Dabasgāze (Vitoplex 200: 1x350 kW) | G9: Jā | H9: Dabasgāzes katls + akumulācijas tvertne | I9: Daļēji (kabinetos spilti) | J9: Jā | K9: Dabasgāzes uzskaite (5 gadi) | L9: Ir | M9: Nē | N9: Jā | O9: Tehniskās apsekošanas atzinums (periodiskais) | P9: Papildus - tehniski ekonomiskais pamatojums siltumapgādes pārejai no fosilā un atjaunīgo enerģiju; saules paneļu uzstādīšanas izvērtējums un slēdziens par jumta tehnisko stāvokli saules paneļu izvietošanai | Q9: Jā | R9: Jā | S9: 1700 | T9: =180/23 -> 7.826087 | U9: =S9*1.21-S9+Table3[[#This Row],[Specifikācijas izstrāde - SIA "Ekodoma" 180 EUR bez PVN]]*1.21-Table3[[#This Row],[Specifikācijas izstrāde - SIA "Ekodoma" 180 EUR bez PVN]] -> 358.64348 | V9: =S9*0.1 -> 170 | W9: =S9-V9 -> 1530 | X9: =W9*0.05 -> 76.5 | Y9: =U9+V9+X9 -> 605.14348
A10: Izglītības, kultūras un sporta pārvalde (un citas iestādes) | B10: Konrādu iela 5, Mārupe, Mārupes novads, LV-2167 (pagalma pusē - 5/2) | C10: 80760071770002 | D10: 2009 | E10: 138.6 | F10: Siltumsūknis gaiss/ūdens (Viessmann Vitocal 222-S.D16: 1x10.1kW) | G10: Nē | H10: Siltumsūknis + akumulācijas tvertne | I10: Daļēji (kabinetos spilti) | J10: Jā | K10: Nav | L10: Ir | M10: Nē | N10: Jā | O10: Tehniskās apsekošanas atzinums (periodiskais) | P10: Papildus - saules paneļu uzstādīšanas izvērtējums un slēdziens par jumta tehnisko stāvokli saules paneļu izvietošanai | Q10: Jā | R10: Jā | S10: 1200 | T10: =180/23 -> 7.826087 | U10: =S10*1.21-S10+Table3[[#This Row],[Specifikācijas izstrāde - SIA "Ekodoma" 180 EUR bez PVN]]*1.21-Table3[[#This Row],[Specifikācijas izstrāde - SIA "Ekodoma" 180 EUR bez PVN]] -> 253.64348 | V10: =S10*0.1 -> 120 | W10: =S10-V10 -> 1080 | X10: =W10*0.05 -> 54 | Y10: =U10+V10+X10 -> 427.64348
A11: Babītes sporta kompleksa filiāle, Spuņciema sporta halle | B11: Mazā Spuņciema iela 2, Spuņciems, Salas pag., Mārupes nov., LV-2105 | C11: 80880050276004 | D11: 2008 | E11: 2378.7 | F11: skat.Salas sākumskola - viena sistēma | G11: Jā | H11: skat.Salas sākumskola - viena sistēma | I11: Nē | J11: Daļēji | K11: skat.Salas sākumskola - viena sistēma | L11: Ir | M11: Nē | N11: Jā | O11: Tehniskās apsekošanas atzinums (periodiskais) - padziļināta: Ventilācijas sistēmu audits; siltumapgādes un apkures sistēmas audits (sist. kopīga ar Salas s.sk.) | P11: Ventilācijas gaisa daudzuma atbilstība aktuālām normatīvām prasībām, iekārtu energoefektivitātes novērtējus un tehniski ekonomiskais pamatojums ventilācijas sistēmu nomaiņai/pārbūvei vai iekārtu nomaiņai; Tehniski ekonomiskais pamatojums siltumapgādes pārejai no fosilā un atjaunīgo enerģiju; Apkures sistēmas audits; saules paneļu uzstādīšanas izvērtējums un slēdziens par jumta tehnisko stāvokli saules paneļu izvietošanai. | Q11: Jā | R11: Jā | S11: 3200 | T11: =180/23 -> 7.826087 | U11: =S11*1.21-S11+Table3[[#This Row],[Specifikācijas izstrāde - SIA "Ekodoma" 180 EUR bez PVN]]*1.21-Table3[[#This Row],[Specifikācijas izstrāde - SIA "Ekodoma" 180 EUR bez PVN]] -> 673.64348 | V11: =S11*0.1 -> 320 | W11: =S11-V11 -> 2880 | X11: =W11*0.05 -> 144 | Y11: =U11+V11+X11 -> 1137.6435
A12: Mārupes mūzikas un mākslas skola | B12: Mazcenu aleja 39, Jaunmārupe, Mārupes pagasts, Mārupes novads, LV-2166 | C12: 80760110587001 | D12: 1978 (pārbūvēta 2022) | E12: 3412.2 | F12: CSA (200 kW) | G12: Jā | H12: CSA (50 kW) | I12: Nē (izņemot dažas split iekārtas) | J12: Jā | K12: Siltumenerģijas skaitītājs (kopā apkure un karstā ūdens sagatavošana) | L12: Ir | M12: Jā | N12: Jā | O12: Tehniskās apsekošanas atzinums (periodiskais) un padziļinātā - jumts | P12: Ēka pēc atjaunošanas nodota ekspluatācijā 2022.gadā, 12.2025. beidzas Ēkas pagaidu energosertifikāts. Papildus - saules paneļu uzstādīšanas izvērtējums un slēdziens par jumta tehnisko stāvokli saules paneļu izvietošanai | Q12: Jā | R12: Jā | S12: 1400 | T12: =180/23 -> 7.826087 | U12: =S12*1.21-S12+Table3[[#This Row],[Specifikācijas izstrāde - SIA "Ekodoma" 180 EUR bez PVN]]*1.21-Table3[[#This Row],[Specifikācijas izstrāde - SIA "Ekodoma" 180 EUR bez PVN]] -> 295.64348 | V12: =S12*0.1 -> 140 | W12: =S12-V12 -> 1260 | X12: =W12*0.05 -> 63 | Y12: =U12+V12+X12 -> 498.64348 | Z12: 1000 | AA12: Mērķis: Energosertifikās
A13: Dienas centrs "Švarcenieki" | B13: Mazcenu aleja 4, Jaunmārupe, Mārupes pagasts, Mārupes novads, LV-2166 | C13: 80760110628001 | D13: 1860 | E13: 256 | F13: EL | G13: Daļēji (Lokālās nosūces) | H13: Elektriskie boileri | I13: Nē | J13: Nē | K13: Nē (kopējais elektroenerģijas skaitītājs) | L13: Ir | M13: Nē | N13: Jā | O13: Tehniskās apsekošanas atzinums (periodiskais) | P13: Būvkonstrukciju padziļināta izpēte: veikt ēkas konstrukciju, tajā skaitā, pamatu, sienu, starpstāvu pārsegumu, jumta tehnisko apsekošanu un padziļinātu tehnisko izpēti, sakarā ar novērotām deformācijām un atkārtotiem jumta remontiem. Izvērtēt vēsturiskā karniņu jumta seguma atjaunošanas iespējas. Noteikt nepieciešamās darbības bēniņu pārbūvi, lai tajā izvietotu ekspluatējamas telpas, izveidojot jumta stāvu visā apjomā. Papildus - saules paneļu uzstādīšanas izvērtējums un slēdziens par jumta tehnisko stāvokli saules paneļu izvietošanai | Q13: Jā | R13: Jā | S13: 5200 | T13: =180/23 -> 7.826087 | U13: =S13*1.21-S13+Table3[[#This Row],[Specifikācijas izstrāde - SIA "Ekodoma" 180 EUR bez PVN]]*1.21-Table3[[#This Row],[Specifikācijas izstrāde - SIA "Ekodoma" 180 EUR bez PVN]] -> 1093.6435 | V13: =S13*0.1 -> 520 | W13: =S13-V13 -> 4680 | X13: =W13*0.05 -> 234 | Y13: =U13+V13+X13 -> 1847.6435
A14: Babītes Pirmsskolas izglītības iestāde, modeļu tipa ēka | B14: Priežu iela 1, Babīte, Babītes pagasts, Mārupes novads, LV-2101 | C14: 80480040505001 | D14: 2016 | E14: 351.6 | F14: EL | G14: Jā | H14: Elektriskie boileri | I14: Jā | J14: Jā | K14: Nē (kopējais elektroenerģijas skaitītājs) | L14: Ir | M14: Nē | N14: Jā | O14: Tehniskās apsekošanas atzinums (periodiskais) | P14: Moduļu māja | S14: 1100 | T14: =180/23 -> 7.826087 | U14: =S14*1.21-S14+Table3[[#This Row],[Specifikācijas izstrāde - SIA "Ekodoma" 180 EUR bez PVN]]*1.21-Table3[[#This Row],[Specifikācijas izstrāde - SIA "Ekodoma" 180 EUR bez PVN]] -> 232.64348 | V14: =S14*0.1 -> 110 | W14: =S14-V14 -> 990 | X14: =W14*0.05 -> 49.5 | Y14: =U14+V14+X14 -> 392.14348
A15: Babītes sporta kompl. fil., ģērbtuvju ēka | B15: Rīgas iela 1C, Piņķi, Babītes pag., Mārupes nov., LV-2107 | C15: 80480030280001 | D15: 2016 | E15: 172.3 | F15: EL | G15: Jā | H15: Elektriskie boileri | I15: Nē | J15: Jā | K15: Nē (kopējais elektroenerģijas skaitītājs sporta kompleksam) | L15: Ir | M15: Jā | N15: Jā | O15: Tehniskās apsekošanas atzinums (periodiskais) | P15: Papildus - saules paneļu uzstādīšanas izvērtējums un slēdziens par jumta tehnisko stāvokli saules paneļu izvietošanai | Q15: Jā | R15: Jā | S15: 1400 | T15: =180/23 -> 7.826087 | U15: =S15*1.21-S15+Table3[[#This Row],[Specifikācijas izstrāde - SIA "Ekodoma" 180 EUR bez PVN]]*1.21-Table3[[#This Row],[Specifikācijas izstrāde - SIA "Ekodoma" 180 EUR bez PVN]] -> 295.64348 | V15: =S15*0.1 -> 140 | W15: =S15-V15 -> 1260 | X15: =W15*0.05 -> 63 | Y15: =U15+V15+X15 -> 498.64348
A16: PII "Saimīte" | B16: Rīgas iela 7, Piņķi, Babītes pag., Mārupes nov., LV-2107 | C16: 80480030299005 | D16: 1974 | E16: 2251.6 | F16: CSA | G16: Daļēji (izņemot 1 kabinetu lokāla ventiekārta ar siltuma atguvi un lokālās nosūces) | H16: CSA + elektriskie boileri (vasarā) | I16: Nē (izņemot aktu zāli) | J16: Jā | K16: Siltumenerģijas skaitītājs (kopā apkure un karstā ūdens sagatavošana) | L16: Ir | M16: Nē | N16: Jā | O16: Tehniskās apsekošanas atzinums (periodiskais) | S16: 1600 | T16: =180/23 -> 7.826087 | U16: =S16*1.21-S16+Table3[[#This Row],[Specifikācijas izstrāde - SIA "Ekodoma" 180 EUR bez PVN]]*1.21-Table3[[#This Row],[Specifikācijas izstrāde - SIA "Ekodoma" 180 EUR bez PVN]] -> 337.64348 | V16: =S16*0.1 -> 160 | W16: =S16-V16 -> 1440 | X16: =W16*0.05 -> 72 | Y16: =U16+V16+X16 -> 569.64348
