Workbook

Sheet aiznemumi (paredzamie) (2)
DN1: 4. pielikums
B2: Alūksnes novada pašvaldība | DN2: Alūksnes novada pašvaldības
B3: Aizņēmumu saistības uz 29.05.2025. (noslēgtie līgumi) | DN3: saistošajiem noteikumiem Nr. 10/2025
A5: Pašvaldība | B5: Mērķis | C5: līguma noslēgšanas datums | D5: līguma atmaksas termiņš | E5: Aizdevuma līguma Nr. | F5: Līguma Nr. (trančes Nr.) | G5: aizdevējs | H5: aizdevuma procentu likme | I5: procentu likmes veids | J5: valūta | K5: saistību apmērs /2025 | N5: saistību apmērs /2026 | Q5: saistību apmērs /2027 | T5: saistību apmērs /2028 | W5: saistību apmērs /2029 | Z5: saistību apmērs /2030 | AC5: saistību apmērs /2031 | AF5: saistību apmērs /2032 | AI5: saistību apmērs /2033 | AL5: saistību apmērs /2034 | AO5: saistību apmērs /2035 | AR5: saistību apmērs /2036 | AU5: saistību apmērs /2037 | AX5: saistību apmērs /2038 | BA5: saistību apmērs /2039 | BD5: saistību apmērs /2040 | BG5: saistību apmērs /2041 | BJ5: saistību apmērs /2042 | BM5: saistību apmērs /2043 | BP5: saistību apmērs /2044 | BS5: saistību apmērs /2045 | BV5: saistību apmērs /2046 | BY5: saistību apmērs /2047 | CB5: saistību apmērs /2048 | CE5: saistību apmērs /2049 | CH5: saistību apmērs /2050 | CK5: saistību apmērs /2051 | CN5: saistību apmērs /2052 | CQ5: saistību apmērs /2053 | CT5: saistību apmērs /2054 | CW5: saistību apmērs /2055 | CZ5: saistību apmērs /2056 | DC5: saistību apmērs /2057 | DF5: saistību apmērs /2058 | DI5: turpmākie gadi (2032 - 2052) | DL5: Kopā
K6: pamatsumma | L6: procenti un apkalpošana | M6: Kopā | N6: pamatsumma | O6: procenti un apkalpošana | P6: Kopā | Q6: pamatsumma | R6: procenti un apkalpošana | S6: Kopā | T6: pamatsumma | U6: procenti un apkalpošana | V6: Kopā | W6: pamatsumma | X6: procenti un apkalpošana | Y6: Kopā | Z6: pamatsumma | AA6: procenti un apkalpošana | AB6: Kopā | AC6: pamatsumma | AD6: % | AE6: Kopā | AF6: pamatsumma | AG6: % | AH6: Kopā | AI6: pamatsumma | AJ6: % | AK6: Kopā | AL6: pamatsumma | AM6: % | AN6: Kopā | AO6: pamatsumma | AP6: % | AQ6: Kopā | AR6: pamatsumma | AS6: % | AT6: Kopā | AU6: pamatsumma | AV6: % | AW6: Kopā | AX6: pamatsumma | AY6: % | AZ6: Kopā | BA6: pamatsumma | BB6: % | BC6: Kopā | BD6: pamatsumma | BE6: % | BF6: Kopā | BG6: pamatsumma | BH6: % | BI6: Kopā | BJ6: pamatsumma | BK6: % | BL6: Kopā | BM6: pamatsumma | BN6: % | BO6: Kopā | BP6: pamatsumma | BQ6: % | BR6: Kopā | BS6: pamatsumma | BT6: % | BU6: Kopā | BV6: pamatsumma | BW6: % | BX6: Kopā | BY6: pamatsumma | BZ6: % | CA6: Kopā | CB6: pamatsumma | CC6: % | CD6: Kopā | CE6: pamatsumma | CF6: % | CG6: Kopā | CH6: pamatsumma | CI6: % | CJ6: Kopā | CK6: pamatsumma | CL6: % | CM6: Kopā | CN6: pamatsumma | CO6: % | CP6: Kopā | CQ6: pamatsumma | CR6: % | CS6: Kopā | CT6: pamatsumma | CU6: % | CV6: Kopā | CW6: pamatsumma | CX6: % | CY6: Kopā | CZ6: pamatsumma | DA6: % | DB6: Kopā | DC6: pamatsumma | DD6: % | DE6: Kopā | DF6: pamatsumma | DG6: % | DH6: Kopā | DI6: pamatsumma | DJ6: procenti un apkalpošana | DK6: Kopā | DL6: pamatsumma | DM6: procenti un apkalpošana | DN6: Kopā | DO6: esošie
A7: Alsviķu pagasts | B7: ERAF Ūdenssaimniecības attīstība Alsviķu pagasta Alsviķu ciemā (SIA Rūpe pamatkapitāls) | C7: 18.03.2015. | D7: 22.12.2025. | E7: A2/1/15/108 | F7: P-67/2015 | G7: Valsts kase | H7: 2.828 | I7: mainīga | J7: EUR | K7: 7500 | L7: 230 | M7: =K7+L7 -> 7730 | O7: 12 | P7: =N7+O7 -> 12 | S7: =Q7+R7 -> 0 | V7: =T7+U7 -> 0 | Y7: =W7+X7 -> 0 | AB7: =Z7+AA7 -> 0 | DI7: =AF7+AI7+AL7+AO7+AR7+AU7+AX7+BA7+BD7+BG7+BJ7+BM7+BP7+BS7+BV7+BY7+CB7+CE7+CH7+CK7+CN7+CQ7+CT7+CW7+CZ7+DC7+DF7 -> 0 | DJ7: =+AG7+AJ7+AM7+AP7+AS7+AV7+AY7+BB7+BE7+BH7+BK7+BN7+BQ7+BT7+BW7+BZ7+CC7+CF7+CI7+CL7+CO7+CR7+CU7+CX7+DA7+DD7+DG7 -> 0 | DK7: =DI7+DJ7 -> 0 | DL7: =+K7+N7+Q7+T7+W7+DI7+Z7+AC7 -> 7500 | DM7: =+L7+O7+R7+U7+X7+DJ7+AA7+AD7 -> 242 | DN7: =+M7+P7+S7+V7+Y7+DK7+AB7+AE7 -> 7742 | DO7: 45955
B8: ERAF Ūdenssaimniecības attīstība Alsviķu pagasta Strautiņu ciemā (SIA Rūpe pamatkapitāls) | C8: 18.03.2015. | D8: 22.12.2025. | E8: A2/1/15/110 | F8: P-69/2015 | G8: Valsts kase | H8: 2.828 | I8: mainīga | J8: EUR | K8: 7500 | L8: 230 | M8: =K8+L8 -> 7730 | O8: 12 | P8: =N8+O8 -> 12 | S8: =Q8+R8 -> 0 | V8: =T8+U8 -> 0 | Y8: =W8+X8 -> 0 | AB8: =Z8+AA8 -> 0 | DI8: =+AF8+AI8+AL8+AO8+AR8+AU8+AX8+BA8+BD8+BG8+BJ8+BM8+BP8+BS8+BV8+BY8+CB8+CE8+CH8+CK8+CN8+CQ8+CT8+CW8+CZ8+DC8+DF8 -> 0 | DJ8: =+AG8+AJ8+AM8+AP8+AS8+AV8+AY8+BB8+BE8+BH8+BK8+BN8+BQ8+BT8+BW8+BZ8+CC8+CF8+CI8+CL8+CO8+CR8+CU8+CX8+DA8+DD8+DG8 -> 0 | DK8: =DI8+DJ8 -> 0 | DL8: =+K8+N8+Q8+T8+W8+DI8+Z8+AC8 -> 7500 | DM8: =+L8+O8+R8+U8+X8+DJ8+AA8+AD8 -> 242 | DN8: =+M8+P8+S8+V8+Y8+DK8+AB8+AE8 -> 7742 | DO8: 45955
A9: Alūksne | B9: Alūksnes pilsētas ielu renovācijas pabeigšana | C9: 39643 | D9: 47107 | E9: A2/1/08/649; A2/1/08/649-V/11/1 | F9: P-251/2008 | G9: Valsts kase | H9: 3.256 | I9: mainīga | J9: EUR | K9: 19550 | L9: 2509 | M9: =K9+L9 -> 22059 | N9: 19550 | O9: 1369 | P9: =N9+O9 -> 20919 | Q9: 19550 | R9: 877 | S9: =Q9+R9 -> 20427 | T9: 19476 | U9: 400 | V9: =T9+U9 -> 19876 | W9: 0 | X9: 26 | Y9: =W9+X9 -> 26 | AB9: =Z9+AA9 -> 0 | DI9: =+AF9+AI9+AL9+AO9+AR9+AU9+AX9+BA9+BD9+BG9+BJ9+BM9+BP9+BS9+BV9+BY9+CB9+CE9+CH9+CK9+CN9+CQ9+CT9+CW9+CZ9+DC9+DF9 -> 0 | DJ9: =+AG9+AJ9+AM9+AP9+AS9+AV9+AY9+BB9+BE9+BH9+BK9+BN9+BQ9+BT9+BW9+BZ9+CC9+CF9+CI9+CL9+CO9+CR9+CU9+CX9+DA9+DD9+DG9 -> 0 | DK9: =DI9+DJ9 -> 0 | DL9: =+K9+N9+Q9+T9+W9+DI9+Z9+AC9 -> 78126 | DM9: =+L9+O9+R9+U9+X9+DJ9+AA9+AD9 -> 5181 | DN9: =+M9+P9+S9+V9+Y9+DK9+AB9+AE9 -> 83307 | DO9: 194723
B10: SIA Rūpe pamatkapitāla palielināšana | C10: 39643 | D10: 47107 | E10: A2/1/08/650; A2/1/08/650-V/11/1 | F10: P-252/2008 | G10: Valsts kase | H10: 3.256 | I10: mainīga | J10: EUR | K10: 7114 | L10: 914 | M10: =K10+L10 -> 8028 | N10: 7114 | O10: 499 | P10: =N10+O10 -> 7613 | Q10: 7115 | R10: 319 | S10: =Q10+R10 -> 7434 | T10: 7115 | U10: 146 | V10: =T10+U10 -> 7261 | W10: 0 | X10: 10 | Y10: =W10+X10 -> 10 | AB10: =Z10+AA10 -> 0 | DI10: =+AF10+AI10+AL10+AO10+AR10+AU10+AX10+BA10+BD10+BG10+BJ10+BM10+BP10+BS10+BV10+BY10+CB10+CE10+CH10+CK10+CN10+CQ10+CT10+CW10+CZ10+DC10+DF10 -> 0 | DJ10: =+AG10+AJ10+AM10+AP10+AS10+AV10+AY10+BB10+BE10+BH10+BK10+BN10+BQ10+BT10+BW10+BZ10+CC10+CF10+CI10+CL10+CO10+CR10+CU10+CX10+DA10+DD10+DG10 -> 0 | DK10: =DI10+DJ10 -> 0 | DL10: =+K10+N10+Q10+T10+W10+DI10+Z10+AC10 -> 28458 | DM10: =+L10+O10+R10+U10+X10+DJ10+AA10+AD10 -> 1888 | DN10: =+M10+P10+S10+V10+Y10+DK10+AB10+AE10 -> 30346 | DO10: 70893
B11: Kohēzijas fonda projekts "Ūdenssaimniecības attīstība Austrumlatvijas upju baseinos" pašvaldības līdzfinansējums - ieguldījums SIA "RŪPE" pamatkapitālā | C11: 07.09.2009; 13.05.2013. 10.05.2017. | D11: 21.06.2027. | E11: A2/1/09/468 A2/1/09/468-V/13/1; A2/1/09/468-V/17/2 | F11: P-191/2009 | G11: Valsts kase | H11: 3.983 | I11: mainīga | J11: EUR | K11: 23996 | L11: 1958 | M11: =K11+L11 -> 25954 | N11: 23996 | O11: 785 | P11: =N11+O11 -> 24781 | Q11: 11945 | R11: 206 | S11: =Q11+R11 -> 12151 | V11: =T11+U11 -> 0 | X11: 0 | Y11: =W11+X11 -> 0 | AB11: =Z11+AA11 -> 0 | DI11: =+AF11+AI11+AL11+AO11+AR11+AU11+AX11+BA11+BD11+BG11+BJ11+BM11+BP11+BS11+BV11+BY11+CB11+CE11+CH11+CK11+CN11+CQ11+CT11+CW11+CZ11+DC11+DF11 -> 0 | DJ11: =+AG11+AJ11+AM11+AP11+AS11+AV11+AY11+BB11+BE11+BH11+BK11+BN11+BQ11+BT11+BW11+BZ11+CC11+CF11+CI11+CL11+CO11+CR11+CU11+CX11+DA11+DD11+DG11 -> 0 | DK11: =DI11+DJ11 -> 0 | DL11: =+K11+N11+Q11+T11+W11+DI11+Z11+AC11 -> 59937 | DM11: =+L11+O11+R11+U11+X11+DJ11+AA11+AD11 -> 2949 | DN11: =+M11+P11+S11+V11+Y11+DK11+AB11+AE11 -> 62886 | DO11: 195132
B12: ERAF "Ūdenssaimniecības pakalpojumu attīstība Alūksnē, II kārta" SIA "Rūpe" pamatkapitāls | C12: 31.10.2011. | D12: 20.12.2032. | E12: A/2/1/11/661 | F12: P-411/2011 | G12: Valsts kase | H12: 3.075 | I12: mainīga | J12: EUR | K12: 29823 | L12: 7523 | M12: =K12+L12 -> 37346 | N12: 29824 | O12: 5065 | P12: =N12+O12 -> 34889 | Q12: 29823 | R12: 4243 | S12: =Q12+R12 -> 34066 | T12: 29823 | U12: 3525 | V12: =T12+U12 -> 33348 | W12: 29824 | X12: 2788 | Y12: =W12+X12 -> 32612 | Z12: 29823 | AA12: 2064 | AB12: =Z12+AA12 -> 31887 | AC12: 29823 | AD12: 1339 | AE12: =AC12+AD12 -> 31162 | DI12: 29823 | DJ12: 656 | DK12: =DI12+DJ12 -> 30479 | DL12: =+K12+N12+Q12+T12+W12+DI12+Z12+AC12 -> 238586 | DM12: =+L12+O12+R12+U12+X12+DJ12+AA12+AD12 -> 27203 | DN12: =+M12+P12+S12+V12+Y12+DK12+AB12+AE12 -> 265789 | DO12: 443262
B13: KF projekts "Siltumtrašu rekonstrukcija un jaunu siltumtrašu izbūve Alūksnē" AS Simone pamatkapitāla palielināšana | C13: 22.10.2012. 30.01.2024. | D13: 21.06.2038. | E13: A/2/1/12/624; A2/1/12/624-V/24/1 | F13: P-411/2012 | G13: Valsts kase | H13: 3.16 | I13: mainīga | J13: EUR | K13: 59752 | L13: 26177 | M13: =K13+L13 -> 85929 | N13: 59752 | O13: 18305 | P13: =N13+O13 -> 78057 | Q13: 59752 | R13: 16496 | S13: =Q13+R13 -> 76248 | T13: 59752 | U13: 15080 | V13: =T13+U13 -> 74832 | W13: 59752 | X13: 13584 | Y13: =W13+X13 -> 73336 | Z13: 59752 | AA13: 12130 | AB13: =Z13+AA13 -> 71882 | AC13: 59752 | AD13: 10678 | AE13: =AC13+AD13 -> 70430 | DI13: 388366 | DJ13: 34086 | DK13: =DI13+DJ13 -> 422452 | DL13: =+K13+N13+Q13+T13+W13+DI13+Z13+AC13 -> 806630 | DM13: =+L13+O13+R13+U13+X13+DJ13+AA13+AD13 -> 146536 | DN13: =+M13+P13+S13+V13+Y13+DK13+AB13+AE13 -> 953166 | DO13: 1184823
B14: KF "Katlu māju darbības optimizācija un nergoefektivitātes paaugstināšana Alūksnē" | C14: 13.11.2013. | D14: 20.12.2038. | E14: A2/1/13/832 | F14: P-410/2013 | G14: Valsts kase | H14: 3.077 | I14: mainīga | J14: EUR | K14: 35458 | L14: 16137 | M14: =K14+L14 -> 51595 | N14: 35458 | O14: 11473 | P14: =N14+O14 -> 46931 | Q14: 35458 | R14: 10221 | S14: =Q14+R14 -> 45679 | T14: 35458 | U14: 9382 | V14: =T14+U14 -> 44840 | W14: 35458 | X14: 8493 | Y14: =W14+X14 -> 43951 | Z14: 35458 | AA14: 7630 | AB14: =Z14+AA14 -> 43088 | AC14: 35458 | AD14: 6768 | AE14: =AC14+AD14 -> 42226 | DI14: 248206 | DJ14: 23292 | DK14: =DI14+DJ14 -> 271498 | DL14: =+K14+N14+Q14+T14+W14+DI14+Z14+AC14 -> 496412 | DM14: =+L14+O14+R14+U14+X14+DJ14+AA14+AD14 -> 93396 | DN14: =+M14+P14+S14+V14+Y14+DK14+AB14+AE14 -> 589808 | DO14: 716411
B15: KPFI projekts "Kompleksi risinājumi siltumnīcefekta gāzu emisiju samazināšanai Alūksnes novada vidusskolā un Liepnas vidusskolā" | C15: 13.12.2013. | D15: 20.12.2024. | E15: A2/1/13/1188; A2/1/13/1188-V/1 | F15: P-468/2013 | G15: Valsts kase | H15: 2.872 | I15: mainīga | J15: EUR | K15: 0 | L15: 89 | M15: =K15+L15 -> 89 | N15: 0 | O15: 0 | P15: =N15+O15 -> 0 | Q15: 0 | R15: 0 | S15: =Q15+R15 -> 0 | T15: 0 | U15: 0 | V15: =T15+U15 -> 0 | W15: 0 | X15: 0 | Y15: =W15+X15 -> 0 | AB15: =Z15+AA15 -> 0 | AE15: =AC15+AD15 -> 0 | DI15: =+AF15+AI15+AL15+AO15+AR15+AU15+AX15+BA15+BD15+BG15+BJ15+BM15+BP15+BS15+BV15+BY15+CB15+CE15+CH15+CK15+CN15+CQ15+CT15+CW15+CZ15+DC15+DF15 -> 0 | DJ15: =+AG15+AJ15+AM15+AP15+AS15+AV15+AY15+BB15+BE15+BH15+BK15+BN15+BQ15+BT15+BW15+BZ15+CC15+CF15+CI15+CL15+CO15+CR15+CU15+CX15+DA15+DD15+DG15 -> 0 | DK15: =DI15+DJ15 -> 0 | DL15: =+K15+N15+Q15+T15+W15+DI15+Z15+AC15 -> 0 | DM15: =+L15+O15+R15+U15+X15+DJ15+AA15+AD15 -> 89 | DN15: =+M15+P15+S15+V15+Y15+DK15+AB15+AE15 -> 89 | DO15: 198432
B16: ERAF projekts "Tranzītceļa P43 maršruta rekonstrukcija Alūksnes pilsētā" Jāņkalna iela | C16: 19.06.2013.; 04.02.2014.; 26.01.2016. | D16: 20.09.2027. | E16: A2/1/13/259; A2/1/13/259-V/14/1; A2/1/13/259-1/16/2 | F16: P-173/2013 | G16: Valsts kase | H16: 4.003 | I16: mainīga | J16: EUR | K16: 66492 | L16: 6300 | M16: =K16+L16 -> 72792 | N16: 66492 | O16: 2583 | P16: =N16+O16 -> 69075 | Q16: 49869 | R16: 964 | S16: =Q16+R16 -> 50833 | T16: 0 | U16: 0 | V16: =T16+U16 -> 0 | W16: 0 | X16: 0 | Y16: =W16+X16 -> 0 | Z16: 0 | AA16: 0 | AB16: =Z16+AA16 -> 0 | AE16: =AC16+AD16 -> 0 | DI16: =+AF16+AI16+AL16+AO16+AR16+AU16+AX16+BA16+BD16+BG16+BJ16+BM16+BP16+BS16+BV16+BY16+CB16+CE16+CH16+CK16+CN16+CQ16+CT16+CW16+CZ16+DC16+DF16 -> 0 | DJ16: =+AG16+AJ16+AM16+AP16+AS16+AV16+AY16+BB16+BE16+BH16+BK16+BN16+BQ16+BT16+BW16+BZ16+CC16+CF16+CI16+CL16+CO16+CR16+CU16+CX16+DA16+DD16+DG16 -> 0 | DK16: =DI16+DJ16 -> 0 | DL16: =+K16+N16+Q16+T16+W16+DI16+Z16+AC16 -> 182853 | DM16: =+L16+O16+R16+U16+X16+DJ16+AA16+AD16 -> 9847 | DN16: =+M16+P16+S16+V16+Y16+DK16+AB16+AE16 -> 192700 | DO16: 527554
B17: aizņēmums "Uzņēmējdarbībai nozīmīgu ielu un Brūžā ēkas rekonstrukcija Alūksnes pilsētā" neattiecināmās izmaksas u.c. | C17: 13.03.2015. 09.12.2015. 30.01.2024. | D17: 20.12.2041. | E17: A2/1/15/87; A2/1/15/87-V/15/1; A2/1/15/87-V/24/2 | F17: P-49/2015 | G17: Valsts kase | H17: 2.789 | I17: mainīga | J17: EUR | K17: 62576 | L17: 36042 | M17: =K17+L17 -> 98618 | N17: 62576 | O17: 25905 | P17: =N17+O17 -> 88481 | Q17: 62576 | R17: 22604 | S17: =Q17+R17 -> 85180 | T17: 62576 | U17: 21136 | V17: =T17+U17 -> 83712 | W17: 62576 | X17: 19555 | Y17: =W17+X17 -> 82131 | Z17: 62576 | AA17: 18032 | AB17: =Z17+AA17 -> 80608 | AC17: 62576 | AD17: 16511 | AE17: =AC17+AD17 -> 79087 | DI17: 625706 | DJ17: 81524 | DK17: =DI17+DJ17 -> 707230 | DL17: =+K17+N17+Q17+T17+W17+DI17+Z17+AC17 -> 1063738 | DM17: =+L17+O17+R17+U17+X17+DJ17+AA17+AD17 -> 241309 | DN17: =+M17+P17+S17+V17+Y17+DK17+AB17+AE17 -> 1305047 | DO17: 1453367
B18: izglītības iestāžu investīciju projekts "Alūknes PII "Sprīdītis" ēkas iekšējo inženiertīklu pārbūve" | C18: 01.08.2018. | D18: 20.12.2028. | E18: A2/1/18/510 | F18: P-433/2018 | G18: Valsts kase | H18: 3.849 | I18: mainīga | J18: EUR | K18: 27776 | L18: 3927 | M18: =K18+L18 -> 31703 | N18: 27776 | O18: 1924 | P18: =N18+O18 -> 29700 | Q18: 27776 | R18: 1248 | S18: =Q18+R18 -> 29024 | T18: 27776 | U18: 571 | V18: =T18+U18 -> 28347 | W18: 0 | X18: 37 | Y18: =W18+X18 -> 37 | Z18: 0 | AA18: 0 | AB18: =Z18+AA18 -> 0 | AE18: =AC18+AD18 -> 0 | DI18: =+AF18+AI18+AL18+AO18+AR18+AU18+AX18+BA18+BD18+BG18+BJ18+BM18+BP18+BS18+BV18+BY18+CB18+CE18+CH18+CK18+CN18+CQ18+CT18+CW18+CZ18+DC18+DF18 -> 0 | DJ18: =+AG18+AJ18+AM18+AP18+AS18+AV18+AY18+BB18+BE18+BH18+BK18+BN18+BQ18+BT18+BW18+BZ18+CC18+CF18+CI18+CL18+CO18+CR18+CU18+CX18+DA18+DD18+DG18 -> 0 | DK18: =DI18+DJ18 -> 0 | DL18: =+K18+N18+Q18+T18+W18+DI18+Z18+AC18 -> 111104 | DM18: =+L18+O18+R18+U18+X18+DJ18+AA18+AD18 -> 7707 | DN18: =+M18+P18+S18+V18+Y18+DK18+AB18+AE18 -> 118811 | DO18: 253085
B19: ERAF projekts "Ūdenssaimniecības pakalpojumu attīstība Alūksnē, 3.kārta" (ieguldījums SIA "Rūpe" pamatkapitālā) | C19: 01.08.2018. 30.01.2024. | D19: 20.12.2039. | E19: A2/1/18/514; A2/1/18/514-V/24/1 | F19: P-434/2018 | G19: Valsts kase | H19: 3.849 | I19: mainīga | J19: EUR | K19: 46616 | L19: 25283 | M19: =K19+L19 -> 71899 | N19: 46616 | O19: 15705 | P19: =N19+O19 -> 62321 | Q19: 46616 | R19: 14570 | S19: =Q19+R19 -> 61186 | T19: 46616 | U19: 13470 | V19: =T19+U19 -> 60086 | W19: 46616 | X19: 12298 | Y19: =W19+X19 -> 58914 | Z19: 46616 | AA19: 11164 | AB19: =Z19+AA19 -> 57780 | AC19: 46616 | AD19: 10031 | AE19: =AC19+AD19 -> 56647 | DI19: 372874 | DJ19: 39515 | DK19: =DI19+DJ19 -> 412389 | DL19: =+K19+N19+Q19+T19+W19+DI19+Z19+AC19 -> 699186 | DM19: =+L19+O19+R19+U19+X19+DJ19+AA19+AD19 -> 142036 | DN19: =+M19+P19+S19+V19+Y19+DK19+AB19+AE19 -> 841222 | DO19: 934784
B20: aizņēmums ERAF projekts "Gaismas ceļs caur gadsimtiem" | C20: 05.12.2017. 05.01.2018. 11.04.2018. 14.01.2019. | D20: 20.12.2038. | E20: A2/1/17/870; A2/1/17/870-V/18/1; A2/1/17/870-V/18/2; A2/1/17/870-V/19/3 A2/1/18/870-ekase | F20: P-661/2017 | G20: Valsts kase | H20: 2.877 | I20: mainīga | J20: EUR | K20: 48860 | L20: 17808 | M20: =K20+L20 -> 66668 | N20: 48860 | O20: 12865 | P20: =N20+O20 -> 61725 | Q20: 48860 | R20: 11254 | S20: =Q20+R20 -> 60114 | T20: 48860 | U20: 10089 | V20: =T20+U20 -> 58949 | W20: 48860 | X20: 8873 | Y20: =W20+X20 -> 57733 | Z20: 48860 | AA20: 7683 | AB20: =Z20+AA20 -> 56543 | AC20: 48860 | AD20: 6496 | AE20: =AC20+AD20 -> 55356 | DI20: 225702 | DJ20: 14666 | DK20: =DI20+DJ20 -> 240368 | DL20: =+K20+N20+Q20+T20+W20+DI20+Z20+AC20 -> 567722 | DM20: =+L20+O20+R20+U20+X20+DJ20+AA20+AD20 -> 89734 | DN20: =+M20+P20+S20+V20+Y20+DK20+AB20+AE20 -> 657456 | DO20: 857581
B21: Aizņēmums Alūksnes novada pašvaldības ceļu infrastruktūras projekta īstenošanai (Lāčplēša, Rījukalna, Vējakalna, Torņa ielas Alūksnē) | C21: 15.12.2016. | D21: 20.12.2027. | E21: A2/1/16/510 | F21: P-373/2016 | G21: valsts kase | H21: 2.872 | I21: mainīga | J21: EUR | K21: 32144 | L21: 2964 | M21: =K21+L21 -> 35108 | N21: 32144 | O21: 1516 | P21: =N21+O21 -> 33660 | Q21: 32144 | R21: 662 | S21: =Q21+R21 -> 32806 | U21: 43 | V21: =T21+U21 -> 43 | AE21: =AC21+AD21 -> 0 | DI21: =+AF21+AI21+AL21+AO21+AR21+AU21+AX21+BA21+BD21+BG21+BJ21+BM21+BP21+BS21+BV21+BY21+CB21+CE21+CH21+CK21+CN21+CQ21+CT21+CW21+CZ21+DC21+DF21 -> 0 | DJ21: =+AG21+AJ21+AM21+AP21+AS21+AV21+AY21+BB21+BE21+BH21+BK21+BN21+BQ21+BT21+BW21+BZ21+CC21+CF21+CI21+CL21+CO21+CR21+CU21+CX21+DA21+DD21+DG21 -> 0 | DK21: =DI21+DJ21 -> 0 | DL21: =+K21+N21+Q21+T21+W21+DI21+Z21+AC21 -> 96432 | DM21: =+L21+O21+R21+U21+X21+DJ21+AA21+AD21 -> 5185 | DN21: =+M21+P21+S21+V21+Y21+DK21+AB21+AE21 -> 101617 | DO21: 260010
B22: ERAF SAM projekts "Alūksnes novada vispārējās izglītības iestāžu mācību vides uzlabošana" (Alūksnes novada vidusskola) | C22: 27.04.2018.; 09.10.2018. | D22: 20.03.2034. | E22: A2/1/18/191; A2/1/18/191-V/18/1 | F22: P-161/2018 | G22: valsts kase | H22: 2.4 | I22: mainīga | J22: EUR | K22: 24016 | L22: 7392 | M22: =K22+L22 -> 31408 | N22: 24016 | O22: 4732 | P22: =N22+O22 -> 28748 | Q22: 24016 | R22: 4147 | S22: =Q22+R22 -> 28163 | T22: 24016 | U22: 3571 | V22: =T22+U22 -> 27587 | W22: 24016 | X22: 2976 | Y22: =W22+X22 -> 26992 | Z22: 24016 | AA22: 2392 | AB22: =Z22+AA22 -> 26408 | AC22: 24016 | AD22: 1808 | AE22: =AC22+AD22 -> 25824 | DI22: 54036 | DJ22: 1968 | DK22: =DI22+DJ22 -> 56004 | DL22: =+K22+N22+Q22+T22+W22+DI22+Z22+AC22 -> 222148 | DM22: =+L22+O22+R22+U22+X22+DJ22+AA22+AD22 -> 28986 | DN22: =+M22+P22+S22+V22+Y22+DK22+AB22+AE22 -> 251134 | DO22: 348793
B23: aizņēmums SAM 3.3.1. ERAF projekts "Multifunkcionālas servisa ēkas izbūve Pilssalā" | C23: 02.03.2017.; 21.04.2018. | D23: 20.06.2029. | E23: A2/1/17/105; A2/1/17/105-V/18/1 | F23: P-37/2017 | G23: valsts kase | H23: 3.403 | I23: mainīga, tirgus nosa-cījumi | J23: EUR | K23: 51552 | L23: 8977 | M23: =K23+L23 -> 60529 | N23: 51552 | O23: 5562 | P23: =N23+O23 -> 57114 | Q23: 51552 | R23: 3678 | S23: =Q23+R23 -> 55230 | T23: 51552 | U23: 2113 | V23: =T23+U23 -> 53665 | W23: 25776 | X23: 550 | Y23: =W23+X23 -> 26326 | Z23: 0 | AA23: 0 | AB23: =Z23+AA23 -> 0 | AE23: =AC23+AD23 -> 0 | DI23: =+AF23+AI23+AL23+AO23+AR23+AU23+AX23+BA23+BD23+BG23+BJ23+BM23+BP23+BS23+BV23+BY23+CB23+CE23+CH23+CK23+CN23+CQ23+CT23+CW23+CZ23+DC23+DF23 -> 0 | DJ23: =+AG23+AJ23+AM23+AP23+AS23+AV23+AY23+BB23+BE23+BH23+BK23+BN23+BQ23+BT23+BW23+BZ23+CC23+CF23+CI23+CL23+CO23+CR23+CU23+CX23+DA23+DD23+DG23 -> 0 | DK23: =DI23+DJ23 -> 0 | DL23: =+K23+N23+Q23+T23+W23+DI23+Z23+AC23 -> 231984 | DM23: =+L23+O23+R23+U23+X23+DJ23+AA23+AD23 -> 20880 | DN23: =+M23+P23+S23+V23+Y23+DK23+AB23+AE23 -> 252864 | DO23: 511481
B24: aizņēmums SAM 5.6.2. ERAF projekts "Alūksnes pilsētas rūpniecīskās apbūves teritorijas attīstība 1.kārta uz atvieglotiem nosacījumiem | C24: 26.05.2017.; 05.01.2018.; 21.04.2018. | D24: 22.12.2025. | E24: A2/1/17/317; A2/1/17/317-V/18/1; A2/1/17/317-V/18/2 | F24: P-210/2017 | G24: valsts kase | H24: 4.015 | I24: mainīga | J24: EUR | K24: 54728 | L24: 1714 | M24: =K24+L24 -> 56442 | N24: 0 | O24: 75 | P24: =N24+O24 -> 75 | Q24: 0 | R24: 0 | S24: =Q24+R24 -> 0 | T24: 0 | U24: 0 | V24: =T24+U24 -> 0 | W24: 0 | X24: 0 | Y24: =W24+X24 -> 0 | Z24: 0 | AA24: 0 | AB24: =Z24+AA24 -> 0 | AE24: =AC24+AD24 -> 0 | DI24: =+AF24+AI24+AL24+AO24+AR24+AU24+AX24+BA24+BD24+BG24+BJ24+BM24+BP24+BS24+BV24+BY24+CB24+CE24+CH24+CK24+CN24+CQ24+CT24+CW24+CZ24+DC24+DF24 -> 0 | DJ24: =+AG24+AJ24+AM24+AP24+AS24+AV24+AY24+BB24+BE24+BH24+BK24+BN24+BQ24+BT24+BW24+BZ24+CC24+CF24+CI24+CL24+CO24+CR24+CU24+CX24+DA24+DD24+DG24 -> 0 | DK24: =DI24+DJ24 -> 0 | DL24: =+K24+N24+Q24+T24+W24+DI24+Z24+AC24 -> 54728 | DM24: =+L24+O24+R24+U24+X24+DJ24+AA24+AD24 -> 1789 | DN24: =+M24+P24+S24+V24+Y24+DK24+AB24+AE24 -> 56517 | DO24: 331171
B25: Aiznēmums ERAF projekta "Energoefektivitātes uzlabošana Alūksnes novada pašvaldības administratīvajā ēkā" | C25: 04.12.2018. 30.01.2024. | D25: 20.11.2048. | E25: A2/1/18/869; A2/1/18/869-ekase; A2/1/18/869-V/24/2 | F25: P-720/2018 | G25: valsts kase | H25: 2.877 | I25: mainīga | J25: EUR | K25: 72724 | L25: 53763 | M25: =K25+L25 -> 126487 | N25: 72724 | O25: 40837 | P25: =N25+O25 -> 113561 | Q25: 72724 | R25: 37773 | S25: =Q25+R25 -> 110497 | T25: 72724 | U25: 36097 | V25: =T25+U25 -> 108821 | W25: 72724 | X25: 34228 | Y25: =W25+X25 -> 106952 | Z25: 72724 | AA25: 32459 | AB25: =Z25+AA25 -> 105183 | AC25: 72724 | AD25: 30691 | AE25: =AC25+AD25 -> 103415 | DI25: 1199881 | DJ25: 251219 | DK25: =DI25+DJ25 -> 1451100 | DL25: =+K25+N25+Q25+T25+W25+DI25+Z25+AC25 -> 1708949 | DM25: =+L25+O25+R25+U25+X25+DJ25+AA25+AD25 -> 517067 | DN25: =+M25+P25+S25+V25+Y25+DK25+AB25+AE25 -> 2226016 | DO25: 2090839
B26: Aiznēmums ERAF projekta "Energoefektivitātes uzlabošana Alūksnes novada pašvaldības administratīvajā ēkā" | C26: 10.12.2019. | D26: 22.11.2049. | E26: A2/1/19/459 | F26: P-293/2019 | G26: valsts kase | H26: 2.8 | I26: mainīga | J26: EUR | K26: 11744 | L26: 9126 | M26: =K26+L26 -> 20870 | N26: 11744 | O26: 7039 | P26: =N26+O26 -> 18783 | Q26: 11744 | R26: 6529 | S26: =Q26+R26 -> 18273 | T26: 11744 | U26: 6260 | V26: =T26+U26 -> 18004 | W26: 11744 | X26: 5956 | Y26: =W26+X26 -> 17700 | Z26: 11744 | AA26: 5671 | AB26: =Z26+AA26 -> 17415 | AC26: 11744 | AD26: 5385 | AE26: =AC26+AD26 -> 17129 | DI26: 211392 | DJ26: 48116 | DK26: =DI26+DJ26 -> 259508 | DL26: =+K26+N26+Q26+T26+W26+DI26+Z26+AC26 -> 293600 | DM26: =+L26+O26+R26+U26+X26+DJ26+AA26+AD26 -> 94082 | DN26: =+M26+P26+S26+V26+Y26+DK26+AB26+AE26 -> 387682 | DO26: 354323
B27: Aizņēmums valsts mērķdotācijas līdzfinansējuma - sporta būves Pilssalā, ar sadārdzinājumu | C27: 26.05.2017.; 03.08.2017. | D27: 20.12.2027. | E27: A2/1/17/315; A2/1/17/315-V/17/1 | F27: P-212/2017 | G27: valsts kase | H27: 4.015 | I27: mainīga | J27: EUR | K27: 23972 | L27: 2428 | M27: =K27+L27 -> 26400 | N27: 23972 | O27: 1077 | P27: =N27+O27 -> 25049 | Q27: 23972 | R27: 493 | S27: =Q27+R27 -> 24465 | U27: 32 | V27: =T27+U27 -> 32 | Y27: =W27+X27 -> 0 | AB27: =Z27+AA27 -> 0 | AE27: =AC27+AD27 -> 0 | DI27: =+AF27+AI27+AL27+AO27+AR27+AU27+AX27+BA27+BD27+BG27+BJ27+BM27+BP27+BS27+BV27+BY27+CB27+CE27+CH27+CK27+CN27+CQ27+CT27+CW27+CZ27+DC27+DF27 -> 0 | DJ27: =+AG27+AJ27+AM27+AP27+AS27+AV27+AY27+BB27+BE27+BH27+BK27+BN27+BQ27+BT27+BW27+BZ27+CC27+CF27+CI27+CL27+CO27+CR27+CU27+CX27+DA27+DD27+DG27 -> 0 | DK27: =DI27+DJ27 -> 0 | DL27: =+K27+N27+Q27+T27+W27+DI27+Z27+AC27 -> 71916 | DM27: =+L27+O27+R27+U27+X27+DJ27+AA27+AD27 -> 4030 | DN27: =+M27+P27+S27+V27+Y27+DK27+AB27+AE27 -> 75946 | DO27: 193908
B28: ERAF projekts Nr.8.1.2.0/18/I/002 "Alūksnes novada vispārējās izglītības iestāžu mācību vides uzlabošana" (E.Glika Alūksnes Valsts ģimnāzija) | C28: 06.02.2020. ; 05.01.2021.; 12.01.2022.; 30.01.2024.; 05.02.2025. | D28: 22.12.2036. | E28: A2/1/20/33; A2/1/20/33-V/21/1; A2/1/20/33-V/22/2; A2/1/20/33-V/24/3; A2/1/20/33-V/25/4 | F28: P-21/2020 | G28: valsts kase | H28: 3.034 | I28: mainīga | J28: EUR | K28: 0 | L28: 48382 | M28: =K28+L28 -> 48382 | N28: 124188 | O28: 38340 | P28: =N28+O28 -> 162528 | Q28: 124188 | R28: 33521 | S28: =Q28+R28 -> 157709 | T28: 124188 | U28: 30191 | V28: =T28+U28 -> 154379 | W28: 124188 | X28: 26702 | Y28: =W28+X28 -> 150890 | Z28: 124188 | AA28: 23298 | AB28: =Z28+AA28 -> 147486 | AC28: 124188 | AD28: 19898 | AE28: =AC28+AD28 -> 144086 | DI28: 620904 | DJ28: 48660 | DK28: =DI28+DJ28 -> 669564 | DL28: =+K28+N28+Q28+T28+W28+DI28+Z28+AC28 -> 1366032 | DM28: =+L28+O28+R28+U28+X28+DJ28+AA28+AD28 -> 268992 | DN28: =+M28+P28+S28+V28+Y28+DK28+AB28+AE28 -> 1635024 | DO28: 1666951
B29: aizņēmums ceļu un to kompleksa investīciju projekta "Pleskavas ielas pārbūve Alūksnē, Alūksnes novadā (2.un 3.kārta) " īstenošanai | C29: 30.11.2018. | D29: 20.12.2028. | E29: A2/1/18/864 | F29: P-717/2018 | G29: valsts kase | H29: 2.877 | I29: mainīga | J29: EUR | K29: 36488 | L29: 4478 | M29: =K29+L29 -> 40966 | N29: 36488 | O29: 2620 | P29: =N29+O29 -> 39108 | Q29: 36488 | R29: 1639 | S29: =Q29+R29 -> 38127 | T29: 36488 | U29: 751 | V29: =T29+U29 -> 37239 | W29: 0 | X29: 49 | Y29: =W29+X29 -> 49 | Z29: 0 | AA29: 0 | AB29: =Z29+AA29 -> 0 | AE29: =AC29+AD29 -> 0 | DI29: =+AF29+AI29+AL29+AO29+AR29+AU29+AX29+BA29+BD29+BG29+BJ29+BM29+BP29+BS29+BV29+BY29+CB29+CE29+CH29+CK29+CN29+CQ29+CT29+CW29+CZ29+DC29+DF29 -> 0 | DJ29: =+AG29+AJ29+AM29+AP29+AS29+AV29+AY29+BB29+BE29+BH29+BK29+BN29+BQ29+BT29+BW29+BZ29+CC29+CF29+CI29+CL29+CO29+CR29+CU29+CX29+DA29+DD29+DG29 -> 0 | DK29: =DI29+DJ29 -> 0 | DL29: =+K29+N29+Q29+T29+W29+DI29+Z29+AC29 -> 145952 | DM29: =+L29+O29+R29+U29+X29+DJ29+AA29+AD29 -> 9537 | DN29: =+M29+P29+S29+V29+Y29+DK29+AB29+AE29 -> 155489 | DO29: 332466
B30: Aizņēmums valsts mērķdotācijas līdzfinansējuma Pleskavas ielas pārbūve1.kārta | C30: 20.05.2019. | D30: 20.12.2029. | E30: A2/1/19/160 | F30: P-111/2019 | G30: valsts kase | H30: 3.973 | I30: mainīga | J30: EUR | K30: 44292 | L30: 7438 | M30: =K30+L30 -> 51730 | N30: 44292 | O30: 4146 | P30: =N30+O30 -> 48438 | Q30: 44292 | R30: 3067 | S30: =Q30+R30 -> 47359 | T30: 44292 | U30: 1992 | V30: =T30+U30 -> 46284 | W30: 44292 | X30: 909 | Y30: =W30+X30 -> 45201 | Z30: 0 | AA30: 59 | AB30: =Z30+AA30 -> 59 | AE30: =AC30+AD30 -> 0 | DI30: =+AF30+AI30+AL30+AO30+AR30+AU30+AX30+BA30+BD30+BG30+BJ30+BM30+BP30+BS30+BV30+BY30+CB30+CE30+CH30+CK30+CN30+CQ30+CT30+CW30+CZ30+DC30+DF30 -> 0 | DJ30: =+AG30+AJ30+AM30+AP30+AS30+AV30+AY30+BB30+BE30+BH30+BK30+BN30+BQ30+BT30+BW30+BZ30+CC30+CF30+CI30+CL30+CO30+CR30+CU30+CX30+DA30+DD30+DG30 -> 0 | DK30: =DI30+DJ30 -> 0 | DL30: =+K30+N30+Q30+T30+W30+DI30+Z30+AC30 -> 221460 | DM30: =+L30+O30+R30+U30+X30+DJ30+AA30+AD30 -> 17611 | DN30: =+M30+P30+S30+V30+Y30+DK30+AB30+AE30 -> 239071 | DO30: 448984
B31: aizņēmums Alūksnes Muižas parka vēsturisko objektu restaurācijai un atjaunošanai | C31: 03.08.2017.; 20.12.2017.; 18.02.2019. | D31: 20.12.2027. | E31: A2/1/17/566 A2/1/17/566-V/17/1; A2/1/17/566-V/19/2 | F31: P-425/2017 | G31: valsts kase | H31: 3.774 | I31: mainīga | J31: EUR | K31: 24904 | L31: 2573 | M31: =K31+L31 -> 27477 | N31: 24904 | O31: 1119 | P31: =N31+O31 -> 26023 | Q31: 24904 | R31: 513 | S31: =Q31+R31 -> 25417 | U31: 33 | V31: =T31+U31 -> 33 | AE31: =AC31+AD31 -> 0 | DI31: =+AF31+AI31+AL31+AO31+AR31+AU31+AX31+BA31+BD31+BG31+BJ31+BM31+BP31+BS31+BV31+BY31+CB31+CE31+CH31+CK31+CN31+CQ31+CT31+CW31+CZ31+DC31+DF31 -> 0 | DJ31: =+AG31+AJ31+AM31+AP31+AS31+AV31+AY31+BB31+BE31+BH31+BK31+BN31+BQ31+BT31+BW31+BZ31+CC31+CF31+CI31+CL31+CO31+CR31+CU31+CX31+DA31+DD31+DG31 -> 0 | DK31: =DI31+DJ31 -> 0 | DL31: =+K31+N31+Q31+T31+W31+DI31+Z31+AC31 -> 74712 | DM31: =+L31+O31+R31+U31+X31+DJ31+AA31+AD31 -> 4238 | DN31: =+M31+P31+S31+V31+Y31+DK31+AB31+AE31 -> 78950 | DO31: 201446
B32: aizņēmums "Multifunkcionālās komunālās mašīnas un tā aprīkojuma iegādei" (PA "Spodra") | C32: 07.09.2017. | D32: 20.12.2024. | E32: A2/1/17/656 | F32: P-509/2017 | G32: valsts kase | H32: 3.582 | I32: mainīga | J32: EUR | L32: 73 | M32: =K32+L32 -> 73 | AE32: =AC32+AD32 -> 0 | DI32: =+AF32+AI32+AL32+AO32+AR32+AU32+AX32+BA32+BD32+BG32+BJ32+BM32+BP32+BS32+BV32+BY32+CB32+CE32+CH32+CK32+CN32+CQ32+CT32+CW32+CZ32+DC32+DF32 -> 0 | DJ32: =+AG32+AJ32+AM32+AP32+AS32+AV32+AY32+BB32+BE32+BH32+BK32+BN32+BQ32+BT32+BW32+BZ32+CC32+CF32+CI32+CL32+CO32+CR32+CU32+CX32+DA32+DD32+DG32 -> 0 | DK32: =DI32+DJ32 -> 0 | DL32: =+K32+N32+Q32+T32+W32+DI32+Z32+AC32 -> 0 | DM32: =+L32+O32+R32+U32+X32+DJ32+AA32+AD32 -> 73 | DN32: =+M32+P32+S32+V32+Y32+DK32+AB32+AE32 -> 73 | DO32: 185292
B33: Aizņēmums Alūksnes Pilssalas infrastruktūras izbūvei | C33: 06.10.2017.; 20.12.2017.; 01.06.2018.; 18.02.2019. | D33: 20.12.2028. | E33: A2/1/17/720; A2/1/17/720-V/17/1; A2/1/17/720-V/18/2; A2/1/17/720-V/19/3 | F33: P-572/2017 | G33: valsts kase | H33: 3.219 | I33: mainīga | J33: EUR | K33: 60620 | L33: 7641 | M33: =K33+L33 -> 68261 | N33: 60620 | O33: 4217 | P33: =N33+O33 -> 64837 | Q33: 60620 | R33: 2723 | S33: =Q33+R33 -> 63343 | T33: 60620 | U33: 1248 | V33: =T33+U33 -> 61868 | X33: 81 | Y33: =W33+X33 -> 81 | AE33: =AC33+AD33 -> 0 | DI33: =+AF33+AI33+AL33+AO33+AR33+AU33+AX33+BA33+BD33+BG33+BJ33+BM33+BP33+BS33+BV33+BY33+CB33+CE33+CH33+CK33+CN33+CQ33+CT33+CW33+CZ33+DC33+DF33 -> 0 | DJ33: =+AG33+AJ33+AM33+AP33+AS33+AV33+AY33+BB33+BE33+BH33+BK33+BN33+BQ33+BT33+BW33+BZ33+CC33+CF33+CI33+CL33+CO33+CR33+CU33+CX33+DA33+DD33+DG33 -> 0 | DK33: =DI33+DJ33 -> 0 | DL33: =+K33+N33+Q33+T33+W33+DI33+Z33+AC33 -> 242480 | DM33: =+L33+O33+R33+U33+X33+DJ33+AA33+AD33 -> 15910 | DN33: =+M33+P33+S33+V33+Y33+DK33+AB33+AE33 -> 258390 | DO33: 552349
B34: aizņēmums ERAF projekta Nr.5.6.2.0/18I/012 "Alūksnes pilsētas rūpnieciskās apbūves teritorijas attīstības 2.kārta" | C34: 30.11.2018. 27.12.2018. 14.01.2019. 17.05.2019. 30.01.2024. 05.02.2025. | D34: 52220 | E34: A2/1/18/865; A2/1/18/865-V/18/1; A2/1/18/865-V19/2; A2/1/18/865-V/19/3; A2/1/18/865-ekase; A2/1/18/865-V/24/4; A2/1/18/865-V/25/5 | F34: P-718/2018 | G34: Valsts kase | H34: 2.877 | I34: mainīga | J34: EUR | K34: 30003 | L34: 31764 | M34: =K34+L34 -> 61767 | N34: 96816 | O34: 23962 | P34: =N34+O34 -> 120778 | Q34: 96816 | R34: 20838 | S34: =Q34+R34 -> 117654 | T34: 96816 | U34: 18528 | V34: =T34+U34 -> 115344 | W34: 96816 | X34: 16120 | Y34: =W34+X34 -> 112936 | Z34: 96816 | AA34: 13764 | AB34: =Z34+AA34 -> 110580 | AC34: 96816 | AD34: 11411 | AE34: =AC34+AD34 -> 108227 | DI34: 387202 | DJ34: 22239 | DK34: =DI34+DJ34 -> 409441 | DL34: =+K34+N34+Q34+T34+W34+DI34+Z34+AC34 -> 998101 | DM34: =+L34+O34+R34+U34+X34+DJ34+AA34+AD34 -> 158626 | DN34: =+M34+P34+S34+V34+Y34+DK34+AB34+AE34 -> 1156727 | DO34: 1466883
B35: ERAF projekta "Ernsta Glika Alūksnes Valsts ģimnāzijas mācību vides uzlabošanas būvprojekta izstrāde" īstenošanai papildu 2.aizdevums | C35: 28.01.2022.; 30.01.2024. | D35: 20.01.2037. | E35: A2/1/22/12; A2/1/22/12-V/24/1 | F35: P-3/2022 | G35: valsts kase | H35: 3.016 | I35: mainīga | J35: EUR | K35: 71796 | L35: 28928 | M35: =K35+L35 -> 100724 | N35: 71796 | O35: 21140 | P35: =N35+O35 -> 92936 | Q35: 71796 | R35: 18009 | S35: =Q35+R35 -> 89805 | T35: 71796 | U35: 16209 | V35: =T35+U35 -> 88005 | W35: 71796 | X35: 14325 | Y35: =W35+X35 -> 86121 | Z35: 71796 | AA35: 12485 | AB35: =Z35+AA35 -> 84281 | AC35: 71796 | AD35: 10649 | AE35: =AC35+AD35 -> 82445 | DI35: 354985 | DJ35: 26788 | DK35: =DI35+DJ35 -> 381773 | DL35: =+K35+N35+Q35+T35+W35+DI35+Z35+AC35 -> 857557 | DM35: =+L35+O35+R35+U35+X35+DJ35+AA35+AD35 -> 148533 | DN35: =+M35+P35+S35+V35+Y35+DK35+AB35+AE35 -> 1006090
B36: aizņēmums projekta "Lietus kanalizācijas sistēmas izbūve un ielu seguma atjaunošana" īstenošanai (O.Vācieša un Dārza ielu rekonstrukcijai) | C36: 29.10.2018.; 30.11.2018. | D36: 20.12.2028. | E36: A2/1/18/751; A2/1/18/751-V/18/1 | F36: P-628/2018 | G36: Valsts kase | H36: 3.075 | I36: mainīga | J36: EUR | K36: 17772 | L36: 2203 | M36: =K36+L36 -> 19975 | N36: 17772 | O36: 1258 | P36: =N36+O36 -> 19030 | Q36: 17772 | R36: 798 | S36: =Q36+R36 -> 18570 | T36: 17772 | U36: 366 | V36: =T36+U36 -> 18138 | X36: 24 | Y36: =W36+X36 -> 24 | AE36: =AC36+AD36 -> 0 | DI36: =+AF36+AI36+AL36+AO36+AR36+AU36+AX36+BA36+BD36+BG36+BJ36+BM36+BP36+BS36+BV36+BY36+CB36+CE36+CH36+CK36+CN36+CQ36+CT36+CW36+CZ36+DC36+DF36 -> 0 | DJ36: =+AG36+AJ36+AM36+AP36+AS36+AV36+AY36+BB36+BE36+BH36+BK36+BN36+BQ36+BT36+BW36+BZ36+CC36+CF36+CI36+CL36+CO36+CR36+CU36+CX36+DA36+DD36+DG36 -> 0 | DK36: =DI36+DJ36 -> 0 | DL36: =+K36+N36+Q36+T36+W36+DI36+Z36+AC36 -> 71088 | DM36: =+L36+O36+R36+U36+X36+DJ36+AA36+AD36 -> 4649 | DN36: =+M36+P36+S36+V36+Y36+DK36+AB36+AE36 -> 75737 | DO36: 161932
B37: aizņēmums prioritāro invesīciju projekta "Nekustamā īpašuma Uzvaras iela 1, Alūksnē, Alūksnes novadā" īstenošanai | C37: 15.11.2018. | D37: 20.12.2028. | E37: A2/1/18/795 | F37: P-667/2018 | G37: Valsts kase | H37: 3.077 | I37: mainīga | J37: EUR | K37: 13000 | L37: 1649 | M37: =K37+L37 -> 14649 | N37: 13000 | O37: 935 | P37: =N37+O37 -> 13935 | Q37: 13000 | R37: 584 | S37: =Q37+R37 -> 13584 | T37: 13000 | U37: 268 | V37: =T37+U37 -> 13268 | X37: 17 | Y37: =W37+X37 -> 17 | AB37: =Z37+AA37 -> 0 | AE37: =AC37+AD37 -> 0 | DI37: =+AF37+AI37+AL37+AO37+AR37+AU37+AX37+BA37+BD37+BG37+BJ37+BM37+BP37+BS37+BV37+BY37+CB37+CE37+CH37+CK37+CN37+CQ37+CT37+CW37+CZ37+DC37+DF37 -> 0 | DJ37: =+AG37+AJ37+AM37+AP37+AS37+AV37+AY37+BB37+BE37+BH37+BK37+BN37+BQ37+BT37+BW37+BZ37+CC37+CF37+CI37+CL37+CO37+CR37+CU37+CX37+DA37+DD37+DG37 -> 0 | DK37: =DI37+DJ37 -> 0 | DL37: =+K37+N37+Q37+T37+W37+DI37+Z37+AC37 -> 52000 | DM37: =+L37+O37+R37+U37+X37+DJ37+AA37+AD37 -> 3453 | DN37: =+M37+P37+S37+V37+Y37+DK37+AB37+AE37 -> 55453 | DO37: 118451
B38: aiņēmums ERAF projektam "Infrastruktūras risinājumi deinstitucionālizācijas īstenošanai Alūksnes novadā" Nr.9.3.1.1/19/I/048 (ēkas Uzvaras iela 1 pārbūve) | C38: 01.06.2020. | D38: 20.12.2031. | E38: A2/1/20/254 | F38: P-139/2020 | G38: Valsts kase | H38: 4.848 | I38: mainīga | J38: EUR | K38: 14048 | L38: 4207 | M38: =K38+L38 -> 18255 | N38: 14048 | O38: 2645 | P38: =N38+O38 -> 16693 | Q38: 14048 | R38: 2192 | S38: =Q38+R38 -> 16240 | T38: 14048 | U38: 1743 | V38: =T38+U38 -> 15791 | W38: 14048 | X38: 1286 | Y38: =W38+X38 -> 15334 | Z38: 14048 | AA38: 834 | AB38: =Z38+AA38 -> 14882 | AC38: 14048 | AD38: 382 | AE38: =AC38+AD38 -> 14430 | DI38: =+AF38+AI38+AL38+AO38+AR38+AU38+AX38+BA38+BD38+BG38+BJ38+BM38+BP38+BS38+BV38+BY38+CB38+CE38+CH38+CK38+CN38+CQ38+CT38+CW38+CZ38+DC38+DF38 -> 0 | DJ38: 25 | DK38: =DI38+DJ38 -> 25 | DL38: =+K38+N38+Q38+T38+W38+DI38+Z38+AC38 -> 98336 | DM38: =+L38+O38+R38+U38+X38+DJ38+AA38+AD38 -> 13314 | DN38: =+M38+P38+S38+V38+Y38+DK38+AB38+AE38 -> 111650 | DO38: 151364
B39: aizņēmums LAT-RUS projektam "630 verstis pilnas sajūtām" | C39: 29.11.2019. | D39: 20.12.2030. | E39: A2/1/19/436 | F39: P-274/2019 | G39: Valsts kase | H39: 2.967 | I39: mainīga | J39: EUR | K39: 21480 | L39: 4080 | M39: =K39+L39 -> 25560 | N39: 21480 | O39: 2635 | P39: =N39+O39 -> 24115 | Q39: 21480 | R39: 2010 | S39: =Q39+R39 -> 23490 | T39: 21480 | U39: 1490 | V39: =T39+U39 -> 22970 | W39: 21480 | X39: 963 | Y39: =W39+X39 -> 22443 | Z39: 21480 | AA39: 441 | AB39: =Z39+AA39 -> 21921 | AD39: 29 | AE39: =AC39+AD39 -> 29 | DI39: =+AF39+AI39+AL39+AO39+AR39+AU39+AX39+BA39+BD39+BG39+BJ39+BM39+BP39+BS39+BV39+BY39+CB39+CE39+CH39+CK39+CN39+CQ39+CT39+CW39+CZ39+DC39+DF39 -> 0 | DJ39: =+AG39+AJ39+AM39+AP39+AS39+AV39+AY39+BB39+BE39+BH39+BK39+BN39+BQ39+BT39+BW39+BZ39+CC39+CF39+CI39+CL39+CO39+CR39+CU39+CX39+DA39+DD39+DG39 -> 0 | DK39: =DI39+DJ39 -> 0 | DL39: =+K39+N39+Q39+T39+W39+DI39+Z39+AC39 -> 128880 | DM39: =+L39+O39+R39+U39+X39+DJ39+AA39+AD39 -> 11648 | DN39: =+M39+P39+S39+V39+Y39+DK39+AB39+AE39 -> 140528 | DO39: 218155
B40: aizņēmums ERAF projektam "Uzņēmējdarbībai nozīmīgas infrastruktūras attīstība Alūksnes pilsētā" | C40: 31.08.2020. | D40: 20.12.2031. | E40: A2/1/20/604 | F40: P-274/2020 | G40: Valsts kase | H40: 4.203 | I40: mainīga | J40: EUR | K40: 11520 | L40: 3178 | M40: =K40+L40 -> 14698 | N40: 11520 | O40: 2065 | P40: =N40+O40 -> 13585 | Q40: 11520 | R40: 1697 | S40: =Q40+R40 -> 13217 | T40: 11520 | U40: 1331 | V40: =T40+U40 -> 12851 | W40: 11520 | X40: 959 | Y40: =W40+X40 -> 12479 | Z40: 11520 | AA40: 591 | AB40: =Z40+AA40 -> 12111 | AC40: 8758 | AD40: 223 | AE40: =AC40+AD40 -> 8981 | DI40: =+AF40+AI40+AL40+AO40+AR40+AU40+AX40+BA40+BD40+BG40+BJ40+BM40+BP40+BS40+BV40+BY40+CB40+CE40+CH40+CK40+CN40+CQ40+CT40+CW40+CZ40+DC40+DF40 -> 0 | DJ40: 1 | DK40: =DI40+DJ40 -> 1 | DL40: =+K40+N40+Q40+T40+W40+DI40+Z40+AC40 -> 77878 | DM40: =+L40+O40+R40+U40+X40+DJ40+AA40+AD40 -> 10045 | DN40: =+M40+P40+S40+V40+Y40+DK40+AB40+AE40 -> 87923 | DO40: 123255
B41: aizņēmums ERAF projektam "Uzņēmējdarbībai nozīmīgas infrastruktūras attīstība Alūksnes pilsētā" | C41: 31.08.2020. | D41: 20.12.2031. | E41: A2/1/20/603 | F41: P-275/2020 | G41: Valsts kase | H41: 3.603 | I41: mainīgā | J41: EUR | K41: 3428 | L41: 218 | M41: =K41+L41 -> 3646 | N41: 3195 | O41: 69 | P41: =N41+O41 -> 3264 | Q41: 0 | R41: 4 | S41: =Q41+R41 -> 4 | T41: 0 | U41: 0 | V41: =T41+U41 -> 0 | W41: 0 | X41: 0 | Y41: =W41+X41 -> 0 | Z41: 0 | AA41: 0 | AB41: =Z41+AA41 -> 0 | AE41: =AC41+AD41 -> 0 | DI41: =+AF41+AI41+AL41+AO41+AR41+AU41+AX41+BA41+BD41+BG41+BJ41+BM41+BP41+BS41+BV41+BY41+CB41+CE41+CH41+CK41+CN41+CQ41+CT41+CW41+CZ41+DC41+DF41 -> 0 | DJ41: =+AG41+AJ41+AM41+AP41+AS41+AV41+AY41+BB41+BE41+BH41+BK41+BN41+BQ41+BT41+BW41+BZ41+CC41+CF41+CI41+CL41+CO41+CR41+CU41+CX41+DA41+DD41+DG41 -> 0 | DK41: =DI41+DJ41 -> 0 | DL41: =+K41+N41+Q41+T41+W41+DI41+Z41+AC41 -> 6623 | DM41: =+L41+O41+R41+U41+X41+DJ41+AA41+AD41 -> 291 | DN41: =+M41+P41+S41+V41+Y41+DK41+AB41+AE41 -> 6914 | DO41: 35350
...

Sheet GALVOJUMI (paredzamie)
AN1: 5. pielikums
AN2: Alūksnes novada pašvaldības
AN3: saistošajiem noteikumiem Nr. 10/2025
B6: Alūksnes novada pašvaldība
B7: Galvojumu saistības uz 29.05.2025. (noslēgtie līgumi)
A9: Pašvaldība | B9: Mērķis | H9: saistību apmērs /2025 | K9: saistību apmērs /2026 | N9: saistību apmērs /2027 | Q9: saistību apmērs /2028 | T9: saistību apmērs /2029 | W9: saistību apmērs /2030 | Z9: saistību apmērs /2031 | AC9: saistību apmērs /2032 | AF9: saistību apmērs /2033 | AI9: turpmākie gadi (2031-2031) | AL9: Kopā
C10: līguma noslēgšanas datums | D10: līguma atmaksas termiņš | E10: aizdevējs | F10: aizdevuma procentu likme | G10: procentu likmes veids | H10: pamatsumma | I10: % | J10: Kopā | K10: pamatsumma | L10: % | M10: Kopā | N10: pamatsumma | O10: % | P10: Kopā | Q10: pamatsumma | R10: % | S10: Kopā | T10: pamatsumma | U10: % | V10: Kopā | W10: pamatsumma | X10: % | Y10: Kopā | Z10: pamatsumma | AA10: % | AB10: Kopā | AC10: pamatsumma | AD10: % | AE10: Kopā | AF10: pamatsumma | AG10: % | AH10: Kopā | AI10: pamatsumma | AJ10: % | AK10: Kopā | AL10: pamatsumma | AM10: % | AN10: Kopā | AO10: pašvaldības pamatbudžeta ieņēmumi bez mērķdotācijām un iemaksām PFIF | AP10: esošie
A11: Alūksnes novads | B11: SIA "RŪPE" ES projekta "Ūdenssaimniecības attīstība Austrumlatvijas upju baseinos" neattiecināmo izdevumu segšanai | C11: 06.11.2009.; 19.07.2010. | D11: 20.06.2029. | E11: Valsts kase | F11: 5.002 | G11: fiksēta | H11: 23101 | J11: =H11+I11 -> 23101 | K11: 21991 | M11: =K11+L11 -> 21991 | N11: 21440 | P11: =N11+O11 -> 21440 | Q11: 20890 | S11: =Q11+R11 -> 20890 | T11: 10284 | V11: =T11+U11 -> 10284 | Y11: =W11+X11 -> 0 | AB11: =Z11+AA11 -> 0 | AE11: =AC11+AD11 -> 0 | AH11: =AF11+AG11 -> 0 | AI11: =W11 -> 0 | AJ11: =X11 -> 0 | AK11: =Y11 -> 0 | AL11: =+H11+K11+N11+Q11+T11+W11+Z11+AC11+AF11+AI11 -> 97706 | AM11: =+I11+L11+O11+R11+U11+X11+AA11+AD11+AG11+AJ11 -> 0 | AN11: =+J11+M11+P11+S11+V11+Y11+AB11+AE11+AH11+AK11 -> 97706
A12: Alūksnes novads | B12: SIA "Alūksnes slimnīca" ERAF projektam "Stacionārās veselības aprūpes infrastruktūras uzlabošana SIA "Alūksnes slimnīca", uzlabojot veselības aprūpes pakalpojumu kvalitāti un pieejamību" | C12: 24.09.2012. | D12: 20.09.2028. | E12: Valsts kase | F12: 1.118 | G12: mainīga | H12: 68638 | I12: 0 | J12: =H12+I12 -> 68638 | K12: 65943 | L12: 0 | M12: =K12+L12 -> 65943 | N12: 63249 | O12: 0 | P12: =N12+O12 -> 63249 | Q12: 46931 | R12: 0 | S12: =Q12+R12 -> 46931 | V12: =T12+U12 -> 0 | Y12: =W12+X12 -> 0 | AB12: =Z12+AA12 -> 0 | AE12: =AC12+AD12 -> 0 | AH12: =AF12+AG12 -> 0 | AI12: =W12 -> 0 | AJ12: =X12 -> 0 | AK12: =Y12 -> 0 | AL12: =+H12+K12+N12+Q12+T12+W12+Z12+AC12+AF12+AI12 -> 244761 | AM12: =+I12+L12+O12+R12+U12+X12+AA12+AD12+AG12+AJ12 -> 0 | AN12: =+J12+M12+P12+S12+V12+Y12+AB12+AE12+AH12+AK12 -> 244761 | AP12: 523952
A13: Alūksnes novads | B13: SIA "RŪPE" aizņēmums ERAF projektiem "Alūksnes novada Alsviķu pagasta Alsviķu ciema ūdenssaimniecības attīstība", "Alūksnes novada Alsviķu pagasta Strautiņu ciema ūdenssaimniecības attīstība", "Alūksnes novada Ilzenes pagasta Jaunzemu ciema ūdenssaimniecības attīstība", "Alūksnes novada Zeltiņu pagasta Zeltiņu ciema ūdenssaimniecības attīstība" | C13: 03.06.2015. | D13: 20.04.2025. | E13: Valsts kase | F13: 0.544 | G13: mainīga, ik pēc 6 mēnešiem | H13: 5388 | J13: =H13+I13 -> 5388 | M13: 0 | P13: 0 | S13: 0 | V13: 0 | Y13: =W13+X13 -> 0 | AB13: =Z13+AA13 -> 0 | AI13: =W13 -> 0 | AJ13: =X13 -> 0 | AK13: =Y13 -> 0 | AL13: =+H13+K13+N13+Q13+T13+W13+Z13+AC13+AF13+AI13 -> 5388 | AM13: =+I13+L13+O13+R13+U13+X13+AA13+AD13+AG13+AJ13 -> 0 | AN13: =+J13+M13+P13+S13+V13+Y13+AB13+AE13+AH13+AK13 -> 5388
A14: Alūksnes novads | B14: galvojums SIA "Alūksnes slimnīca" aizņēmumam radioloģijas nodaļas iekārtu modernizācijai | C14: 22.02.2018. | D14: 20.02.2028. | E14: Valsts kase | F14: 0.005 | G14: mainīga | H14: 27411 | I14: 0 | J14: =H14+I14 -> 27411 | K14: 26313 | L14: 0 | M14: =K14+L14 -> 26313 | N14: 25216 | O14: 0 | P14: =N14+O14 -> 25216 | Q14: 6373 | R14: 0 | S14: =Q14+R14 -> 6373 | V14: 0 | Y14: =W14+X14 -> 0 | AB14: =Z14+AA14 -> 0 | AI14: =W14 -> 0 | AJ14: =X14 -> 0 | AK14: =Y14 -> 0 | AL14: =+H14+K14+N14+Q14+T14+W14+Z14+AC14+AF14+AI14 -> 85313 | AM14: =+I14+L14+O14+R14+U14+X14+AA14+AD14+AG14+AJ14 -> 0 | AN14: =+J14+M14+P14+S14+V14+Y14+AB14+AE14+AH14+AK14 -> 85313
A15: Kopā | H15: =SUM(H11:H14) -> 124538 | I15: =SUM(I11:I14) -> 0 | J15: =SUM(J11:J14) -> 124538 | K15: =SUM(K11:K14) -> 114247 | L15: =SUM(L11:L14) -> 0 | M15: =SUM(M11:M14) -> 114247 | N15: =SUM(N11:N14) -> 109905 | O15: =SUM(O11:O14) -> 0 | ... AK15: =SUM(AK11:AK14) -> 0 | AL15: =+H15+K15+N15+Q15+T15+W15+Z15+AC15+AF15+AI15 -> 433168 | AM15: =+I15+L15+O15+R15+U15+X15+AA15+AD15+AG15+AJ15 -> 0 | AN15: =+J15+M15+P15+S15+V15+Y15+AB15+AE15+AH15+AK15 -> 433168 | AO15: =#REF!+#REF!+#REF!+#REF!+#REF!+#REF!+#REF!+#REF!+#REF!+H15+K15+N15+Q15+T15+W15+AL15 -> #REF! | AP15: =SUM(AP11:AP14) -> 523952
A16: Procentos pret pamatbudžetu bez mērķdotācijām un iemaksām PFIF | AI16: =#REF!+#REF!+#REF!+H16+K16+N16+Q16+T16+W16 -> #REF! | AJ16: =#REF!+#REF!+#REF!+I16+L16+O16+R16+U16+X16 -> #REF! | AK16: =#REF!+#REF!+#REF!+J16+M16+P16+S16+V16+Y16 -> #REF! | AL16: =+H16+K16+N16+Q16+T16+W16+Z16+AC16+AF16+AI16 -> #REF! | AM16: =+I16+L16+O16+R16+U16+X16+AA16+AD16+AG16+AJ16 -> #REF! | AN16: =+J16+M16+P16+S16+V16+Y16+AB16+AE16+AH16+AK16 -> #REF!
AI17: =K15+N15+Q15+T15 -> 308630 | AJ17: =L15+O15+R15+U15 -> 0 | AK17: =M15+P15+S15+V15 -> 308630 | AL17: =+H17+K17+N17+Q17+T17+W17+Z17+AC17+AF17+AI17 -> 308630 | AM17: =+I17+L17+O17+R17+U17+X17+AA17+AD17+AG17+AJ17 -> 0 | AN17: =+J17+M17+P17+S17+V17+Y17+AB17+AE17+AH17+AK17 -> 308630 | AO17: =#REF!+#REF!+#REF!+#REF!+#REF!+H15+K15+N15+Q15+T15+W15 -> #REF! | AP17: =#REF!+#REF!+#REF!+#REF!+#REF!+I15+L15+O15+R15+U15+X15 -> #REF!
B18: esošie | H18: =H15-H14 -> 97127 | I18: =I15-I14 -> 0 | J18: =J15-J14 -> 97127 | K18: =K15-K14 -> 87934 | L18: =L15-L14 -> 0 | M18: =M15-M14 -> 87934 | N18: =N15-N14 -> 84689 | O18: =O15-O14 -> 0 | ... AH18: =AH15-AH14 -> 0 | AK18: =AK15-AK14 -> 0 | AN18: =AN15-AN14 -> 347855 | AO18: =AO15-AO14 -> #REF!
A20: Domes priekšsēdētājs | B20: Domes priekšsēdētājs | F20: Dz.ADLERS
B22: Alūksnes novada pašvaldības domes priekšsēdētājs Dz. Adlers
