Workbook

Sheet aiznemumi (paredzamie) (2)
DN1: 4. pielikums
B2: Alūksnes novada pašvaldība | DN2: Alūksnes novada pašvaldības
B3: Aizņēmumu saistības uz 29.05.2025. (noslēgtie līgumi) | DN3: saistošajiem noteikumiem Nr. 10/2025
A5: Pašvaldība | B5: Mērķis | C5: līguma noslēgšanas datums | D5: līguma atmaksas termiņš | E5: Aizdevuma līguma Nr. | F5: Līguma Nr. (trančes Nr.) | G5: aizdevējs | H5: aizdevuma procentu likme | I5: procentu likmes veids | J5: valūta | K5: saistību apmērs /2025 | N5: saistību apmērs /2026 | Q5: saistību apmērs /2027 | T5: saistību apmērs /2028 | W5: saistību apmērs /2029 | Z5: saistību apmērs /2030 | AC5: saistību apmērs /2031 | AF5: saistību apmērs /2032 | AI5: saistību apmērs /2033 | AL5: saistību apmērs /2034 | AO5: saistību apmērs /2035 | AR5: saistību apmērs /2036 | AU5: saistību apmērs /2037 | AX5: saistību apmērs /2038 | BA5: saistību apmērs /2039 | BD5: saistību apmērs /2040 | BG5: saistību apmērs /2041 | BJ5: saistību apmērs /2042 | BM5: saistību apmērs /2043 | BP5: saistību apmērs /2044 | BS5: saistību apmērs /2045 | BV5: saistību apmērs /2046 | BY5: saistību apmērs /2047 | CB5: saistību apmērs /2048 | CE5: saistību apmērs /2049 | CH5: saistību apmērs /2050 | CK5: saistību apmērs /2051 | CN5: saistību apmērs /2052 | CQ5: saistību apmērs /2053 | CT5: saistību apmērs /2054 | CW5: saistību apmērs /2055 | CZ5: saistību apmērs /2056 | DC5: saistību apmērs /2057 | DF5: saistību apmērs /2058 | DI5: turpmākie gadi (2032 - 2052) | DL5: Kopā
K6: pamatsumma | L6: procenti un apkalpošana | M6: Kopā | N6: pamatsumma | O6: procenti un apkalpošana | P6: Kopā | Q6: pamatsumma | R6: procenti un apkalpošana | S6: Kopā | T6: pamatsumma | U6: procenti un apkalpošana | V6: Kopā | W6: pamatsumma | X6: procenti un apkalpošana | Y6: Kopā | Z6: pamatsumma | AA6: procenti un apkalpošana | AB6: Kopā | AC6: pamatsumma | AD6: % | AE6: Kopā | AF6: pamatsumma | AG6: % | AH6: Kopā | AI6: pamatsumma | AJ6: % | AK6: Kopā | AL6: pamatsumma | AM6: % | AN6: Kopā | AO6: pamatsumma | AP6: % | AQ6: Kopā | AR6: pamatsumma | AS6: % | AT6: Kopā | AU6: pamatsumma | AV6: % | AW6: Kopā | AX6: pamatsumma | AY6: % | AZ6: Kopā | BA6: pamatsumma | BB6: % | BC6: Kopā | BD6: pamatsumma | BE6: % | BF6: Kopā | BG6: pamatsumma | BH6: % | BI6: Kopā | BJ6: pamatsumma | BK6: % | BL6: Kopā | BM6: pamatsumma | BN6: % | BO6: Kopā | BP6: pamatsumma | BQ6: % | BR6: Kopā | BS6: pamatsumma | BT6: % | BU6: Kopā | BV6: pamatsumma | BW6: % | BX6: Kopā | BY6: pamatsumma | BZ6: % | CA6: Kopā | CB6: pamatsumma | CC6: % | CD6: Kopā | CE6: pamatsumma | CF6: % | CG6: Kopā | CH6: pamatsumma | CI6: % | CJ6: Kopā | CK6: pamatsumma | CL6: % | CM6: Kopā | CN6: pamatsumma | CO6: % | CP6: Kopā | CQ6: pamatsumma | CR6: % | CS6: Kopā | CT6: pamatsumma | CU6: % | CV6: Kopā | CW6: pamatsumma | CX6: % | CY6: Kopā | CZ6: pamatsumma | DA6: % | DB6: Kopā | DC6: pamatsumma | DD6: % | DE6: Kopā | DF6: pamatsumma | DG6: % | DH6: Kopā | DI6: pamatsumma | DJ6: procenti un apkalpošana | DK6: Kopā | DL6: pamatsumma | DM6: procenti un apkalpošana | DN6: Kopā | DO6: esošie
A7: Alsviķu pagasts | B7: ERAF Ūdenssaimniecības attīstība Alsviķu pagasta Alsviķu ciemā (SIA Rūpe pamatkapitāls) | C7: 18.03.2015. | D7: 22.12.2025. | E7: A2/1/15/108 | F7: P-67/2015 | G7: Valsts kase | H7: 2.828 | I7: mainīga | J7: EUR | K7: 7500 | L7: 230 | M7: =K7+L7 -> 7730 | O7: 12 | P7: =N7+O7 -> 12 | S7: =Q7+R7 -> 0 | V7: =T7+U7 -> 0 | Y7: =W7+X7 -> 0 | AB7: =Z7+AA7 -> 0 | DI7: =AF7+AI7+AL7+AO7+AR7+AU7+AX7+BA7+BD7+BG7+BJ7+BM7+BP7+BS7+BV7+BY7+CB7+CE7+CH7+CK7+CN7+CQ7+CT7+CW7+CZ7+DC7+DF7 -> 0 | DJ7: =+AG7+AJ7+AM7+AP7+AS7+AV7+AY7+BB7+BE7+BH7+BK7+BN7+BQ7+BT7+BW7+BZ7+CC7+CF7+CI7+CL7+CO7+CR7+CU7+CX7+DA7+DD7+DG7 -> 0 | DK7: =DI7+DJ7 -> 0 | DL7: =+K7+N7+Q7+T7+W7+DI7+Z7+AC7 -> 7500 | DM7: =+L7+O7+R7+U7+X7+DJ7+AA7+AD7 -> 242 | DN7: =+M7+P7+S7+V7+Y7+DK7+AB7+AE7 -> 7742 | DO7: 45955
B8: ERAF Ūdenssaimniecības attīstība Alsviķu pagasta Strautiņu ciemā (SIA Rūpe pamatkapitāls) | C8: 18.03.2015. | D8: 22.12.2025. | E8: A2/1/15/110 | F8: P-69/2015 | G8: Valsts kase | H8: 2.828 | I8: mainīga | J8: EUR | K8: 7500 | L8: 230 | M8: =K8+L8 -> 7730 | O8: 12 | P8: =N8+O8 -> 12 | S8: =Q8+R8 -> 0 | V8: =T8+U8 -> 0 | Y8: =W8+X8 -> 0 | AB8: =Z8+AA8 -> 0 | DI8: =+AF8+AI8+AL8+AO8+AR8+AU8+AX8+BA8+BD8+BG8+BJ8+BM8+BP8+BS8+BV8+BY8+CB8+CE8+CH8+CK8+CN8+CQ8+CT8+CW8+CZ8+DC8+DF8 -> 0 | DJ8: =+AG8+AJ8+AM8+AP8+AS8+AV8+AY8+BB8+BE8+BH8+BK8+BN8+BQ8+BT8+BW8+BZ8+CC8+CF8+CI8+CL8+CO8+CR8+CU8+CX8+DA8+DD8+DG8 -> 0 | DK8: =DI8+DJ8 -> 0 | DL8: =+K8+N8+Q8+T8+W8+DI8+Z8+AC8 -> 7500 | DM8: =+L8+O8+R8+U8+X8+DJ8+AA8+AD8 -> 242 | DN8: =+M8+P8+S8+V8+Y8+DK8+AB8+AE8 -> 7742 | DO8: 45955
A9: Alūksne | B9: Alūksnes pilsētas ielu renovācijas pabeigšana | C9: 39643 | D9: 47107 | E9: A2/1/08/649; A2/1/08/649-V/11/1 | F9: P-251/2008 | G9: Valsts kase | H9: 3.256 | I9: mainīga | J9: EUR | K9: 19550 | L9: 2509 | M9: =K9+L9 -> 22059 | N9: 19550 | O9: 1369 | P9: =N9+O9 -> 20919 | Q9: 19550 | R9: 877 | S9: =Q9+R9 -> 20427 | T9: 19476 | U9: 400 | V9: =T9+U9 -> 19876 | W9: 0 | X9: 26 | Y9: =W9+X9 -> 26 | AB9: =Z9+AA9 -> 0 | DI9: =+AF9+AI9+AL9+AO9+AR9+AU9+AX9+BA9+BD9+BG9+BJ9+BM9+BP9+BS9+BV9+BY9+CB9+CE9+CH9+CK9+CN9+CQ9+CT9+CW9+CZ9+DC9+DF9 -> 0 | DJ9: =+AG9+AJ9+AM9+AP9+AS9+AV9+AY9+BB9+BE9+BH9+BK9+BN9+BQ9+BT9+BW9+BZ9+CC9+CF9+CI9+CL9+CO9+CR9+CU9+CX9+DA9+DD9+DG9 -> 0 | DK9: =DI9+DJ9 -> 0 | DL9: =+K9+N9+Q9+T9+W9+DI9+Z9+AC9 -> 78126 | DM9: =+L9+O9+R9+U9+X9+DJ9+AA9+AD9 -> 5181 | DN9: =+M9+P9+S9+V9+Y9+DK9+AB9+AE9 -> 83307 | DO9: 194723
B10: SIA Rūpe pamatkapitāla palielināšana | C10: 39643 | D10: 47107 | E10: A2/1/08/650; A2/1/08/650-V/11/1 | F10: P-252/2008 | G10: Valsts kase | H10: 3.256 | I10: mainīga | J10: EUR | K10: 7114 | L10: 914 | M10: =K10+L10 -> 8028 | N10: 7114 | O10: 499 | P10: =N10+O10 -> 7613 | Q10: 7115 | R10: 319 | S10: =Q10+R10 -> 7434 | T10: 7115 | U10: 146 | V10: =T10+U10 -> 7261 | W10: 0 | X10: 10 | Y10: =W10+X10 -> 10 | AB10: =Z10+AA10 -> 0 | DI10: =+AF10+AI10+AL10+AO10+AR10+AU10+AX10+BA10+BD10+BG10+BJ10+BM10+BP10+BS10+BV10+BY10+CB10+CE10+CH10+CK10+CN10+CQ10+CT10+CW10+CZ10+DC10+DF10 -> 0 | DJ10: =+AG10+AJ10+AM10+AP10+AS10+AV10+AY10+BB10+BE10+BH10+BK10+BN10+BQ10+BT10+BW10+BZ10+CC10+CF10+CI10+CL10+CO10+CR10+CU10+CX10+DA10+DD10+DG10 -> 0 | DK10: =DI10+DJ10 -> 0 | DL10: =+K10+N10+Q10+T10+W10+DI10+Z10+AC10 -> 28458 | DM10: =+L10+O10+R10+U10+X10+DJ10+AA10+AD10 -> 1888 | DN10: =+M10+P10+S10+V10+Y10+DK10+AB10+AE10 -> 30346 | DO10: 70893
B11: Kohēzijas fonda projekts "Ūdenssaimniecības attīstība Austrumlatvijas upju baseinos" pašvaldības līdzfinansējums - ieguldījums SIA "RŪPE" pamatkapitālā | C11: 07.09.2009; 13.05.2013. 10.05.2017. | D11: 21.06.2027. | E11: A2/1/09/468 A2/1/09/468-V/13/1; A2/1/09/468-V/17/2 | F11: P-191/2009 | G11: Valsts kase | H11: 3.983 | I11: mainīga | J11: EUR | K11: 23996 | L11: 1958 | M11: =K11+L11 -> 25954 | N11: 23996 | O11: 785 | P11: =N11+O11 -> 24781 | Q11: 11945 | R11: 206 | S11: =Q11+R11 -> 12151 | V11: =T11+U11 -> 0 | X11: 0 | Y11: =W11+X11 -> 0 | AB11: =Z11+AA11 -> 0 | DI11: =+AF11+AI11+AL11+AO11+AR11+AU11+AX11+BA11+BD11+BG11+BJ11+BM11+BP11+BS11+BV11+BY11+CB11+CE11+CH11+CK11+CN11+CQ11+CT11+CW11+CZ11+DC11+DF11 -> 0 | DJ11: =+AG11+AJ11+AM11+AP11+AS11+AV11+AY11+BB11+BE11+BH11+BK11+BN11+BQ11+BT11+BW11+BZ11+CC11+CF11+CI11+CL11+CO11+CR11+CU11+CX11+DA11+DD11+DG11 -> 0 | DK11: =DI11+DJ11 -> 0 | DL11: =+K11+N11+Q11+T11+W11+DI11+Z11+AC11 -> 59937 | DM11: =+L11+O11+R11+U11+X11+DJ11+AA11+AD11 -> 2949 | DN11: =+M11+P11+S11+V11+Y11+DK11+AB11+AE11 -> 62886 | DO11: 195132
B12: ERAF "Ūdenssaimniecības pakalpojumu attīstība Alūksnē, II kārta" SIA "Rūpe" pamatkapitāls | C12: 31.10.2011. | D12: 20.12.2032. | E12: A/2/1/11/661 | F12: P-411/2011 | G12: Valsts kase | H12: 3.075 | I12: mainīga | J12: EUR | K12: 29823 | L12: 7523 | M12: =K12+L12 -> 37346 | N12: 29824 | O12: 5065 | P12: =N12+O12 -> 34889 | Q12: 29823 | R12: 4243 | S12: =Q12+R12 -> 34066 | T12: 29823 | U12: 3525 | V12: =T12+U12 -> 33348 | W12: 29824 | X12: 2788 | Y12: =W12+X12 -> 32612 | Z12: 29823 | AA12: 2064 | AB12: =Z12+AA12 -> 31887 | AC12: 29823 | AD12: 1339 | AE12: =AC12+AD12 -> 31162 | DI12: 29823 | DJ12: 656 | DK12: =DI12+DJ12 -> 30479 | DL12: =+K12+N12+Q12+T12+W12+DI12+Z12+AC12 -> 238586 | DM12: =+L12+O12+R12+U12+X12+DJ12+AA12+AD12 -> 27203 | DN12: =+M12+P12+S12+V12+Y12+DK12+AB12+AE12 -> 265789 | DO12: 443262
B13: KF projekts "Siltumtrašu rekonstrukcija un jaunu siltumtrašu izbūve Alūksnē" AS Simone pamatkapitāla palielināšana | C13: 22.10.2012. 30.01.2024. | D13: 21.06.2038. | E13: A/2/1/12/624; A2/1/12/624-V/24/1 | F13: P-411/2012 | G13: Valsts kase | H13: 3.16 | I13: mainīga | J13: EUR | K13: 59752 | L13: 26177 | M13: =K13+L13 -> 85929 | N13: 59752 | O13: 18305 | P13: =N13+O13 -> 78057 | Q13: 59752 | R13: 16496 | S13: =Q13+R13 -> 76248 | T13: 59752 | U13: 15080 | V13: =T13+U13 -> 74832 | W13: 59752 | X13: 13584 | Y13: =W13+X13 -> 73336 | Z13: 59752 | AA13: 12130 | AB13: =Z13+AA13 -> 71882 | AC13: 59752 | AD13: 10678 | AE13: =AC13+AD13 -> 70430 | DI13: 388366 | DJ13: 34086 | DK13: =DI13+DJ13 -> 422452 | DL13: =+K13+N13+Q13+T13+W13+DI13+Z13+AC13 -> 806630 | DM13: =+L13+O13+R13+U13+X13+DJ13+AA13+AD13 -> 146536 | DN13: =+M13+P13+S13+V13+Y13+DK13+AB13+AE13 -> 953166 | DO13: 1184823
B14: KF "Katlu māju darbības optimizācija un nergoefektivitātes paaugstināšana Alūksnē" | C14: 13.11.2013. | D14: 20.12.2038. | E14: A2/1/13/832 | F14: P-410/2013 | G14: Valsts kase | H14: 3.077 | I14: mainīga | J14: EUR | K14: 35458 | L14: 16137 | M14: =K14+L14 -> 51595 | N14: 35458 | O14: 11473 | P14: =N14+O14 -> 46931 | Q14: 35458 | R14: 10221 | S14: =Q14+R14 -> 45679 | T14: 35458 | U14: 9382 | V14: =T14+U14 -> 44840 | W14: 35458 | X14: 8493 | Y14: =W14+X14 -> 43951 | Z14: 35458 | AA14: 7630 | AB14: =Z14+AA14 -> 43088 | AC14: 35458 | AD14: 6768 | AE14: =AC14+AD14 -> 42226 | DI14: 248206 | DJ14: 23292 | DK14: =DI14+DJ14 -> 271498 | DL14: =+K14+N14+Q14+T14+W14+DI14+Z14+AC14 -> 496412 | DM14: =+L14+O14+R14+U14+X14+DJ14+AA14+AD14 -> 93396 | DN14: =+M14+P14+S14+V14+Y14+DK14+AB14+AE14 -> 589808 | DO14: 716411
B15: KPFI projekts "Kompleksi risinājumi siltumnīcefekta gāzu emisiju samazināšanai Alūksnes novada vidusskolā un Liepnas vidusskolā" | C15: 13.12.2013. | D15: 20.12.2024. | E15: A2/1/13/1188; A2/1/13/1188-V/1 | F15: P-468/2013 | G15: Valsts kase | H15: 2.872 | I15: mainīga | J15: EUR | K15: 0 | L15: 89 | M15: =K15+L15 -> 89 | N15: 0 | O15: 0 | P15: =N15+O15 -> 0 | Q15: 0 | R15: 0 | S15: =Q15+R15 -> 0 | T15: 0 | U15: 0 | V15: =T15+U15 -> 0 | W15: 0 | X15: 0 | Y15: =W15+X15 -> 0 | AB15: =Z15+AA15 -> 0 | AE15: =AC15+AD15 -> 0 | DI15: =+AF15+AI15+AL15+AO15+AR15+AU15+AX15+BA15+BD15+BG15+BJ15+BM15+BP15+BS15+BV15+BY15+CB15+CE15+CH15+CK15+CN15+CQ15+CT15+CW15+CZ15+DC15+DF15 -> 0 | DJ15: =+AG15+AJ15+AM15+AP15+AS15+AV15+AY15+BB15+BE15+BH15+BK15+BN15+BQ15+BT15+BW15+BZ15+CC15+CF15+CI15+CL15+CO15+CR15+CU15+CX15+DA15+DD15+DG15 -> 0 | DK15: =DI15+DJ15 -> 0 | DL15: =+K15+N15+Q15+T15+W15+DI15+Z15+AC15 -> 0 | DM15: =+L15+O15+R15+U15+X15+DJ15+AA15+AD15 -> 89 | DN15: =+M15+P15+S15+V15+Y15+DK15+AB15+AE15 -> 89 | DO15: 198432
B16: ERAF projekts "Tranzītceļa P43 maršruta rekonstrukcija Alūksnes pilsētā" Jāņkalna iela | C16: 19.06.2013.; 04.02.2014.; 26.01.2016. | D16: 20.09.2027. | E16: A2/1/13/259; A2/1/13/259-V/14/1; A2/1/13/259-1/16/2 | F16: P-173/2013 | G16: Valsts kase | H16: 4.003 | I16: mainīga | J16: EUR | K16: 66492 | L16: 6300 | M16: =K16+L16 -> 72792 | N16: 66492 | O16: 2583 | P16: =N16+O16 -> 69075 | Q16: 49869 | R16: 964 | S16: =Q16+R16 -> 50833 | T16: 0 | U16: 0 | V16: =T16+U16 -> 0 | W16: 0 | X16: 0 | Y16: =W16+X16 -> 0 | Z16: 0 | AA16: 0 | AB16: =Z16+AA16 -> 0 | AE16: =AC16+AD16 -> 0 | DI16: =+AF16+AI16+AL16+AO16+AR16+AU16+AX16+BA16+BD16+BG16+BJ16+BM16+BP16+BS16+BV16+BY16+CB16+CE16+CH16+CK16+CN16+CQ16+CT16+CW16+CZ16+DC16+DF16 -> 0 | DJ16: =+AG16+AJ16+AM16+AP16+AS16+AV16+AY16+BB16+BE16+BH16+BK16+BN16+BQ16+BT16+BW16+BZ16+CC16+CF16+CI16+CL16+CO16+CR16+CU16+CX16+DA16+DD16+DG16 -> 0 | DK16: =DI16+DJ16 -> 0 | DL16: =+K16+N16+Q16+T16+W16+DI16+Z16+AC16 -> 182853 | DM16: =+L16+O16+R16+U16+X16+DJ16+AA16+AD16 -> 9847 | DN16: =+M16+P16+S16+V16+Y16+DK16+AB16+AE16 -> 192700 | DO16: 527554
B17: aizņēmums "Uzņēmējdarbībai nozīmīgu ielu un Brūžā ēkas rekonstrukcija Alūksnes pilsētā" neattiecināmās izmaksas u.c. | C17: 13.03.2015. 09.12.2015. 30.01.2024. | D17: 20.12.2041. | E17: A2/1/15/87; A2/1/15/87-V/15/1; A2/1/15/87-V/24/2 | F17: P-49/2015 | G17: Valsts kase | H17: 2.789 | I17: mainīga | J17: EUR | K17: 62576 | L17: 36042 | M17: =K17+L17 -> 98618 | N17: 62576 | O17: 25905 | P17: =N17+O17 -> 88481 | Q17: 62576 | R17: 22604 | S17: =Q17+R17 -> 85180 | T17: 62576 | U17: 21136 | V17: =T17+U17 -> 83712 | W17: 62576 | X17: 19555 | Y17: =W17+X17 -> 82131 | Z17: 62576 | AA17: 18032 | AB17: =Z17+AA17 -> 80608 | AC17: 62576 | AD17: 16511 | AE17: =AC17+AD17 -> 79087 | DI17: 625706 | DJ17: 81524 | DK17: =DI17+DJ17 -> 707230 | DL17: =+K17+N17+Q17+T17+W17+DI17+Z17+AC17 -> 1063738 | DM17: =+L17+O17+R17+U17+X17+DJ17+AA17+AD17 -> 241309 | DN17: =+M17+P17+S17+V17+Y17+DK17+AB17+AE17 -> 1305047 | DO17: 1453367
B18: izglītības iestāžu investīciju projekts "Alūknes PII "Sprīdītis" ēkas iekšējo inženiertīklu pārbūve" | C18: 01.08.2018. | D18: 20.12.2028. | E18: A2/1/18/510 | F18: P-433/2018 | G18: Valsts kase | H18: 3.849 | I18: mainīga | J18: EUR | K18: 27776 | L18: 3927 | M18: =K18+L18 -> 31703 | N18: 27776 | O18: 1924 | P18: =N18+O18 -> 29700 | Q18: 27776 | R18: 1248 | S18: =Q18+R18 -> 29024 | T18: 27776 | U18: 571 | V18: =T18+U18 -> 28347 | W18: 0 | X18: 37 | Y18: =W18+X18 -> 37 | Z18: 0 | AA18: 0 | AB18: =Z18+AA18 -> 0 | AE18: =AC18+AD18 -> 0 | DI18: =+AF18+AI18+AL18+AO18+AR18+AU18+AX18+BA18+BD18+BG18+BJ18+BM18+BP18+BS18+BV18+BY18+CB18+CE18+CH18+CK18+CN18+CQ18+CT18+CW18+CZ18+DC18+DF18 -> 0 | DJ18: =+AG18+AJ18+AM18+AP18+AS18+AV18+AY18+BB18+BE18+BH18+BK18+BN18+BQ18+BT18+BW18+BZ18+CC18+CF18+CI18+CL18+CO18+CR18+CU18+CX18+DA18+DD18+DG18 -> 0 | DK18: =DI18+DJ18 -> 0 | DL18: =+K18+N18+Q18+T18+W18+DI18+Z18+AC18 -> 111104 | DM18: =+L18+O18+R18+U18+X18+DJ18+AA18+AD18 -> 7707 | DN18: =+M18+P18+S18+V18+Y18+DK18+AB18+AE18 -> 118811 | DO18: 253085
B19: ERAF projekts "Ūdenssaimniecības pakalpojumu attīstība Alūksnē, 3.kārta" (ieguldījums SIA "Rūpe" pamatkapitālā) | C19: 01.08.2018. 30.01.2024. | D19: 20.12.2039. | E19: A2/1/18/514; A2/1/18/514-V/24/1 | F19: P-434/2018 | G19: Valsts kase | H19: 3.849 | I19: mainīga | J19: EUR | K19: 46616 | L19: 25283 | M19: =K19+L19 -> 71899 | N19: 46616 | O19: 15705 | P19: =N19+O19 -> 62321 | Q19: 46616 | R19: 14570 | S19: =Q19+R19 -> 61186 | T19: 46616 | U19: 13470 | V19: =T19+U19 -> 60086 | W19: 46616 | X19: 12298 | Y19: =W19+X19 -> 58914 | Z19: 46616 | AA19: 11164 | AB19: =Z19+AA19 -> 57780 | AC19: 46616 | AD19: 10031 | AE19: =AC19+AD19 -> 56647 | DI19: 372874 | DJ19: 39515 | DK19: =DI19+DJ19 -> 412389 | DL19: =+K19+N19+Q19+T19+W19+DI19+Z19+AC19 -> 699186 | DM19: =+L19+O19+R19+U19+X19+DJ19+AA19+AD19 -> 142036 | DN19: =+M19+P19+S19+V19+Y19+DK19+AB19+AE19 -> 841222 | DO19: 934784
B20: aizņēmums ERAF projekts "Gaismas ceļs caur gadsimtiem" | C20: 05.12.2017. 05.01.2018. 11.04.2018. 14.01.2019. | D20: 20.12.2038. | E20: A2/1/17/870; A2/1/17/870-V/18/1; A2/1/17/870-V/18/2; A2/1/17/870-V/19/3 A2/1/18/870-ekase | F20: P-661/2017 | G20: Valsts kase | H20: 2.877 | I20: mainīga | J20: EUR | K20: 48860 | L20: 17808 | M20: =K20+L20 -> 66668 | N20: 48860 | O20: 12865 | P20: =N20+O20 -> 61725 | Q20: 48860 | R20: 11254 | S20: =Q20+R20 -> 60114 | T20: 48860 | U20: 10089 | V20: =T20+U20 -> 58949 | W20: 48860 | X20: 8873 | Y20: =W20+X20 -> 57733 | Z20: 48860 | AA20: 7683 | AB20: =Z20+AA20 -> 56543 | AC20: 48860 | AD20: 6496 | AE20: =AC20+AD20 -> 55356 | DI20: 225702 | DJ20: 14666 | DK20: =DI20+DJ20 -> 240368 | DL20: =+K20+N20+Q20+T20+W20+DI20+Z20+AC20 -> 567722 | DM20: =+L20+O20+R20+U20+X20+DJ20+AA20+AD20 -> 89734 | DN20: =+M20+P20+S20+V20+Y20+DK20+AB20+AE20 -> 657456 | DO20: 857581
B21: Aizņēmums Alūksnes novada pašvaldības ceļu infrastruktūras projekta īstenošanai (Lāčplēša, Rījukalna, Vējakalna, Torņa ielas Alūksnē) | C21: 15.12.2016. | D21: 20.12.2027. | E21: A2/1/16/510 | F21: P-373/2016 | G21: valsts kase | H21: 2.872 | I21: mainīga | J21: EUR | K21: 32144 | L21: 2964 | M21: =K21+L21 -> 35108 | N21: 32144 | O21: 1516 | P21: =N21+O21 -> 33660 | Q21: 32144 | R21: 662 | S21: =Q21+R21 -> 32806 | U21: 43 | V21: =T21+U21 -> 43 | AE21: =AC21+AD21 -> 0 | DI21: =+AF21+AI21+AL21+AO21+AR21+AU21+AX21+BA21+BD21+BG21+BJ21+BM21+BP21+BS21+BV21+BY21+CB21+CE21+CH21+CK21+CN21+CQ21+CT21+CW21+CZ21+DC21+DF21 -> 0 | DJ21: =+AG21+AJ21+AM21+AP21+AS21+AV21+AY21+BB21+BE21+BH21+BK21+BN21+BQ21+BT21+BW21+BZ21+CC21+CF21+CI21+CL21+CO21+CR21+CU21+CX21+DA21+DD21+DG21 -> 0 | DK21: =DI21+DJ21 -> 0 | DL21: =+K21+N21+Q21+T21+W21+DI21+Z21+AC21 -> 96432 | DM21: =+L21+O21+R21+U21+X21+DJ21+AA21+AD21 -> 5185 | DN21: =+M21+P21+S21+V21+Y21+DK21+AB21+AE21 -> 101617 | DO21: 260010
B22: ERAF SAM projekts "Alūksnes novada vispārējās izglītības iestāžu mācību vides uzlabošana" (Alūksnes novada vidusskola) | C22: 27.04.2018.; 09.10.2018. | D22: 20.03.2034. | E22: A2/1/18/191; A2/1/18/191-V/18/1 | F22: P-161/2018 | G22: valsts kase | H22: 2.4 | I22: mainīga | J22: EUR | K22: 24016 | L22: 7392 | M22: =K22+L22 -> 31408 | N22: 24016 | O22: 4732 | P22: =N22+O22 -> 28748 | Q22: 24016 | R22: 4147 | S22: =Q22+R22 -> 28163 | T22: 24016 | U22: 3571 | V22: =T22+U22 -> 27587 | W22: 24016 | X22: 2976 | Y22: =W22+X22 -> 26992 | Z22: 24016 | AA22: 2392 | AB22: =Z22+AA22 -> 26408 | AC22: 24016 | AD22: 1808 | AE22: =AC22+AD22 -> 25824 | DI22: 54036 | DJ22: 1968 | DK22: =DI22+DJ22 -> 56004 | DL22: =+K22+N22+Q22+T22+W22+DI22+Z22+AC22 -> 222148 | DM22: =+L22+O22+R22+U22+X22+DJ22+AA22+AD22 -> 28986 | DN22: =+M22+P22+S22+V22+Y22+DK22+AB22+AE22 -> 251134 | DO22: 348793
B23: aizņēmums SAM 3.3.1. ERAF projekts "Multifunkcionālas servisa ēkas izbūve Pilssalā" | C23: 02.03.2017.; 21.04.2018. | D23: 20.06.2029. | E23: A2/1/17/105; A2/1/17/105-V/18/1 | F23: P-37/2017 | G23: valsts kase | H23: 3.403 | I23: mainīga, tirgus nosa-cījumi | J23: EUR | K23: 51552 | L23: 8977 | M23: =K23+L23 -> 60529 | N23: 51552 | O23: 5562 | P23: =N23+O23 -> 57114 | Q23: 51552 | R23: 3678 | S23: =Q23+R23 -> 55230 | T23: 51552 | U23: 2113 | V23: =T23+U23 -> 53665 | W23: 25776 | X23: 550 | Y23: =W23+X23 -> 26326 | Z23: 0 | AA23: 0 | AB23: =Z23+AA23 -> 0 | AE23: =AC23+AD23 -> 0 | DI23: =+AF23+AI23+AL23+AO23+AR23+AU23+AX23+BA23+BD23+BG23+BJ23+BM23+BP23+BS23+BV23+BY23+CB23+CE23+CH23+CK23+CN23+CQ23+CT23+CW23+CZ23+DC23+DF23 -> 0 | DJ23: =+AG23+AJ23+AM23+AP23+AS23+AV23+AY23+BB23+BE23+BH23+BK23+BN23+BQ23+BT23+BW23+BZ23+CC23+CF23+CI23+CL23+CO23+CR23+CU23+CX23+DA23+DD23+DG23 -> 0 | DK23: =DI23+DJ23 -> 0 | DL23: =+K23+N23+Q23+T23+W23+DI23+Z23+AC23 -> 231984 | DM23: =+L23+O23+R23+U23+X23+DJ23+AA23+AD23 -> 20880 | DN23: =+M23+P23+S23+V23+Y23+DK23+AB23+AE23 -> 252864 | DO23: 511481
B24: aizņēmums SAM 5.6.2. ERAF projekts "Alūksnes pilsētas rūpniecīskās apbūves teritorijas attīstība 1.kārta uz atvieglotiem nosacījumiem | C24: 26.05.2017.; 05.01.2018.; 21.04.2018. | D24: 22.12.2025. | E24: A2/1/17/317; A2/1/17/317-V/18/1; A2/1/17/317-V/18/2 | F24: P-210/2017 | G24: valsts kase | H24: 4.015 | I24: mainīga | J24: EUR | K24: 54728 | L24: 1714 | M24: =K24+L24 -> 56442 | N24: 0 | O24: 75 | P24: =N24+O24 -> 75 | Q24: 0 | R24: 0 | S24: =Q24+R24 -> 0 | T24: 0 | U24: 0 | V24: =T24+U24 -> 0 | W24: 0 | X24: 0 | Y24: =W24+X24 -> 0 | Z24: 0 | AA24: 0 | AB24: =Z24+AA24 -> 0 | AE24: =AC24+AD24 -> 0 | DI24: =+AF24+AI24+AL24+AO24+AR24+AU24+AX24+BA24+BD24+BG24+BJ24+BM24+BP24+BS24+BV24+BY24+CB24+CE24+CH24+CK24+CN24+CQ24+CT24+CW24+CZ24+DC24+DF24 -> 0 | DJ24: =+AG24+AJ24+AM24+AP24+AS24+AV24+AY24+BB24+BE24+BH24+BK24+BN24+BQ24+BT24+BW24+BZ24+CC24+CF24+CI24+CL24+CO24+CR24+CU24+CX24+DA24+DD24+DG24 -> 0 | DK24: =DI24+DJ24 -> 0 | DL24: =+K24+N24+Q24+T24+W24+DI24+Z24+AC24 -> 54728 | DM24: =+L24+O24+R24+U24+X24+DJ24+AA24+AD24 -> 1789 | DN24: =+M24+P24+S24+V24+Y24+DK24+AB24+AE24 -> 56517 | DO24: 331171
B25: Aiznēmums ERAF projekta "Energoefektivitātes uzlabošana Alūksnes novada pašvaldības administratīvajā ēkā" | C25: 04.12.2018. 30.01.2024. | D25: 20.11.2048. | E25: A2/1/18/869; A2/1/18/869-ekase; A2/1/18/869-V/24/2 | F25: P-720/2018 | G25: valsts kase | H25: 2.877 | I25: mainīga | J25: EUR | K25: 72724 | L25: 53763 | M25: =K25+L25 -> 126487 | N25: 72724 | O25: 40837 | P25: =N25+O25 -> 113561 | Q25: 72724 | R25: 37773 | S25: =Q25+R25 -> 110497 | T25: 72724 | U25: 36097 | V25: =T25+U25 -> 108821 | W25: 72724 | X25: 34228 | Y25: =W25+X25 -> 106952 | Z25: 72724 | AA25: 32459 | AB25: =Z25+AA25 -> 105183 | AC25: 72724 | AD25: 30691 | AE25: =AC25+AD25 -> 103415 | DI25: 1199881 | DJ25: 251219 | DK25: =DI25+DJ25 -> 1451100 | DL25: =+K25+N25+Q25+T25+W25+DI25+Z25+AC25 -> 1708949 | DM25: =+L25+O25+R25+U25+X25+DJ25+AA25+AD25 -> 517067 | DN25: =+M25+P25+S25+V25+Y25+DK25+AB25+AE25 -> 2226016 | DO25: 2090839
B26: Aiznēmums ERAF projekta "Energoefektivitātes uzlabošana Alūksnes novada pašvaldības administratīvajā ēkā" | C26: 10.12.2019. | D26: 22.11.2049. | E26: A2/1/19/459 | F26: P-293/2019 | G26: valsts kase | H26: 2.8 | I26: mainīga | J26: EUR | K26: 11744 | L26: 9126 | M26: =K26+L26 -> 20870 | N26: 11744 | O26: 7039 | P26: =N26+O26 -> 18783 | Q26: 11744 | R26: 6529 | S26: =Q26+R26 -> 18273 | T26: 11744 | U26: 6260 | V26: =T26+U26 -> 18004 | W26: 11744 | X26: 5956 | Y26: =W26+X26 -> 17700 | Z26: 11744 | AA26: 5671 | AB26: =Z26+AA26 -> 17415 | AC26: 11744 | AD26: 5385 | AE26: =AC26+AD26 -> 17129 | DI26: 211392 | DJ26: 48116 | DK26: =DI26+DJ26 -> 259508 | DL26: =+K26+N26+Q26+T26+W26+DI26+Z26+AC26 -> 293600 | DM26: =+L26+O26+R26+U26+X26+DJ26+AA26+AD26 -> 94082 | DN26: =+M26+P26+S26+V26+Y26+DK26+AB26+AE26 -> 387682 | DO26: 354323
B27: Aizņēmums valsts mērķdotācijas līdzfinansējuma - sporta būves Pilssalā, ar sadārdzinājumu | C27: 26.05.2017.; 03.08.2017. | D27: 20.12.2027. | E27: A2/1/17/315; A2/1/17/315-V/17/1 | F27: P-212/2017 | G27: valsts kase | H27: 4.015 | I27: mainīga | J27: EUR | K27: 23972 | L27: 2428 | M27: =K27+L27 -> 26400 | N27: 23972 | O27: 1077 | P27: =N27+O27 -> 25049 | Q27: 23972 | R27: 493 | S27: =Q27+R27 -> 24465 | U27: 32 | V27: =T27+U27 -> 32 | Y27: =W27+X27 -> 0 | AB27: =Z27+AA27 -> 0 | AE27: =AC27+AD27 -> 0 | DI27: =+AF27+AI27+AL27+AO27+AR27+AU27+AX27+BA27+BD27+BG27+BJ27+BM27+BP27+BS27+BV27+BY27+CB27+CE27+CH27+CK27+CN27+CQ27+CT27+CW27+CZ27+DC27+DF27 -> 0 | DJ27: =+AG27+AJ27+AM27+AP27+AS27+AV27+AY27+BB27+BE27+BH27+BK27+BN27+BQ27+BT27+BW27+BZ27+CC27+CF27+CI27+CL27+CO27+CR27+CU27+CX27+DA27+DD27+DG27 -> 0 | DK27: =DI27+DJ27 -> 0 | DL27: =+K27+N27+Q27+T27+W27+DI27+Z27+AC27 -> 71916 | DM27: =+L27+O27+R27+U27+X27+DJ27+AA27+AD27 -> 4030 | DN27: =+M27+P27+S27+V27+Y27+DK27+AB27+AE27 -> 75946 | DO27: 193908
B28: ERAF projekts Nr.8.1.2.0/18/I/002 "Alūksnes novada vispārējās izglītības iestāžu mācību vides uzlabošana" (E.Glika Alūksnes Valsts ģimnāzija) | C28: 06.02.2020. ; 05.01.2021.; 12.01.2022.; 30.01.2024.; 05.02.2025. | D28: 22.12.2036. | E28: A2/1/20/33; A2/1/20/33-V/21/1; A2/1/20/33-V/22/2; A2/1/20/33-V/24/3; A2/1/20/33-V/25/4 | F28: P-21/2020 | G28: valsts kase | H28: 3.034 | I28: mainīga | J28: EUR | K28: 0 | L28: 48382 | M28: =K28+L28 -> 48382 | N28: 124188 | O28: 38340 | P28: =N28+O28 -> 162528 | Q28: 124188 | R28: 33521 | S28: =Q28+R28 -> 157709 | T28: 124188 | U28: 30191 | V28: =T28+U28 -> 154379 | W28: 124188 | X28: 26702 | Y28: =W28+X28 -> 150890 | Z28: 124188 | AA28: 23298 | AB28: =Z28+AA28 -> 147486 | AC28: 124188 | AD28: 19898 | AE28: =AC28+AD28 -> 144086 | DI28: 620904 | DJ28: 48660 | DK28: =DI28+DJ28 -> 669564 | DL28: =+K28+N28+Q28+T28+W28+DI28+Z28+AC28 -> 1366032 | DM28: =+L28+O28+R28+U28+X28+DJ28+AA28+AD28 -> 268992 | DN28: =+M28+P28+S28+V28+Y28+DK28+AB28+AE28 -> 1635024 | DO28: 1666951
B29: aizņēmums ceļu un to kompleksa investīciju projekta "Pleskavas ielas pārbūve Alūksnē, Alūksnes novadā (2.un 3.kārta) " īstenošanai | C29: 30.11.2018. | D29: 20.12.2028. | E29: A2/1/18/864 | F29: P-717/2018 | G29: valsts kase | H29: 2.877 | I29: mainīga | J29: EUR | K29: 36488 | L29: 4478 | M29: =K29+L29 -> 40966 | N29: 36488 | O29: 2620 | P29: =N29+O29 -> 39108 | Q29: 36488 | R29: 1639 | S29: =Q29+R29 -> 38127 | T29: 36488 | U29: 751 | V29: =T29+U29 -> 37239 | W29: 0 | X29: 49 | Y29: =W29+X29 -> 49 | Z29: 0 | AA29: 0 | AB29: =Z29+AA29 -> 0 | AE29: =AC29+AD29 -> 0 | DI29: =+AF29+AI29+AL29+AO29+AR29+AU29+AX29+BA29+BD29+BG29+BJ29+BM29+BP29+BS29+BV29+BY29+CB29+CE29+CH29+CK29+CN29+CQ29+CT29+CW29+CZ29+DC29+DF29 -> 0 | DJ29: =+AG29+AJ29+AM29+AP29+AS29+AV29+AY29+BB29+BE29+BH29+BK29+BN29+BQ29+BT29+BW29+BZ29+CC29+CF29+CI29+CL29+CO29+CR29+CU29+CX29+DA29+DD29+DG29 -> 0 | DK29: =DI29+DJ29 -> 0 | DL29: =+K29+N29+Q29+T29+W29+DI29+Z29+AC29 -> 145952 | DM29: =+L29+O29+R29+U29+X29+DJ29+AA29+AD29 -> 9537 | DN29: =+M29+P29+S29+V29+Y29+DK29+AB29+AE29 -> 155489 | DO29: 332466
B30: Aizņēmums valsts mērķdotācijas līdzfinansējuma Pleskavas ielas pārbūve1.kārta | C30: 20.05.2019. | D30: 20.12.2029. | E30: A2/1/19/160 | F30: P-111/2019 | G30: valsts kase | H30: 3.973 | I30: mainīga | J30: EUR | K30: 44292 | L30: 7438 | M30: =K30+L30 -> 51730 | N30: 44292 | O30: 4146 | P30: =N30+O30 -> 48438 | Q30: 44292 | R30: 3067 | S30: =Q30+R30 -> 47359 | T30: 44292 | U30: 1992 | V30: =T30+U30 -> 46284 | W30: 44292 | X30: 909 | Y30: =W30+X30 -> 45201 | Z30: 0 | AA30: 59 | AB30: =Z30+AA30 -> 59 | AE30: =AC30+AD30 -> 0 | DI30: =+AF30+AI30+AL30+AO30+AR30+AU30+AX30+BA30+BD30+BG30+BJ30+BM30+BP30+BS30+BV30+BY30+CB30+CE30+CH30+CK30+CN30+CQ30+CT30+CW30+CZ30+DC30+DF30 -> 0 | DJ30: =+AG30+AJ30+AM30+AP30+AS30+AV30+AY30+BB30+BE30+BH30+BK30+BN30+BQ30+BT30+BW30+BZ30+CC30+CF30+CI30+CL30+CO30+CR30+CU30+CX30+DA30+DD30+DG30 -> 0 | DK30: =DI30+DJ30 -> 0 | DL30: =+K30+N30+Q30+T30+W30+DI30+Z30+AC30 -> 221460 | DM30: =+L30+O30+R30+U30+X30+DJ30+AA30+AD30 -> 17611 | DN30: =+M30+P30+S30+V30+Y30+DK30+AB30+AE30 -> 239071 | DO30: 448984
B31: aizņēmums Alūksnes Muižas parka vēsturisko objektu restaurācijai un atjaunošanai | C31: 03.08.2017.; 20.12.2017.; 18.02.2019. | D31: 20.12.2027. | E31: A2/1/17/566 A2/1/17/566-V/17/1; A2/1/17/566-V/19/2 | F31: P-425/2017 | G31: valsts kase | H31: 3.774 | I31: mainīga | J31: EUR | K31: 24904 | L31: 2573 | M31: =K31+L31 -> 27477 | N31: 24904 | O31: 1119 | P31: =N31+O31 -> 26023 | Q31: 24904 | R31: 513 | S31: =Q31+R31 -> 25417 | U31: 33 | V31: =T31+U31 -> 33 | AE31: =AC31+AD31 -> 0 | DI31: =+AF31+AI31+AL31+AO31+AR31+AU31+AX31+BA31+BD31+BG31+BJ31+BM31+BP31+BS31+BV31+BY31+CB31+CE31+CH31+CK31+CN31+CQ31+CT31+CW31+CZ31+DC31+DF31 -> 0 | DJ31: =+AG31+AJ31+AM31+AP31+AS31+AV31+AY31+BB31+BE31+BH31+BK31+BN31+BQ31+BT31+BW31+BZ31+CC31+CF31+CI31+CL31+CO31+CR31+CU31+CX31+DA31+DD31+DG31 -> 0 | DK31: =DI31+DJ31 -> 0 | DL31: =+K31+N31+Q31+T31+W31+DI31+Z31+AC31 -> 74712 | DM31: =+L31+O31+R31+U31+X31+DJ31+AA31+AD31 -> 4238 | DN31: =+M31+P31+S31+V31+Y31+DK31+AB31+AE31 -> 78950 | DO31: 201446
B32: aizņēmums "Multifunkcionālās komunālās mašīnas un tā aprīkojuma iegādei" (PA "Spodra") | C32: 07.09.2017. | D32: 20.12.2024. | E32: A2/1/17/656 | F32: P-509/2017 | G32: valsts kase | H32: 3.582 | I32: mainīga | J32: EUR | L32: 73 | M32: =K32+L32 -> 73 | AE32: =AC32+AD32 -> 0 | DI32: =+AF32+AI32+AL32+AO32+AR32+AU32+AX32+BA32+BD32+BG32+BJ32+BM32+BP32+BS32+BV32+BY32+CB32+CE32+CH32+CK32+CN32+CQ32+CT32+CW32+CZ32+DC32+DF32 -> 0 | DJ32: =+AG32+AJ32+AM32+AP32+AS32+AV32+AY32+BB32+BE32+BH32+BK32+BN32+BQ32+BT32+BW32+BZ32+CC32+CF32+CI32+CL32+CO32+CR32+CU32+CX32+DA32+DD32+DG32 -> 0 | DK32: =DI32+DJ32 -> 0 | DL32: =+K32+N32+Q32+T32+W32+DI32+Z32+AC32 -> 0 | DM32: =+L32+O32+R32+U32+X32+DJ32+AA32+AD32 -> 73 | DN32: =+M32+P32+S32+V32+Y32+DK32+AB32+AE32 -> 73 | DO32: 185292
B33: Aizņēmums Alūksnes Pilssalas infrastruktūras izbūvei | C33: 06.10.2017.; 20.12.2017.; 01.06.2018.; 18.02.2019. | D33: 20.12.2028. | E33: A2/1/17/720; A2/1/17/720-V/17/1; A2/1/17/720-V/18/2; A2/1/17/720-V/19/3 | F33: P-572/2017 | G33: valsts kase | H33: 3.219 | I33: mainīga | J33: EUR | K33: 60620 | L33: 7641 | M33: =K33+L33 -> 68261 | N33: 60620 | O33: 4217 | P33: =N33+O33 -> 64837 | Q33: 60620 | R33: 2723 | S33: =Q33+R33 -> 63343 | T33: 60620 | U33: 1248 | V33: =T33+U33 -> 61868 | X33: 81 | Y33: =W33+X33 -> 81 | AE33: =AC33+AD33 -> 0 | DI33: =+AF33+AI33+AL33+AO33+AR33+AU33+AX33+BA33+BD33+BG33+BJ33+BM33+BP33+BS33+BV33+BY33+CB33+CE33+CH33+CK33+CN33+CQ33+CT33+CW33+CZ33+DC33+DF33 -> 0 | DJ33: =+AG33+AJ33+AM33+AP33+AS33+AV33+AY33+BB33+BE33+BH33+BK33+BN33+BQ33+BT33+BW33+BZ33+CC33+CF33+CI33+CL33+CO33+CR33+CU33+CX33+DA33+DD33+DG33 -> 0 | DK33: =DI33+DJ33 -> 0 | DL33: =+K33+N33+Q33+T33+W33+DI33+Z33+AC33 -> 242480 | DM33: =+L33+O33+R33+U33+X33+DJ33+AA33+AD33 -> 15910 | DN33: =+M33+P33+S33+V33+Y33+DK33+AB33+AE33 -> 258390 | DO33: 552349
B34: aizņēmums ERAF projekta Nr.5.6.2.0/18I/012 "Alūksnes pilsētas rūpnieciskās apbūves teritorijas attīstības 2.kārta" | C34: 30.11.2018. 27.12.2018. 14.01.2019. 17.05.2019. 30.01.2024. 05.02.2025. | D34: 52220 | E34: A2/1/18/865; A2/1/18/865-V/18/1; A2/1/18/865-V19/2; A2/1/18/865-V/19/3; A2/1/18/865-ekase; A2/1/18/865-V/24/4; A2/1/18/865-V/25/5 | F34: P-718/2018 | G34: Valsts kase | H34: 2.877 | I34: mainīga | J34: EUR | K34: 30003 | L34: 31764 | M34: =K34+L34 -> 61767 | N34: 96816 | O34: 23962 | P34: =N34+O34 -> 120778 | Q34: 96816 | R34: 20838 | S34: =Q34+R34 -> 117654 | T34: 96816 | U34: 18528 | V34: =T34+U34 -> 115344 | W34: 96816 | X34: 16120 | Y34: =W34+X34 -> 112936 | Z34: 96816 | AA34: 13764 | AB34: =Z34+AA34 -> 110580 | AC34: 96816 | AD34: 11411 | AE34: =AC34+AD34 -> 108227 | DI34: 387202 | DJ34: 22239 | DK34: =DI34+DJ34 -> 409441 | DL34: =+K34+N34+Q34+T34+W34+DI34+Z34+AC34 -> 998101 | DM34: =+L34+O34+R34+U34+X34+DJ34+AA34+AD34 -> 158626 | DN34: =+M34+P34+S34+V34+Y34+DK34+AB34+AE34 -> 1156727 | DO34: 1466883
B35: ERAF projekta "Ernsta Glika Alūksnes Valsts ģimnāzijas mācību vides uzlabošanas būvprojekta izstrāde" īstenošanai papildu 2.aizdevums | C35: 28.01.2022.; 30.01.2024. | D35: 20.01.2037. | E35: A2/1/22/12; A2/1/22/12-V/24/1 | F35: P-3/2022 | G35: valsts kase | H35: 3.016 | I35: mainīga | J35: EUR | K35: 71796 | L35: 28928 | M35: =K35+L35 -> 100724 | N35: 71796 | O35: 21140 | P35: =N35+O35 -> 92936 | Q35: 71796 | R35: 18009 | S35: =Q35+R35 -> 89805 | T35: 71796 | U35: 16209 | V35: =T35+U35 -> 88005 | W35: 71796 | X35: 14325 | Y35: =W35+X35 -> 86121 | Z35: 71796 | AA35: 12485 | AB35: =Z35+AA35 -> 84281 | AC35: 71796 | AD35: 10649 | AE35: =AC35+AD35 -> 82445 | DI35: 354985 | DJ35: 26788 | DK35: =DI35+DJ35 -> 381773 | DL35: =+K35+N35+Q35+T35+W35+DI35+Z35+AC35 -> 857557 | DM35: =+L35+O35+R35+U35+X35+DJ35+AA35+AD35 -> 148533 | DN35: =+M35+P35+S35+V35+Y35+DK35+AB35+AE35 -> 1006090
B36: aizņēmums projekta "Lietus kanalizācijas sistēmas izbūve un ielu seguma atjaunošana" īstenošanai (O.Vācieša un Dārza ielu rekonstrukcijai) | C36: 29.10.2018.; 30.11.2018. | D36: 20.12.2028. | E36: A2/1/18/751; A2/1/18/751-V/18/1 | F36: P-628/2018 | G36: Valsts kase | H36: 3.075 | I36: mainīga | J36: EUR | K36: 17772 | L36: 2203 | M36: =K36+L36 -> 19975 | N36: 17772 | O36: 1258 | P36: =N36+O36 -> 19030 | Q36: 17772 | R36: 798 | S36: =Q36+R36 -> 18570 | T36: 17772 | U36: 366 | V36: =T36+U36 -> 18138 | X36: 24 | Y36: =W36+X36 -> 24 | AE36: =AC36+AD36 -> 0 | DI36: =+AF36+AI36+AL36+AO36+AR36+AU36+AX36+BA36+BD36+BG36+BJ36+BM36+BP36+BS36+BV36+BY36+CB36+CE36+CH36+CK36+CN36+CQ36+CT36+CW36+CZ36+DC36+DF36 -> 0 | DJ36: =+AG36+AJ36+AM36+AP36+AS36+AV36+AY36+BB36+BE36+BH36+BK36+BN36+BQ36+BT36+BW36+BZ36+CC36+CF36+CI36+CL36+CO36+CR36+CU36+CX36+DA36+DD36+DG36 -> 0 | DK36: =DI36+DJ36 -> 0 | DL36: =+K36+N36+Q36+T36+W36+DI36+Z36+AC36 -> 71088 | DM36: =+L36+O36+R36+U36+X36+DJ36+AA36+AD36 -> 4649 | DN36: =+M36+P36+S36+V36+Y36+DK36+AB36+AE36 -> 75737 | DO36: 161932
B37: aizņēmums prioritāro invesīciju projekta "Nekustamā īpašuma Uzvaras iela 1, Alūksnē, Alūksnes novadā" īstenošanai | C37: 15.11.2018. | D37: 20.12.2028. | E37: A2/1/18/795 | F37: P-667/2018 | G37: Valsts kase | H37: 3.077 | I37: mainīga | J37: EUR | K37: 13000 | L37: 1649 | M37: =K37+L37 -> 14649 | N37: 13000 | O37: 935 | P37: =N37+O37 -> 13935 | Q37: 13000 | R37: 584 | S37: =Q37+R37 -> 13584 | T37: 13000 | U37: 268 | V37: =T37+U37 -> 13268 | X37: 17 | Y37: =W37+X37 -> 17 | AB37: =Z37+AA37 -> 0 | AE37: =AC37+AD37 -> 0 | DI37: =+AF37+AI37+AL37+AO37+AR37+AU37+AX37+BA37+BD37+BG37+BJ37+BM37+BP37+BS37+BV37+BY37+CB37+CE37+CH37+CK37+CN37+CQ37+CT37+CW37+CZ37+DC37+DF37 -> 0 | DJ37: =+AG37+AJ37+AM37+AP37+AS37+AV37+AY37+BB37+BE37+BH37+BK37+BN37+BQ37+BT37+BW37+BZ37+CC37+CF37+CI37+CL37+CO37+CR37+CU37+CX37+DA37+DD37+DG37 -> 0 | DK37: =DI37+DJ37 -> 0 | DL37: =+K37+N37+Q37+T37+W37+DI37+Z37+AC37 -> 52000 | DM37: =+L37+O37+R37+U37+X37+DJ37+AA37+AD37 -> 3453 | DN37: =+M37+P37+S37+V37+Y37+DK37+AB37+AE37 -> 55453 | DO37: 118451
B38: aiņēmums ERAF projektam "Infrastruktūras risinājumi deinstitucionālizācijas īstenošanai Alūksnes novadā" Nr.9.3.1.1/19/I/048 (ēkas Uzvaras iela 1 pārbūve) | C38: 01.06.2020. | D38: 20.12.2031. | E38: A2/1/20/254 | F38: P-139/2020 | G38: Valsts kase | H38: 4.848 | I38: mainīga | J38: EUR | K38: 14048 | L38: 4207 | M38: =K38+L38 -> 18255 | N38: 14048 | O38: 2645 | P38: =N38+O38 -> 16693 | Q38: 14048 | R38: 2192 | S38: =Q38+R38 -> 16240 | T38: 14048 | U38: 1743 | V38: =T38+U38 -> 15791 | W38: 14048 | X38: 1286 | Y38: =W38+X38 -> 15334 | Z38: 14048 | AA38: 834 | AB38: =Z38+AA38 -> 14882 | AC38: 14048 | AD38: 382 | AE38: =AC38+AD38 -> 14430 | DI38: =+AF38+AI38+AL38+AO38+AR38+AU38+AX38+BA38+BD38+BG38+BJ38+BM38+BP38+BS38+BV38+BY38+CB38+CE38+CH38+CK38+CN38+CQ38+CT38+CW38+CZ38+DC38+DF38 -> 0 | DJ38: 25 | DK38: =DI38+DJ38 -> 25 | DL38: =+K38+N38+Q38+T38+W38+DI38+Z38+AC38 -> 98336 | DM38: =+L38+O38+R38+U38+X38+DJ38+AA38+AD38 -> 13314 | DN38: =+M38+P38+S38+V38+Y38+DK38+AB38+AE38 -> 111650 | DO38: 151364
B39: aizņēmums LAT-RUS projektam "630 verstis pilnas sajūtām" | C39: 29.11.2019. | D39: 20.12.2030. | E39: A2/1/19/436 | F39: P-274/2019 | G39: Valsts kase | H39: 2.967 | I39: mainīga | J39: EUR | K39: 21480 | L39: 4080 | M39: =K39+L39 -> 25560 | N39: 21480 | O39: 2635 | P39: =N39+O39 -> 24115 | Q39: 21480 | R39: 2010 | S39: =Q39+R39 -> 23490 | T39: 21480 | U39: 1490 | V39: =T39+U39 -> 22970 | W39: 21480 | X39: 963 | Y39: =W39+X39 -> 22443 | Z39: 21480 | AA39: 441 | AB39: =Z39+AA39 -> 21921 | AD39: 29 | AE39: =AC39+AD39 -> 29 | DI39: =+AF39+AI39+AL39+AO39+AR39+AU39+AX39+BA39+BD39+BG39+BJ39+BM39+BP39+BS39+BV39+BY39+CB39+CE39+CH39+CK39+CN39+CQ39+CT39+CW39+CZ39+DC39+DF39 -> 0 | DJ39: =+AG39+AJ39+AM39+AP39+AS39+AV39+AY39+BB39+BE39+BH39+BK39+BN39+BQ39+BT39+BW39+BZ39+CC39+CF39+CI39+CL39+CO39+CR39+CU39+CX39+DA39+DD39+DG39 -> 0 | DK39: =DI39+DJ39 -> 0 | DL39: =+K39+N39+Q39+T39+W39+DI39+Z39+AC39 -> 128880 | DM39: =+L39+O39+R39+U39+X39+DJ39+AA39+AD39 -> 11648 | DN39: =+M39+P39+S39+V39+Y39+DK39+AB39+AE39 -> 140528 | DO39: 218155
B40: aizņēmums ERAF projektam "Uzņēmējdarbībai nozīmīgas infrastruktūras attīstība Alūksnes pilsētā" | C40: 31.08.2020. | D40: 20.12.2031. | E40: A2/1/20/604 | F40: P-274/2020 | G40: Valsts kase | H40: 4.203 | I40: mainīga | J40: EUR | K40: 11520 | L40: 3178 | M40: =K40+L40 -> 14698 | N40: 11520 | O40: 2065 | P40: =N40+O40 -> 13585 | Q40: 11520 | R40: 1697 | S40: =Q40+R40 -> 13217 | T40: 11520 | U40: 1331 | V40: =T40+U40 -> 12851 | W40: 11520 | X40: 959 | Y40: =W40+X40 -> 12479 | Z40: 11520 | AA40: 591 | AB40: =Z40+AA40 -> 12111 | AC40: 8758 | AD40: 223 | AE40: =AC40+AD40 -> 8981 | DI40: =+AF40+AI40+AL40+AO40+AR40+AU40+AX40+BA40+BD40+BG40+BJ40+BM40+BP40+BS40+BV40+BY40+CB40+CE40+CH40+CK40+CN40+CQ40+CT40+CW40+CZ40+DC40+DF40 -> 0 | DJ40: 1 | DK40: =DI40+DJ40 -> 1 | DL40: =+K40+N40+Q40+T40+W40+DI40+Z40+AC40 -> 77878 | DM40: =+L40+O40+R40+U40+X40+DJ40+AA40+AD40 -> 10045 | DN40: =+M40+P40+S40+V40+Y40+DK40+AB40+AE40 -> 87923 | DO40: 123255
B41: aizņēmums ERAF projektam "Uzņēmējdarbībai nozīmīgas infrastruktūras attīstība Alūksnes pilsētā" | C41: 31.08.2020. | D41: 20.12.2031. | E41: A2/1/20/603 | F41: P-275/2020 | G41: Valsts kase | H41: 3.603 | I41: mainīgā | J41: EUR | K41: 3428 | L41: 218 | M41: =K41+L41 -> 3646 | N41: 3195 | O41: 69 | P41: =N41+O41 -> 3264 | Q41: 0 | R41: 4 | S41: =Q41+R41 -> 4 | T41: 0 | U41: 0 | V41: =T41+U41 -> 0 | W41: 0 | X41: 0 | Y41: =W41+X41 -> 0 | Z41: 0 | AA41: 0 | AB41: =Z41+AA41 -> 0 | AE41: =AC41+AD41 -> 0 | DI41: =+AF41+AI41+AL41+AO41+AR41+AU41+AX41+BA41+BD41+BG41+BJ41+BM41+BP41+BS41+BV41+BY41+CB41+CE41+CH41+CK41+CN41+CQ41+CT41+CW41+CZ41+DC41+DF41 -> 0 | DJ41: =+AG41+AJ41+AM41+AP41+AS41+AV41+AY41+BB41+BE41+BH41+BK41+BN41+BQ41+BT41+BW41+BZ41+CC41+CF41+CI41+CL41+CO41+CR41+CU41+CX41+DA41+DD41+DG41 -> 0 | DK41: =DI41+DJ41 -> 0 | DL41: =+K41+N41+Q41+T41+W41+DI41+Z41+AC41 -> 6623 | DM41: =+L41+O41+R41+U41+X41+DJ41+AA41+AD41 -> 291 | DN41: =+M41+P41+S41+V41+Y41+DK41+AB41+AE41 -> 6914 | DO41: 35350
B42: aizņēmums pašvaldības transporta infrastruktūras attīstības projekts "Baložu bulvāra pārbūve Alūksnē, Alūksnes novadā" | C42: 31.08.2020. | D42: 20.12.2031. | E42: A2/1/20/601 | F42: P-277/2020 | G42: Valsts kase | H42: 3.603 | I42: mainīga | J42: EUR | K42: 12664 | L42: 3093 | M42: =K42+L42 -> 15757 | N42: 12664 | O42: 1917 | P42: =N42+O42 -> 14581 | Q42: 12664 | R42: 1589 | S42: =Q42+R42 -> 14253 | T42: 12664 | U42: 1264 | V42: =T42+U42 -> 13928 | W42: 12664 | X42: 932 | Y42: =W42+X42 -> 13596 | Z42: 12664 | AA42: 605 | AB42: =Z42+AA42 -> 13269 | AC42: 12664 | AD42: 277 | AE42: =AC42+AD42 -> 12941 | DI42: =+AF42+AI42+AL42+AO42+AR42+AU42+AX42+BA42+BD42+BG42+BJ42+BM42+BP42+BS42+BV42+BY42+CB42+CE42+CH42+CK42+CN42+CQ42+CT42+CW42+CZ42+DC42+DF42 -> 0 | DJ42: 18 | DK42: =DI42+DJ42 -> 18 | DL42: =+K42+N42+Q42+T42+W42+DI42+Z42+AC42 -> 88648 | DM42: =+L42+O42+R42+U42+X42+DJ42+AA42+AD42 -> 9695 | DN42: =+M42+P42+S42+V42+Y42+DK42+AB42+AE42 -> 98343 | DO42: 130661
B43: Aizņēmums KF projektam "Zāļo un dārza atkritumu kompostēšanas laukuma izveide Alūksnes novadā" | C43: 24.02.2021. 28.10.2021. | D43: 20.12.2030. | E43: A2/1/21/37; A2/1/21/37-V/21/1; A2/1/21/37-V/21/2 | F43: P-9/2021 | G43: Valsts kase | H43: 3.423 | I43: mainīga | J43: EUR | K43: 16724 | L43: 3520 | M43: =K43+L43 -> 20244 | N43: 16724 | O43: 2288 | P43: =N43+O43 -> 19012 | Q43: 16724 | R43: 1648 | S43: =Q43+R43 -> 18372 | T43: 16724 | U43: 1142 | V43: =T43+U43 -> 17866 | W43: 16724 | X43: 630 | Y43: =W43+X43 -> 17354 | Z43: 6619 | AA43: 140 | AB43: =Z43+AA43 -> 6759 | AE43: =AC43+AD43 -> 0 | DI43: =+AF43+AI43+AL43+AO43+AR43+AU43+AX43+BA43+BD43+BG43+BJ43+BM43+BP43+BS43+BV43+BY43+CB43+CE43+CH43+CK43+CN43+CQ43+CT43+CW43+CZ43+DC43+DF43 -> 0 | DJ43: =+AG43+AJ43+AM43+AP43+AS43+AV43+AY43+BB43+BE43+BH43+BK43+BN43+BQ43+BT43+BW43+BZ43+CC43+CF43+CI43+CL43+CO43+CR43+CU43+CX43+DA43+DD43+DG43 -> 0 | DK43: =DI43+DJ43 -> 0 | DL43: =+K43+N43+Q43+T43+W43+DI43+Z43+AC43 -> 90239 | DM43: =+L43+O43+R43+U43+X43+DJ43+AA43+AD43 -> 9368 | DN43: =+M43+P43+S43+V43+Y43+DK43+AB43+AE43 -> 99607
B44: aizņēmums Izglītības un sporta centra izveidei Alūksnes pilsētā | C44: 28.07.2021.; 30.01.2024.; 05.02.2025. | D44: 20.12.2050. | E44: A2/1/21/435; A2/1/21/435-V/24/1; A2/1/21/435-V/25/2 | F44: P-315/2021 | G44: Valsts kase | H44: 4.246 | I44: mainīga | J44: EUR | K44: 0 | L44: 223618 | M44: =K44+L44 -> 223618 | N44: 220260 | O44: 158277 | P44: =N44+O44 -> 378537 | Q44: 220260 | R44: 152246 | S44: =Q44+R44 -> 372506 | T44: 220260 | U44: 146246 | V44: =T44+U44 -> 366506 | W44: 220260 | X44: 139459 | Y44: =W44+X44 -> 359719 | Z44: 220260 | AA44: 133075 | AB44: =Z44+AA44 -> 353335 | AC44: 220260 | AD44: 126699 | AE44: =AC44+AD44 -> 346959 | DI44: 4184857 | DJ44: 1195484 | DK44: =DI44+DJ44 -> 5380341 | DL44: =+K44+N44+Q44+T44+W44+DI44+Z44+AC44 -> 5506417 | DM44: =+L44+O44+R44+U44+X44+DJ44+AA44+AD44 -> 2275104 | DN44: =+M44+P44+S44+V44+Y44+DK44+AB44+AE44 -> 7781521
B45: projekta "Izglītības un sporta centra izveide Alūksnes pilsētā" investīciju īstenošana (papildus) | C45: 05.10.2022.; 30.01.2024. | D45: 20.09.2051. | E45: A2/1/22/411; A2/1/22/411-V/24/1 | F45: P-283/2022 | G45: Valsts kase | H45: 4.598 | I45: mainīga | J45: EUR | K45: 15092 | L45: 18752 | M45: =K45+L45 -> 33844 | N45: 15092 | O45: 15494 | P45: =N45+O45 -> 30586 | Q45: 15092 | R45: 14861 | S45: =Q45+R45 -> 29953 | T45: 15092 | U45: 14294 | V45: =T45+U45 -> 29386 | W45: 15092 | X45: 13651 | Y45: =W45+X45 -> 28743 | Z45: 15092 | AA45: 13046 | AB45: =Z45+AA45 -> 28138 | AC45: 15092 | AD45: 12443 | AE45: =AC45+AD45 -> 27535 | DI45: 298027 | DJ45: 122057 | DK45: =DI45+DJ45 -> 420084 | DL45: =+K45+N45+Q45+T45+W45+DI45+Z45+AC45 -> 403671 | DM45: =+L45+O45+R45+U45+X45+DJ45+AA45+AD45 -> 224598 | DN45: =+M45+P45+S45+V45+Y45+DK45+AB45+AE45 -> 628269
B46: aizņēmums LAT_RUS projektam "630 verstis pilnas sajūtām" (multimediju projekcija) | C46: 27.05.2021. | D46: 20.12.2030. | E46: A2/1/21/243 | F46: P-155/2021 | G46: Valsts kase | H46: 4.039 | I46: mainīga | J46: EUR | K46: 397 | L46: 12 | M46: =K46+L46 -> 409 | N46: 0 | O46: 0 | P46: =N46+O46 -> 0 | Q46: 0 | R46: 0 | S46: =Q46+R46 -> 0 | T46: 0 | U46: 0 | V46: =T46+U46 -> 0 | W46: 0 | X46: 0 | Y46: =W46+X46 -> 0 | Z46: 0 | AA46: 0 | AB46: =Z46+AA46 -> 0 | AE46: =AC46+AD46 -> 0 | DI46: =+AF46+AI46+AL46+AO46+AR46+AU46+AX46+BA46+BD46+BG46+BJ46+BM46+BP46+BS46+BV46+BY46+CB46+CE46+CH46+CK46+CN46+CQ46+CT46+CW46+CZ46+DC46+DF46 -> 0 | DJ46: =+AG46+AJ46+AM46+AP46+AS46+AV46+AY46+BB46+BE46+BH46+BK46+BN46+BQ46+BT46+BW46+BZ46+CC46+CF46+CI46+CL46+CO46+CR46+CU46+CX46+DA46+DD46+DG46 -> 0 | DK46: =DI46+DJ46 -> 0 | DL46: =+K46+N46+Q46+T46+W46+DI46+Z46+AC46 -> 397 | DM46: =+L46+O46+R46+U46+X46+DJ46+AA46+AD46 -> 12 | DN46: =+M46+P46+S46+V46+Y46+DK46+AB46+AE46 -> 409
B47: Prioritārais investīciju projekts "Alūksnes izziņas un pakalpojumu centrs" (atviegl.) | C47: 05.07.2022.; 30.01.2024. | D47: 20.12.2032. | E47: A2/1/22/189; A2/1/22/189-V/24/1 | F47: P-114/2022 PRIO | G47: Valsts kase | H47: 4.773 | I47: mainīga | J47: EUR | K47: 64548 | L47: 22630 | M47: =K47+L47 -> 87178 | N47: 64548 | O47: 14428 | P47: =N47+O47 -> 78976 | Q47: 64548 | R47: 12319 | S47: =Q47+R47 -> 76867 | T47: 64548 | U47: 10235 | V47: =T47+U47 -> 74783 | W47: 64548 | X47: 8098 | Y47: =W47+X47 -> 72646 | Z47: 64548 | AA47: 5991 | AB47: =Z47+AA47 -> 70539 | AC47: 64548 | AD47: 3887 | AE47: =AC47+AD47 -> 68435 | DI47: 64539 | DJ47: 1905 | DK47: =DI47+DJ47 -> 66444 | DL47: =+K47+N47+Q47+T47+W47+DI47+Z47+AC47 -> 516375 | DM47: =+L47+O47+R47+U47+X47+DJ47+AA47+AD47 -> 79493 | DN47: =+M47+P47+S47+V47+Y47+DK47+AB47+AE47 -> 595868
B48: Prioritārais investīciju projekts "Alūksnes izziņas un pakalpojumu centrs" (tirgus nosac.) | C48: 06.07.2022. | D48: 20.12.2032. | E48: A2/1/22/194 | F48: P-108/2022 PRIO | G48: Valsts kase | H48: 5.369 | I48: mainīga | J48: EUR | K48: 23156 | L48: 9240 | M48: =K48+L48 -> 32396 | N48: 23156 | O48: 6140 | P48: =N48+O48 -> 29296 | Q48: 23156 | R48: 5243 | S48: =Q48+R48 -> 28399 | T48: 23156 | U48: 4356 | V48: =T48+U48 -> 27512 | W48: 23156 | X48: 3447 | Y48: =W48+X48 -> 26603 | Z48: 23156 | AA48: 2550 | AB48: =Z48+AA48 -> 25706 | AC48: 23156 | AD48: 1654 | AE48: =AC48+AD48 -> 24810 | DI48: 23156 | DJ48: 811 | DK48: =DI48+DJ48 -> 23967 | DL48: =+K48+N48+Q48+T48+W48+DI48+Z48+AC48 -> 185248 | DM48: =+L48+O48+R48+U48+X48+DJ48+AA48+AD48 -> 33441 | DN48: =+M48+P48+S48+V48+Y48+DK48+AB48+AE48 -> 218689
B49: ERAF projekta (Nr.5.6.2.0/21/I/010) "Uzņēmējdarbībai nozīmīgas infrastruktūras attīstība Alūksnes novadā" īstenošanai (tirgus nosacījumi) | C49: 14.09.2022.; 30.01.2024. | D49: 20.08.2052. | E49: A2/1/22/385; A2/1/22/385-V/24/2 | F49: P-267/2022 | G49: Valsts kase | H49: 5.348 | I49: mainīga | J49: EUR | K49: 27500 | L49: 40745 | M49: =K49+L49 -> 68245 | N49: 27500 | O49: 32917 | P49: =N49+O49 -> 60417 | Q49: 27500 | R49: 31679 | S49: =Q49+R49 -> 59179 | T49: 27500 | U49: 30522 | V49: =T49+U49 -> 58022 | W49: 27500 | X49: 29200 | Y49: =W49+X49 -> 56700 | Z49: 27500 | AA49: 27963 | AB49: =Z49+AA49 -> 55463 | AC49: 27500 | AD49: 26727 | AE49: =AC49+AD49 -> 54227 | DI49: 570615 | DJ49: 275543 | DK49: =DI49+DJ49 -> 846158 | DL49: =+K49+N49+Q49+T49+W49+DI49+Z49+AC49 -> 763115 | DM49: =+L49+O49+R49+U49+X49+DJ49+AA49+AD49 -> 495296 | DN49: =+M49+P49+S49+V49+Y49+DK49+AB49+AE49 -> 1258411
B50: ERAF projekta (Nr.5.6.2.0/21/I/010) "Uzņēmējdarbībai nozīmīgas infrastruktūras attīstība Alūksnes novadā" īstenošanai | C50: 14.09.2022. 30.01.2024. | D50: 20.08.2052. | E50: A2/1/22/386; A2/1/22/386-V/24/1 | F50: P-266/2022 | G50: Valsts kase | H50: 4.748 | I50: mainīga | J50: EUR | K50: 26048 | L50: 34247 | M50: =K50+L50 -> 60295 | N50: 26048 | O50: 26962 | P50: =N50+O50 -> 53010 | Q50: 26048 | R50: 25947 | S50: =Q50+R50 -> 51995 | T50: 26048 | U50: 24999 | V50: =T50+U50 -> 51047 | W50: 26048 | X50: 23917 | Y50: =W50+X50 -> 49965 | Z50: 26048 | AA50: 22903 | AB50: =Z50+AA50 -> 48951 | AC50: 26048 | AD50: 21890 | AE50: =AC50+AD50 -> 47938 | DI50: 540401 | DJ50: 225646 | DK50: =DI50+DJ50 -> 766047 | DL50: =+K50+N50+Q50+T50+W50+DI50+Z50+AC50 -> 722737 | DM50: =+L50+O50+R50+U50+X50+DJ50+AA50+AD50 -> 406511 | DN50: =+M50+P50+S50+V50+Y50+DK50+AB50+AE50 -> 1129248
B51: projekts "Ernsta Glika Alūksnes Valsts ģimnāzijas ēku pārbūve, 2.kārta" | C51: 03.11.2022.; 30.01.2024. 05.02.2025. | D51: 20.12.2044. | E51: A2/1/22/475; A2/1/22/475-V/24/1 A2/1/22/475-V/25/2 | F51: P-341/2022 COVID VARAM | G51: Valsts kase | H51: 4.844 | I51: mainīga | J51: EUR | K51: 0 | L51: 113741 | M51: =K51+L51 -> 113741 | N51: 118744 | O51: 97450 | P51: =N51+O51 -> 216194 | Q51: 118744 | R51: 91393 | S51: =Q51+R51 -> 210137 | T51: 118744 | U51: 86496 | V51: =T51+U51 -> 205240 | W51: 118744 | X51: 81136 | Y51: =W51+X51 -> 199880 | Z51: 118744 | AA51: 76014 | AB51: =Z51+AA51 -> 194758 | AC51: 118744 | AD51: 70900 | AE51: =AC51+AD51 -> 189644 | DI51: 1543550 | DJ51: 456101 | DK51: =DI51+DJ51 -> 1999651 | DL51: =+K51+N51+Q51+T51+W51+DI51+Z51+AC51 -> 2256014 | DM51: =+L51+O51+R51+U51+X51+DJ51+AA51+AD51 -> 1073231 | DN51: =+M51+P51+S51+V51+Y51+DK51+AB51+AE51 -> 3329245
B52: ERAF projekts "Energoefektivitātes paaugstināšana Alūksnes novada pašvaldības ēkā" | C52: 06.07.2022. | D52: 21.12.2026. | E52: A2/1/22/195 | F52: P-107/2022 | G52: Valsts kase | H52: 4.488 | I52: mainīga | J52: EUR | K52: 8580 | L52: 341 | M52: =K52+L52 -> 8921 | N52: 625 | O52: 23 | P52: =N52+O52 -> 648 | S52: =Q52+R52 -> 0 | V52: =T52+U52 -> 0 | Y52: =W52+X52 -> 0 | AB52: =Z52+AA52 -> 0 | AE52: =AC52+AD52 -> 0 | DI52: =+AF52+AI52+AL52+AO52+AR52+AU52+AX52+BA52+BD52+BG52+BJ52+BM52+BP52+BS52+BV52+BY52+CB52+CE52+CH52+CK52+CN52+CQ52+CT52+CW52+CZ52+DC52+DF52 -> 0 | DJ52: =+AG52+AJ52+AM52+AP52+AS52+AV52+AY52+BB52+BE52+BH52+BK52+BN52+BQ52+BT52+BW52+BZ52+CC52+CF52+CI52+CL52+CO52+CR52+CU52+CX52+DA52+DD52+DG52 -> 0 | DK52: =DI52+DJ52 -> 0 | DL52: =+K52+N52+Q52+T52+W52+DI52+Z52+AC52 -> 9205 | DM52: =+L52+O52+R52+U52+X52+DJ52+AA52+AD52 -> 364 | DN52: =+M52+P52+S52+V52+Y52+DK52+AB52+AE52 -> 9569
B53: TPF projekts (Nr.6.1.1.3/1/24/A/006) "Infrastruktūras izveide Alūksnē, Alūksnes novadā" | C53: 29.04.2025. | D53: 20.04.2045. | E53: A2/1/25/66 | F53: P-57/2025) | G53: Valsts kase | H53: 3.741 | I53: mainīga | J53: EUR | K53: 0 | L53: 6889 | M53: =K53+L53 -> 6889 | N53: 7392 | O53: 10616 | P53: =N53+O53 -> 18008 | Q53: 14784 | R53: 10160 | S53: =Q53+R53 -> 24944 | T53: 14784 | U53: 9599 | V53: =T53+U53 -> 24383 | W53: 14784 | X53: 9038 | Y53: =W53+X53 -> 23822 | Z53: 14784 | AA53: 8478 | AB53: =Z53+AA53 -> 23262 | AC53: 14784 | AD53: 7917 | AE53: =AC53+AD53 -> 22701 | DI53: 199519 | DJ53: 51993 | DK53: =DI53+DJ53 -> 251512 | DL53: =+K53+N53+Q53+T53+W53+DI53+Z53+AC53 -> 280831 | DM53: =+L53+O53+R53+U53+X53+DJ53+AA53+AD53 -> 114690 | DN53: =+M53+P53+S53+V53+Y53+DK53+AB53+AE53 -> 395521
B54: ERAF projekts (5.1.1.3/1/23/A/032) "Publiskās ārtelpas attīstīšana Alūksnes pilsētas funkcionālajā teritorijā" | C54: 29.04.2025. | D54: 20.04.2035. | E54: A2/1/25/67 | F54: P-58/2025 | G54: Valsts kase | H54: 3.241 | I54: mainīga | J54: EUR | K54: 0 | L54: 2675 | M54: =K54+L54 -> 2675 | N54: 6910 | O54: 4058 | P54: =N54+O54 -> 10968 | Q54: 13820 | R54: 3689 | S54: =Q54+R54 -> 17509 | T54: 13820 | U54: 3234 | V54: =T54+U54 -> 17054 | W54: 13820 | X54: 2780 | Y54: =W54+X54 -> 16600 | Z54: 13820 | AA54: 2326 | AB54: =Z54+AA54 -> 16146 | AC54: 13820 | AD54: 1872 | AE54: =AC54+AD54 -> 15692 | DI54: 48368 | DJ54: 2978 | DK54: =DI54+DJ54 -> 51346 | DL54: =+K54+N54+Q54+T54+W54+DI54+Z54+AC54 -> 124378 | DM54: =+L54+O54+R54+U54+X54+DJ54+AA54+AD54 -> 23612 | DN54: =+M54+P54+S54+V54+Y54+DK54+AB54+AE54 -> 147990
B55: TPF projekts (Nr.6.1.1.6./1/A/007) "Bezemisiju transportlīdzekļu izmantošanas veicināšana Alūksnes novadā" | C55: 29.04.2025. | D55: 20.04.2032. | E55: A2/1/25/68 | F55: P-59/2025 | G55: Valsts kase | H55: 3.091 | I55: mainīga | J55: EUR | K55: 0 | L55: 1637 | M55: =K55+L55 -> 1637 | N55: 19168 | O55: 3677 | P55: =N55+O55 -> 22845 | Q55: 19168 | R55: 3077 | S55: =Q55+R55 -> 22245 | T55: 19168 | U55: 2476 | V55: =T55+U55 -> 21644 | W55: 19168 | X55: 1875 | Y55: =W55+X55 -> 21043 | Z55: 19168 | AA55: 1275 | AB55: =Z55+AA55 -> 20443 | AC55: 19168 | AD55: 674 | AE55: =AC55+AD55 -> 19842 | DI55: 9569 | DJ55: 111 | DK55: =DI55+DJ55 -> 9680 | DL55: =+K55+N55+Q55+T55+W55+DI55+Z55+AC55 -> 124577 | DM55: =+L55+O55+R55+U55+X55+DJ55+AA55+AD55 -> 14802 | DN55: =+M55+P55+S55+V55+Y55+DK55+AB55+AE55 -> 139379
A56: Ilzenes pagasts | B56: Sporta, interešu izglītības un mūžizglītības centra "Dailes" rekonstrukcijas daļējai pabeigšanai | C56: 19.11.2008; 12.10.2009.; 13.05.2013.; 06.07.2016. | D56: 47442 | E56: A2/1/08/912; A2/1/09/556; A2/1/09/556-V/13/1; A2/1/09/556-V/16/2 | F56: P-388/2008; PE-7/2009 | G56: Valsts kase | H56: 3.979 | I56: mainīga | J56: EUR | K56: 8996 | L56: 1605 | M56: =K56+L56 -> 10601 | N56: 8996 | O56: 841 | P56: =N56+O56 -> 9837 | Q56: 8996 | R56: 622 | S56: =Q56+R56 -> 9618 | T56: 8996 | U56: 404 | V56: =T56+U56 -> 9400 | W56: 8955 | X56: 183 | Y56: =W56+X56 -> 9138 | AA56: 7 | AB56: =Z56+AA56 -> 7 | AE56: =AC56+AD56 -> 0 | DI56: =+AF56+AI56+AL56+AO56+AR56+AU56+AX56+BA56+BD56+BG56+BJ56+BM56+BP56+BS56+BV56+BY56+CB56+CE56+CH56+CK56+CN56+CQ56+CT56+CW56+CZ56+DC56+DF56 -> 0 | DJ56: =+AG56+AJ56+AM56+AP56+AS56+AV56+AY56+BB56+BE56+BH56+BK56+BN56+BQ56+BT56+BW56+BZ56+CC56+CF56+CI56+CL56+CO56+CR56+CU56+CX56+DA56+DD56+DG56 -> 0 | DK56: =DI56+DJ56 -> 0 | DL56: =+K56+N56+Q56+T56+W56+DI56+Z56+AC56 -> 44939 | DM56: =+L56+O56+R56+U56+X56+DJ56+AA56+AD56 -> 3662 | DN56: =+M56+P56+S56+V56+Y56+DK56+AB56+AE56 -> 48601 | DO56: 91151
B57: Sporta, interešu izglītības un mūžizglītības centra "Dailes"rekonstrukcijas pabeigšanai | C57: 28.04.2009., 20.11.2009., 13.05.2013.; 06.07.2016. | D57: 20.12.2030. | E57: A2/1/09/119; A2/1/09/119-V/09/1; A2/1/09/119-V/13/2; A2/1/09/119-V/16/3 | F57: P-37/2009 | G57: Valsts kase | H57: 3.979 | I57: mainīga | J57: EUR | K57: 2644 | L57: 568 | M57: =K57+L57 -> 3212 | N57: 2644 | O57: 311 | P57: =N57+O57 -> 2955 | Q57: 2644 | R57: 247 | S57: =Q57+R57 -> 2891 | T57: 2644 | U57: 182 | V57: =T57+U57 -> 2826 | W57: 2644 | X57: 118 | Y57: =W57+X57 -> 2762 | Z57: 2612 | AA57: 54 | AB57: =Z57+AA57 -> 2666 | AD57: 3 | AE57: =AC57+AD57 -> 3 | DI57: =+AF57+AI57+AL57+AO57+AR57+AU57+AX57+BA57+BD57+BG57+BJ57+BM57+BP57+BS57+BV57+BY57+CB57+CE57+CH57+CK57+CN57+CQ57+CT57+CW57+CZ57+DC57+DF57 -> 0 | DJ57: =+AG57+AJ57+AM57+AP57+AS57+AV57+AY57+BB57+BE57+BH57+BK57+BN57+BQ57+BT57+BW57+BZ57+CC57+CF57+CI57+CL57+CO57+CR57+CU57+CX57+DA57+DD57+DG57 -> 0 | DK57: =DI57+DJ57 -> 0 | DL57: =+K57+N57+Q57+T57+W57+DI57+Z57+AC57 -> 15832 | DM57: =+L57+O57+R57+U57+X57+DJ57+AA57+AD57 -> 1483 | DN57: =+M57+P57+S57+V57+Y57+DK57+AB57+AE57 -> 17315 | DO57: 29487
B58: ERAF projekts "Ūdenssaimniecības attīstība Alūksnes novada Ilzenes pagasta Jaunzemu ciemā"(SIA Rūpe pamatkapitāls) | C58: 18.03.2015. | D58: 22.12.2025. | E58: A2/1/15/111 | F58: P-70/2015 | G58: Valsts kase | H58: 2.828 | I58: mainīga | J58: EUR | K58: 7392 | L58: 227 | M58: =K58+L58 -> 7619 | O58: 12 | P58: =N58+O58 -> 12 | S58: =Q58+R58 -> 0 | V58: =T58+U58 -> 0 | Y58: =W58+X58 -> 0 | AB58: =Z58+AA58 -> 0 | AE58: =AC58+AD58 -> 0 | DI58: =+AF58+AI58+AL58+AO58+AR58+AU58+AX58+BA58+BD58+BG58+BJ58+BM58+BP58+BS58+BV58+BY58+CB58+CE58+CH58+CK58+CN58+CQ58+CT58+CW58+CZ58+DC58+DF58 -> 0 | DJ58: =+AG58+AJ58+AM58+AP58+AS58+AV58+AY58+BB58+BE58+BH58+BK58+BN58+BQ58+BT58+BW58+BZ58+CC58+CF58+CI58+CL58+CO58+CR58+CU58+CX58+DA58+DD58+DG58 -> 0 | DK58: =DI58+DJ58 -> 0 | DL58: =+K58+N58+Q58+T58+W58+DI58+Z58+AC58 -> 7392 | DM58: =+L58+O58+R58+U58+X58+DJ58+AA58+AD58 -> 239 | DN58: =+M58+P58+S58+V58+Y58+DK58+AB58+AE58 -> 7631 | DO58: 45294
A59: Jaunannas pagasts | B59: ELFLA projekts "Jaunannas pagasta tautas nama II kārtas rekonstrukcijas un pamatlīdzekļu iegāde" | C59: 25.08.2009.; 18.04.2013. 10.05.2017. | D59: 20.12.2028. | E59: A2/1/09/434 A2/1/09/434-V/13/1 A2/1/09/434-V/17/2 | F59: P-167/2009 | G59: Valsts kase | H59: 3.983 | I59: mainīga | J59: EUR | K59: 5208 | L59: 691 | M59: =K59+L59 -> 5899 | N59: 5208 | O59: 361 | P59: =N59+O59 -> 5569 | Q59: 5208 | R59: 234 | S59: =Q59+R59 -> 5442 | T59: 5208 | U59: 107 | V59: =T59+U59 -> 5315 | X59: 7 | Y59: =W59+X59 -> 7 | AB59: =Z59+AA59 -> 0 | AE59: =AC59+AD59 -> 0 | DI59: =+AF59+AI59+AL59+AO59+AR59+AU59+AX59+BA59+BD59+BG59+BJ59+BM59+BP59+BS59+BV59+BY59+CB59+CE59+CH59+CK59+CN59+CQ59+CT59+CW59+CZ59+DC59+DF59 -> 0 | DJ59: =+AG59+AJ59+AM59+AP59+AS59+AV59+AY59+BB59+BE59+BH59+BK59+BN59+BQ59+BT59+BW59+BZ59+CC59+CF59+CI59+CL59+CO59+CR59+CU59+CX59+DA59+DD59+DG59 -> 0 | DK59: =DI59+DJ59 -> 0 | DL59: =+K59+N59+Q59+T59+W59+DI59+Z59+AC59 -> 20832 | DM59: =+L59+O59+R59+U59+X59+DJ59+AA59+AD59 -> 1400 | DN59: =+M59+P59+S59+V59+Y59+DK59+AB59+AE59 -> 22232 | DO59: 56356
A60: Jaunlaicenes pagasts | B60: ERAF "Ūdenssaimniecības pakalpojumu attīstība Jaunlaicenē" SIA "Rūpe" pamatkapitāls | C60: 19.11.2014. | D60: 20.12.2024. | E60: A2/1/14/877 | F60: P-568/2014 | G60: Valsts kase | H60: 2.904 | I60: mainīga | J60: EUR | L60: 10 | M60: =K60+L60 -> 10 | Y60: =W60+X60 -> 0 | AE60: =AC60+AD60 -> 0 | DI60: =+AF60+AI60+AL60+AO60+AR60+AU60+AX60+BA60+BD60+BG60+BJ60+BM60+BP60+BS60+BV60+BY60+CB60+CE60+CH60+CK60+CN60+CQ60+CT60+CW60+CZ60+DC60+DF60 -> 0 | DJ60: =+AG60+AJ60+AM60+AP60+AS60+AV60+AY60+BB60+BE60+BH60+BK60+BN60+BQ60+BT60+BW60+BZ60+CC60+CF60+CI60+CL60+CO60+CR60+CU60+CX60+DA60+DD60+DG60 -> 0 | DK60: =DI60+DJ60 -> 0 | DL60: =+K60+N60+Q60+T60+W60+DI60+Z60+AC60 -> 0 | DM60: =+L60+O60+R60+U60+X60+DJ60+AA60+AD60 -> 10 | DN60: =+M60+P60+S60+V60+Y60+DK60+AB60+AE60 -> 10 | DO60: 24626
B61: ERAF "Ūdenssaimniecības pakalpojumu attīstība Jaunlaicenē" SIA "Rūpe" pamatkapitāls sadardzinājums | C61: 18.03.2015. | D61: 20.12.2024. | E61: A2/1/15/109 | F61: P-68/2015 | G61: Valsts kase | H61: 4.078 | I61: mainīga | J61: EUR | L61: 6 | M61: =K61+L61 -> 6 | Y61: =W61+X61 -> 0 | AE61: =AC61+AD61 -> 0 | DI61: =+AF61+AI61+AL61+AO61+AR61+AU61+AX61+BA61+BD61+BG61+BJ61+BM61+BP61+BS61+BV61+BY61+CB61+CE61+CH61+CK61+CN61+CQ61+CT61+CW61+CZ61+DC61+DF61 -> 0 | DJ61: =+AG61+AJ61+AM61+AP61+AS61+AV61+AY61+BB61+BE61+BH61+BK61+BN61+BQ61+BT61+BW61+BZ61+CC61+CF61+CI61+CL61+CO61+CR61+CU61+CX61+DA61+DD61+DG61 -> 0 | DK61: =DI61+DJ61 -> 0 | DL61: =+K61+N61+Q61+T61+W61+DI61+Z61+AC61 -> 0 | DM61: =+L61+O61+R61+U61+X61+DJ61+AA61+AD61 -> 6 | DN61: =+M61+P61+S61+V61+Y61+DK61+AB61+AE61 -> 6 | DO61: 12908
B62: aizņēmums ERAF projektam "Infrastruktūras uzlabošana industriālās teritorijas attīstībai Alūksnes novada Jaunlaicenes ciemā" ar sadardzinājumu un papildinājumu | C62: 26.05.2017.; 03.08.2017.; 05.07.2018.; 10.07.2018.; 18.02.2019.; 21.03.2019. | D62: 20.12.2026. | E62: A2/1/17/316; A2/1/17/316-V/17/1; A2/1/17/316-V/18/2; A2/1/17/316-V/18/3; A2/1/17/316-V/19/4; A2/1/17/316-V/19/5 | F62: P-211/2017 | G62: Valsts kase | H62: 4.615 | I62: mainīga | J62: EUR | K62: 17844 | L62: 1383 | M62: =K62+L62 -> 19227 | N62: 17844 | O62: 460 | P62: =N62+O62 -> 18304 | Q62: 0 | R62: 30 | S62: =Q62+R62 -> 30 | T62: 0 | U62: 0 | V62: =T62+U62 -> 0 | W62: 0 | X62: 0 | Y62: =W62+X62 -> 0 | Z62: 0 | AA62: 0 | AB62: =Z62+AA62 -> 0 | AE62: =AC62+AD62 -> 0 | DI62: =+AF62+AI62+AL62+AO62+AR62+AU62+AX62+BA62+BD62+BG62+BJ62+BM62+BP62+BS62+BV62+BY62+CB62+CE62+CH62+CK62+CN62+CQ62+CT62+CW62+CZ62+DC62+DF62 -> 0 | DJ62: =+AG62+AJ62+AM62+AP62+AS62+AV62+AY62+BB62+BE62+BH62+BK62+BN62+BQ62+BT62+BW62+BZ62+CC62+CF62+CI62+CL62+CO62+CR62+CU62+CX62+DA62+DD62+DG62 -> 0 | DK62: =DI62+DJ62 -> 0 | DL62: =+K62+N62+Q62+T62+W62+DI62+Z62+AC62 -> 35688 | DM62: =+L62+O62+R62+U62+X62+DJ62+AA62+AD62 -> 1873 | DN62: =+M62+P62+S62+V62+Y62+DK62+AB62+AE62 -> 37561 | DO62: 129107
A63: Kalncempju pagasts | B63: ELFLA projekts "Pašvaldības autoceļa "Lūkuži–Gotlupi–Nāzupi" pārbūves 1.kārta Kalncempju pagastā, Alūksnes novadā" | C63: 01.06.2018.; 14.01.2019.; 25.02.2020. | D63: 20.06.2027. | E63: A2/1/18/298; A2/1/18/298-V/19/1; A2/1/18/298-V/20/2 | F63: P-258/2018 | G63: Valsts kase | H63: 3.989 | I63: mainīga | J63: EUR | K63: 7984 | L63: 669 | M63: =K63+L63 -> 8653 | N63: 7984 | O63: 262 | P63: =N63+O63 -> 8246 | Q63: 3992 | R63: 69 | S63: =Q63+R63 -> 4061 | Y63: =W63+X63 -> 0 | AE63: =AC63+AD63 -> 0 | DI63: =+AF63+AI63+AL63+AO63+AR63+AU63+AX63+BA63+BD63+BG63+BJ63+BM63+BP63+BS63+BV63+BY63+CB63+CE63+CH63+CK63+CN63+CQ63+CT63+CW63+CZ63+DC63+DF63 -> 0 | DJ63: =+AG63+AJ63+AM63+AP63+AS63+AV63+AY63+BB63+BE63+BH63+BK63+BN63+BQ63+BT63+BW63+BZ63+CC63+CF63+CI63+CL63+CO63+CR63+CU63+CX63+DA63+DD63+DG63 -> 0 | DK63: =DI63+DJ63 -> 0 | DL63: =+K63+N63+Q63+T63+W63+DI63+Z63+AC63 -> 19960 | DM63: =+L63+O63+R63+U63+X63+DJ63+AA63+AD63 -> 1000 | DN63: =+M63+P63+S63+V63+Y63+DK63+AB63+AE63 -> 20960 | DO63: 60536
A64: Mālupes pagasts | B64: Mālupes Saeita nama rekonstrukcija 1.kārta | C64: 28.04.2009.; 10.03.2010.; 13.05.2013.; 06.07.2016. | D64: 20.05.2030. | E64: A2/1/09/120; A2/1/09/120-V/10/1; A2/1/09/120-V/13/2; A2/1/09/120-V/16/3 | F64: P-39/2009 | G64: Valsts kase | H64: 3.979 | I64: mainīga | J64: EUR | K64: 13044 | L64: 2450 | M64: =K64+L64 -> 15494 | N64: 13044 | O64: 1301 | P64: =N64+O64 -> 14345 | Q64: 13044 | R64: 984 | S64: =Q64+R64 -> 14028 | T64: 13044 | U64: 667 | V64: =T64+U64 -> 13711 | W64: 13044 | X64: 348 | Y64: =W64+X64 -> 13392 | Z64: 3298 | AA64: 42 | AB64: =Z64+AA64 -> 3340 | AE64: =AC64+AD64 -> 0 | DI64: =+AF64+AI64+AL64+AO64+AR64+AU64+AX64+BA64+BD64+BG64+BJ64+BM64+BP64+BS64+BV64+BY64+CB64+CE64+CH64+CK64+CN64+CQ64+CT64+CW64+CZ64+DC64+DF64 -> 0 | DJ64: =+AG64+AJ64+AM64+AP64+AS64+AV64+AY64+BB64+BE64+BH64+BK64+BN64+BQ64+BT64+BW64+BZ64+CC64+CF64+CI64+CL64+CO64+CR64+CU64+CX64+DA64+DD64+DG64 -> 0 | DK64: =DI64+DJ64 -> 0 | DL64: =+K64+N64+Q64+T64+W64+DI64+Z64+AC64 -> 68518 | DM64: =+L64+O64+R64+U64+X64+DJ64+AA64+AD64 -> 5792 | DN64: =+M64+P64+S64+V64+Y64+DK64+AB64+AE64 -> 74310 | DO64: 135614
B65: aizņēmums sociālo iestāžu investīciju projektam "Sociālās apūpes centra "Alūksne" filiāles "Pīlādži" izveide | C65: 11.04.2018.; 18.02.2019. | D65: 20.12.2038. | E65: A2/1/18/164; A2/1/18/164-V/19/1 | F65: P-138/2018 | G65: Valsts kase | H65: 2.604 | I65: mainīga | J65: EUR | K65: 39828 | L65: 18660 | M65: =K65+L65 -> 58488 | N65: 39828 | O65: 13014 | P65: =N65+O65 -> 52842 | Q65: 39828 | R65: 11481 | S65: =Q65+R65 -> 51309 | T65: 39828 | U65: 10538 | V65: =T65+U65 -> 50366 | W65: 39828 | X65: 9539 | Y65: =W65+X65 -> 49367 | Z65: 39828 | AA65: 8570 | AB65: =Z65+AA65 -> 48398 | AC65: 39828 | AD65: 7603 | AE65: =AC65+AD65 -> 47431 | DI65: 278796 | DJ65: 26163 | DK65: =DI65+DJ65 -> 304959 | DL65: =+K65+N65+Q65+T65+W65+DI65+Z65+AC65 -> 557592 | DM65: =+L65+O65+R65+U65+X65+DJ65+AA65+AD65 -> 105568 | DN65: =+M65+P65+S65+V65+Y65+DK65+AB65+AE65 -> 663160 | DO65: 804554
B66: aizņēmums pašvaldības transporta infrastruktūras attīstības projektam "Autoceļa "Mālupe–Priednieki" transporta infrastruktūras atjaunošana" | C66: 31.08.2020. | D66: 20.12.2031. | E66: A2/1/20/600 | F66: P-278/2020 | G66: Valsts kase | H66: 3.603 | I66: mainīga | J66: EUR | K66: 7260 | L66: 1773 | M66: =K66+L66 -> 9033 | N66: 7260 | O66: 1099 | P66: =N66+O66 -> 8359 | Q66: 7260 | R66: 911 | S66: =Q66+R66 -> 8171 | T66: 7260 | U66: 725 | V66: =T66+U66 -> 7985 | W66: 7260 | X66: 535 | Y66: =W66+X66 -> 7795 | Z66: 7260 | AA66: 347 | AB66: =Z66+AA66 -> 7607 | AC66: 7260 | AD66: 158 | AE66: =AC66+AD66 -> 7418 | DI66: =+AF66+AI66+AL66+AO66+AR66+AU66+AX66+BA66+BD66+BG66+BJ66+BM66+BP66+BS66+BV66+BY66+CB66+CE66+CH66+CK66+CN66+CQ66+CT66+CW66+CZ66+DC66+DF66 -> 0 | DJ66: 10 | DK66: =DI66+DJ66 -> 10 | DL66: =+K66+N66+Q66+T66+W66+DI66+Z66+AC66 -> 50820 | DM66: =+L66+O66+R66+U66+X66+DJ66+AA66+AD66 -> 5558 | DN66: =+M66+P66+S66+V66+Y66+DK66+AB66+AE66 -> 56378 | DO66: 74881
A67: Veclaicenes pagasts | B67: aizņēmums ERAF projekta "Aizsargājamo ainavu apvidus "Veclaicene"infrastruktūras uzlabošana antropogēnās slodzes mazināšanai un pieejamības nodrošināšanai" īstenošanai | C67: 05.12.2017.; 30.08.2018. | D67: 22.12.2036. | E67: A2/1/17/869; A2/1/17/869-V/18/1 | F67: P-662/2017 | G67: valsts kase | H67: 2.877 | I67: mainīga | J67: EUR | K67: 40960 | L67: 15423 | M67: =K67+L67 -> 56383 | N67: 40960 | O67: 11177 | P67: =N67+O67 -> 52137 | Q67: 40960 | R67: 9813 | S67: =Q67+R67 -> 50773 | T67: 40960 | U67: 8838 | V67: =T67+U67 -> 49798 | W67: 40960 | X67: 7817 | Y67: =W67+X67 -> 48777 | Z67: 40960 | AA67: 6821 | AB67: =Z67+AA67 -> 47781 | AC67: 40960 | AD67: 5825 | AE67: =AC67+AD67 -> 46785 | DI67: 204800 | DJ67: 14247 | DK67: =DI67+DJ67 -> 219047 | DL67: =+K67+N67+Q67+T67+W67+DI67+Z67+AC67 -> 491520 | DM67: =+L67+O67+R67+U67+X67+DJ67+AA67+AD67 -> 79961 | DN67: =+M67+P67+S67+V67+Y67+DK67+AB67+AE67 -> 571481 | DO67: 863296
A68: Zeltiņu pagasts | B68: ERAF projekts "Ūdenssaimniecības attīstība Alūksnes novada Zeltiņu pagasta Zeltiņu ciemā" SIA "Rūpe" pamatkapitāls | C68: 18.03.2015. | D68: 20.12.2025. | E68: A2/1/15/113 | F68: P-72/2015 | G68: valsts kase | H68: 2.828 | I68: mainīga | J68: EUR | K68: 6396 | L68: 197 | M68: =K68+L68 -> 6593 | O68: 10 | P68: =N68+O68 -> 10 | S68: =Q68+R68 -> 0 | V68: =T68+U68 -> 0 | Y68: =W68+X68 -> 0 | AB68: =Z68+AA68 -> 0 | AE68: =AC68+AD68 -> 0 | DI68: =+AF68+AI68+AL68+AO68+AR68+AU68+AX68+BA68+BD68+BG68+BJ68+BM68+BP68+BS68+BV68+BY68+CB68+CE68+CH68+CK68+CN68+CQ68+CT68+CW68+CZ68+DC68+DF68 -> 0 | DJ68: =+AG68+AJ68+AM68+AP68+AS68+AV68+AY68+BB68+BE68+BH68+BK68+BN68+BQ68+BT68+BW68+BZ68+CC68+CF68+CI68+CL68+CO68+CR68+CU68+CX68+DA68+DD68+DG68 -> 0 | DK68: =DI68+DJ68 -> 0 | DL68: =+K68+N68+Q68+T68+W68+DI68+Z68+AC68 -> 6396 | DM68: =+L68+O68+R68+U68+X68+DJ68+AA68+AD68 -> 207 | DN68: =+M68+P68+S68+V68+Y68+DK68+AB68+AE68 -> 6603 | DO68: 39190
A69: Alūksnes novads | B69: aizņemums četru ELFLA projektu īstenošanai* | C69: 11.04.2018.; 14.01.2019. | D69: 20.06.2027. | E69: A2/1/18/166; A2/1/18/166-V/19/1 | F69: P-136/2018 | G69: Valsts kase | H69: 2.604 | I69: mainīga | J69: EUR | K69: 47340 | L69: 3823 | M69: =K69+L69 -> 51163 | N69: 47340 | O69: 1632 | P69: =N69+O69 -> 48972 | Q69: 23670 | R69: 407 | S69: =Q69+R69 -> 24077 | V69: =T69+U69 -> 0 | Y69: =W69+X69 -> 0 | AB69: =Z69+AA69 -> 0 | AE69: =AC69+AD69 -> 0 | DI69: =+AF69+AI69+AL69+AO69+AR69+AU69+AX69+BA69+BD69+BG69+BJ69+BM69+BP69+BS69+BV69+BY69+CB69+CE69+CH69+CK69+CN69+CQ69+CT69+CW69+CZ69+DC69+DF69 -> 0 | DJ69: =+AG69+AJ69+AM69+AP69+AS69+AV69+AY69+BB69+BE69+BH69+BK69+BN69+BQ69+BT69+BW69+BZ69+CC69+CF69+CI69+CL69+CO69+CR69+CU69+CX69+DA69+DD69+DG69 -> 0 | DK69: =DI69+DJ69 -> 0 | DL69: =+K69+N69+Q69+T69+W69+DI69+Z69+AC69 -> 118350 | DM69: =+L69+O69+R69+U69+X69+DJ69+AA69+AD69 -> 5862 | DN69: =+M69+P69+S69+V69+Y69+DK69+AB69+AE69 -> 124212 | DO69: 358866
A70: Alūsknes novads | B70: aizņēmums pašvaldības investīciju projektam "Bezkontakta, attalinātās pārvaldīšanas sistēmas ieviešana" | C70: 12.2020. | D70: 20.12.2024. | E70: A2/1/20/839 | F70: P-464/2020 | G70: Valsts kase | H70: 0.25 | I70: mainīga | J70: EUR | L70: 3 | M70: =K70+L70 -> 3 | S70: =Q70+R70 -> 0 | V70: =T70+U70 -> 0 | Y70: =W70+X70 -> 0 | AB70: =Z70+AA70 -> 0 | AE70: =AC70+AD70 -> 0 | DI70: =+AF70+AI70+AL70+AO70+AR70+AU70+AX70+BA70+BD70+BG70+BJ70+BM70+BP70+BS70+BV70+BY70+CB70+CE70+CH70+CK70+CN70+CQ70+CT70+CW70+CZ70+DC70+DF70 -> 0 | DJ70: =+AG70+AJ70+AM70+AP70+AS70+AV70+AY70+BB70+BE70+BH70+BK70+BN70+BQ70+BT70+BW70+BZ70+CC70+CF70+CI70+CL70+CO70+CR70+CU70+CX70+DA70+DD70+DG70 -> 0 | DK70: =DI70+DJ70 -> 0 | DL70: =+K70+N70+Q70+T70+W70+DI70+Z70+AC70 -> 0 | DM70: =+L70+O70+R70+U70+X70+DJ70+AA70+AD70 -> 3 | DN70: =+M70+P70+S70+V70+Y70+DK70+AB70+AE70 -> 3
A71: Kopā | K71: =SUM(K7:K70) -> 1462849 | L71: =SUM(L7:L70) -> 906931 | M71: =K71+L71 -> 2369780 | N71: =SUM(N7:N70) -> 1934224 | O71: =SUM(O7:O70) -> 667218 | P71: =N71+O71 -> 2601442 | Q71: =SUM(Q7:Q70) -> 1870526 | R71: =SUM(R7:R70) -> 602528 | S71: =Q71+R71 -> 2473054 | T71: =SUM(T7:T70) -> 1699956 | U71: =SUM(U7:U70) -> 552389 | V71: =T71+U71 -> 2252345 | W71: =SUM(W7:W70) -> 1486685 | X71: =SUM(X7:X70) -> 503519 | Y71: =W71+X71 -> 1990204 | Z71: =SUM(Z7:Z70) -> 1387778 | AA71: =SUM(AA7:AA70) -> 460904 | AB71: =Z71+AA71 -> 1848682 | AC71: =SUM(AC7:AC70) -> 1351007 | AD71: =SUM(AD7:AD70) -> 420828 | AE71: =AC71+AD71 -> 1771835 | AF71: =SUM(AF7:AF70) -> 0 | AG71: =SUM(AG7:AG70) -> 0 | AH71: =SUM(AH7:AH70) -> 0 | AI71: =SUM(AI7:AI70) -> 0 | AJ71: =SUM(AJ7:AJ70) -> 0 | AK71: =SUM(AK7:AK70) -> 0 | AL71: =SUM(AL7:AL70) -> 0 | AM71: =SUM(AM7:AM70) -> 0 | ... DJ71: =SUM(DJ7:DJ70) -> 2965822 | DK71: =DI71+DJ71 -> 15651096 | DL71: =+K71+N71+Q71+T71+W71+DI71+Z71+AC71 -> 23878299 | DM71: =+L71+O71+R71+U71+X71+DJ71+AA71+AD71 -> 7080139 | DN71: =+M71+P71+S71+V71+Y71+DK71+AB71+AE71 -> 30958438
A72: Galvojumi | K72: ='GALVOJUMI (paredzamie)'!H15 -> 124538 | L72: ='GALVOJUMI (paredzamie)'!I15 -> 0 | M72: ='GALVOJUMI (paredzamie)'!J15 -> 124538 | N72: ='GALVOJUMI (paredzamie)'!K15 -> 114247 | O72: ='GALVOJUMI (paredzamie)'!L15 -> 0 | P72: ='GALVOJUMI (paredzamie)'!M15 -> 114247 | Q72: ='GALVOJUMI (paredzamie)'!N15 -> 109905 | R72: ='GALVOJUMI (paredzamie)'!O15 -> 0 | ... AK72: ='GALVOJUMI (paredzamie)'!AH15 -> 0 | AL72: 0 | AM72: 0 | AN72: 0 | AO72: 0 | AP72: 0 | AQ72: 0 | AR72: 0 | AS72: 0 | AT72: 0 | AU72: 0 | AV72: 0 | AW72: 0 | AX72: 0 | AY72: 0 | AZ72: 0 | BA72: 0 | BB72: 0 | BC72: 0 | BD72: 0 | BE72: 0 | BF72: 0 | BG72: 0 | BH72: 0 | BI72: 0 | BJ72: 0 | BK72: 0 | BL72: 0 | BM72: 0 | BN72: 0 | BO72: 0 | BP72: 0 | BQ72: 0 | BR72: 0 | BS72: 0 | BT72: 0 | BU72: 0 | BV72: 0 | BW72: 0 | BX72: 0 | BY72: 0 | BZ72: 0 | CA72: 0 | CB72: 0 | CC72: 0 | CD72: 0 | CE72: 0 | CF72: 0 | CG72: 0 | CH72: 0 | CI72: 0 | CJ72: 0 | CK72: 0 | CL72: 0 | CM72: 0 | CN72: 0 | CO72: 0 | CP72: 0 | CQ72: 0 | CR72: 0 | CS72: 0 | CT72: 0 | CU72: 0 | CV72: 0 | CW72: 0 | CX72: 0 | CY72: 0 | DI72: 0 | DJ72: 0 | DK72: 0 | DL72: =+AC72+K72+N72+Q72+T72+W72+DI72+Z72 -> 433168 | DM72: =+AD72+L72+O72+R72+U72+X72+DJ72+AA72 -> 0 | DN72: =+AE72+M72+P72+S72+V72+Y72+DK72+AB72 -> 433168
A73: Kopā aizņēmumi un galvojumi | K73: =K71+K72 -> 1587387 | L73: =L71+L72 -> 906931 | M73: =M71+M72 -> 2494318 | N73: =N71+N72 -> 2048471 | O73: =O71+O72 -> 667218 | P73: =P71+P72 -> 2715689 | Q73: =Q71+Q72 -> 1980431 | R73: =R71+R72 -> 602528 | ... DJ73: =DJ71+DJ72 -> 2965822 | DK73: =DI73+DJ73 -> 15651096 | DL73: =+AC73+K73+N73+Q73+T73+W73+DI73+Z73 -> 24311467 | DM73: =+AD73+L73+O73+R73+U73+X73+DJ73+AA73 -> 7080139 | DN73: =+AE73+M73+P73+S73+V73+Y73+DK73+AB73 -> 31391606
A74: % pret budžetu | M74: =M73/$E$76% -> 13.581476 | P74: =P73/$E$76% -> 14.786834 | S74: =S73/$E$76% -> 14.064124 | V74: =V73/$E$76% -> 12.667925 | Y74: =Y73/$E$76% -> 10.892589 | AB74: =AB73/$E$76% -> 10.06601 | AE74: =AE73/$E$76% -> 9.6475811 | AH74: =AH73/$E$76% -> 0 | AK74: =AK73/$E$76% -> 0 | AN74: =AN73/$E$76% -> 0 | AQ74: =AQ73/$E$76% -> 0 | AT74: =AT73/$E$76% -> 0 | AW74: =AW73/$E$76% -> 0 | AZ74: =AZ73/$E$76% -> 0 | BC74: =BC73/$E$76% -> 0 | BF74: =BF73/$E$76% -> 0 | BI74: =BI73/$E$76% -> 0 | BL74: =BL73/$E$76% -> 0 | BO74: =BO73/$E$76% -> 0 | BR74: =BR73/$E$76% -> 0 | BU74: =BU73/$E$76% -> 0 | BX74: =BX73/$E$76% -> 0 | CA74: =CA73/$E$76% -> 0 | CD74: =CD73/$E$76% -> 0 | CG74: =CG73/$E$76% -> 0 | CJ74: =CJ73/$E$76% -> 0 | CM74: =CM73/$E$76% -> 0 | CP74: =CP73/$E$76% -> 0 | CS74: =CS73/$E$76% -> 0 | CV74: =CV73/$E$76% -> 0 | CY74: =CY73/$E$76% -> 0 | DB74: =DB73/$E$76% -> 0 | DE74: =DE73/$E$76% -> 0 | DH74: =DH73/$E$76% -> 0
A76: Pasvaldības budžets bez mērķdotācijām un iemaksām PFIF | E76: 18365588 | DO76: =+K73+N73+Q73+T73+W73+Z73+DL73 -> 34586653
E77: 13085672 | DI77: =SUM(DI7:DI69) -> 12685274
A79: * | B79: ELFLA projekts "Pašvaldības autoceļu "Tomsona pagrieziens–Sebežnieki", "Brenci– Sakvārne" un "P41–Cūku komplekss"" pārbūve, Malienas pagastā, Alūksnes novadā" | DO79: =SUM(DO7:DO69) -> 19731887
B80: ELFLA projekts "Alūksnes novada pašvaldības autoceļa "Mālupe–Purmala" pārbvūve"
B81: ELFLA projekts "Pašvaldības autoceļa "Dzintari–Cīņa" pārbūve Veclaicenes pagastā, Alūksnes novadā"
B82: ELFLA projekts "Pašvaldības autoceļa "Indrāni–Blūmji–Gailīši", "Rijukalns–Vengerski"un "Ziemeri–Murati" pārbūve Ziemera pagastā, Alūksnes novadā"
A84: Alūksnes novada pašvaldības domes priekšsēdētājs Dz. Adlers

Sheet GALVOJUMI (paredzamie)
AN1: 5. pielikums
AN2: Alūksnes novada pašvaldības
AN3: saistošajiem noteikumiem Nr. 10/2025
B6: Alūksnes novada pašvaldība
B7: Galvojumu saistības uz 29.05.2025. (noslēgtie līgumi)
A9: Pašvaldība | B9: Mērķis | H9: saistību apmērs /2025 | K9: saistību apmērs /2026 | N9: saistību apmērs /2027 | Q9: saistību apmērs /2028 | T9: saistību apmērs /2029 | W9: saistību apmērs /2030 | Z9: saistību apmērs /2031 | AC9: saistību apmērs /2032 | AF9: saistību apmērs /2033 | AI9: turpmākie gadi (2031-2031) | AL9: Kopā
C10: līguma noslēgšanas datums | D10: līguma atmaksas termiņš | E10: aizdevējs | F10: aizdevuma procentu likme | G10: procentu likmes veids | H10: pamatsumma | I10: % | J10: Kopā | K10: pamatsumma | L10: % | M10: Kopā | N10: pamatsumma | O10: % | P10: Kopā | Q10: pamatsumma | R10: % | S10: Kopā | T10: pamatsumma | U10: % | V10: Kopā | W10: pamatsumma | X10: % | Y10: Kopā | Z10: pamatsumma | AA10: % | AB10: Kopā | AC10: pamatsumma | AD10: % | AE10: Kopā | AF10: pamatsumma | AG10: % | AH10: Kopā | AI10: pamatsumma | AJ10: % | AK10: Kopā | AL10: pamatsumma | AM10: % | AN10: Kopā | AO10: pašvaldības pamatbudžeta ieņēmumi bez mērķdotācijām un iemaksām PFIF | AP10: esošie
A11: Alūksnes novads | B11: SIA "RŪPE" ES projekta "Ūdenssaimniecības attīstība Austrumlatvijas upju baseinos" neattiecināmo izdevumu segšanai | C11: 06.11.2009.; 19.07.2010. | D11: 20.06.2029. | E11: Valsts kase | F11: 5.002 | G11: fiksēta | H11: 23101 | J11: =H11+I11 -> 23101 | K11: 21991 | M11: =K11+L11 -> 21991 | N11: 21440 | P11: =N11+O11 -> 21440 | Q11: 20890 | S11: =Q11+R11 -> 20890 | T11: 10284 | V11: =T11+U11 -> 10284 | Y11: =W11+X11 -> 0 | AB11: =Z11+AA11 -> 0 | AE11: =AC11+AD11 -> 0 | AH11: =AF11+AG11 -> 0 | AI11: =W11 -> 0 | AJ11: =X11 -> 0 | AK11: =Y11 -> 0 | AL11: =+H11+K11+N11+Q11+T11+W11+Z11+AC11+AF11+AI11 -> 97706 | AM11: =+I11+L11+O11+R11+U11+X11+AA11+AD11+AG11+AJ11 -> 0 | AN11: =+J11+M11+P11+S11+V11+Y11+AB11+AE11+AH11+AK11 -> 97706
A12: Alūksnes novads | B12: SIA "Alūksnes slimnīca" ERAF projektam "Stacionārās veselības aprūpes infrastruktūras uzlabošana SIA "Alūksnes slimnīca", uzlabojot veselības aprūpes pakalpojumu kvalitāti un pieejamību" | C12: 24.09.2012. | D12: 20.09.2028. | E12: Valsts kase | F12: 1.118 | G12: mainīga | H12: 68638 | I12: 0 | J12: =H12+I12 -> 68638 | K12: 65943 | L12: 0 | M12: =K12+L12 -> 65943 | N12: 63249 | O12: 0 | P12: =N12+O12 -> 63249 | Q12: 46931 | R12: 0 | S12: =Q12+R12 -> 46931 | V12: =T12+U12 -> 0 | Y12: =W12+X12 -> 0 | AB12: =Z12+AA12 -> 0 | AE12: =AC12+AD12 -> 0 | AH12: =AF12+AG12 -> 0 | AI12: =W12 -> 0 | AJ12: =X12 -> 0 | AK12: =Y12 -> 0 | AL12: =+H12+K12+N12+Q12+T12+W12+Z12+AC12+AF12+AI12 -> 244761 | AM12: =+I12+L12+O12+R12+U12+X12+AA12+AD12+AG12+AJ12 -> 0 | AN12: =+J12+M12+P12+S12+V12+Y12+AB12+AE12+AH12+AK12 -> 244761 | AP12: 523952
A13: Alūksnes novads | B13: SIA "RŪPE" aizņēmums ERAF projektiem "Alūksnes novada Alsviķu pagasta Alsviķu ciema ūdenssaimniecības attīstība", "Alūksnes novada Alsviķu pagasta Strautiņu ciema ūdenssaimniecības attīstība", "Alūksnes novada Ilzenes pagasta Jaunzemu ciema ūdenssaimniecības attīstība", "Alūksnes novada Zeltiņu pagasta Zeltiņu ciema ūdenssaimniecības attīstība" | C13: 03.06.2015. | D13: 20.04.2025. | E13: Valsts kase | F13: 0.544 | G13: mainīga, ik pēc 6 mēnešiem | H13: 5388 | J13: =H13+I13 -> 5388 | M13: 0 | P13: 0 | S13: 0 | V13: 0 | Y13: =W13+X13 -> 0 | AB13: =Z13+AA13 -> 0 | AI13: =W13 -> 0 | AJ13: =X13 -> 0 | AK13: =Y13 -> 0 | AL13: =+H13+K13+N13+Q13+T13+W13+Z13+AC13+AF13+AI13 -> 5388 | AM13: =+I13+L13+O13+R13+U13+X13+AA13+AD13+AG13+AJ13 -> 0 | AN13: =+J13+M13+P13+S13+V13+Y13+AB13+AE13+AH13+AK13 -> 5388
A14: Alūksnes novads | B14: galvojums SIA "Alūksnes slimnīca" aizņēmumam radioloģijas nodaļas iekārtu modernizācijai | C14: 22.02.2018. | D14: 20.02.2028. | E14: Valsts kase | F14: 0.005 | G14: mainīga | H14: 27411 | I14: 0 | J14: =H14+I14 -> 27411 | K14: 26313 | L14: 0 | M14: =K14+L14 -> 26313 | N14: 25216 | O14: 0 | P14: =N14+O14 -> 25216 | Q14: 6373 | R14: 0 | S14: =Q14+R14 -> 6373 | V14: 0 | Y14: =W14+X14 -> 0 | AB14: =Z14+AA14 -> 0 | AI14: =W14 -> 0 | AJ14: =X14 -> 0 | AK14: =Y14 -> 0 | AL14: =+H14+K14+N14+Q14+T14+W14+Z14+AC14+AF14+AI14 -> 85313 | AM14: =+I14+L14+O14+R14+U14+X14+AA14+AD14+AG14+AJ14 -> 0 | AN14: =+J14+M14+P14+S14+V14+Y14+AB14+AE14+AH14+AK14 -> 85313
A15: Kopā | H15: =SUM(H11:H14) -> 124538 | I15: =SUM(I11:I14) -> 0 | J15: =SUM(J11:J14) -> 124538 | K15: =SUM(K11:K14) -> 114247 | L15: =SUM(L11:L14) -> 0 | M15: =SUM(M11:M14) -> 114247 | N15: =SUM(N11:N14) -> 109905 | O15: =SUM(O11:O14) -> 0 | ... AK15: =SUM(AK11:AK14) -> 0 | AL15: =+H15+K15+N15+Q15+T15+W15+Z15+AC15+AF15+AI15 -> 433168 | AM15: =+I15+L15+O15+R15+U15+X15+AA15+AD15+AG15+AJ15 -> 0 | AN15: =+J15+M15+P15+S15+V15+Y15+AB15+AE15+AH15+AK15 -> 433168 | AO15: =#REF!+#REF!+#REF!+#REF!+#REF!+#REF!+#REF!+#REF!+#REF!+H15+K15+N15+Q15+T15+W15+AL15 -> #REF! | AP15: =SUM(AP11:AP14) -> 523952
A16: Procentos pret pamatbudžetu bez mērķdotācijām un iemaksām PFIF | AI16: =#REF!+#REF!+#REF!+H16+K16+N16+Q16+T16+W16 -> #REF! | AJ16: =#REF!+#REF!+#REF!+I16+L16+O16+R16+U16+X16 -> #REF! | AK16: =#REF!+#REF!+#REF!+J16+M16+P16+S16+V16+Y16 -> #REF! | AL16: =+H16+K16+N16+Q16+T16+W16+Z16+AC16+AF16+AI16 -> #REF! | AM16: =+I16+L16+O16+R16+U16+X16+AA16+AD16+AG16+AJ16 -> #REF! | AN16: =+J16+M16+P16+S16+V16+Y16+AB16+AE16+AH16+AK16 -> #REF!
AI17: =K15+N15+Q15+T15 -> 308630 | AJ17: =L15+O15+R15+U15 -> 0 | AK17: =M15+P15+S15+V15 -> 308630 | AL17: =+H17+K17+N17+Q17+T17+W17+Z17+AC17+AF17+AI17 -> 308630 | AM17: =+I17+L17+O17+R17+U17+X17+AA17+AD17+AG17+AJ17 -> 0 | AN17: =+J17+M17+P17+S17+V17+Y17+AB17+AE17+AH17+AK17 -> 308630 | AO17: =#REF!+#REF!+#REF!+#REF!+#REF!+H15+K15+N15+Q15+T15+W15 -> #REF! | AP17: =#REF!+#REF!+#REF!+#REF!+#REF!+I15+L15+O15+R15+U15+X15 -> #REF!
B18: esošie | H18: =H15-H14 -> 97127 | I18: =I15-I14 -> 0 | J18: =J15-J14 -> 97127 | K18: =K15-K14 -> 87934 | L18: =L15-L14 -> 0 | M18: =M15-M14 -> 87934 | N18: =N15-N14 -> 84689 | O18: =O15-O14 -> 0 | ... AH18: =AH15-AH14 -> 0 | AK18: =AK15-AK14 -> 0 | AN18: =AN15-AN14 -> 347855 | AO18: =AO15-AO14 -> #REF!
A20: Domes priekšsēdētājs | B20: Domes priekšsēdētājs | F20: Dz.ADLERS
B22: Alūksnes novada pašvaldības domes priekšsēdētājs Dz. Adlers
