Workbook

Sheet 1.pielikums
E1: 1. pielikums
E2: Balvu novada domes
E3: 2024. gada 24. oktobra saistošajiem noteikumiem Nr. 17/2024
E4: "Grozījumi 2024. gada 25. janvāra saistošajos noteikumos Nr. 1/2024
C5: "Par Balvu novada pašvaldības 2024. gada budžetu""
E6: 1. pielikums
E7: Balvu novada domes
E8: 2024. gada 25. janvāra saistošajiem noteikumiem Nr. 1/2024
E9: "Par Balvu novada pašvaldības 2024. gada budžetu"
A11: Balvu novada pašvaldības pamatbudžets 2024. gadam ( EUR)
A13: Rādītāju nosaukumi | B13: Budžeta kategoriju kodi | C13: Apstiprināts 2024. gadam (EUR) | D13: Grozījumi | E13: Apstiprināts ar grozījumiem 2024.gadam (EUR)
A14: I IEŅĒMUMI - kopā | C14: =C15+C17+C19+C24+C27+C29+C31+C34+C36+C38+C40+C21 -> 33196377 | D14: =D36+D40+D34+D38+D15+D29 -> 2528272 | E14: =C14+D14 -> 35724649
A15: IENĀKUMA NODOKĻI | B15: 1.0.0.0. | C15: =C16 -> 11298140 | D15: =D16 -> 0 | E15: =C15+D15 -> 11298140
A16: Ieņēmumi no iedzīvotāju ienākuma nodokļa | B16: 1.1.0.0. | C16: ='2.pielikums'!I20 -> 11298140 | E16: =C16+D16 -> 11298140
A17: ĪPAŠUMA NODOKĻI | B17: 4.0.0.0. | C17: =C18 -> 1129985 | D17: ='2.pielikums'!J22 -> 0 | E17: =C17+D17 -> 1129985
A18: Nekustamā īpašuma nodoklis | B18: 4.1.0.0. | C18: ='2.pielikums'!I23 -> 1129985 | E18: =C18+D18 -> 1129985
A19: NODOKĻI PAR PAKALPOJUMIEM UN PRECĒM | B19: 5.0.0.0. | C19: =C20 -> 45000 | D19: ='2.pielikums'!J34 -> 0 | E19: =C19+D19 -> 45000
A20: Nodokļi un maksājumi par tiesībām lietot atsevišķas preces | B20: 5.5.0.0. | C20: ='2.pielikums'!I34 -> 45000 | E20: =C20+D20 -> 45000
A21: IEŅĒMUMI NO UZŅĒMĒJDARBĪBAS UN ĪPAŠUMA | B21: 8.0.0.0. | C21: 54687 | D21: ='2.pielikums'!J40 -> 0 | E21: =E23+E22 -> 54687
A22: Ieņēmumi no dividendēm(ieņēmumi no valsts (pašvaldību) kapitāla izmantošanas | B22: 8.3.0.0 | C22: 49687 | E22: =C22+D22 -> 49687
A23: Procentu ieņēmumi par depozītiem, kontu atlikumiem, valsts parāda vērtspapīriem un atlikto maksājumu | B23: 8.6.0.0. | C23: ='2.pielikums'!I42 -> 5000 | E23: =C23+D23 -> 5000
A24: VALSTS (PAŠVALDĪBU) NODEVAS UN KANCELEJAS NODEVAS | B24: 9.0.0.0. | C24: =C25+C26 -> 18140 | D24: ='2.pielikums'!J43 -> 0 | E24: =C24+D24 -> 18140
A25: Valsts nodevas, kuras ieskaita pašvaldību budžetā | B25: 9.4.0.0. | C25: ='2.pielikums'!I44 -> 11690 | E25: =C25+D25 -> 11690
A26: Pašvaldību nodevas | B26: 9.5.0.0. | C26: ='2.pielikums'!I49 -> 6450 | E26: =C26+D26 -> 6450
A27: NAUDAS SODI UN SANKCIJAS | B27: 10.0.0.0. | C27: =C28 -> 4000 | D27: ='2.pielikums'!J55 -> 0 | E27: =C27+D27 -> 4000
A28: Naudas sodi | B28: 10.1.0.0. | C28: ='2.pielikums'!I55 -> 4000 | E28: =C28+D28 -> 4000
A29: PĀRĒJIE NENODOKĻU IEŅĒMUMI | B29: 12.0.0.0. | C29: =C30 -> 63969 | D29: ='2.pielikums'!J60 -> 5000 | E29: =C29+D29 -> 68969
A30: Citi dažādi nenodokļu ieņēmumi | B30: 12.3.0.0. | C30: ='2.pielikums'!I60 -> 63969 | E30: =C30+D30 -> 63969
A31: Ieņēmumi no valsts (pašvaldību) īpašuma iznomāšanas, pārdošanas un no nodokļu pamatparāda kapitalizācijas | B31: 13.0.0.0. | C31: =C32+C33 -> 520000 | D31: ='2.pielikums'!J69 -> 0 | E31: =C31+D31 -> 520000
A32: Ieņēmumi no ēku un būvju īpašuma pārdošanas | B32: 13.1.0.0. | C32: ='2.pielikums'!I70 -> 20000 | E32: =C32+D32 -> 20000
A33: Ieņēmumi no zemes, meža īpašuma pārdošanas | B33: 13.2.0.0. | C33: ='2.pielikums'!I71 -> 500000 | E33: =C33+D33 -> 500000
A34: No valsts budžeta daļēji finansēto atvasināto publisko personu un budžeta nefinansēto iestāžu transferti | B34: 17.0.0.0. | C34: =C35 -> 149591 | D34: =D35 -> 0 | E34: =C34+D34 -> 149591
A35: Pašvaldību saņemtie transferti no valsts budžeta daļēji finansētām atvasinātām publiskām personām un no budžeta nefinansētām iestādēm | B35: 17.2.0.0. | C35: ='2.pielikums'!I74 -> 149591 | D35: ='2.pielikums'!J75 -> 0 | E35: =C35+D35 -> 149591
A36: Valsts budžeta transferti | B36: 18.0.0.0. | C36: =C37 -> 14470898 | D36: =D37 -> 2496730 | E36: =C36+D36 -> 16967628
A37: Pašvaldību saņemtie transferti no valsts budžeta | B37: 18.6.2.0. | C37: ='2.pielikums'!I79 -> 14470898 | D37: ='2.pielikums'!J79 -> 2496730 | E37: =C37+D37 -> 16967628
A38: Pašvaldību budžetu transferti | B38: 19.0.0.0 | C38: =C39 -> 116000 | D38: =D39 -> 0 | E38: =C38+D38 -> 116000
A39: Pašvaldību saņemtie transferti no citām pašvaldībām | B39: 19.2.0.0. | C39: ='2.pielikums'!I163 -> 116000 | D39: ='2.pielikums'!J164 -> 0 | E39: =C39+D39 -> 116000
A40: Budžeta iestāžu ieņēmumi | B40: 21.0.0.0. | C40: =SUM(C41:C43) -> 5325967 | D40: =SUM(D41:D43) -> 26542 | E40: =C40+D40 -> 5352509
A41: Iestādes ieņēmumi no ārvalstu finanšu palīdzības | B41: 21.1.0.0. | C41: ='2.pielikums'!I167 -> 169672 | E41: =C41+D41 -> 169672
A42: Ieņēmumi no budžeta iestāžu sniegtajiem maksas pakalpojumiem un citi pašu ieņēmumi | B42: 21.3.0.0. | C42: ='2.pielikums'!I169 -> 4974482 | D42: ='2.pielikums'!J169 -> 18750 | E42: =C42+D42 -> 4993232
...

Sheet 2.pielikums
K2: 2. pielikums
K3: Balvu novada domes
K4: 2024. gada 24. oktobra saistošajiem noteikumiem Nr. 17/2024
K5: "Grozījumi 2024. gada 25. janvāra saistošajos noteikumos Nr. 1/2024
K6: "Par Balvu novada pašvaldības 2024. gada budžetu""
K8: 2. pielikums
K9: Balvu novada domes
K10: 2024. gada 25. janvāra saistošajiem noteikumiem Nr. 1/2024
K11: "Par Balvu novada pašvaldības 2024. gada budžetu"
A13: Balvu novada pašvaldības pamatbudžeta ieņēmumi 2024. gadam (EUR)
A15: Klasifikācijas kods | B15: Ieņēmumi | C15: Ieņēmumu veidi | I15: KOPĀ (EUR) | J15: Grozījumi (EUR) | K15: Pavisam (EUR)
C16: Vispārējie pamatbudžeta ieņēmumi (EUR) | D16: Grozījumi (EUR) | E16: Maksas pakalpojumi un pašu ieņēmumi (EUR) | F16: Grozījumi (EUR) | G16: Valsts mērķdotācijas (EUR) | H16: Grozījumi (EUR)
A17: I | B17: IEŅĒMUMI KOPĀ | C17: =C19+C22+C34+C43+C55+C69+C60+C40 -> 13133921 | D17: =D19+D22+D34+D43+D55+D69+D60+D40 -> 0 | E17: =E163+E169+E456+E167 -> 5441967 | F17: =F163+F166+F60+F270+F194 -> 42500 | G17: =G79+G74 -> 14620489 | H17: =H79+H74+H166+H163+H19 -> 2504522 | I17: =I19+I22+I34+I40+I43+I55+I60+I69+I74+I79+I163+I166 -> 33196377 | J17: =J19+J22+J34+J40+J43+J55+J60+J69+J74+J79+J163+J166 -> 2528272 | K17: =I17+J17 -> 35724649
A18: 1 | B18: Nodokļu ieņēmumi | C18: =C19+C22+C34 -> 12473125 | D18: =D19+D22+D34 -> 0 | I18: =C18 -> 12473125 | K18: =I18+J18 -> 12473125
A19: 1.0.0.0. | B19: IENĀKUMA NODOKĻI | C19: =C20 -> 11298140 | D19: =D21 -> 0 | H19: =H21 -> 0 | I19: =C19 -> 11298140 | J19: =J21 -> 0 | K19: =I19+J19 -> 11298140
A20: 1.1.1.0 | B20: Iedzīvotāju ienākuma nodoklis | C20: =C21 -> 11298140 | D20: =D21 -> 0 | I20: =C20 -> 11298140 | K20: =I20+J20 -> 11298140
A21: 1.1.1.2 | B21: Iedzīvotāju ienākuma nodoklis | C21: 11298140 | I21: =C21 -> 11298140 | K21: =I21+J21 -> 11298140
A22: 4.0.0.0. | B22: ĪPAŠUMA NODOKĻI | C22: =C23 -> 1129985 | I22: =C22 -> 1129985 | K22: =I22+J22 -> 1129985
A23: 4.1.0.0 | B23: Nekustamā īpašuma nodoklis | C23: =C24+C27+C31 -> 1129985 | I23: =C23 -> 1129985 | K23: =I23+J23 -> 1129985
A24: 4.1.1.0 | B24: Nekustamā īpašuma nodoklis par zemi | C24: =C25+C26 -> 981415 | I24: =C24 -> 981415 | K24: =I24+J24 -> 981415
A25: 4.1.1.1 | B25: Nekustamā īpašuma nodokļa par zemi kārtējā saimnieciskā gada ieņēmumi | C25: 882815 | I25: =C25 -> 882815 | K25: =I25+J25 -> 882815
A26: 4.1.1.2 | B26: Nekustamā īpašuma nodoklis par zemi – iepriekšējo gadu parādi | C26: 98600 | I26: =C26 -> 98600 | K26: =I26+J26 -> 98600
A27: 4.1.2.0 | B27: Nekustamā īpašuma nodokļi par ēkām | C27: =C28+C30 -> 90570 | I27: =C27 -> 90570 | K27: =I27+J27 -> 90570
A28: 4.1.2.1 | B28: Nekustamā īpašuma nodoklis par ēkām kārtējā gada maksājumi | C28: 82570 | I28: =C28 -> 82570 | K28: =I28+J28 -> 82570
B29: t.sk. par inženierbūvēm | C29: 4718 | I29: =C29 -> 4718 | K29: =I29+J29 -> 4718
A30: 4.1.2.2 | B30: Nekustamā īpašuma nodoklis par ēkām – iepriekšējo gadu parādi | C30: 8000 | I30: =C30 -> 8000 | K30: =I30+J30 -> 8000
A31: 4.1.3.0 | B31: Nekustamā īpašuma nodokļi par mājokļiem | C31: =C32+C33 -> 58000 | I31: =C31 -> 58000 | K31: =I31+J31 -> 58000
A32: 4.1.3.1. | B32: Nekustamā īpašuma nodokļa par mājokļiem kārtējā saimnieciskā gada ieņēmumi | C32: 48000 | I32: =C32 -> 48000 | K32: =I32+J32 -> 48000
A33: 4.1.3.2. | B33: Nekustamā īpašuma naodoklis par mājokļiem – iepriekšējo gadu parādi | C33: 10000 | I33: =C33 -> 10000 | K33: =I33+J33 -> 10000
A34: 5.0.0.0. | B34: NODOKĻI PAR PAKALPOJUMIEM UN PRECĒM | C34: =C35+C37 -> 45000 | I34: =C34 -> 45000 | K34: =I34+J34 -> 45000
A35: 5.4.0.0. | B35: Nodokļi par atsevišķām precēm un pakalpojumu veidiem | C35: =C36 -> 7000 | I35: =I36 -> 7000 | K35: =I35+J35 -> 7000
A36: 5.4.1.0 | B36: Azartspēļu nodoklis | C36: 7000 | I36: =C36 -> 7000 | K36: =I36+J36 -> 7000
A37: 5.5.0.0. | B37: Nodokļi un maksājumi par tiesībām lietot atsevišķas preces | C37: =C38 -> 38000 | I37: =I38 -> 38000 | K37: =I37+J37 -> 38000
A38: 5.5.3.0. | B38: Dabas resursu nodoklis | C38: 38000 | I38: =C38 -> 38000 | K38: =I38+J38 -> 38000
A39: 2 | B39: Nenodokļu ieņēmumi | C39: =C43+C55+C60+C69+C40 -> 660796 | I39: =C39 -> 660796 | K39: =I39+J39 -> 660796
A40: 8.0.0.0. | B40: Ieņēmumi no uzņēmējdarbības un īpašuma | C40: =C42+C41 -> 54687 | I40: =I42+I41 -> 54687 | K40: =I40+J40 -> 54687
A41: 8.3.0.0 | B41: Ieņēmumi no dividendēm (ieņēmumi no valsts (pašvaldību) kapitāla izmantošanas) | C41: 49687 | I41: 49687 | K41: =I41+J41 -> 49687
A42: 8.6.0.0. | B42: Procentu ieņēmumi par depozītiem, kontu atlikumiem, valsts parāda vērtspapīriem un atlikto maksājumu | C42: 5000 | I42: =C42 -> 5000 | K42: =I42+J42 -> 5000
A43: 9.0.0.0. | B43: VALSTS (PAŠVALDĪBU) NODEVAS UN KANCELEJAS NODEVAS | C43: =C44+C49 -> 18140 | I43: =C43 -> 18140 | K43: =I43+J43 -> 18140
A44: 9.4.0.0. | B44: Valsts nodevas, kuras ieskaita valsts budžetā | C44: =C45+C46+C47 -> 11690 | I44: =C44 -> 11690 | K44: =I44+J44 -> 11690
...

Sheet 3.pielikums
H2: 3. pielikums
H3: Balvu novada domes
H4: 2024. gada 24. oktobra saistošajiem noteikumiem Nr. 17/2024
H5: "Grozījumi 2024. gada 25. janvāra saistošajos noteikumos Nr. 1/2024
H6: "Par Balvu novada pašvaldības 2024. gada budžetu""
H8: 3. pielikums
H9: Balvu novada domes
H10: 2024. gada 25. janvāra saistošajiem noteikumiem Nr. 1/2024
H11: "Par Balvu novada pašvaldības 2024. gada budžetu"
C13: Balvu novada pašvaldības pamatbudžeta izdevumi 2024. gadam (EUR)
A15: Klasifikācijas kods | B15: Iestādes un pasākumi | D15: Finansēšanas avots | H15: Kopā
C16: Atlikums uz gada sākumu | D16: Vispārējie ieņēmumi | E16: Budžeta iestāžu ieņēmumi | F16: Valsts un pašvaldību transferti | G16: Aizņēmumi
C17: =C18+C51+C55+C112+C182+C193+C248+C322+C89 -> 938499 | D17: =D18+D51+D55+D112+D182+D193+D248+D322+D89 -> 21238218 | E17: =E18+E51+E55+E112+E182+E193+E248+E322+E89 -> 4953566 | F17: =F18+F51+F55+F112+F182+F193+F248+F322+F89 -> 10330591 | G17: =G18+G51+G55+G112+G182+G193+G248+G322+G89 -> 974992 | H17: =H18+H51+H55+H112+H182+H193+H248+H322+H89 -> 38627588
A18: 01.000 | B18: Vispārējie valdības dienesti | C18: =SUM(C19:C49) -> 5614 | D18: =SUM(D19:D49) -> 3708712 | E18: =SUM(E19:E49) -> 12862 | F18: =SUM(F19:F49) -> 130710 | G18: =SUM(G19:G49) -> 0 | H18: =SUM(H19:H50) -> 3930407
B19: Balvu novada administrācija | D19: =H19-E19-G19-F19-C19 -> 1522773 | H19: ='4.pielikums'!B18 -> 1522773
B20: Deputātu darba samaksa | D20: =H20-E20-G20-F20-C20 -> 127701 | H20: ='4.pielikums'!B19 -> 127701
B21: Bijušo pagastu padomju un pilsētu domju vadītāju pabalsti | D21: =H21-E21-G21-F21-C21 -> 255015 | H21: ='4.pielikums'!B20 -> 255015
B22: Komisiju darba samaksa | D22: =H22-E22-G22-F22-C22 -> 30000 | H22: ='4.pielikums'!B21 -> 30000
B23: Balvu pilsētas pārvalde | D23: =H23-E23-G23-F23-C23 -> 46653 | H23: ='4.pielikums'!B23 -> 46653
B24: Balvu pagasta pārvalde | D24: =H24-E24-G24-F24-C24 -> 37935 | E24: 115 | H24: ='4.pielikums'!B25 -> 38050
B25: Baltinavas pagasta pārvalde | D25: =H25-E25-G25-F25-C25 -> 59813 | E25: 305 | H25: ='4.pielikums'!B26 -> 60118
B26: Bērzkalnes pagasta pārvalde | D26: =H26-E26-G26-F26-C26 -> 26739 | H26: ='4.pielikums'!B27 -> 26739
B27: Bērzpils pagasta pārvalde | D27: =H27-E27-G27-F27-C27 -> 39943 | E27: 910 | H27: ='4.pielikums'!B28 -> 40853
B28: Briežuciema pagasta pārvalde | D28: =H28-E28-G28-F28-C28 -> 24622 | H28: ='4.pielikums'!B30 -> 24622
B29: Krišjāņu pagasta pārvalde | D29: =H29-E29-G29-F29-C29 -> 32263 | E29: 85 | H29: ='4.pielikums'!B31 -> 32348
B30: Kubulu pagasta pārvalde | D30: =H30-E30-G30-F30-C30 -> 40674 | E30: 0 | H30: ='4.pielikums'!B33 -> 40674
B31: Kupravas pagasta pārvalde | D31: =H31-E31-G31-F31-C31 -> 44556 | E31: 0 | H31: ='4.pielikums'!B34 -> 44556
B32: Lazdukalna pagasta pārvalde | D32: =H32-E32-G32-F32-C32 -> 30856 | H32: ='4.pielikums'!B35 -> 30856
B33: Lazdulejas pagasta pārvalde | D33: =H33-E33-G33-F33-C33 -> 20735 | H33: ='4.pielikums'!B37 -> 20735
B34: Medņevas pagasta pārvalde | D34: =H34-E34-G34-F34-C34 -> 34119 | H34: ='4.pielikums'!B38 -> 34119
B35: Rugāju pagasta pārvalde | D35: =H35-E35-G35-F35-C35 -> 37292 | E35: 1200 | H35: ='4.pielikums'!B39 -> 38492
B36: Susāju pagasta pārvalde | D36: =H36-E36-G36-F36-C36 -> 20500 | H36: ='4.pielikums'!B41 -> 20500
B37: Šķilbēnu pagasta pārvalde | D37: =H37-E37-G37-F37-C37 -> 44173 | H37: ='4.pielikums'!B42 -> 44173
B38: Tilžas pagasta pārvalde | D38: =H38-E38-G38-F38-C38 -> 35893 | E38: =500 -> 500 | H38: ='4.pielikums'!B43 -> 36393
B39: Vectilžas pagasta pārvalde | D39: =H39-E39-G39-F39-C39 -> 45010 | H39: ='4.pielikums'!B44 -> 45010
B40: Vecumu pagasta pārvalde | D40: =H40-E40-G40-F40-C40 -> 31242 | H40: ='4.pielikums'!B46 -> 31242
B41: Vīksnas pagasta pārvalde | D41: =H41-E41-G41-F41-C41 -> 39006 | E41: =67 -> 67 | H41: ='4.pielikums'!B47 -> 39073
B42: Viļakas pilsētas pārvalde | D42: =H42-E42-G42-F42-C42 -> 50449 | E42: 1130 | H42: ='4.pielikums'!B48 -> 51579
B43: Žīguru pagasta pārvalde | D43: =H43-E43-G43-F43-C43 -> 34189 | H43: ='4.pielikums'!B49 -> 34189
B44: Valsts un pašvaldības vienotais klientu apkalpošanas centrs | D44: =H44-E44-G44-F44-C44 -> 62491 | E44: 8550 | F44: 26000 | H44: ='4.pielikums'!B50 -> 97041
...

Sheet 4.pielikums
P1: 4. pielikums
P2: Balvu novada domes
P3: 2024. gada 24. oktobra saistošajiem noteikumiem Nr. 17/2024
P4: "Grozījumi 2024. gada 25. janvāra saistošajos noteikumos Nr. 1/2024
P5: "Par Balvu novada pašvaldības 2024. gada budžetu""
P7: 4. pielikums
P8: Balvu novada domes
P9: 2024. gada 25. janvāra saistošajiem noteikumiem Nr. 1/2024
P10: "Par Balvu novada pašvaldības 2024. gada budžetu"
A13: Balvu novada pašvaldības 2024.gada pamatbudžeta izdevumi atbilstoši ekonomiskajām kategorijām (EUR)
A15: Iestādes | B15: Apstiprināts 2024.gadam (EUR) | C15: Izdevumi pa ekonomiskās klasifikācijas kodiem (EUR)
C16: 1000 | D16: 1100 | E16: 1200 | F16: 2000 | G16: 2100 | H16: 2200 | I16: 2300 | J16: 2400 | K16: 2500 | L16: 3000 | M16: 4000 | N16: 5000 | O16: 6000 | P16: 7000
C17: Atlīdzība | D17: Atalgojums | E17: DDVSAOI | F17: Preces un pakalpojumi | G17: Mācību, darba un dienesta komandējumi, darba braucieni | H17: Pakalpojumi | I17: Krājumi, materiāli, energoresursi, preces, biroja preces un inventārs | J17: Izdevumi periodikas iegādei bibliotēku krājumiem | K17: Budžeta iestāžu nodokļu, nodevu un sankciju maksājumi | L17: Subsīdijas un dotācijas | M17: Procentu maksājumi | N17: Pamatkapitāla veidošana | O17: Sociālā rakstura maksājumi un kompensācijas | P17: Transferti
A18: Balvu novada administrācija | B18: =SUM(C18+F18,L18:P18) -> 1522773 | C18: =D18+E18 -> 1287651 | D18: 1040812 | E18: 246839 | F18: =SUM(G18:K18) -> 232372 | G18: 2480 | H18: =177541+23631-1750 -> 199422 | I18: 28470 | K18: 2000 | N18: 1000 | P18: 1750
A19: Deputātu darba samaksa | B19: =SUM(C19+F19,L19:P19) -> 127701 | C19: =D19+E19 -> 127701 | D19: 103555 | E19: 24146 | F19: =SUM(G19:K19) -> 0
A20: Bijušo pagastu padomju un pilsētu domju vadītāju pabalsti | B20: =SUM(C20+F20,L20:P20) -> 255015 | C20: =D20+E20 -> 0 | F20: =SUM(G20:K20) -> 0 | O20: 255015
A21: Komisiju darba samaksa | B21: =SUM(C21+F21,L21:P21) -> 30000 | C21: =D21+E21 -> 30000 | D21: 24274 | E21: 5726 | F21: =SUM(G21:K21) -> 0
A22: Vēlēšanu komisija | B22: =SUM(C22+F22,L22:P22) -> 109439 | C22: =D22+E22 -> 105165 | D22: 85199 | E22: 19966 | F22: =G22+H22+I22 -> 4274 | H22: 61 | I22: 4213
A23: Balvu pilsētas pārvalde | B23: =SUM(C23+F23,L23:P23) -> 46653 | C23: =D23+E23 -> 40785 | D23: 33000 | E23: 7785 | F23: =SUM(G23:K23) -> 4058 | G23: 20 | H23: =2345+H24 -> 2270 | I23: =3503+I24 -> 1768 | N23: =N24 -> 1810
A24: Grozījumi | B24: =SUM(C24+F24,L24:P24) -> 0 | F24: =SUM(G24:K24) -> -1810 | H24: -75 | I24: -1735 | N24: 1810
A25: Balvu pagasta pārvalde | B25: =SUM(C25+F25,L25:P25) -> 38050 | C25: =D25+E25 -> 34292 | D25: 27606 | E25: 6686 | F25: =SUM(G25:K25) -> 3758 | H25: 1651 | I25: 2006 | K25: 101
A26: Baltinavas pagasta pārvalde | B26: =SUM(C26+F26,L26:P26) -> 60118 | C26: =D26+E26 -> 43440 | D26: 35125 | E26: 8315 | F26: =SUM(G26:K26) -> 16678 | H26: 7695 | I26: 8983
A27: Bērzkalnes pagasta pārvalde | B27: =SUM(C27+F27,L27:P27) -> 26739 | C27: =D27+E27 -> 22563 | D27: 18120 | E27: 4443 | F27: =SUM(G27:K27) -> 4176 | H27: 2836 | I27: 1340
A28: Bērzpils pagasta pārvalde | B28: =SUM(C28+F28,L28:P28) -> 40853 | C28: =D28+E28 -> 33894 | D28: 27201 | E28: 6693 | F28: =SUM(G28:K28) -> 6959 | H28: =3483+H29 -> 3421 | I28: =3160+I29 -> 3222 | K28: 316
A29: Grozījumi | B29: =SUM(C29+F29,L29:P29) -> 0 | F29: =SUM(G29:K29) -> 0 | H29: -62 | I29: 62
A30: Briežuciema pagasta pārvalde | B30: =SUM(C30+F30,L30:P30) -> 24622 | C30: =D30+E30 -> 18878 | D30: 15228 | E30: 3650 | F30: =SUM(G30:K30) -> 5744 | H30: 2274 | I30: 3470
A31: Krišjāņu pagasta pārvalde | B31: =SUM(C31+F31,L31:P31) -> 32348 | C31: =D31+E31 -> 27797 | D31: 22258 | E31: 5539 | F31: =SUM(G31:K31) -> 4551 | G31: =40+G32 -> 0 | H31: =2801+H32 -> 2841 | I31: 1500 | K31: 210
A32: Grozījumi | B32: =SUM(C32+F32,L32:P32) -> 0 | F32: =SUM(G32:K32) -> 0 | G32: -40 | H32: 40
A33: Kubulu pagasta pārvalde | B33: =SUM(C33+F33,L33:P33) -> 40674 | C33: =D33+E33 -> 31818 | D33: 25517 | E33: 6301 | F33: =SUM(G33:K33) -> 8856 | H33: 4857 | I33: 3855 | K33: 144
A34: Kupravas pagasta pārvalde | B34: =SUM(C34+F34,L34:P34) -> 44556 | C34: =D34+E34 -> 27612 | D34: 22311 | E34: 5301 | F34: =SUM(G34:K34) -> 16944 | H34: =1300+12000 -> 13300 | I34: =3644 -> 3644
A35: Lazdukalna pagasta pārvalde | B35: =SUM(C35+F35,L35:P35) -> 30856 | C35: =D35+E35 -> 25563 | D35: 20628 | E35: 4935 | F35: =SUM(G35:K35) -> 5293 | G35: 32 | H35: =4111+H36 -> 3861 | I35: =1150+I36 -> 1350 | K35: =K36 -> 50
A36: Grozījumi | B36: =SUM(C36+F36,L36:P36) -> 0 | F36: =SUM(G36:K36) -> 0 | H36: -250 | I36: 200 | K36: 50
A37: Lazdulejas pagasta pārvalde | B37: =SUM(C37+F37,L37:P37) -> 20735 | C37: =D37+E37 -> 18326 | D37: 14640 | E37: 3686 | F37: =SUM(G37:K37) -> 2409 | H37: 964 | I37: 1445
A38: Medņevas pagasta pārvalde | B38: =SUM(C38+F38,L38:P38) -> 34119 | C38: =D38+E38 -> 26542 | D38: 21450 | E38: 5092 | F38: =SUM(G38:K38) -> 7577 | H38: 4641 | I38: 2710 | K38: 226
A39: Rugāju pagasta pārvalde | B39: =SUM(C39+F39,L39:P39) -> 38492 | C39: =D39++E39 -> 26241 | D39: 21120 | E39: 5121 | F39: =SUM(G39:K39) -> 12251 | G39: 40 | H39: =8558+H40 -> 8388 | I39: =3460+I40 -> 3630 | K39: 193
A40: Grozījumi | B40: =SUM(C40+F40,L40:P40) -> 0 | F40: =SUM(G40:K40) -> 0 | H40: -170 | I40: 170
A41: Susāju pagasta pārvalde | B41: =SUM(C41+F41,L41:P41) -> 20500 | C41: =D41+E41 -> 13530 | D41: 10912 | E41: 2618 | F41: =SUM(G41:K41) -> 6970 | H41: 5600 | I41: 1370
A42: Šķilbēnu pagasta pārvalde | B42: =SUM(C42+F42,L42:P42) -> 44173 | C42: =D42+E42 -> 36281 | D42: 29320 | E42: 6961 | F42: =SUM(G42:K42) -> 7892 | H42: 2205 | I42: 5413 | K42: 274
A43: Tilžas pagasta pārvalde | B43: =SUM(C43+F43,L43:P43) -> 36393 | C43: =D43+E43 -> 31017 | D43: 25015 | E43: 6002 | F43: =SUM(G43:K43) -> 5376 | G43: 80 | H43: 3240 | I43: 1846 | K43: 210
A44: Vectilžas pagasta pārvalde | B44: =SUM(C44+F44,L44:P44) -> 45010 | C44: =D44+E44 -> 26414 | D44: 21317 | E44: 5097 | F44: =SUM(G44:K44) -> 3955 | H44: 2287 | I44: 1408 | K44: 260 | N44: =N45 -> 14641
...
