Workbook

Sheet 1.pielikums
E1: 1. pielikums
E2: Balvu novada domes
E3: 2024. gada 24. oktobra saistošajiem noteikumiem Nr. 17/2024
E4: "Grozījumi 2024. gada 25. janvāra saistošajos noteikumos Nr. 1/2024
C5: "Par Balvu novada pašvaldības 2024. gada budžetu""
E6: 1. pielikums
E7: Balvu novada domes
E8: 2024. gada 25. janvāra saistošajiem noteikumiem Nr. 1/2024
E9: "Par Balvu novada pašvaldības 2024. gada budžetu"
A11: Balvu novada pašvaldības pamatbudžets 2024. gadam ( EUR)
A13: Rādītāju nosaukumi | B13: Budžeta kategoriju kodi | C13: Apstiprināts 2024. gadam (EUR) | D13: Grozījumi | E13: Apstiprināts ar grozījumiem 2024.gadam (EUR)
A14: I IEŅĒMUMI - kopā | C14: =C15+C17+C19+C24+C27+C29+C31+C34+C36+C38+C40+C21 -> 33196377 | D14: =D36+D40+D34+D38+D15+D29 -> 2528272 | E14: =C14+D14 -> 35724649
A15: IENĀKUMA NODOKĻI | B15: 1.0.0.0. | C15: =C16 -> 11298140 | D15: =D16 -> 0 | E15: =C15+D15 -> 11298140
A16: Ieņēmumi no iedzīvotāju ienākuma nodokļa | B16: 1.1.0.0. | C16: ='2.pielikums'!I20 -> 11298140 | E16: =C16+D16 -> 11298140
A17: ĪPAŠUMA NODOKĻI | B17: 4.0.0.0. | C17: =C18 -> 1129985 | D17: ='2.pielikums'!J22 -> 0 | E17: =C17+D17 -> 1129985
A18: Nekustamā īpašuma nodoklis | B18: 4.1.0.0. | C18: ='2.pielikums'!I23 -> 1129985 | E18: =C18+D18 -> 1129985
A19: NODOKĻI PAR PAKALPOJUMIEM UN PRECĒM | B19: 5.0.0.0. | C19: =C20 -> 45000 | D19: ='2.pielikums'!J34 -> 0 | E19: =C19+D19 -> 45000
A20: Nodokļi un maksājumi par tiesībām lietot atsevišķas preces | B20: 5.5.0.0. | C20: ='2.pielikums'!I34 -> 45000 | E20: =C20+D20 -> 45000
A21: IEŅĒMUMI NO UZŅĒMĒJDARBĪBAS UN ĪPAŠUMA | B21: 8.0.0.0. | C21: 54687 | D21: ='2.pielikums'!J40 -> 0 | E21: =E23+E22 -> 54687
A22: Ieņēmumi no dividendēm(ieņēmumi no valsts (pašvaldību) kapitāla izmantošanas | B22: 8.3.0.0 | C22: 49687 | E22: =C22+D22 -> 49687
A23: Procentu ieņēmumi par depozītiem, kontu atlikumiem, valsts parāda vērtspapīriem un atlikto maksājumu | B23: 8.6.0.0. | C23: ='2.pielikums'!I42 -> 5000 | E23: =C23+D23 -> 5000
A24: VALSTS (PAŠVALDĪBU) NODEVAS UN KANCELEJAS NODEVAS | B24: 9.0.0.0. | C24: =C25+C26 -> 18140 | D24: ='2.pielikums'!J43 -> 0 | E24: =C24+D24 -> 18140
A25: Valsts nodevas, kuras ieskaita pašvaldību budžetā | B25: 9.4.0.0. | C25: ='2.pielikums'!I44 -> 11690 | E25: =C25+D25 -> 11690
A26: Pašvaldību nodevas | B26: 9.5.0.0. | C26: ='2.pielikums'!I49 -> 6450 | E26: =C26+D26 -> 6450
A27: NAUDAS SODI UN SANKCIJAS | B27: 10.0.0.0. | C27: =C28 -> 4000 | D27: ='2.pielikums'!J55 -> 0 | E27: =C27+D27 -> 4000
A28: Naudas sodi | B28: 10.1.0.0. | C28: ='2.pielikums'!I55 -> 4000 | E28: =C28+D28 -> 4000
A29: PĀRĒJIE NENODOKĻU IEŅĒMUMI | B29: 12.0.0.0. | C29: =C30 -> 63969 | D29: ='2.pielikums'!J60 -> 5000 | E29: =C29+D29 -> 68969
A30: Citi dažādi nenodokļu ieņēmumi | B30: 12.3.0.0. | C30: ='2.pielikums'!I60 -> 63969 | E30: =C30+D30 -> 63969
A31: Ieņēmumi no valsts (pašvaldību) īpašuma iznomāšanas, pārdošanas un no nodokļu pamatparāda kapitalizācijas | B31: 13.0.0.0. | C31: =C32+C33 -> 520000 | D31: ='2.pielikums'!J69 -> 0 | E31: =C31+D31 -> 520000
A32: Ieņēmumi no ēku un būvju īpašuma pārdošanas | B32: 13.1.0.0. | C32: ='2.pielikums'!I70 -> 20000 | E32: =C32+D32 -> 20000
A33: Ieņēmumi no zemes, meža īpašuma pārdošanas | B33: 13.2.0.0. | C33: ='2.pielikums'!I71 -> 500000 | E33: =C33+D33 -> 500000
A34: No valsts budžeta daļēji finansēto atvasināto publisko personu un budžeta nefinansēto iestāžu transferti | B34: 17.0.0.0. | C34: =C35 -> 149591 | D34: =D35 -> 0 | E34: =C34+D34 -> 149591
A35: Pašvaldību saņemtie transferti no valsts budžeta daļēji finansētām atvasinātām publiskām personām un no budžeta nefinansētām iestādēm | B35: 17.2.0.0. | C35: ='2.pielikums'!I74 -> 149591 | D35: ='2.pielikums'!J75 -> 0 | E35: =C35+D35 -> 149591
A36: Valsts budžeta transferti | B36: 18.0.0.0. | C36: =C37 -> 14470898 | D36: =D37 -> 2496730 | E36: =C36+D36 -> 16967628
A37: Pašvaldību saņemtie transferti no valsts budžeta | B37: 18.6.2.0. | C37: ='2.pielikums'!I79 -> 14470898 | D37: ='2.pielikums'!J79 -> 2496730 | E37: =C37+D37 -> 16967628
A38: Pašvaldību budžetu transferti | B38: 19.0.0.0 | C38: =C39 -> 116000 | D38: =D39 -> 0 | E38: =C38+D38 -> 116000
A39: Pašvaldību saņemtie transferti no citām pašvaldībām | B39: 19.2.0.0. | C39: ='2.pielikums'!I163 -> 116000 | D39: ='2.pielikums'!J164 -> 0 | E39: =C39+D39 -> 116000
A40: Budžeta iestāžu ieņēmumi | B40: 21.0.0.0. | C40: =SUM(C41:C43) -> 5325967 | D40: =SUM(D41:D43) -> 26542 | E40: =C40+D40 -> 5352509
A41: Iestādes ieņēmumi no ārvalstu finanšu palīdzības | B41: 21.1.0.0. | C41: ='2.pielikums'!I167 -> 169672 | E41: =C41+D41 -> 169672
A42: Ieņēmumi no budžeta iestāžu sniegtajiem maksas pakalpojumiem un citi pašu ieņēmumi | B42: 21.3.0.0. | C42: ='2.pielikums'!I169 -> 4974482 | D42: ='2.pielikums'!J169 -> 18750 | E42: =C42+D42 -> 4993232
A43: Pārējie 21.3.0.0.grupā neklasificētie budžeta iestāžu ieņēmumi par budžeta iestāžu sniegtajiem maksas pakalpojumiem un citi pašu ieņēmumi | B43: 21.4.0.0. | C43: ='2.pielikums'!I456 -> 181813 | D43: ='2.pielikums'!J456 -> 7792 | E43: =C43+D43 -> 189605
A44: II IZDEVUMI - kopā | C44: =C45 -> 35862258 | D44: =D45 -> 2765330.2 | E44: =E45 -> 38627588
A45: Izdevumi atbilstoši funkcionālajām kategorijām | C45: =SUM(C46:C54) -> 35862258 | D45: =SUM(D46:D54) -> 2765330.2 | E45: =SUM(E46:E54) -> 38627588
A46: Vispārējie valdības dienesti | B46: 01.000 | C46: 3843257 | D46: =E46-C46 -> 87150 | E46: ='3.pielikums'!H18 -> 3930407
A47: Sabiedriskā kārtība un drošība | B47: 03.000 | C47: 322694 | D47: =E47-C47 -> 0 | E47: ='3.pielikums'!H51 -> 322694
A48: Ekonomiskā darbība | B48: 04.000 | C48: 2219258 | D48: =E48-C48 -> 0 | E48: ='3.pielikums'!H55 -> 2219258
A49: Vides aizsardzība | B49: 05.000 | C49: 192324 | D49: =E49-C49 -> 0 | E49: ='3.pielikums'!H89 -> 192324
A50: Teritoriju un mājokļu apsaimniekošana | B50: 06.000 | C50: 5177397 | D50: =E50-C50 -> 100035 | E50: ='3.pielikums'!H112 -> 5277432
A51: Veselība | B51: 07.000 | C51: 150076 | D51: =E51-C51 -> 0 | E51: ='3.pielikums'!H182 -> 150076
A52: Atpūta, kultūra un reliģija | B52: 08.000 | C52: 2759073 | D52: =E52-C52 -> 37712.23 | E52: ='3.pielikums'!H193 -> 2796785.2
A53: Izglītība | B53: 09.000 | C53: 14989109 | D53: =E53-C53 -> 2523573 | E53: ='3.pielikums'!H248 -> 17512682
A54: Sociālā aizsardzība | B54: 10.000 | C54: 6209070 | D54: =E54-C54 -> 16860 | E54: ='3.pielikums'!H322 -> 6225930
A55: Izdevumi atbilstoši ekonomiskajām kategorijām | C55: =SUM(C56:C62) -> 35862258 | D55: =D56+D57+D58+D59+D60+D61+D62 -> 2765330.2 | E55: =SUM(E56:E62) -> 38627588
A56: Atlīdzība | B56: 1000 | C56: 21999081 | D56: =E56-C56 -> 2430432 | E56: ='4.pielikums'!C373 -> 24429513
A57: Preces un pakalpojumi | B57: 2000 | C57: 8949599 | D57: =E57-C57 -> 221170 | E57: ='4.pielikums'!F373 -> 9170769
A58: Subsīdijas un dotācijas | B58: 3000 | C58: 102031 | D58: =E58-C58 -> 0 | E58: ='4.pielikums'!L373 -> 102031
A59: Procentu izdevumi | B59: 4000 | C59: 860221 | D59: =E59-C59 -> 0 | E59: ='4.pielikums'!M373 -> 860221
A60: Pamatkapitāla veidošana | B60: 5000 | C60: 2081286 | D60: =E60-C60 -> 37721 | E60: ='4.pielikums'!N373 -> 2119007
A61: Sociālie pabalsti | B61: 6000 | C61: 1709061 | D61: =E61-C61 -> 0 | E61: ='4.pielikums'!O373 -> 1709061
A62: Transferti, uzturēšanas izdevumu transferti, pašu resursu maksājumi, starptautiskā sadarbība | B62: 7000 | C62: 160979 | D62: =E62-C62 -> 76007.23 | E62: ='4.pielikums'!P373 -> 236986.23
E63: =C63 -> 0
A64: III Ieņēmumu pārsniegums (+) deficīts (-) (I-II) | C64: =C14-C44 -> -2665881 | D64: =D14-D44 -> -237058.21 | E64: =C64+D64 -> -2902939.2
A65: IV FINANSĒŠANA - kopā | C65: =C66+C71 -> 2665881 | D65: =D66+D71 -> 237058 | E65: =C65+D65 -> 2902939
A66: Naudas līdzekļi un noguldījumi | B66: F20010000 | C66: =C67+C68 -> 697394 | D66: =D67+D68 -> 237058 | E66: =C66+D66 -> 934452
A67: Naudas līdzekļi | B67: F21010000 | C67: 8824 | E67: =C67+D67 -> 8824
A68: Pieprasījuma noguldījumi | B68: F22010000 | C68: =C69-C70 -> 688570 | D68: =D69-D70 -> 237058 | E68: =C68+D68 -> 925628
A69: Pieprasījuma noguldījumu atlikums gada sākumā | B69: F22010000 AS | C69: 1398918 | E69: =C69 -> 1398918
A70: Pieprasījuma noguldījumu atlikums perioda beigās | B70: F22010000 | C70: 710348 | D70: -237058 | E70: =C70+D70 -> 473290
A71: Aizņēmumi | B71: F40020000 | C71: =C72-C73 -> 1968487 | D71: =D72-D73 -> 0 | E71: =C71+D71 -> 1968487
A72: Saņemtie aizņēmumi | B72: F40020010 | C72: 3477399 | E72: =C72 -> 3477399
A73: Saņemto aizņēmumu atmaksa | B73: F40020020 | C73: 1508912 | D73: 0 | E73: =C73+D73 -> 1508912
A75: Balvu novada domes priekšsēdētājs S. Maksimovs

Sheet 2.pielikums
K2: 2. pielikums
K3: Balvu novada domes
K4: 2024. gada 24. oktobra saistošajiem noteikumiem Nr. 17/2024
K5: "Grozījumi 2024. gada 25. janvāra saistošajos noteikumos Nr. 1/2024
K6: "Par Balvu novada pašvaldības 2024. gada budžetu""
K8: 2. pielikums
K9: Balvu novada domes
K10: 2024. gada 25. janvāra saistošajiem noteikumiem Nr. 1/2024
K11: "Par Balvu novada pašvaldības 2024. gada budžetu"
A13: Balvu novada pašvaldības pamatbudžeta ieņēmumi 2024. gadam (EUR)
A15: Klasifikācijas kods | B15: Ieņēmumi | C15: Ieņēmumu veidi | I15: KOPĀ (EUR) | J15: Grozījumi (EUR) | K15: Pavisam (EUR)
C16: Vispārējie pamatbudžeta ieņēmumi (EUR) | D16: Grozījumi (EUR) | E16: Maksas pakalpojumi un pašu ieņēmumi (EUR) | F16: Grozījumi (EUR) | G16: Valsts mērķdotācijas (EUR) | H16: Grozījumi (EUR)
A17: I | B17: IEŅĒMUMI KOPĀ | C17: =C19+C22+C34+C43+C55+C69+C60+C40 -> 13133921 | D17: =D19+D22+D34+D43+D55+D69+D60+D40 -> 0 | E17: =E163+E169+E456+E167 -> 5441967 | F17: =F163+F166+F60+F270+F194 -> 42500 | G17: =G79+G74 -> 14620489 | H17: =H79+H74+H166+H163+H19 -> 2504522 | I17: =I19+I22+I34+I40+I43+I55+I60+I69+I74+I79+I163+I166 -> 33196377 | J17: =J19+J22+J34+J40+J43+J55+J60+J69+J74+J79+J163+J166 -> 2528272 | K17: =I17+J17 -> 35724649
A18: 1 | B18: Nodokļu ieņēmumi | C18: =C19+C22+C34 -> 12473125 | D18: =D19+D22+D34 -> 0 | I18: =C18 -> 12473125 | K18: =I18+J18 -> 12473125
A19: 1.0.0.0. | B19: IENĀKUMA NODOKĻI | C19: =C20 -> 11298140 | D19: =D21 -> 0 | H19: =H21 -> 0 | I19: =C19 -> 11298140 | J19: =J21 -> 0 | K19: =I19+J19 -> 11298140
A20: 1.1.1.0 | B20: Iedzīvotāju ienākuma nodoklis | C20: =C21 -> 11298140 | D20: =D21 -> 0 | I20: =C20 -> 11298140 | K20: =I20+J20 -> 11298140
A21: 1.1.1.2 | B21: Iedzīvotāju ienākuma nodoklis | C21: 11298140 | I21: =C21 -> 11298140 | K21: =I21+J21 -> 11298140
A22: 4.0.0.0. | B22: ĪPAŠUMA NODOKĻI | C22: =C23 -> 1129985 | I22: =C22 -> 1129985 | K22: =I22+J22 -> 1129985
A23: 4.1.0.0 | B23: Nekustamā īpašuma nodoklis | C23: =C24+C27+C31 -> 1129985 | I23: =C23 -> 1129985 | K23: =I23+J23 -> 1129985
A24: 4.1.1.0 | B24: Nekustamā īpašuma nodoklis par zemi | C24: =C25+C26 -> 981415 | I24: =C24 -> 981415 | K24: =I24+J24 -> 981415
A25: 4.1.1.1 | B25: Nekustamā īpašuma nodokļa par zemi kārtējā saimnieciskā gada ieņēmumi | C25: 882815 | I25: =C25 -> 882815 | K25: =I25+J25 -> 882815
A26: 4.1.1.2 | B26: Nekustamā īpašuma nodoklis par zemi – iepriekšējo gadu parādi | C26: 98600 | I26: =C26 -> 98600 | K26: =I26+J26 -> 98600
A27: 4.1.2.0 | B27: Nekustamā īpašuma nodokļi par ēkām | C27: =C28+C30 -> 90570 | I27: =C27 -> 90570 | K27: =I27+J27 -> 90570
A28: 4.1.2.1 | B28: Nekustamā īpašuma nodoklis par ēkām kārtējā gada maksājumi | C28: 82570 | I28: =C28 -> 82570 | K28: =I28+J28 -> 82570
B29: t.sk. par inženierbūvēm | C29: 4718 | I29: =C29 -> 4718 | K29: =I29+J29 -> 4718
A30: 4.1.2.2 | B30: Nekustamā īpašuma nodoklis par ēkām – iepriekšējo gadu parādi | C30: 8000 | I30: =C30 -> 8000 | K30: =I30+J30 -> 8000
A31: 4.1.3.0 | B31: Nekustamā īpašuma nodokļi par mājokļiem | C31: =C32+C33 -> 58000 | I31: =C31 -> 58000 | K31: =I31+J31 -> 58000
A32: 4.1.3.1. | B32: Nekustamā īpašuma nodokļa par mājokļiem kārtējā saimnieciskā gada ieņēmumi | C32: 48000 | I32: =C32 -> 48000 | K32: =I32+J32 -> 48000
A33: 4.1.3.2. | B33: Nekustamā īpašuma naodoklis par mājokļiem – iepriekšējo gadu parādi | C33: 10000 | I33: =C33 -> 10000 | K33: =I33+J33 -> 10000
A34: 5.0.0.0. | B34: NODOKĻI PAR PAKALPOJUMIEM UN PRECĒM | C34: =C35+C37 -> 45000 | I34: =C34 -> 45000 | K34: =I34+J34 -> 45000
A35: 5.4.0.0. | B35: Nodokļi par atsevišķām precēm un pakalpojumu veidiem | C35: =C36 -> 7000 | I35: =I36 -> 7000 | K35: =I35+J35 -> 7000
A36: 5.4.1.0 | B36: Azartspēļu nodoklis | C36: 7000 | I36: =C36 -> 7000 | K36: =I36+J36 -> 7000
A37: 5.5.0.0. | B37: Nodokļi un maksājumi par tiesībām lietot atsevišķas preces | C37: =C38 -> 38000 | I37: =I38 -> 38000 | K37: =I37+J37 -> 38000
A38: 5.5.3.0. | B38: Dabas resursu nodoklis | C38: 38000 | I38: =C38 -> 38000 | K38: =I38+J38 -> 38000
A39: 2 | B39: Nenodokļu ieņēmumi | C39: =C43+C55+C60+C69+C40 -> 660796 | I39: =C39 -> 660796 | K39: =I39+J39 -> 660796
A40: 8.0.0.0. | B40: Ieņēmumi no uzņēmējdarbības un īpašuma | C40: =C42+C41 -> 54687 | I40: =I42+I41 -> 54687 | K40: =I40+J40 -> 54687
A41: 8.3.0.0 | B41: Ieņēmumi no dividendēm (ieņēmumi no valsts (pašvaldību) kapitāla izmantošanas) | C41: 49687 | I41: 49687 | K41: =I41+J41 -> 49687
A42: 8.6.0.0. | B42: Procentu ieņēmumi par depozītiem, kontu atlikumiem, valsts parāda vērtspapīriem un atlikto maksājumu | C42: 5000 | I42: =C42 -> 5000 | K42: =I42+J42 -> 5000
A43: 9.0.0.0. | B43: VALSTS (PAŠVALDĪBU) NODEVAS UN KANCELEJAS NODEVAS | C43: =C44+C49 -> 18140 | I43: =C43 -> 18140 | K43: =I43+J43 -> 18140
A44: 9.4.0.0. | B44: Valsts nodevas, kuras ieskaita valsts budžetā | C44: =C45+C46+C47 -> 11690 | I44: =C44 -> 11690 | K44: =I44+J44 -> 11690
A45: 9.4.2.0. | B45: Valsts nodeva par apliecinājumiem un citu funkciju pildīšanu bāriņtiesās | C45: 10000 | I45: =C45 -> 10000 | K45: =I45+J45 -> 10000
A46: 9.4.5.0. | B46: Valsts nodeva par civilstāvokļa aktu reģistrēšanu, grozīšanu un papildināšanu | C46: 1400 | I46: =C46 -> 1400 | K46: =I46+J46 -> 1400
A47: 9.4.9.0. | B47: Pārējās valsts nodevas, kuras ieskaita pašvaldību budžetos | C47: =C48 -> 290 | I47: =C47 -> 290 | K47: =I47+J47 -> 290
A48: 9.4.9.1. | B48: Nodeva par dzīves vietas deklarēšanu | C48: 290 | I48: =C48 -> 290 | K48: =I48+J48 -> 290
A49: 9.5.0.0. | B49: Pašvaldības nodevas | C49: =C50+C51+C52+C53+C54 -> 6450 | I49: =C49 -> 6450 | K49: =I49+J49 -> 6450
A50: 9.5.1.2. | B50: Pašvaldības nodeva par izklaidējoša rakstura pasākumu sarīkošanu publiskās vietās | C50: 300 | I50: =C50 -> 300 | K50: =I50+J50 -> 300
A51: 9.5.1.4. | B51: Pašvaldības nodeva par tirdzniecību publiskās vietās | C51: 1000 | I51: =C51 -> 1000 | K51: =I51+J51 -> 1000
A52: 9.5.1.7. | B52: Pašvaldības nodeva par reklāmas,afišu un sludinājumu izvietošanu publiskajās vietās | C52: 50 | I52: =C52 -> 50 | K52: =I52+J52 -> 50
A53: 9.5.2.1. | B53: Pašvaldības nodeva par būvatļaujas saņemšanu | C53: 5000 | I53: =C53 -> 5000 | K53: =I53+J53 -> 5000
A54: 9.5.2.9. | B54: Pārējās nodevas, ko uzliek pašvaldības | C54: 100 | I54: =C54 -> 100 | K54: =I54+J54 -> 100
A55: 10.0.0.0. | B55: NAUDAS SODI UN SANKCIJAS | C55: =C56+C59 -> 4000 | I55: =C55 -> 4000 | K55: =I55+J55 -> 4000
A56: 10.1.4.0. | B56: Naudas sodi, ko uzliek pašvaldības | C56: =C57+C58 -> 3500 | I56: =C56 -> 3500 | K56: =I56+J56 -> 3500
A57: 10.1.4.1. | B57: Naudas sodi, ko uzliek pašvaldības administratīvo pārkāpumu komisija | C57: 2000 | I57: =C57 -> 2000 | K57: =I57+J57 -> 2000
A58: 10.1.4.2. | B58: Naudas sodi, ko uzliek pašvaldības policija | C58: 1500 | I58: =C58 -> 1500 | K58: =I58+J58 -> 1500
A59: 10.1.5.0. | B59: Naudas sodi, ko uzliek pašvaldību institūcijas par pārkāpumiem ceļu satiksmē | C59: 500 | I59: =C59 -> 500 | K59: =I59+J59 -> 500
A60: 12.0.0.0. | B60: PĀRĒJIE NENODOKĻU IEŅĒMUMI | C60: =C61 -> 63969 | F60: =F68 -> 5000 | H60: =H68 -> 0 | I60: =C60 -> 63969 | J60: =H60+F60 -> 5000 | K60: =I60+J60 -> 68969
A61: 12.3.9.9. | B61: Pārējie dažādi nenodokļu ieņēmumi, kas nav iepriekš klasificēti šajā klasifikācijā | C61: =C62 -> 63969 | I61: =I62 -> 63969 | K61: =I61+J61 -> 63969
A62: 12.3.9.9.4 | B62: Pārējie ieņēmumi | C62: =SUM(C63:C68) -> 63969 | I62: =SUM(I63:I67) -> 63969 | K62: =I62+J62 -> 63969
B63: Ziemeļlatgales biznesa un tūrisma centrs | C63: 4000 | I63: =C63 -> 4000 | K63: =I63+J63 -> 4000
B64: Ziemeļlatgales sporta centrs (pasākumi) | C64: 2120 | I64: =C64 -> 2120 | K64: =I64+J64 -> 2120
B65: Balvu mūzikas skola | C65: 420 | I65: =C65 -> 420 | K65: =I65+J65 -> 420
B66: Sociālie pakalpojumi | C66: 51600 | I66: =C66 -> 51600 | K66: =I66+J66 -> 51600
B67: Latvijas darba devēju konfederācijas finansējums Balvu Profesionālajai un vispārizglītojošai vidusskolai | C67: 5829 | I67: =C67 -> 5829 | K67: =I67+J67 -> 5829
B68: Latvijas olimpiskās komitejas finansējums Tilžas pamatskolai | F68: 5000 | J68: =F68 -> 5000 | K68: =I68+J68 -> 5000
A69: 13.0.0.0. | B69: IEŅĒMUMI NO VALSTS (PAŠVALDĪBAS) ĪPAŠUMA IZNOMĀŠANAS PĀRDOŠANAS | C69: =C70+C71 -> 520000 | I69: =I70+I71 -> 520000 | K69: =I69+J69 -> 520000
A70: 13.1.0.0. | B70: Ieņēmumi no ēku un būvju īpašuma pārdošanas | C70: 20000 | I70: =C70 -> 20000 | K70: =I70+J70 -> 20000
A71: 13.2.0.0. | B71: Ieņēmumi no zemes, mežu īpašuma pārdošanas | C71: =C72+C73 -> 500000 | I71: =C71 -> 500000 | K71: =I71+J71 -> 500000
A72: 13.2.1.0. | B72: Ieņēmumi no zemes īpašuma pārdošanas | C72: 500000 | I72: =C72 -> 500000 | K72: =I72+J72 -> 500000
A73: 13.2.2.0. | B73: Ieņēmumi no mežu īpašumu pārdošanas | I73: =C73 -> 0 | K73: =I73+J73 -> 0
A74: 17.0.0.0. | B74: NO VALSTS BUDŽETA DAĻĒJI FINANSĒTO PUBLISKO PERSONU UN BUDŽETA NEFINANSĒTO IESTĀŽU TRANSFERTI | G74: =G76+G75+G77+G78 -> 149591 | H74: =H76+H75+H77+H78 -> 0 | I74: =G74 -> 149591 | J74: =J78 -> 0 | K74: =I74+J74 -> 149591
A75: 17.2.0.0 | B75: Projekts "Remigrācijas atbalsta pasākums – uzņēmējdarbības atbalsts" | G75: 8000 | I75: =G75 -> 8000 | K75: =I75+J75 -> 8000
A76: 17.2.0.0. | B76: Latgales plānošanas reģiona finansējums projektam "Deinstitucionalizācijas pasākumu īstenošana Latgales reģionā" | G76: 72900 | I76: =G76 -> 72900 | K76: =I76+J76 -> 72900
A77: 17.2.0.0 | B77: Projekts "Amatu prasmes tūrisma telpā" | G77: =61634 -> 61634 | I77: =G77 -> 61634 | J77: =H77 -> 0 | K77: =I77+J77 -> 61634
A78: 17.2.0.0 | B78: Projekts Uzņēmējdarbības atbalsta pasākumi Latgales plānošanas reģionā | G78: 7057 | I78: =G78 -> 7057 | J78: =H78 -> 0 | K78: =I78+J78 -> 7057
A79: 18.0.0.0. | B79: VALSTS BUDŽETA TRANSFERTI | G79: =G80+G161+G144+G162 -> 14470898 | H79: =H80+H144 -> 2496730 | I79: =G79 -> 14470898 | J79: =J80+J144 -> 2496730 | K79: =I79+J79 -> 16967628
A80: 18.6.2.0. | B80: Pašvaldības saņemtie valsts budžeta transferti noteiktam mērķim | G80: 7908107 | H80: =SUM(H81:H143) -> 2312005 | I80: =G80 -> 7908107 | J80: =H80 -> 2312005 | K80: =I80+J80 -> 10220112
A81: 18.6.2.0.02 | B81: Mērķdotācijas pašvaldību pamata un vispārējās izglītības iestāžu pedagogu darba samaksai un valsts sociālās apdrošināšanas obligātajām iemaksām | G81: =3251056+23400 -> 3274456 | H81: 1600952 | I81: =G81 -> 3274456 | J81: =H81 -> 1600952 | K81: =I81+J81 -> 4875408
A82: 18.6.2.0.02 | B82: Mērķdotācijas pašvaldību profesionālās pamatizglītības, arodizglītības un profesionālās vidējās izglītības programmu pedagogu darba samaksai un valsts sociālās apdrošināšanas obligātajām iemaksām | G82: 182000 | H82: 90452 | I82: =G82 -> 182000 | J82: =H82 -> 90452 | K82: =I82+J82 -> 272452
A83: 18.6.2.0.02 | B83: Mērķdotācija interešu izglītības programmu pedagogu daļējai darba samaksai un valsts sociālās apdrošināšanas obligātajām iemaksām | G83: 157847 | H83: 82669 | I83: =G83 -> 157847 | J83: =H83 -> 82669 | K83: =I83+J83 -> 240516
A84: 18.6.2.0.03 | B84: Mērķdotācijas pašvaldības izglītības iestāžu piecgadīgo un sešgadīgo bērnu apmācības pedagogu darba samaksai un valsts soc. apdroš. obligātajām iemaksām | G84: 581731 | H84: 261452 | I84: =G84 -> 581731 | J84: =H84 -> 261452 | K84: =I84+J84 -> 843183
A85: 18.6.2.0.04 | B85: Mērķdotācija audžuģimenēm par bērna uzturnaudas palielināšanu | G85: 21550 | I85: =G85 -> 21550 | J85: =H85 -> 0 | K85: =I85+J85 -> 21550
A86: 18.6.2.0.05 | B86: Valsts dotācija autoceļu (ielu) uzturēšanai | G86: 963135 | I86: =G86 -> 963135 | J86: =H86 -> 0 | K86: =I86+J86 -> 963135
A87: 18.6.2.0.06 | B87: Valsts dotācija sporta skolai | G87: 374372 | H87: 4878 | I87: =G87 -> 374372 | J87: =H87 -> 4878 | K87: =I87+J87 -> 379250
A88: 18.6.2.0.07 | B88: Valsts dotācija mūzikas un mākslas skolām | G88: 538057 | H88: =242569+26525 -> 269094 | I88: =G88 -> 538057 | J88: =H88 -> 269094 | K88: =I88+J88 -> 807151
A89: 18.6.2.0.08 | B89: Valsts dotācija 1.–4.klašu brīvpusdienu daļējai apmaksai | G89: 161226 | H89: 2058 | I89: =G89 -> 161226 | J89: =H89 -> 2058 | K89: =I89+J89 -> 163284
A90: 18.6.2.0.10 | B90: Valsts dotācija Balvu Valsts ģinmāzijai | G90: 5273 | I90: 5273 | J90: =H90 -> 0 | K90: =I90+J90 -> 5273
A91: 18/6/2/0/12 | B91: Valsts dotācija macību līdzekļu un mācību literatūras iegādei | G91: 72644 | I91: =G91 -> 72644 | J91: 0 | K91: =I91+J91 -> 72644
A92: 18.6.2.0.13 | B92: MD māksliniecisko kolektīvu vadītāju darba samaksai un valsts sociālās apdrošināšanas obligātajām iemaksām | G92: =SUM(G93:G107) -> 27404 | I92: =G92 -> 27404 | K92: =I92+J92 -> 27404
B93: Lazdukalna Saieta nams | G93: 403 | I93: =C93+E93+G93 -> 403 | K93: =I93+J93 -> 403
B94: Baltinavas kultūras nams | G94: 2015 | I94: =C94+E94+G94 -> 2015 | K94: =I94+J94 -> 2015
B95: Balvu Kultūras un atpūtas centrs | G95: 6851 | I95: =C95+E95+G95 -> 6851 | K95: =I95+J95 -> 6851
B96: Rugāju tautas nams | G96: 3224 | I96: =C96+E96+G96 -> 3224 | K96: =I96+J96 -> 3224
B97: Šķilbēnu pagasta kultūras centrs "Rekova" | G97: 1612 | I97: =C97+E97+G97 -> 1612 | K97: =I97+J97 -> 1612
B98: Briežuciema tautas nams | G98: 2015 | I98: =C98+E98+G98 -> 2015 | K98: =I98+J98 -> 2015
B99: Krišjāņu tautas nams | G99: 806 | I99: =C99+E99+G99 -> 806 | K99: =I99+J99 -> 806
B100: Vīksnas tautas nams | G100: 1209 | I100: =C100+E100+G100 -> 1209 | K100: =I100+J100 -> 1209
B101: Viļakas Kultūras nams | G101: 4030 | I101: =C101+E101+G101 -> 4030 | K101: =I101+J101 -> 4030
B102: Bērzpils Saieta nams | G102: 403 | I102: =C102+E102+G102 -> 403 | K102: =I102+J102 -> 403
B103: Nemateriālās kultūras mantojuma centrs "Upīte" | G103: 1612 | I103: =C103+E103+G103 -> 1612 | K103: =I103+J103 -> 1612
B104: Medņevas tautas nams | G104: 1209 | I104: =C104+E104+G104 -> 1209 | K104: =I104+J104 -> 1209
...

Sheet 3.pielikums
H2: 3. pielikums
H3: Balvu novada domes
H4: 2024. gada 24. oktobra saistošajiem noteikumiem Nr. 17/2024
H5: "Grozījumi 2024. gada 25. janvāra saistošajos noteikumos Nr. 1/2024
H6: "Par Balvu novada pašvaldības 2024. gada budžetu""
H8: 3. pielikums
H9: Balvu novada domes
H10: 2024. gada 25. janvāra saistošajiem noteikumiem Nr. 1/2024
H11: "Par Balvu novada pašvaldības 2024. gada budžetu"
C13: Balvu novada pašvaldības pamatbudžeta izdevumi 2024. gadam (EUR)
A15: Klasifikācijas kods | B15: Iestādes un pasākumi | D15: Finansēšanas avots | H15: Kopā
C16: Atlikums uz gada sākumu | D16: Vispārējie ieņēmumi | E16: Budžeta iestāžu ieņēmumi | F16: Valsts un pašvaldību transferti | G16: Aizņēmumi
C17: =C18+C51+C55+C112+C182+C193+C248+C322+C89 -> 938499 | D17: =D18+D51+D55+D112+D182+D193+D248+D322+D89 -> 21238218 | E17: =E18+E51+E55+E112+E182+E193+E248+E322+E89 -> 4953566 | F17: =F18+F51+F55+F112+F182+F193+F248+F322+F89 -> 10330591 | G17: =G18+G51+G55+G112+G182+G193+G248+G322+G89 -> 974992 | H17: =H18+H51+H55+H112+H182+H193+H248+H322+H89 -> 38627588
A18: 01.000 | B18: Vispārējie valdības dienesti | C18: =SUM(C19:C49) -> 5614 | D18: =SUM(D19:D49) -> 3708712 | E18: =SUM(E19:E49) -> 12862 | F18: =SUM(F19:F49) -> 130710 | G18: =SUM(G19:G49) -> 0 | H18: =SUM(H19:H50) -> 3930407
B19: Balvu novada administrācija | D19: =H19-E19-G19-F19-C19 -> 1522773 | H19: ='4.pielikums'!B18 -> 1522773
B20: Deputātu darba samaksa | D20: =H20-E20-G20-F20-C20 -> 127701 | H20: ='4.pielikums'!B19 -> 127701
B21: Bijušo pagastu padomju un pilsētu domju vadītāju pabalsti | D21: =H21-E21-G21-F21-C21 -> 255015 | H21: ='4.pielikums'!B20 -> 255015
B22: Komisiju darba samaksa | D22: =H22-E22-G22-F22-C22 -> 30000 | H22: ='4.pielikums'!B21 -> 30000
B23: Balvu pilsētas pārvalde | D23: =H23-E23-G23-F23-C23 -> 46653 | H23: ='4.pielikums'!B23 -> 46653
B24: Balvu pagasta pārvalde | D24: =H24-E24-G24-F24-C24 -> 37935 | E24: 115 | H24: ='4.pielikums'!B25 -> 38050
B25: Baltinavas pagasta pārvalde | D25: =H25-E25-G25-F25-C25 -> 59813 | E25: 305 | H25: ='4.pielikums'!B26 -> 60118
B26: Bērzkalnes pagasta pārvalde | D26: =H26-E26-G26-F26-C26 -> 26739 | H26: ='4.pielikums'!B27 -> 26739
B27: Bērzpils pagasta pārvalde | D27: =H27-E27-G27-F27-C27 -> 39943 | E27: 910 | H27: ='4.pielikums'!B28 -> 40853
B28: Briežuciema pagasta pārvalde | D28: =H28-E28-G28-F28-C28 -> 24622 | H28: ='4.pielikums'!B30 -> 24622
B29: Krišjāņu pagasta pārvalde | D29: =H29-E29-G29-F29-C29 -> 32263 | E29: 85 | H29: ='4.pielikums'!B31 -> 32348
B30: Kubulu pagasta pārvalde | D30: =H30-E30-G30-F30-C30 -> 40674 | E30: 0 | H30: ='4.pielikums'!B33 -> 40674
B31: Kupravas pagasta pārvalde | D31: =H31-E31-G31-F31-C31 -> 44556 | E31: 0 | H31: ='4.pielikums'!B34 -> 44556
B32: Lazdukalna pagasta pārvalde | D32: =H32-E32-G32-F32-C32 -> 30856 | H32: ='4.pielikums'!B35 -> 30856
B33: Lazdulejas pagasta pārvalde | D33: =H33-E33-G33-F33-C33 -> 20735 | H33: ='4.pielikums'!B37 -> 20735
B34: Medņevas pagasta pārvalde | D34: =H34-E34-G34-F34-C34 -> 34119 | H34: ='4.pielikums'!B38 -> 34119
B35: Rugāju pagasta pārvalde | D35: =H35-E35-G35-F35-C35 -> 37292 | E35: 1200 | H35: ='4.pielikums'!B39 -> 38492
B36: Susāju pagasta pārvalde | D36: =H36-E36-G36-F36-C36 -> 20500 | H36: ='4.pielikums'!B41 -> 20500
B37: Šķilbēnu pagasta pārvalde | D37: =H37-E37-G37-F37-C37 -> 44173 | H37: ='4.pielikums'!B42 -> 44173
B38: Tilžas pagasta pārvalde | D38: =H38-E38-G38-F38-C38 -> 35893 | E38: =500 -> 500 | H38: ='4.pielikums'!B43 -> 36393
B39: Vectilžas pagasta pārvalde | D39: =H39-E39-G39-F39-C39 -> 45010 | H39: ='4.pielikums'!B44 -> 45010
B40: Vecumu pagasta pārvalde | D40: =H40-E40-G40-F40-C40 -> 31242 | H40: ='4.pielikums'!B46 -> 31242
B41: Vīksnas pagasta pārvalde | D41: =H41-E41-G41-F41-C41 -> 39006 | E41: =67 -> 67 | H41: ='4.pielikums'!B47 -> 39073
B42: Viļakas pilsētas pārvalde | D42: =H42-E42-G42-F42-C42 -> 50449 | E42: 1130 | H42: ='4.pielikums'!B48 -> 51579
B43: Žīguru pagasta pārvalde | D43: =H43-E43-G43-F43-C43 -> 34189 | H43: ='4.pielikums'!B49 -> 34189
B44: Valsts un pašvaldības vienotais klientu apkalpošanas centrs | D44: =H44-E44-G44-F44-C44 -> 62491 | E44: 8550 | F44: 26000 | H44: ='4.pielikums'!B50 -> 97041
B45: Pašvaldības aizņēmumu apkalpošana un procentu maksa | D45: =H45-E45-G45-F45-C45 -> 881967 | H45: ='4.pielikums'!B53 -> 881967
B46: Izdevumi neparedzētiem gadījumiem | D46: =H46-E46-G46-F46-C46 -> 5700 | H46: ='4.pielikums'!B51 -> 5700
B47: Biedru maksa | D47: =H47-E47-G47-F47-C47 -> 41674 | H47: ='4.pielikums'!B52 -> 41674
B48: Vēlēšanu komisija | D48: =H48-E48-G48-F48-C48 -> 4729 | F48: 104710 | H48: ='4.pielikums'!B22 -> 109439
B49: Projekts "Green Youth Emprower" | C49: 5614 | H49: ='4.pielikums'!B351 -> 5614
B50: Projekts Promote the green tourismroutes of Riga, Vidzeme and Latgale regions (Greenways of Latvia) | H50: ='4.pielikums'!B372 -> 72509
A51: 03.000 | B51: Sabiedriskā kārtība un drošība | C51: =SUM(C52:C54) -> 0 | D51: =SUM(D52:D54) -> 292974 | E51: =SUM(E52:E54) -> 24440 | F51: =SUM(F52:F54) -> 5280 | G51: =SUM(G52:G54) -> 0 | H51: =SUM(H52:H54) -> 322694
B52: Dzimtsarakstu nodaļa | D52: =H52-E52-G52-F52-C52 -> 71921 | E52: =1400+1340+1200 -> 3940 | H52: ='4.pielikums'!B54 -> 75861
B53: Pašvaldības policija | D53: =H53-E53-G53-F53-C53 -> 179947 | E53: 2000 | H53: ='4.pielikums'!B55 -> 181947
B54: Atskurbtuves uzturēšana | D54: =H54-E54-G54-F54-C54 -> 41106 | E54: 18500 | F54: 5280 | H54: ='4.pielikums'!B56 -> 64886
A55: 04.000 | B55: Ekonomiskā darbība | C55: =SUM(C56:C87) -> 469913 | D55: =SUM(D56:D87) -> 300909 | E55: =SUM(E56:E87) -> 19750 | F55: =SUM(F56:F88) -> 1117982 | G55: =SUM(G56:G87) -> 310704 | H55: =SUM(H56:H88) -> 2219258
B56: Balvu novada Būvvalde | D56: =H56-E56-G56-F56-C56 -> 49824 | E56: =10000 -> 10000 | H56: ='4.pielikums'!B57 -> 59824
B57: Ziemeļlatgales biznesa un tūrisma centrs | D57: =H57-E57-G57-F57-C57 -> 89707 | E57: 4000 | H57: ='4.pielikums'!B60 -> 93707
B58: Algotie pagaidu sabiedriskie darbi | C58: 9632 | D58: =H58-E58-G58-F58-C58 -> 743 | F58: 60100 | H58: ='4.pielikums'!B84 -> 70475
B59: Balvu pilsētas autoceļu (ielu) uzturēšana | D59: =H59-E59-G59-F59-C59 -> 0 | F59: 104110 | H59: ='4.pielikums'!B62 -> 104110
B60: Baltinavas pagasta autoceļu (ielu) uzturēšana | C60: 8828 | D60: =H60-E60-G60-F60-C60 -> 0 | F60: 56751 | H60: ='4.pielikums'!B63 -> 65579
B61: Balvu pagasta autoceļu (ielu) uzturēšana | C61: 649 | D61: =H61-E61-G61-F61-C61 -> 0 | F61: 27900 | H61: ='4.pielikums'!B64 -> 28549
B62: Bērzkalnes pagasta autoceļu (ielu) uzturēšana | C62: 4366 | D62: =H62-E62-G62-F62-C62 -> 0 | F62: 20386 | H62: ='4.pielikums'!B65 -> 24752
B63: Bērzpils pagasta autoceļu (ielu) uzturēšana | C63: 25610 | D63: =H63-E63-G63-F63-C63 -> 0 | F63: 44096 | H63: ='4.pielikums'!B66 -> 69706
B64: Briežuciema pagasta autoceļu (ielu) uzturēšana | C64: 14147 | D64: =H64-E64-G64-F64-C64 -> 0 | F64: 23821 | H64: ='4.pielikums'!B67 -> 37968
B65: Krišjāņu pagasta autoceļu (ielu) uzturēšana | C65: 6916 | D65: =H65-E65-G65-F65-C65 -> 0 | F65: 18272 | H65: ='4.pielikums'!B68 -> 25188
B66: Kubulu pagasta autoceļu (ielu) uzturēšana | D66: =H66-E66-G66-F66-C66 -> 0 | F66: 34470 | H66: ='4.pielikums'!B69 -> 34470
B67: Kupravas pagasta autoceļu (ielu) uzturēšana | C67: 5988 | D67: =H67-E67-G67-F67-C67 -> 0 | F67: 11227 | H67: ='4.pielikums'!B70 -> 17215
B68: Lazdulejas pagasta autoceļu (ielu) uzturēšana | C68: 624 | D68: =H68-E68-G68-F68-C68 -> 0 | F68: 14851 | H68: ='4.pielikums'!B71 -> 15475
B69: Lazdukalna pagasta autoceļu (ielu) uzturēšana | C69: 21204 | D69: =H69-E69-G69-F69-C69 -> 0 | F69: 48840 | H69: ='4.pielikums'!B72 -> 70044
B70: Medņevas pagasta autoceļu (ielu) uzturēšana | C70: 4426 | D70: =H70-E70-G70-F70-C70 -> 0 | F70: 35064 | H70: ='4.pielikums'!B73 -> 39490
B71: Rugāju pagasta autoceļu (ielu) uzturēšana | C71: 202031 | D71: =H71-E71-G71-F71-C71 -> 0 | F71: 70422 | H71: ='4.pielikums'!B74 -> 272453
B72: Susāju pagasta autoceļu (ielu) uzturēšana | C72: 21990 | D72: =H72-E72-G72-F72-C72 -> 0 | F72: 30329 | H72: ='4.pielikums'!B75 -> 52319
B73: Šķilbēnu pagasta autoceļu (ielu) uzturēšana | C73: 31095 | D73: =H73-E73-G73-F73-C73 -> 0 | F73: 52426 | H73: ='4.pielikums'!B76 -> 83521
B74: Tilžas pagasta autoceļu (ielu) uzturēšana | C74: 10270 | D74: =H74-E74-G74-F74-C74 -> 0 | F74: 38359 | H74: ='4.pielikums'!B77 -> 48629
B75: Vectilžas pagasta autoceļu (ielu) uzturēšana | C75: 6493 | D75: =H75-E75-G75-F75-C75 -> 0 | F75: 13853 | H75: ='4.pielikums'!B78 -> 20346
B76: Vecumu pagasta autoceļu (ielu) uzturēšana | C76: 7757 | D76: =H76-E76-G76-F76-C76 -> 0 | F76: 23929 | H76: ='4.pielikums'!B79 -> 31686
B77: Vīksnas pagasta autoceļu (ielu) uzturēšana | C77: 6092 | D77: =H77-E77-G77-F77-C77 -> 0 | F77: 23719 | H77: ='4.pielikums'!B80 -> 29811
B78: Žīguru pagasta autoceļu (ielu) uzturēšana | C78: 411 | D78: =H78-E78-G78-F78-C78 -> 0 | F78: 9382 | H78: ='4.pielikums'!B81 -> 9793
B79: Viļakas pilsētas autoceļu (ielu) uzturēšana | D79: =H79-E79-G79-F79-C79 -> 0 | F79: 24565 | H79: ='4.pielikums'!B82 -> 24565
B80: Autoceļu (ielu) uzturēšanas līdzekļu rezerves fonds | C80: =81384-18861 -> 62523 | D80: =H80-E80-G80-F80-C80 -> 0 | F80: 236363 | H80: ='4.pielikums'!B83 -> 298886
B81: Balkanu Dabas parks | D81: =H81-E81-G81-F81-C81 -> 12914 | E81: 5750 | H81: ='4.pielikums'!B85 -> 18664
B82: Latgales speciālās ekonomiskās zonas atbalsts | D82: =H82-E82-G82-F82-C82 -> 3721 | H82: ='4.pielikums'!B59 -> 3721
B83: Pārējā ekonomiskā darbība (PVN) | D83: =H83-E83-G83-F83-C83 -> 90000 | H83: ='4.pielikums'!B58 -> 90000
B84: Biznesa ideju konkurss | D84: =H84-E84-G84-F84-C84 -> 50000 | H84: ='4.pielikums'!B61 -> 50000
B85: Kubulu ciema ielu pārbūve | C85: 18861 | D85: =H85-E85-G85-F85-C85 -> 0 | G85: 169752 | H85: ='4.pielikums'!B346 -> 188613
B86: "Remigrācijas atbalsta pasākums – uzņēmējdarbības atbalsts" | D86: =H86-E86-G86-F86-C86 -> 4000 | F86: 8000 | H86: ='4.pielikums'!B350 -> 12000
B87: Vides pieejamības veicināšana Balvu novada Nodarbinātības valsts aģentūrā | D87: =H87-E87-G87-F87-C87 -> 0 | F87: 46467 | G87: 140952 | H87: ='4.pielikums'!B86 -> 187419
B88: Skolēnu nodarbinātība vasarā | F88: 40280 | H88: ='4.pielikums'!B364 -> 40280
A89: 05.000 | B89: Vides aizsardzība | C89: =SUM(C90:C111) -> 28093 | D89: =SUM(D90:D111) -> 24103 | E89: =SUM(E90:E111) -> 140128 | F89: =SUM(F90:F111) -> 0 | G89: =SUM(G90:G111) -> 0 | H89: =SUM(H90:H111) -> 192324
B90: Vides piesārņojuma novēršana un samazināšana (dabas resursu nodoklis) | C90: 28093 | D90: =H90-E90-G90-F90-C90 -> 0 | E90: 38000 | H90: ='4.pielikums'!B87 -> 66093
B91: Baltinavas komunālā saimniecība – notekūdeņu apsaimniekošana | D91: =H91-E91-G91-F91-C91 -> 0 | E91: 7712 | H91: ='4.pielikums'!B88 -> 7712
B92: Bērzkalnes komunālā saimniecība – notekūdeņu apsaimniekošana | D92: =H92-E92-G92-F92-C92 -> 0 | E92: 2845 | H92: ='4.pielikums'!B89 -> 2845
B93: Bērzpils komunālā saimniecība – notekūdeņu apsaimniekošana | D93: =H93-E93-G93-F93-C93 -> 62 | E93: 4230 | H93: ='4.pielikums'!B90 -> 4292
B94: Briežuciema komunālā saimniecība – notekūdeņu apsaimniekošana | D94: =H94-E94-G94-F94-C94 -> 687 | E94: 3572 | H94: ='4.pielikums'!B92 -> 4259
B95: Krišjāņu komunālā saimniecība – notekūdeņu apsaimniekošana | D95: =H95-E95-G95-F95-C95 -> 950 | E95: 2718 | H95: ='4.pielikums'!B93 -> 3668
B96: Kubulu komunālā saimniecība – notekūdeņu apsaimniekošana | D96: =H96-E96-G96-F96-C96 -> 0 | E96: 6752 | H96: ='4.pielikums'!B95 -> 6752
B97: Kupravas komunālā saimniecība – notekūdeņu apsaimniekošana | D97: =H97-E97-G97-F97-C97 -> 0 | E97: 4700 | H97: ='4.pielikums'!B96 -> 4700
B98: Lazdukalna komunālā saimniecība – notekūdeņu apsaimniekošana | D98: =H98-E98-G98-F98-C98 -> 0 | E98: 8550 | H98: ='4.pielikums'!B97 -> 8550
B99: Lazdulejas komunālā saimniecība – notekūdeņu apsaimniekošana | D99: =H99-E99-G99-F99-C99 -> 1732 | E99: 1270 | H99: ='4.pielikums'!B99 -> 3002
B100: Medņevas komunālā saimniecība – notekūdeņu apsaimniekošana | D100: =H100-E100-G100-F100-C100 -> 3306 | E100: 6780 | H100: ='4.pielikums'!B100 -> 10086
B101: Rekavas komunālā saimniecība – notekūdeņu apsaimniekošana | D101: =H101-E101-G101-F101-C101 -> 0 | E101: 1010 | H101: ='4.pielikums'!B101 -> 1010
B102: Rugāju komunālā saimniecība – notekūdeņu apsaimniekošana | D102: =H102-E102-G102-F102-C102 -> 2437 | E102: 6273 | H102: ='4.pielikums'!B102 -> 8710
B103: Tilžas komunālā saimniecība – notekūdeņu apsaimniekošana | D103: =H103-E103-G103-F103-C103 -> 6370 | E103: 4286 | H103: ='4.pielikums'!B104 -> 10656
B104: Upītes komunālā saimniecība – notekūdeņu apsaimniekošana | D104: =H104-E104-G104-F104-C104 -> 0 | E104: 720 | H104: ='4.pielikums'!B105 -> 720
...

Sheet 4.pielikums
P1: 4. pielikums
P2: Balvu novada domes
P3: 2024. gada 24. oktobra saistošajiem noteikumiem Nr. 17/2024
P4: "Grozījumi 2024. gada 25. janvāra saistošajos noteikumos Nr. 1/2024
P5: "Par Balvu novada pašvaldības 2024. gada budžetu""
P7: 4. pielikums
P8: Balvu novada domes
P9: 2024. gada 25. janvāra saistošajiem noteikumiem Nr. 1/2024
P10: "Par Balvu novada pašvaldības 2024. gada budžetu"
A13: Balvu novada pašvaldības 2024.gada pamatbudžeta izdevumi atbilstoši ekonomiskajām kategorijām (EUR)
A15: Iestādes | B15: Apstiprināts 2024.gadam (EUR) | C15: Izdevumi pa ekonomiskās klasifikācijas kodiem (EUR)
C16: 1000 | D16: 1100 | E16: 1200 | F16: 2000 | G16: 2100 | H16: 2200 | I16: 2300 | J16: 2400 | K16: 2500 | L16: 3000 | M16: 4000 | N16: 5000 | O16: 6000 | P16: 7000
C17: Atlīdzība | D17: Atalgojums | E17: DDVSAOI | F17: Preces un pakalpojumi | G17: Mācību, darba un dienesta komandējumi, darba braucieni | H17: Pakalpojumi | I17: Krājumi, materiāli, energoresursi, preces, biroja preces un inventārs | J17: Izdevumi periodikas iegādei bibliotēku krājumiem | K17: Budžeta iestāžu nodokļu, nodevu un sankciju maksājumi | L17: Subsīdijas un dotācijas | M17: Procentu maksājumi | N17: Pamatkapitāla veidošana | O17: Sociālā rakstura maksājumi un kompensācijas | P17: Transferti
A18: Balvu novada administrācija | B18: =SUM(C18+F18,L18:P18) -> 1522773 | C18: =D18+E18 -> 1287651 | D18: 1040812 | E18: 246839 | F18: =SUM(G18:K18) -> 232372 | G18: 2480 | H18: =177541+23631-1750 -> 199422 | I18: 28470 | K18: 2000 | N18: 1000 | P18: 1750
A19: Deputātu darba samaksa | B19: =SUM(C19+F19,L19:P19) -> 127701 | C19: =D19+E19 -> 127701 | D19: 103555 | E19: 24146 | F19: =SUM(G19:K19) -> 0
A20: Bijušo pagastu padomju un pilsētu domju vadītāju pabalsti | B20: =SUM(C20+F20,L20:P20) -> 255015 | C20: =D20+E20 -> 0 | F20: =SUM(G20:K20) -> 0 | O20: 255015
A21: Komisiju darba samaksa | B21: =SUM(C21+F21,L21:P21) -> 30000 | C21: =D21+E21 -> 30000 | D21: 24274 | E21: 5726 | F21: =SUM(G21:K21) -> 0
A22: Vēlēšanu komisija | B22: =SUM(C22+F22,L22:P22) -> 109439 | C22: =D22+E22 -> 105165 | D22: 85199 | E22: 19966 | F22: =G22+H22+I22 -> 4274 | H22: 61 | I22: 4213
A23: Balvu pilsētas pārvalde | B23: =SUM(C23+F23,L23:P23) -> 46653 | C23: =D23+E23 -> 40785 | D23: 33000 | E23: 7785 | F23: =SUM(G23:K23) -> 4058 | G23: 20 | H23: =2345+H24 -> 2270 | I23: =3503+I24 -> 1768 | N23: =N24 -> 1810
A24: Grozījumi | B24: =SUM(C24+F24,L24:P24) -> 0 | F24: =SUM(G24:K24) -> -1810 | H24: -75 | I24: -1735 | N24: 1810
A25: Balvu pagasta pārvalde | B25: =SUM(C25+F25,L25:P25) -> 38050 | C25: =D25+E25 -> 34292 | D25: 27606 | E25: 6686 | F25: =SUM(G25:K25) -> 3758 | H25: 1651 | I25: 2006 | K25: 101
A26: Baltinavas pagasta pārvalde | B26: =SUM(C26+F26,L26:P26) -> 60118 | C26: =D26+E26 -> 43440 | D26: 35125 | E26: 8315 | F26: =SUM(G26:K26) -> 16678 | H26: 7695 | I26: 8983
A27: Bērzkalnes pagasta pārvalde | B27: =SUM(C27+F27,L27:P27) -> 26739 | C27: =D27+E27 -> 22563 | D27: 18120 | E27: 4443 | F27: =SUM(G27:K27) -> 4176 | H27: 2836 | I27: 1340
A28: Bērzpils pagasta pārvalde | B28: =SUM(C28+F28,L28:P28) -> 40853 | C28: =D28+E28 -> 33894 | D28: 27201 | E28: 6693 | F28: =SUM(G28:K28) -> 6959 | H28: =3483+H29 -> 3421 | I28: =3160+I29 -> 3222 | K28: 316
A29: Grozījumi | B29: =SUM(C29+F29,L29:P29) -> 0 | F29: =SUM(G29:K29) -> 0 | H29: -62 | I29: 62
A30: Briežuciema pagasta pārvalde | B30: =SUM(C30+F30,L30:P30) -> 24622 | C30: =D30+E30 -> 18878 | D30: 15228 | E30: 3650 | F30: =SUM(G30:K30) -> 5744 | H30: 2274 | I30: 3470
A31: Krišjāņu pagasta pārvalde | B31: =SUM(C31+F31,L31:P31) -> 32348 | C31: =D31+E31 -> 27797 | D31: 22258 | E31: 5539 | F31: =SUM(G31:K31) -> 4551 | G31: =40+G32 -> 0 | H31: =2801+H32 -> 2841 | I31: 1500 | K31: 210
A32: Grozījumi | B32: =SUM(C32+F32,L32:P32) -> 0 | F32: =SUM(G32:K32) -> 0 | G32: -40 | H32: 40
A33: Kubulu pagasta pārvalde | B33: =SUM(C33+F33,L33:P33) -> 40674 | C33: =D33+E33 -> 31818 | D33: 25517 | E33: 6301 | F33: =SUM(G33:K33) -> 8856 | H33: 4857 | I33: 3855 | K33: 144
A34: Kupravas pagasta pārvalde | B34: =SUM(C34+F34,L34:P34) -> 44556 | C34: =D34+E34 -> 27612 | D34: 22311 | E34: 5301 | F34: =SUM(G34:K34) -> 16944 | H34: =1300+12000 -> 13300 | I34: =3644 -> 3644
A35: Lazdukalna pagasta pārvalde | B35: =SUM(C35+F35,L35:P35) -> 30856 | C35: =D35+E35 -> 25563 | D35: 20628 | E35: 4935 | F35: =SUM(G35:K35) -> 5293 | G35: 32 | H35: =4111+H36 -> 3861 | I35: =1150+I36 -> 1350 | K35: =K36 -> 50
A36: Grozījumi | B36: =SUM(C36+F36,L36:P36) -> 0 | F36: =SUM(G36:K36) -> 0 | H36: -250 | I36: 200 | K36: 50
A37: Lazdulejas pagasta pārvalde | B37: =SUM(C37+F37,L37:P37) -> 20735 | C37: =D37+E37 -> 18326 | D37: 14640 | E37: 3686 | F37: =SUM(G37:K37) -> 2409 | H37: 964 | I37: 1445
A38: Medņevas pagasta pārvalde | B38: =SUM(C38+F38,L38:P38) -> 34119 | C38: =D38+E38 -> 26542 | D38: 21450 | E38: 5092 | F38: =SUM(G38:K38) -> 7577 | H38: 4641 | I38: 2710 | K38: 226
A39: Rugāju pagasta pārvalde | B39: =SUM(C39+F39,L39:P39) -> 38492 | C39: =D39++E39 -> 26241 | D39: 21120 | E39: 5121 | F39: =SUM(G39:K39) -> 12251 | G39: 40 | H39: =8558+H40 -> 8388 | I39: =3460+I40 -> 3630 | K39: 193
A40: Grozījumi | B40: =SUM(C40+F40,L40:P40) -> 0 | F40: =SUM(G40:K40) -> 0 | H40: -170 | I40: 170
A41: Susāju pagasta pārvalde | B41: =SUM(C41+F41,L41:P41) -> 20500 | C41: =D41+E41 -> 13530 | D41: 10912 | E41: 2618 | F41: =SUM(G41:K41) -> 6970 | H41: 5600 | I41: 1370
A42: Šķilbēnu pagasta pārvalde | B42: =SUM(C42+F42,L42:P42) -> 44173 | C42: =D42+E42 -> 36281 | D42: 29320 | E42: 6961 | F42: =SUM(G42:K42) -> 7892 | H42: 2205 | I42: 5413 | K42: 274
A43: Tilžas pagasta pārvalde | B43: =SUM(C43+F43,L43:P43) -> 36393 | C43: =D43+E43 -> 31017 | D43: 25015 | E43: 6002 | F43: =SUM(G43:K43) -> 5376 | G43: 80 | H43: 3240 | I43: 1846 | K43: 210
A44: Vectilžas pagasta pārvalde | B44: =SUM(C44+F44,L44:P44) -> 45010 | C44: =D44+E44 -> 26414 | D44: 21317 | E44: 5097 | F44: =SUM(G44:K44) -> 3955 | H44: 2287 | I44: 1408 | K44: 260 | N44: =N45 -> 14641
A45: Grozījumi | B45: =SUM(C45+F45,L45:P45) -> 14641 | N45: 14641
A46: Vecumu pagasta pārvalde | B46: =SUM(C46+F46,L46:P46) -> 31242 | C46: =D46+E46 -> 24951 | D46: 20077 | E46: 4874 | F46: =SUM(G46:K46) -> 6291 | H46: 4386 | I46: 1485 | K46: 420
A47: Vīksnas pagasta pārvalde | B47: =SUM(C47+F47,L47:P47) -> 39073 | C47: =D47+E47 -> 31541 | D47: 25414 | E47: 6127 | F47: =SUM(G47:K47) -> 7532 | H47: 2962 | I47: 4370 | K47: 200
A48: Viļakas pilsētas pārvalde | B48: =SUM(C48+F48,L48:P48) -> 51579 | C48: =D48+E48 -> 30858 | D48: 24810 | E48: 6048 | F48: =SUM(G48:K48) -> 20721 | H48: 17236 | I48: 3320 | K48: 165
A49: Žīguru pagasta pārvalde | B49: =SUM(C49+F49,L49:P49) -> 34189 | C49: =D49+E49 -> 26734 | D49: 21600 | E49: 5134 | F49: =SUM(G49:K49) -> 7455 | H49: 2123 | I49: 5122 | K49: 210
A50: Valsts un pašvaldības vienotais klientu apkalpošanas centrs | B50: =SUM(C50+F50,L50:P50) -> 97041 | C50: =D50+E50 -> 79592 | D50: 64402 | E50: 15190 | F50: =SUM(G50:K50) -> 12234 | G50: 50 | H50: 9934 | I50: 2250 | P50: 5215
A51: Izdevumi neparedzētiem gadījumiem | B51: =SUM(C51:F51,L51:P51) -> 5700 | F51: =SUM(G51:K51) -> 5700 | H51: =6000-300 -> 5700
A52: Biedru maksa | B52: =SUM(C52+F52,L52:P52) -> 41674 | F52: =SUM(G52:K52) -> 38274 | H52: =41674-3400 -> 38274 | L52: 3400
A53: Pašvaldības aizņēmumu apkalpošana un procentu maksa | B53: =SUM(C53+F53,L53:P53) -> 881967 | F53: =SUM(G53:K53) -> 21746 | H53: 21746 | M53: 860221
A54: Dzimtsarakstu nodaļa | B54: =SUM(C54+F54,L54:P54) -> 75861 | C54: =D54+E54 -> 56841 | D54: =43987 -> 43987 | E54: =12854 -> 12854 | F54: =SUM(G54:K54) -> 19020 | G54: 140 | H54: 15455 | I54: 3425
A55: Pašvaldības policija | B55: =SUM(C55+F55,L55:P55) -> 181947 | C55: =D55+E55 -> 161849 | D55: 131916 | E55: 29933 | F55: =SUM(G55:K55) -> 19318 | G55: 130 | H55: 8208 | I55: 10830 | K55: 150 | N55: 780
A56: Atskurbtuves uzturēšana | B56: =SUM(C56+F56,L56:P56) -> 64886 | C56: =D56+E56 -> 60186 | D56: 48241 | E56: 11945 | F56: =SUM(G56:K56) -> 4700 | H56: 3920 | I56: =780-150 -> 630 | K56: 150
A57: Būvvalde | B57: =SUM(C57+F57,L57:P57) -> 59824 | C57: =D57+E57 -> 58119 | D57: 46338 | E57: 11781 | F57: =SUM(G57:K57) -> 1705 | G57: 150 | H57: =705 -> 705 | I57: 850
A58: Pārējā ekonomiskā darbība (PVN) | B58: =SUM(C58:F58,L58:P58) -> 90000 | F58: =SUM(G58:K58) -> 90000 | K58: 90000
A59: Latgales speciālās ekonomiskās zonas atbalsts | B59: =SUM(C59:F59,L59:P59) -> 3721 | F59: =SUM(G59:K59) -> 0 | P59: =3244+477 -> 3721
A60: Ziemeļlatgales biznesa un tūrisma centrs | B60: =SUM(C60+F60,L60:P60) -> 93707 | C60: =D60+E60 -> 61140 | D60: 49282 | E60: 11858 | F60: =SUM(G60:K60) -> 32567 | G60: 520 | H60: 28147 | I60: 3900
A61: Biznesa ideju konkurss | B61: =SUM(C61:F61,L61:P61) -> 50000 | F61: =SUM(G61:K61) -> 0 | L61: 50000
A62: Balvu pilsētas autoceļu (ielu) uzturēšana | B62: =SUM(C62:F62,L62:P62) -> 104110 | F62: =SUM(G62:K62) -> 66725 | H62: =103910-37385 -> 66525 | I62: 200 | N62: 37385
A63: Baltinavas pagasta autoceļu (ielu) uzturēšana | B63: =SUM(C63+F63,L63:P63) -> 65579 | F63: =SUM(G63:K63) -> 65579 | H63: 47974 | I63: 17605
A64: Balvu pagasta autoceļu (ielu) uzturēšana | B64: =SUM(C64+F64,L64:P64) -> 28549 | F64: =SUM(G64:K64) -> 28549 | H64: 23749 | I64: 4800
A65: Bērzkalnes pagasta autoceļu (ielu) uzturēšana | B65: =SUM(C65+F65,L65:P65) -> 24752 | F65: =SUM(G65:K65) -> 24752 | H65: 23702 | I65: 1050
A66: Bērzpils pagasta autoceļu (ielu) uzturēšana | B66: =SUM(C66+F66,L66:P66) -> 69706 | F66: =SUM(G66:K66) -> 59384 | H66: =61506-4322 -> 57184 | I66: 2200 | N66: =6000+4322 -> 10322
A67: Briežuciema pagasta autoceļu (ielu) uzturēšana | B67: =SUM(C67+F67,L67:P67) -> 37968 | F67: =SUM(G67:K67) -> 37968 | H67: 36748 | I67: 1220
A68: Krišjāņu pagasta autoceļu (ielu) uzturēšana | B68: =SUM(C68+F68,L68:P68) -> 25188 | F68: =SUM(G68:K68) -> 25188 | H68: 23778 | I68: 1410
A69: Kubulu pagasta autoceļu (ielu) uzturēšana | B69: =SUM(C69+F69,L69:P69) -> 34470 | F69: =SUM(G69:K69) -> 34470 | H69: =34370-2306 -> 32064 | I69: =100+2306 -> 2406
A70: Kupravas pagasta autoceļu (ielu) uzturēšana | B70: =SUM(C70+F70,L70:P70) -> 17215 | F70: =SUM(G70:K70) -> 17215 | H70: 13015 | I70: 4200
A71: Lazdulejas pagasta autoceļu (ielu) uzturēšana | B71: =SUM(C71+F71,L71:P71) -> 15475 | F71: =SUM(G71:K71) -> 15475 | H71: 15295 | I71: 180
A72: Lazdukalna pagasta apgaismojuma un autoceļu (ielu) uzturēšana | B72: =SUM(C72+F72,L72:P72) -> 70044 | F72: =SUM(G72:K72) -> 58144 | H72: =9000+50 -> 9050 | I72: =41044-50+8100 -> 49094 | N72: =20000+(-8100) -> 11900
A73: Medņevas pagasta autoceļu (ielu) uzturēšana | B73: =SUM(C73+F73,L73:P73) -> 39490 | F73: =SUM(G73:K73) -> 39490 | H73: =38840-3500 -> 35340 | I73: =650+3500 -> 4150
A74: Rugāju pagasta autoceļu (ielu) uzturēšana | B74: =SUM(C74+F74,L74:P74) -> 272453 | F74: =SUM(G74:K74) -> 139453 | H74: =31453-980 -> 30473 | I74: =46000+62980 -> 108980 | N74: =195000-62000 -> 133000
A75: Susāju pagasta autoceļu (ielu) uzturēšana | B75: =SUM(C75+F75,L75:P75) -> 52319 | C75: =D75+E75 -> 2472 | D75: 2000 | E75: 472 | F75: =SUM(G75:K75) -> 29847 | H75: 19867 | I75: 9980 | N75: 20000
A76: Šķilbēnu pagasta autoceļu (ielu) uzturēšana | B76: =SUM(C76+F76,L76:P76) -> 83521 | F76: =SUM(G76:K76) -> 55321 | H76: 50483 | I76: 4838 | N76: 28200
A77: Tilžas pagasta autoceļu (ielu) uzturēšana | B77: =SUM(C77+F77,L77:P77) -> 48629 | F77: =SUM(G77:K77) -> 48629 | H77: 43229 | I77: 5400
A78: Vectilžas pagasta autoceļu (ielu) uzturēšana | B78: =SUM(C78+F78,L78:P78) -> 20346 | F78: =SUM(G78:K78) -> 20346 | H78: 19346 | I78: 1000
A79: Vecumu pagasta autoceļu (ielu) uzturēšana | B79: =SUM(C79+F79,L79:P79) -> 31686 | C79: =D79+E79 -> 7507 | D79: 5880 | E79: 1627 | F79: =SUM(G79:K79) -> 24179 | H79: 17009 | I79: 7170
A80: Vīksnas pagasta autoceļu (ielu) uzturēšana | B80: =SUM(C80+F80,L80:P80) -> 29811 | C80: =D80+E80 -> 0 | F80: =SUM(G80:K80) -> 29811 | H80: 25141 | I80: 4670
A81: Žīguru pagasta autoceļu (ielu) uzturēšana | B81: =SUM(C81+F81,L81:P81) -> 9793 | C81: =D81+E81 -> 0 | F81: =SUM(G81:K81) -> 9793 | H81: 6793 | I81: 3000
A82: Viļakas pilsētas autoceļu (ielu) uzturēšana | B82: =SUM(C82+F82,L82:P82) -> 24565 | C82: =D82+E82 -> 5191 | D82: 4200 | E82: 991 | F82: =SUM(G82:K82) -> 19374 | H82: 12874 | I82: 6500
A83: Autoceļu (ielu) uzturēšanas līdzekļu rezerves fonds | B83: =SUM(C83:F83,L83:P83) -> 298886 | F83: =SUM(G83:K83) -> 298886 | H83: 298886
A84: Algotie pagaidu sabiedriskie darbi | B84: =SUM(C84+F84,L84:P84) -> 70475 | C84: =D84+E84 -> 1483 | D84: 1200 | E84: 283 | F84: =SUM(G84:K84) -> 2360 | H84: 2360 | O84: 57000 | P84: 9632
A85: Balkanu Dabas parks | B85: =SUM(C85+F85,L85:P85) -> 18664 | C85: =D85+E85 -> 14640 | D85: 11830 | E85: 2810 | F85: =SUM(G85:K85) -> 4024 | H85: 3444 | I85: 580
A86: Vides pieejamības veicināšana Balvu novada Nodarbinātības valsts aģentūrā | B86: =SUM(C86+F86,L86:P86) -> 187419 | F86: =SUM(G86:K86) -> 0 | N86: 187419
A87: Vides piesārņojuma novēršana un samazināšana (dabas resursu nodoklis) | B87: =SUM(C87+F87,L87:P87) -> 66093 | F87: =SUM(G87:K87) -> 58530 | H87: =66093-7563 -> 58530 | N87: 7563
A88: Baltinavas komunālā saimniecība – notekūdeņu apsaimniekošana | B88: =SUM(C88+F88,L88:P88) -> 7712 | F88: =SUM(G88:K88) -> 7712 | H88: 4682 | I88: 2880 | K88: 150
A89: Bērzkalnes komunālā saimniecība – notekūdeņu apsaimniekošana | B89: =SUM(C89+F89,L89:P89) -> 2845 | F89: =SUM(G89:K89) -> 2845 | H89: 2245 | I89: 300 | K89: 300
A90: Bērzpils komunālā saimniecība – notekūdeņu apsaimniekošana | B90: =SUM(C90:F90,L90:P90) -> 4292 | F90: =SUM(G90:K90) -> 4292 | H90: =3900+H91 -> 3952 | I90: =330+I91 -> 278 | K90: 62
A91: Grozījumi | B91: =SUM(C91:F91,L91:P91) -> 0 | F91: =SUM(G91:K91) -> 0 | H91: 52 | I91: -52
A92: Briežuciema komunālā saimniecība – notekūdeņu apsaimniekošana | B92: =SUM(C92+F92,L92:P92) -> 4259 | F92: =SUM(G92:K92) -> 4259 | H92: 4139 | I92: 120
A93: Krišjāņu komunālā saimniecība – notekūdeņu apsaimniekošana | B93: =SUM(C93:F93,L93:P93) -> 3668 | F93: =SUM(G93:K93) -> 3668 | H93: 2969 | I93: =450+I94 -> 501 | K93: =249+K94 -> 198
A94: Grozījumi | B94: =SUM(C94:F94,L94:P94) -> 0 | F94: =SUM(G94:K94) -> 0 | I94: 51 | K94: -51
A95: Kubulu komunālā saimniecība – notekūdeņu apsaimniekošana | B95: =SUM(C95+F95,L95:P95) -> 6752 | F95: =SUM(G95:K95) -> 6752 | H95: 6587 | I95: 120 | K95: 45
A96: Kupravas komunālā saimniecība – notekūdeņu apsaimniekošana | B96: =SUM(C96+F96,L96:P96) -> 4700 | F96: =SUM(G96:K96) -> 4700 | H96: 4300 | I96: 310 | K96: 90
A97: Lazdukalna komunālā saimniecība – notekūdeņu apsaimniekošana | B97: =SUM(C97+F97,L97:P97) -> 8550 | F97: =SUM(G97:K97) -> 8550 | H97: =7350+H98 -> 7602 | I97: =1200-200+I98 -> 748 | K97: 200
A98: Grozījumi | B98: =SUM(C98+F98,L98:P98) -> 0 | F98: =SUM(G98:K98) -> 0 | H98: 252 | I98: -252
A99: Lazdulejas komunālā saimniecība – notekūdeņu apsaimniekošana | B99: =SUM(C99+F99,L99:P99) -> 3002 | F99: =SUM(G99:K99) -> 3002 | H99: 2810 | I99: 142 | K99: 50
A100: Medņevas komunālā saimniecība – notekūdeņu apsaimniekošana | B100: =SUM(C100:F100,L100:P100) -> 10086 | F100: =SUM(G100:K100) -> 10086 | H100: 9576 | I100: 410 | K100: 100
A101: Rekavas komunālā saimniecība – notekūdeņu apsaimniekošana | B101: =SUM(C101+F101,L101:P101) -> 1010 | F101: =SUM(G101:K101) -> 1010 | H101: 210 | I101: 780 | K101: 20
A102: Rugāju komunālā saimniecība – notekūdeņu apsaimniekošana | B102: =SUM(C102+F102,L102:P102) -> 8710 | F102: =SUM(G102:K102) -> 8710 | H102: =8010+H103 -> 7675 | I102: =700-61+I103 -> 974 | K102: 61 | M102: =61+(-61) -> 0
A103: Grozījumi | B103: =SUM(C103+F103,L103:P103) -> 0 | F103: =SUM(G103:K103) -> 0 | H103: -335 | I103: 335
A104: Tilžas komunālā saimniecība – notekūdeņu apsaimniekošana | B104: =SUM(C104+F104,L104:P104) -> 10656 | F104: =SUM(G104:K104) -> 9154 | H104: =10305-1502 -> 8803 | I104: 226 | K104: 125 | N104: 1502
...
