Workbook

Sheet aiznemumi (paredzamie) (2)
DQ1: 4.pielikums
B2: Alūksnes novada pašvaldība | DQ2: Alūksnes novada pašvaldības domes
B3: Aizņēmumu saistības uz 25.04.2024. (noslēgtie līgumi) un paredzamie aizņēmumi | DQ3: saistošajiem noteikumiem Nr.20/2024
A5: Pašvaldība | B5: Mērķis | C5: līguma noslēgšanas datums | D5: līguma atmaksas termiņš | E5: Aizdevuma līguma Nr. | F5: Līguma Nr. (trančes Nr.) | G5: aizdevējs | H5: aizdevuma procentu likme | I5: procentu likmes veids | J5: valūta | K5: saistību apmērs /2024 | N5: saistību apmērs /2025 | Q5: saistību apmērs /2026 | T5: saistību apmērs /2027 | W5: saistību apmērs /2028 | Z5: saistību apmērs /2029 | AC5: saistību apmērs /2030 | AF5: saistību apmērs /2031 | AI5: saistību apmērs /2032 | AL5: saistību apmērs /2033 | AO5: saistību apmērs /2034 | AR5: saistību apmērs /2035 | AU5: saistību apmērs /2036 | AX5: saistību apmērs /2037 | BA5: saistību apmērs /2038 | BD5: saistību apmērs /2039 | BG5: saistību apmērs /2040 | BJ5: saistību apmērs /2041 | BM5: saistību apmērs /2042 | BP5: saistību apmērs /2043 | BS5: saistību apmērs /2044 | BV5: saistību apmērs /2045 | BY5: saistību apmērs /2046 | CB5: saistību apmērs /2047 | CE5: saistību apmērs /2048 | CH5: saistību apmērs /2049 | CK5: saistību apmērs /2050 | CN5: saistību apmērs /2051 | CQ5: saistību apmērs /2052 | CT5: saistību apmērs /2053 | CW5: saistību apmērs /2054 | CZ5: saistību apmērs /2055 | DC5: saistību apmērs /2056 | DF5: saistību apmērs /2057 | DI5: saistību apmērs /2058 | DL5: turpmākie gadi (2031 - 2052) | DO5: Kopā
K6: pamatsumma | L6: procenti un apkalpošana | M6: Kopā | N6: pamatsumma | O6: procenti un apkalpošana | P6: Kopā | Q6: pamatsumma | R6: procenti un apkalpošana | S6: Kopā | T6: pamatsumma | U6: procenti un apkalpošana | V6: Kopā | W6: pamatsumma | X6: procenti un apkalpošana | Y6: Kopā | Z6: pamatsumma | AA6: procenti un apkalpošana | AB6: Kopā | AC6: pamatsumma | AD6: procenti un apkalpošana | AE6: Kopā | AF6: pamatsumma | AG6: % | AH6: Kopā | AI6: pamatsumma | AJ6: % | AK6: Kopā | AL6: pamatsumma | AM6: % | AN6: Kopā | AO6: pamatsumma | AP6: % | AQ6: Kopā | AR6: pamatsumma | AS6: % | AT6: Kopā | AU6: pamatsumma | AV6: % | AW6: Kopā | AX6: pamatsumma | AY6: % | AZ6: Kopā | BA6: pamatsumma | BB6: % | BC6: Kopā | BD6: pamatsumma | BE6: % | BF6: Kopā | BG6: pamatsumma | BH6: % | BI6: Kopā | BJ6: pamatsumma | BK6: % | BL6: Kopā | BM6: pamatsumma | BN6: % | BO6: Kopā | BP6: pamatsumma | BQ6: % | BR6: Kopā | BS6: pamatsumma | BT6: % | BU6: Kopā | BV6: pamatsumma | BW6: % | BX6: Kopā | BY6: pamatsumma | BZ6: % | CA6: Kopā | CB6: pamatsumma | CC6: % | CD6: Kopā | CE6: pamatsumma | CF6: % | CG6: Kopā | CH6: pamatsumma | CI6: % | CJ6: Kopā | CK6: pamatsumma | CL6: % | CM6: Kopā | CN6: pamatsumma | CO6: % | CP6: Kopā | CQ6: pamatsumma | CR6: % | CS6: Kopā | CT6: pamatsumma | CU6: % | CV6: Kopā | CW6: pamatsumma | CX6: % | CY6: Kopā | CZ6: pamatsumma | DA6: % | DB6: Kopā | DC6: pamatsumma | DD6: % | DE6: Kopā | DF6: pamatsumma | DG6: % | DH6: Kopā | DI6: pamatsumma | DJ6: % | DK6: Kopā | DL6: pamatsumma | DM6: procenti un apkalpošana | DN6: Kopā | DO6: pamatsumma | DP6: procenti un apkalpošana | DQ6: Kopā | DR6: esošie
A7: Alsviķu pagasts | B7: ERAF Ūdenssaimniecības attīstība Alsviķu pagasta Alsviķu ciemā (SIA Rūpe pamatkapitāls) | C7: 18.03.2015. | D7: 20.12.2025. | E7: A2/1/15/108 | F7: P-67/2015 | G7: Valsts kase | H7: 3.912 | I7: mainīga | J7: EUR | K7: 7500 | L7: 561 | M7: =K7+L7 -> 8061 | N7: 7500 | O7: 262 | P7: =N7+O7 -> 7762 | R7: 18 | S7: =Q7+R7 -> 18 | V7: =T7+U7 -> 0 | Y7: =W7+X7 -> 0 | AB7: =Z7+AA7 -> 0 | AE7: =AC7+AD7 -> 0 | DL7: =+AF7+AI7+AL7+AO7+AR7+AU7+AX7+BA7+BD7+BG7+BJ7+BM7+BP7+BS7+BV7+BY7+CB7+CE7+CH7+CK7+CN7+CQ7+CT7+CW7+CZ7+DC7+DF7+DI7 -> 0 | DM7: =+AG7+AJ7+AM7+AP7+AS7+AV7+AY7+BB7+BE7+BH7+BK7+BN7+BQ7+BT7+BW7+BZ7+CC7+CF7+CI7+CL7+CO7+CR7+CU7+CX7+DA7+DD7+DG7+DJ7 -> 0 | DN7: =DL7+DM7 -> 0 | DO7: =+K7+N7+Q7+T7+W7+Z7+DL7+AC7 -> 15000 | DP7: =+L7+O7+R7+U7+X7+AA7+DM7+AD7 -> 841 | DQ7: =+M7+P7+S7+V7+Y7+AB7+DN7+AE7 -> 15841 | DR7: 45955
B8: ERAF Ūdenssaimniecības attīstība Alsviķu pagasta Strautiņu ciemā (SIA Rūpe pamatkapitāls) | C8: 18.03.2015. | D8: 20.12.2025. | E8: A2/1/15/110 | F8: P-69/2015 | G8: Valsts kase | H8: 3.912 | I8: mainīga | J8: EUR | K8: 7500 | L8: 561 | M8: =K8+L8 -> 8061 | N8: 7500 | O8: 262 | P8: =N8+O8 -> 7762 | R8: 18 | S8: =Q8+R8 -> 18 | V8: =T8+U8 -> 0 | Y8: =W8+X8 -> 0 | AB8: =Z8+AA8 -> 0 | AE8: =AC8+AD8 -> 0 | DL8: =+AF8+AI8+AL8+AO8+AR8+AU8+AX8+BA8+BD8+BG8+BJ8+BM8+BP8+BS8+BV8+BY8+CB8+CE8+CH8+CK8+CN8+CQ8+CT8+CW8+CZ8+DC8+DF8+DI8 -> 0 | DM8: =+AG8+AJ8+AM8+AP8+AS8+AV8+AY8+BB8+BE8+BH8+BK8+BN8+BQ8+BT8+BW8+BZ8+CC8+CF8+CI8+CL8+CO8+CR8+CU8+CX8+DA8+DD8+DG8+DJ8 -> 0 | DN8: =DL8+DM8 -> 0 | DO8: =+K8+N8+Q8+T8+W8+Z8+DL8+AC8 -> 15000 | DP8: =+L8+O8+R8+U8+X8+AA8+DM8+AD8 -> 841 | DQ8: =+M8+P8+S8+V8+Y8+AB8+DN8+AE8 -> 15841 | DR8: 45955
A9: Alūksne | B9: Alūksnes pilsētas ielu renovācijas pabeigšana | C9: 39643 | D9: 47107 | E9: A2/1/08/649; A2/1/08/649-V/11/1 | F9: P-251/2008 | G9: Valsts kase | H9: 4.458 | I9: mainīga | J9: EUR | K9: 19550 | L9: 4237 | M9: =K9+L9 -> 23787 | N9: 19550 | O9: 3125 | P9: =N9+O9 -> 22675 | Q9: 19550 | R9: 2306 | S9: =Q9+R9 -> 21856 | T9: 19550 | U9: 1494 | V9: =T9+U9 -> 21044 | W9: 19476 | X9: 682 | Y9: =W9+X9 -> 20158 | Z9: 0 | AA9: 44 | AB9: =Z9+AA9 -> 44 | AE9: =AC9+AD9 -> 0 | DL9: =+AF9+AI9+AL9+AO9+AR9+AU9+AX9+BA9+BD9+BG9+BJ9+BM9+BP9+BS9+BV9+BY9+CB9+CE9+CH9+CK9+CN9+CQ9+CT9+CW9+CZ9+DC9+DF9+DI9 -> 0 | DM9: =+AG9+AJ9+AM9+AP9+AS9+AV9+AY9+BB9+BE9+BH9+BK9+BN9+BQ9+BT9+BW9+BZ9+CC9+CF9+CI9+CL9+CO9+CR9+CU9+CX9+DA9+DD9+DG9+DJ9 -> 0 | DN9: =DL9+DM9 -> 0 | DO9: =+K9+N9+Q9+T9+W9+Z9+DL9+AC9 -> 97676 | DP9: =+L9+O9+R9+U9+X9+AA9+DM9+AD9 -> 11888 | DQ9: =+M9+P9+S9+V9+Y9+AB9+DN9+AE9 -> 109564 | DR9: 194723
B10: SIA Rūpe pamatkapitāla palielināšana | C10: 39643 | D10: 47107 | E10: A2/1/08/650; A2/1/08/650-V/11/1 | F10: P-252/2008 | G10: Valsts kase | H10: 4.458 | I10: mainīga | J10: EUR | K10: 7114 | L10: 1543 | M10: =K10+L10 -> 8657 | N10: 7114 | O10: 1139 | P10: =N10+O10 -> 8253 | Q10: 7114 | R10: 841 | S10: =Q10+R10 -> 7955 | T10: 7115 | U10: 544 | V10: =T10+U10 -> 7659 | W10: 7115 | X10: 249 | Y10: =W10+X10 -> 7364 | Z10: 0 | AA10: 16 | AB10: =Z10+AA10 -> 16 | AE10: =AC10+AD10 -> 0 | DL10: =+AF10+AI10+AL10+AO10+AR10+AU10+AX10+BA10+BD10+BG10+BJ10+BM10+BP10+BS10+BV10+BY10+CB10+CE10+CH10+CK10+CN10+CQ10+CT10+CW10+CZ10+DC10+DF10+DI10 -> 0 | DM10: =+AG10+AJ10+AM10+AP10+AS10+AV10+AY10+BB10+BE10+BH10+BK10+BN10+BQ10+BT10+BW10+BZ10+CC10+CF10+CI10+CL10+CO10+CR10+CU10+CX10+DA10+DD10+DG10+DJ10 -> 0 | DN10: =DL10+DM10 -> 0 | DO10: =+K10+N10+Q10+T10+W10+Z10+DL10+AC10 -> 35572 | DP10: =+L10+O10+R10+U10+X10+AA10+DM10+AD10 -> 4332 | DQ10: =+M10+P10+S10+V10+Y10+AB10+DN10+AE10 -> 39904 | DR10: 70893
B11: Kohēzijas fonda projekts "Ūdenssaimniecības attīstība Austrumlatvijas upju baseinos" pašvaldības līdzfinansējums - ieguldījums SIA "RŪPE" pamatkapitālā | C11: 07.09.2009; 13.05.2013. 10.05.2017. | D11: 20.06.2027. | E11: A2/1/09/468 A2/1/09/468-V/13/1; A2/1/09/468-V/17/2 | F11: P-191/2009 | G11: Valsts kase | H11: 4.108 | I11: mainīga | J11: EUR | K11: 23996 | L11: 3344 | M11: =K11+L11 -> 27340 | N11: 23996 | O11: 2332 | P11: =N11+O11 -> 26328 | Q11: 23996 | R11: 1338 | S11: =Q11+R11 -> 25334 | T11: 11945 | U11: 351 | V11: =T11+U11 -> 12296 | Y11: =W11+X11 -> 0 | AB11: =Z11+AA11 -> 0 | AE11: =AC11+AD11 -> 0 | DL11: =+AF11+AI11+AL11+AO11+AR11+AU11+AX11+BA11+BD11+BG11+BJ11+BM11+BP11+BS11+BV11+BY11+CB11+CE11+CH11+CK11+CN11+CQ11+CT11+CW11+CZ11+DC11+DF11+DI11 -> 0 | DM11: =+AG11+AJ11+AM11+AP11+AS11+AV11+AY11+BB11+BE11+BH11+BK11+BN11+BQ11+BT11+BW11+BZ11+CC11+CF11+CI11+CL11+CO11+CR11+CU11+CX11+DA11+DD11+DG11+DJ11 -> 0 | DN11: =DL11+DM11 -> 0 | DO11: =+K11+N11+Q11+T11+W11+Z11+DL11+AC11 -> 83933 | DP11: =+L11+O11+R11+U11+X11+AA11+DM11+AD11 -> 7365 | DQ11: =+M11+P11+S11+V11+Y11+AB11+DN11+AE11 -> 91298 | DR11: 195132
B12: ERAF "Ūdenssaimniecības pakalpojumu attīstība Alūksnē, II kārta" SIA "Rūpe" pamatkapitāls | C12: 31.10.2011. | D12: 20.12.2032. | E12: A/2/1/11/661 | F12: P-411/2011 | G12: Valsts kase | H12: 4.467 | I12: mainīga | J12: EUR | K12: 29823 | L12: 11713 | M12: =K12+L12 -> 41536 | N12: 29823 | O12: 9768 | P12: =N12+O12 -> 39591 | Q12: 29824 | R12: 8471 | S12: =Q12+R12 -> 38295 | T12: 29823 | U12: 7234 | V12: =T12+U12 -> 37057 | W12: 29823 | X12: 6010 | Y12: =W12+X12 -> 35833 | Z12: 29824 | AA12: 4755 | AB12: =Z12+AA12 -> 34579 | AC12: 29823 | AD12: 3518 | AE12: =AC12+AD12 -> 33341 | DL12: 59647 | DM12: 3400 | DN12: =DL12+DM12 -> 63047 | DO12: =+K12+N12+Q12+T12+W12+Z12+DL12+AC12 -> 268410 | DP12: =+L12+O12+R12+U12+X12+AA12+DM12+AD12 -> 54869 | DQ12: =+M12+P12+S12+V12+Y12+AB12+DN12+AE12 -> 323279 | DR12: 443262
B13: KF projekts "Siltumtrašu rekonstrukcija un jaunu siltumtrašu izbūve Alūksnē" AS Simone pamatkapitāla palielināšana | C13: 22.10.2012. 30.01.2024. | D13: 20.06.2038. | E13: A/2/1/12/624; A2/1/12/624-V/24/1 | F13: P-411/2012 | G13: Valsts kase | H13: 4.467 | I13: mainīga | J13: EUR | K13: 47092 | L13: 37678 | M13: =K13+L13 -> 84770 | N13: 59752 | O13: 33239 | P13: =N13+O13 -> 92991 | Q13: 59752 | R13: 30606 | S13: =Q13+R13 -> 90358 | T13: 59752 | U13: 28126 | V13: =T13+U13 -> 87878 | W13: 59752 | X13: 25711 | Y13: =W13+X13 -> 85463 | Z13: 59752 | AA13: 23161 | AB13: =Z13+AA13 -> 82913 | AC13: 59752 | AD13: 20682 | AE13: =AC13+AD13 -> 80434 | DL13: 448118 | DM13: 76323 | DN13: =DL13+DM13 -> 524441 | DO13: =+K13+N13+Q13+T13+W13+Z13+DL13+AC13 -> 853722 | DP13: =+L13+O13+R13+U13+X13+AA13+DM13+AD13 -> 275526 | DQ13: =+M13+P13+S13+V13+Y13+AB13+DN13+AE13 -> 1129248 | DR13: 1184823
B14: KF "Katlu māju darbības optimizācija un nergoefektivitātes paaugstināšana Alūksnē" | C14: 13.11.2013. | D14: 20.12.2038. | E14: A2/1/13/832 | F14: P-410/2013 | G14: Valsts kase | H14: 4.409 | I14: mainīga | J14: EUR | K14: 35458 | L14: 22818 | M14: =K14+L14 -> 58276 | N14: 35458 | O14: 20562 | P14: =N14+O14 -> 56020 | Q14: 35458 | R14: 18899 | S14: =Q14+R14 -> 54357 | T14: 35458 | U14: 17426 | V14: =T14+U14 -> 52884 | W14: 35458 | X14: 15996 | Y14: =W14+X14 -> 51454 | Z14: 35458 | AA14: 14480 | AB14: =Z14+AA14 -> 49938 | AC14: 35458 | AD14: 13009 | AE14: =AC14+AD14 -> 48467 | DL14: 283664 | DM14: 51253 | DN14: =DL14+DM14 -> 334917 | DO14: =+K14+N14+Q14+T14+W14+Z14+DL14+AC14 -> 531870 | DP14: =+L14+O14+R14+U14+X14+AA14+DM14+AD14 -> 174443 | DQ14: =+M14+P14+S14+V14+Y14+AB14+DN14+AE14 -> 706313 | DR14: 716411
B15: KPFI projekts "Kompleksi risinājumi siltumnīcefekta gāzu emisiju samazināšanai Alūksnes novada vidusskolā un Liepnas vidusskolā" | C15: 13.12.2013. | D15: 20.12.2024. | E15: A2/1/13/1188; A2/1/13/1188-V/1 | F15: P-468/2013 | G15: Valsts kase | H15: 4.242 | I15: mainīga | J15: EUR | K15: 38968 | L15: 1306 | M15: =K15+L15 -> 40274 | N15: 0 | O15: 92 | P15: =N15+O15 -> 92 | Q15: 0 | R15: 0 | S15: =Q15+R15 -> 0 | T15: 0 | U15: 0 | V15: =T15+U15 -> 0 | W15: 0 | X15: 0 | Y15: =W15+X15 -> 0 | Z15: 0 | AA15: 0 | AB15: =Z15+AA15 -> 0 | AE15: =AC15+AD15 -> 0 | DL15: =+AF15+AI15+AL15+AO15+AR15+AU15+AX15+BA15+BD15+BG15+BJ15+BM15+BP15+BS15+BV15+BY15+CB15+CE15+CH15+CK15+CN15+CQ15+CT15+CW15+CZ15+DC15+DF15+DI15 -> 0 | DM15: =+AG15+AJ15+AM15+AP15+AS15+AV15+AY15+BB15+BE15+BH15+BK15+BN15+BQ15+BT15+BW15+BZ15+CC15+CF15+CI15+CL15+CO15+CR15+CU15+CX15+DA15+DD15+DG15+DJ15 -> 0 | DN15: =+AH15+AK15+AN15+AQ15+AT15+AW15+AZ15+BC15+BF15+BI15+BL15+BO15+BR15+BU15+BX15+CA15+CD15+CG15+CJ15+CM15+CP15+CS15+CV15+CY15+DB15+DE15+DH15+DK15 -> 0 | DO15: =+K15+N15+Q15+T15+W15+Z15+DL15+AC15 -> 38968 | DP15: =+L15+O15+R15+U15+X15+AA15+DM15+AD15 -> 1398 | DQ15: =+M15+P15+S15+V15+Y15+AB15+DN15+AE15 -> 40366 | DR15: 198432
B16: ERAF projekts "Tranzītceļa P43 maršruta rekonstrukcija Alūksnes pilsētā" Jāņkalna iela | C16: 19.06.2013.; 04.02.2014.; 26.01.2016. | D16: 20.09.2027. | E16: A2/1/13/259; A2/1/13/259-V/14/1; A2/1/13/259-1/16/2 | F16: P-173/2013 | G16: Valsts kase | H16: 4.194 | I16: mainīga | J16: EUR | K16: 66492 | L16: 10124 | M16: =K16+L16 -> 76616 | N16: 66492 | O16: 7157 | P16: =N16+O16 -> 73649 | Q16: 66492 | R16: 4404 | S16: =Q16+R16 -> 70896 | T16: 49869 | U16: 1644 | V16: =T16+U16 -> 51513 | W16: 0 | X16: 0 | Y16: =W16+X16 -> 0 | Z16: 0 | AA16: 0 | AB16: =Z16+AA16 -> 0 | AC16: 0 | AD16: 0 | AE16: =AC16+AD16 -> 0 | DL16: =+AF16+AI16+AL16+AO16+AR16+AU16+AX16+BA16+BD16+BG16+BJ16+BM16+BP16+BS16+BV16+BY16+CB16+CE16+CH16+CK16+CN16+CQ16+CT16+CW16+CZ16+DC16+DF16+DI16 -> 0 | DM16: =+AG16+AJ16+AM16+AP16+AS16+AV16+AY16+BB16+BE16+BH16+BK16+BN16+BQ16+BT16+BW16+BZ16+CC16+CF16+CI16+CL16+CO16+CR16+CU16+CX16+DA16+DD16+DG16+DJ16 -> 0 | DN16: =+AH16+AK16+AN16+AQ16+AT16+AW16+AZ16+BC16+BF16+BI16+BL16+BO16+BR16+BU16+BX16+CA16+CD16+CG16+CJ16+CM16+CP16+CS16+CV16+CY16+DB16+DE16+DH16+DK16 -> 0 | DO16: =+K16+N16+Q16+T16+W16+Z16+DL16+AC16 -> 249345 | DP16: =+L16+O16+R16+U16+X16+AA16+DM16+AD16 -> 23329 | DQ16: =+M16+P16+S16+V16+Y16+AB16+DN16+AE16 -> 272674 | DR16: 527554
B17: aizņēmums "Uzņēmējdarbībai nozīmīgu ielu un Brūžā ēkas rekonstrukcija Alūksnes pilsētā" neattiecināmās izmaksas u.c. | C17: 13.03.2015. 09.12.2015. 30.01.2024. | D17: 20.12.2041. | E17: A2/1/15/87; A2/1/15/87-V/15/1; A2/1/15/87-V/24/2 | F17: P-49/2015 | G17: Valsts kase | H17: 4.228 | I17: mainīga | J17: EUR | K17: 44846 | L17: 46502 | M17: =K17+L17 -> 91348 | N17: 62576 | O17: 43645 | P17: =N17+O17 -> 106221 | Q17: 62576 | R17: 41138 | S17: =Q17+R17 -> 103714 | T17: 62576 | U17: 38540 | V17: =T17+U17 -> 101116 | W17: 62576 | X17: 36037 | Y17: =W17+X17 -> 98613 | Z17: 62576 | AA17: 33341 | AB17: =Z17+AA17 -> 95917 | AC17: 62576 | AD17: 30745 | AE17: =AC17+AD17 -> 93321 | DL17: 688282 | DM17: 167149 | DN17: =DL17+DM17 -> 855431 | DO17: =+K17+N17+Q17+T17+W17+Z17+DL17+AC17 -> 1108584 | DP17: =+L17+O17+R17+U17+X17+AA17+DM17+AD17 -> 437097 | DQ17: =+M17+P17+S17+V17+Y17+AB17+DN17+AE17 -> 1545681 | DR17: 1453367
B18: izglītības iestāžu investīciju projekts "Alūknes PII "Sprīdītis" ēkas iekšējo inženiertīklu pārbūve" | C18: 01.08.2018. | D18: 20.12.2028. | E18: A2/1/18/510 | F18: P-433/2018 | G18: Valsts kase | H18: 4.364 | I18: mainīga | J18: EUR | K18: 27776 | L18: 5911 | M18: =K18+L18 -> 33687 | N18: 27776 | O18: 4430 | P18: =N18+O18 -> 32206 | Q18: 27776 | R18: 3281 | S18: =Q18+R18 -> 31057 | T18: 27776 | U18: 2127 | V18: =T18+U18 -> 29903 | W18: 27776 | X18: 974 | Y18: =W18+X18 -> 28750 | Z18: 0 | AA18: 63 | AB18: =Z18+AA18 -> 63 | AC18: 0 | AD18: 0 | AE18: =AC18+AD18 -> 0 | DL18: =+AF18+AI18+AL18+AO18+AR18+AU18+AX18+BA18+BD18+BG18+BJ18+BM18+BP18+BS18+BV18+BY18+CB18+CE18+CH18+CK18+CN18+CQ18+CT18+CW18+CZ18+DC18+DF18+DI18 -> 0 | DM18: =+AG18+AJ18+AM18+AP18+AS18+AV18+AY18+BB18+BE18+BH18+BK18+BN18+BQ18+BT18+BW18+BZ18+CC18+CF18+CI18+CL18+CO18+CR18+CU18+CX18+DA18+DD18+DG18+DJ18 -> 0 | DN18: =+AH18+AK18+AN18+AQ18+AT18+AW18+AZ18+BC18+BF18+BI18+BL18+BO18+BR18+BU18+BX18+CA18+CD18+CG18+CJ18+CM18+CP18+CS18+CV18+CY18+DB18+DE18+DH18+DK18 -> 0 | DO18: =+K18+N18+Q18+T18+W18+Z18+DL18+AC18 -> 138880 | DP18: =+L18+O18+R18+U18+X18+AA18+DM18+AD18 -> 16786 | DQ18: =+M18+P18+S18+V18+Y18+AB18+DN18+AE18 -> 155666 | DR18: 253085
B19: ERAF projekts "Ūdenssaimniecības pakalpojumu attīstība Alūksnē, 3.kārta" (ieguldījums SIA "Rūpe" pamatkapitālā) | C19: 01.08.2018. 30.01.2024. | D19: 20.12.2039. | E19: A2/1/18/514; A2/1/18/514-V/24/1 | F19: P-434/2018 | G19: Valsts kase | H19: 4.364 | I19: mainīga | J19: EUR | K19: 29262 | L19: 31822 | M19: =K19+L19 -> 61084 | N19: 46616 | O19: 28668 | P19: =N19+O19 -> 75284 | Q19: 46616 | R19: 26777 | S19: =Q19+R19 -> 73393 | T19: 46616 | U19: 24842 | V19: =T19+U19 -> 71458 | W19: 46616 | X19: 22966 | Y19: =W19+X19 -> 69582 | Z19: 46616 | AA19: 20969 | AB19: =Z19+AA19 -> 67585 | AC19: 46616 | AD19: 19035 | AE19: =AC19+AD19 -> 65651 | DL19: 419490 | DM19: 84476 | DN19: =DL19+DM19 -> 503966 | DO19: =+K19+N19+Q19+T19+W19+Z19+DL19+AC19 -> 728448 | DP19: =+L19+O19+R19+U19+X19+AA19+DM19+AD19 -> 259555 | DQ19: =+M19+P19+S19+V19+Y19+AB19+DN19+AE19 -> 988003 | DR19: 934784
B20: aizņēmums ERAF projekts "Gaismas ceļs caur gadsimtiem" | C20: 05.12.2017. 05.01.2018. 11.04.2018. 14.01.2019. | D20: 22.09.2036. | E20: A2/1/17/870; A2/1/17/870-V/18/1; A2/1/17/870-V/18/2; A2/1/17/870-V/19/3 A2/1/18/870-ekase | F20: P-661/2017 | G20: Valsts kase | H20: 4.397 | I20: mainīga | J20: EUR | K20: 48860 | L20: 25873 | M20: =K20+L20 -> 74733 | N20: 48860 | O20: 23534 | P20: =N20+O20 -> 72394 | Q20: 48860 | R20: 21216 | S20: =Q20+R20 -> 70076 | T20: 48860 | U20: 19187 | V20: =T20+U20 -> 68047 | W20: 48860 | X20: 17202 | Y20: =W20+X20 -> 66062 | Z20: 48860 | AA20: 15127 | AB20: =Z20+AA20 -> 63987 | AC20: 48860 | AD20: 13100 | AE20: =AC20+AD20 -> 61960 | DL20: 274562 | DM20: 36082 | DN20: =DL20+DM20 -> 310644 | DO20: =+K20+N20+Q20+T20+W20+Z20+DL20+AC20 -> 616582 | DP20: =+L20+O20+R20+U20+X20+AA20+DM20+AD20 -> 171321 | DQ20: =+M20+P20+S20+V20+Y20+AB20+DN20+AE20 -> 787903 | DR20: 857581
B21: Aizņēmums Alūksnes novada pašvaldības ceļu infrastruktūras projekta īstenošanai (Lāčplēša, Rījukalna, Vējakalna, Torņa ielas Alūksnē) | C21: 15.12.2016. | D21: 20.12.2027. | E21: A2/1/16/510 | F21: P-373/2016 | G21: valsts kase | H21: 4.238 | I21: mainīga | J21: EUR | K21: 32144 | L21: 5001 | M21: =K21+L21 -> 37145 | N21: 32144 | O21: 3826 | P21: =N21+O21 -> 35970 | Q21: 32144 | R21: 2463 | S21: =Q21+R21 -> 34607 | T21: 32144 | U21: 1128 | V21: =T21+U21 -> 33272 | X21: 73 | Y21: =W21+X21 -> 73 | DL21: =+AF21+AI21+AL21+AO21+AR21+AU21+AX21+BA21+BD21+BG21+BJ21+BM21+BP21+BS21+BV21+BY21+CB21+CE21+CH21+CK21+CN21+CQ21+CT21+CW21+CZ21+DC21+DF21+DI21 -> 0 | DM21: =+AG21+AJ21+AM21+AP21+AS21+AV21+AY21+BB21+BE21+BH21+BK21+BN21+BQ21+BT21+BW21+BZ21+CC21+CF21+CI21+CL21+CO21+CR21+CU21+CX21+DA21+DD21+DG21+DJ21 -> 0 | DN21: =+AH21+AK21+AN21+AQ21+AT21+AW21+AZ21+BC21+BF21+BI21+BL21+BO21+BR21+BU21+BX21+CA21+CD21+CG21+CJ21+CM21+CP21+CS21+CV21+CY21+DB21+DE21+DH21+DK21 -> 0 | DO21: =+K21+N21+Q21+T21+W21+Z21+DL21+AC21 -> 128576 | DP21: =+L21+O21+R21+U21+X21+AA21+DM21+AD21 -> 12491 | DQ21: =+M21+P21+S21+V21+Y21+AB21+DN21+AE21 -> 141067 | DR21: 260010
B22: ERAF SAM projekts "Alūksnes novada vispārējās izglītības iestāžu mācību vides uzlabošana" (Alūksnes novada vidusskola) | C22: 27.04.2018.; 09.10.2018. | D22: 20.03.2034. | E22: A2/1/18/191; A2/1/18/191-V/18/1 | F22: P-161/2018 | G22: valsts kase | H22: 4.075 | I22: mainīga | J22: EUR | K22: 24016 | L22: 10061 | M22: =K22+L22 -> 34077 | N22: 24016 | O22: 9062 | P22: =N22+O22 -> 33078 | Q22: 24016 | R22: 8067 | S22: =Q22+R22 -> 32083 | T22: 24016 | U22: 7070 | V22: =T22+U22 -> 31086 | W22: 24016 | X22: 6088 | Y22: =W22+X22 -> 30104 | Z22: 24016 | AA22: 5075 | AB22: =Z22+AA22 -> 29091 | AC22: 24016 | AD22: 4078 | AE22: =AC22+AD22 -> 28094 | DL22: 78052 | DM22: 6439 | DN22: =DL22+DM22 -> 84491 | DO22: =+K22+N22+Q22+T22+W22+Z22+DL22+AC22 -> 246164 | DP22: =+L22+O22+R22+U22+X22+AA22+DM22+AD22 -> 55940 | DQ22: =+M22+P22+S22+V22+Y22+AB22+DN22+AE22 -> 302104 | DR22: 348793
B23: aizņēmums SAM 3.3.1. ERAF projekts "Multifunkcionālas servisa ēkas izbūve Pilssalā" | C23: 02.03.2017.; 21.04.2018. | D23: 20.06.2029. | E23: A2/1/17/105; A2/1/17/105-V/18/1 | F23: P-37/2017 | G23: valsts kase | H23: 4.512 | I23: mainīga, tirgus nosa-cījumi | J23: EUR | K23: 51552 | L23: 12869 | M23: =K23+L23 -> 64421 | N23: 51552 | O23: 10621 | P23: =N23+O23 -> 62173 | Q23: 51552 | R23: 8207 | S23: =Q23+R23 -> 59759 | T23: 51552 | U23: 5753 | V23: =T23+U23 -> 57305 | W23: 51552 | X23: 3304 | Y23: =W23+X23 -> 54856 | Z23: 25776 | AA23: 860 | AB23: =Z23+AA23 -> 26636 | AC23: 0 | AD23: 0 | AE23: =AC23+AD23 -> 0 | DL23: =+AF23+AI23+AL23+AO23+AR23+AU23+AX23+BA23+BD23+BG23+BJ23+BM23+BP23+BS23+BV23+BY23+CB23+CE23+CH23+CK23+CN23+CQ23+CT23+CW23+CZ23+DC23+DF23+DI23 -> 0 | DM23: =+AG23+AJ23+AM23+AP23+AS23+AV23+AY23+BB23+BE23+BH23+BK23+BN23+BQ23+BT23+BW23+BZ23+CC23+CF23+CI23+CL23+CO23+CR23+CU23+CX23+DA23+DD23+DG23+DJ23 -> 0 | DN23: =+AH23+AK23+AN23+AQ23+AT23+AW23+AZ23+BC23+BF23+BI23+BL23+BO23+BR23+BU23+BX23+CA23+CD23+CG23+CJ23+CM23+CP23+CS23+CV23+CY23+DB23+DE23+DH23+DK23 -> 0 | DO23: =+K23+N23+Q23+T23+W23+Z23+DL23+AC23 -> 283536 | DP23: =+L23+O23+R23+U23+X23+AA23+DM23+AD23 -> 41614 | DQ23: =+M23+P23+S23+V23+Y23+AB23+DN23+AE23 -> 325150 | DR23: 511481
B24: aizņēmums SAM 5.6.2. ERAF projekts "Alūksnes pilsētas rūpniecīskās apbūves teritorijas attīstība 1.kārta uz atvieglotiem nosacījumiem | C24: 26.05.2017.; 05.01.2018.; 21.04.2018. | D24: 20.12.2025. | E24: A2/1/17/317; A2/1/17/317-V/18/1; A2/1/17/317-V/18/2 | F24: P-210/2017 | G24: valsts kase | H24: 4.154 | I24: mainīga | J24: EUR | K24: 54728 | L24: 4243 | M24: =K24+L24 -> 58971 | N24: 54728 | O24: 1918 | P24: =N24+O24 -> 56646 | Q24: 0 | R24: 127 | S24: =Q24+R24 -> 127 | T24: 0 | U24: 0 | V24: =T24+U24 -> 0 | W24: 0 | X24: 0 | Y24: =W24+X24 -> 0 | Z24: 0 | AA24: 0 | AB24: =Z24+AA24 -> 0 | AC24: 0 | AD24: 0 | AE24: =AC24+AD24 -> 0 | DL24: =+AF24+AI24+AL24+AO24+AR24+AU24+AX24+BA24+BD24+BG24+BJ24+BM24+BP24+BS24+BV24+BY24+CB24+CE24+CH24+CK24+CN24+CQ24+CT24+CW24+CZ24+DC24+DF24+DI24 -> 0 | DM24: =+AG24+AJ24+AM24+AP24+AS24+AV24+AY24+BB24+BE24+BH24+BK24+BN24+BQ24+BT24+BW24+BZ24+CC24+CF24+CI24+CL24+CO24+CR24+CU24+CX24+DA24+DD24+DG24+DJ24 -> 0 | DN24: =+AH24+AK24+AN24+AQ24+AT24+AW24+AZ24+BC24+BF24+BI24+BL24+BO24+BR24+BU24+BX24+CA24+CD24+CG24+CJ24+CM24+CP24+CS24+CV24+CY24+DB24+DE24+DH24+DK24 -> 0 | DO24: =+K24+N24+Q24+T24+W24+Z24+DL24+AC24 -> 109456 | DP24: =+L24+O24+R24+U24+X24+AA24+DM24+AD24 -> 6288 | DQ24: =+M24+P24+S24+V24+Y24+AB24+DN24+AE24 -> 115744 | DR24: 331171
B25: Aiznēmums ERAF projekta "Energoefektivitātes uzlabošana Alūksnes novada pašvaldības administratīvajā ēkā" | C25: 04.12.2018. 30.01.2024. | D25: 54231 | E25: A2/1/18/869; A2/1/18/869-ekase; A2/1/18/869-V/24/2 | F25: P-720/2018 | G25: valsts kase | H25: 4.397 | I25: mainīga | J25: EUR | K25: 46223 | L25: 74461 | M25: =K25+L25 -> 120684 | N25: 72724 | O25: 71232 | P25: =N25+O25 -> 143956 | Q25: 72724 | R25: 67421 | S25: =Q25+R25 -> 140145 | T25: 72724 | U25: 64402 | V25: =T25+U25 -> 137126 | W25: 72724 | X25: 61546 | Y25: =W25+X25 -> 134270 | Z25: 72724 | AA25: 58360 | AB25: =Z25+AA25 -> 131084 | AC25: 72724 | AD25: 55342 | AE25: =AC25+AD25 -> 128066 | DL25: 1272605 | DM25: 480657 | DN25: =DL25+DM25 -> 1753262 | DO25: =+K25+N25+Q25+T25+W25+Z25+DL25+AC25 -> 1755172 | DP25: =+L25+O25+R25+U25+X25+AA25+DM25+AD25 -> 933421 | DQ25: =+M25+P25+S25+V25+Y25+AB25+DN25+AE25 -> 2688593 | DR25: 2090839
B26: Aiznēmums ERAF projekta "Energoefektivitātes uzlabošana Alūksnes novada pašvaldības administratīvajā ēkā" | C26: 10.12.2019. | D26: 20.11.2049. | E26: A2/1/19/459 | F26: P-293/2019 | G26: valsts kase | H26: 4.242 | I26: mainīga | J26: EUR | K26: 11744 | L26: 12404 | M26: =K26+L26 -> 24148 | N26: 11744 | O26: 12193 | P26: =N26+O26 -> 23937 | Q26: 11744 | R26: 11619 | S26: =Q26+R26 -> 23363 | T26: 11744 | U26: 11131 | V26: =T26+U26 -> 22875 | W26: 11744 | X26: 10672 | Y26: =W26+X26 -> 22416 | Z26: 11744 | AA26: 10156 | AB26: =Z26+AA26 -> 21900 | AC26: 11744 | AD26: 9668 | AE26: =AC26+AD26 -> 21412 | DL26: 223136 | DM26: 91219 | DN26: =DL26+DM26 -> 314355 | DO26: =+K26+N26+Q26+T26+W26+Z26+DL26+AC26 -> 305344 | DP26: =+L26+O26+R26+U26+X26+AA26+DM26+AD26 -> 169062 | DQ26: =+M26+P26+S26+V26+Y26+AB26+DN26+AE26 -> 474406 | DR26: 354323
B27: Aizņēmums valsts mērķdotācijas līdzfinansējuma - sporta būves Pilssalā, ar sadārdzinājumu | C27: 26.05.2017.; 03.08.2017. | D27: 12.2027. | E27: A2/1/17/315; A2/1/17/315-V/17/1 | F27: P-212/2017 | G27: valsts kase | H27: 4.154 | I27: mainīga | J27: EUR | K27: 23972 | L27: 3873 | M27: =K27+L27 -> 27845 | N27: 23972 | O27: 2829 | P27: =N27+O27 -> 26801 | Q27: 23972 | R27: 1837 | S27: =Q27+R27 -> 25809 | T27: 23972 | U27: 841 | V27: =T27+U27 -> 24813 | X27: 54 | Y27: =W27+X27 -> 54 | AB27: =Z27+AA27 -> 0 | AE27: =AC27+AD27 -> 0 | DL27: =+AF27+AI27+AL27+AO27+AR27+AU27+AX27+BA27+BD27+BG27+BJ27+BM27+BP27+BS27+BV27+BY27+CB27+CE27+CH27+CK27+CN27+CQ27+CT27+CW27+CZ27+DC27+DF27+DI27 -> 0 | DM27: =+AG27+AJ27+AM27+AP27+AS27+AV27+AY27+BB27+BE27+BH27+BK27+BN27+BQ27+BT27+BW27+BZ27+CC27+CF27+CI27+CL27+CO27+CR27+CU27+CX27+DA27+DD27+DG27+DJ27 -> 0 | DN27: =+AH27+AK27+AN27+AQ27+AT27+AW27+AZ27+BC27+BF27+BI27+BL27+BO27+BR27+BU27+BX27+CA27+CD27+CG27+CJ27+CM27+CP27+CS27+CV27+CY27+DB27+DE27+DH27+DK27 -> 0 | DO27: =+K27+N27+Q27+T27+W27+Z27+DL27+AC27 -> 95888 | DP27: =+L27+O27+R27+U27+X27+AA27+DM27+AD27 -> 9434 | DQ27: =+M27+P27+S27+V27+Y27+AB27+DN27+AE27 -> 105322 | DR27: 193908
B28: ERAF projekts Nr.8.1.2.0/18/I/002 "Alūksnes novada vispārējās izglītības iestāžu mācību vides uzlabošana" (E.Glika Alūksnes Valsts ģimnāzija) | C28: 06.02.2020. ; 05.01.2021.; 12.01.2022.; 30.01.2024. | D28: 20.12.2036. | E28: A2/1/20/33; A2/1/20/33-V/21/1; A2/1/20/33-V/22/2; A2/1/20/33-V/24/1 | F28: P-21/2020 | G28: valsts kase | H28: 4.039 | I28: mainīga | J28: EUR | K28: 92776 | L28: 61798 | M28: =K28+L28 -> 154574 | N28: 113836 | O28: 59021 | P28: =N28+O28 -> 172857 | Q28: 113836 | R28: 54256 | S28: =Q28+R28 -> 168092 | T28: 113836 | U28: 49251 | V28: =T28+U28 -> 163087 | W28: 113836 | X28: 44358 | Y28: =W28+X28 -> 158194 | Z28: 113836 | AA28: 39233 | AB28: =Z28+AA28 -> 153069 | AC28: 113836 | AD28: 34231 | AE28: =AC28+AD28 -> 148067 | DL28: 683016 | DM28: 100735 | DN28: =DL28+DM28 -> 783751 | DO28: =+K28+N28+Q28+T28+W28+Z28+DL28+AC28 -> 1458808 | DP28: =+L28+O28+R28+U28+X28+AA28+DM28+AD28 -> 442883 | DQ28: =+M28+P28+S28+V28+Y28+AB28+DN28+AE28 -> 1901691 | DR28: 1666951
B29: aizņēmums ceļu un to kompleksa investīciju projekta "Pleskavas ielas pārbūve Alūksnē, Alūksnes novadā (2.un 3.kārta) " īstenošanai | C29: 30.11.2018. | D29: 20.12.2028. | E29: A2/1/18/864 | F29: P-717/2018 | G29: valsts kase | H29: 4.397 | I29: mainīga | J29: EUR | K29: 36488 | L29: 7497 | M29: =K29+L29 -> 43985 | N29: 36488 | O29: 5897 | P29: =N29+O29 -> 42385 | Q29: 36488 | R29: 4309 | S29: =Q29+R29 -> 40797 | T29: 36488 | U29: 2794 | V29: =T29+U29 -> 39282 | W29: 36488 | X29: 1281 | Y29: =W29+X29 -> 37769 | Z29: 0 | AA29: 83 | AB29: =Z29+AA29 -> 83 | AC29: 0 | AD29: 0 | AE29: =AC29+AD29 -> 0 | DL29: =+AF29+AI29+AL29+AO29+AR29+AU29+AX29+BA29+BD29+BG29+BJ29+BM29+BP29+BS29+BV29+BY29+CB29+CE29+CH29+CK29+CN29+CQ29+CT29+CW29+CZ29+DC29+DF29+DI29 -> 0 | DM29: =+AG29+AJ29+AM29+AP29+AS29+AV29+AY29+BB29+BE29+BH29+BK29+BN29+BQ29+BT29+BW29+BZ29+CC29+CF29+CI29+CL29+CO29+CR29+CU29+CX29+DA29+DD29+DG29+DJ29 -> 0 | DN29: =+AH29+AK29+AN29+AQ29+AT29+AW29+AZ29+BC29+BF29+BI29+BL29+BO29+BR29+BU29+BX29+CA29+CD29+CG29+CJ29+CM29+CP29+CS29+CV29+CY29+DB29+DE29+DH29+DK29 -> 0 | DO29: =+K29+N29+Q29+T29+W29+Z29+DL29+AC29 -> 182440 | DP29: =+L29+O29+R29+U29+X29+AA29+DM29+AD29 -> 21861 | DQ29: =+M29+P29+S29+V29+Y29+AB29+DN29+AE29 -> 204301 | DR29: 332466
B30: Aizņēmums valsts mērķdotācijas līdzfinansējuma Pleskavas ielas pārbūve1.kārta | C30: 20.05.2019. | D30: 20.12.2029. | E30: A2/1/19/160 | F30: P-111/2019 | G30: valsts kase | H30: 4.058 | I30: mainīga | J30: EUR | K30: 44292 | L30: 10710 | M30: =K30+L30 -> 55002 | N30: 44292 | O30: 8902 | P30: =N30+O30 -> 53194 | Q30: 44292 | R30: 7068 | S30: =Q30+R30 -> 51360 | T30: 44292 | U30: 5230 | V30: =T30+U30 -> 49522 | W30: 44292 | X30: 3397 | Y30: =W30+X30 -> 47689 | Z30: 44292 | AA30: 1549 | AB30: =Z30+AA30 -> 45841 | AC30: 0 | AD30: 101 | AE30: =AC30+AD30 -> 101 | DL30: =+AF30+AI30+AL30+AO30+AR30+AU30+AX30+BA30+BD30+BG30+BJ30+BM30+BP30+BS30+BV30+BY30+CB30+CE30+CH30+CK30+CN30+CQ30+CT30+CW30+CZ30+DC30+DF30+DI30 -> 0 | DM30: =+AG30+AJ30+AM30+AP30+AS30+AV30+AY30+BB30+BE30+BH30+BK30+BN30+BQ30+BT30+BW30+BZ30+CC30+CF30+CI30+CL30+CO30+CR30+CU30+CX30+DA30+DD30+DG30+DJ30 -> 0 | DN30: =+AH30+AK30+AN30+AQ30+AT30+AW30+AZ30+BC30+BF30+BI30+BL30+BO30+BR30+BU30+BX30+CA30+CD30+CG30+CJ30+CM30+CP30+CS30+CV30+CY30+DB30+DE30+DH30+DK30 -> 0 | DO30: =+K30+N30+Q30+T30+W30+Z30+DL30+AC30 -> 265752 | DP30: =+L30+O30+R30+U30+X30+AA30+DM30+AD30 -> 36957 | DQ30: =+M30+P30+S30+V30+Y30+AB30+DN30+AE30 -> 302709 | DR30: 448984
B31: aizņēmums Alūksnes Muižas parka vēsturisko objektu restaurācijai un atjaunošanai | C31: 03.08.2017.; 20.12.2017.; 18.02.2019. | D31: 20.12.2027. | E31: A2/1/17/566 A2/1/17/566-V/17/1; A2/1/17/566-V/19/2 | F31: P-425/2017 | G31: valsts kase | H31: 4.364 | I31: mainīga | J31: EUR | K31: 24904 | L31: 4208 | M31: =K31+L31 -> 29112 | N31: 24904 | O31: 2939 | P31: =N31+O31 -> 27843 | Q31: 24904 | R31: 1908 | S31: =Q31+R31 -> 26812 | T31: 24904 | U31: 874 | V31: =T31+U31 -> 25778 | X31: 57 | Y31: =W31+X31 -> 57 | DL31: =+AF31+AI31+AL31+AO31+AR31+AU31+AX31+BA31+BD31+BG31+BJ31+BM31+BP31+BS31+BV31+BY31+CB31+CE31+CH31+CK31+CN31+CQ31+CT31+CW31+CZ31+DC31+DF31+DI31 -> 0 | DM31: =+AG31+AJ31+AM31+AP31+AS31+AV31+AY31+BB31+BE31+BH31+BK31+BN31+BQ31+BT31+BW31+BZ31+CC31+CF31+CI31+CL31+CO31+CR31+CU31+CX31+DA31+DD31+DG31+DJ31 -> 0 | DN31: =+AH31+AK31+AN31+AQ31+AT31+AW31+AZ31+BC31+BF31+BI31+BL31+BO31+BR31+BU31+BX31+CA31+CD31+CG31+CJ31+CM31+CP31+CS31+CV31+CY31+DB31+DE31+DH31+DK31 -> 0 | DO31: =+K31+N31+Q31+T31+W31+Z31+DL31+AC31 -> 99616 | DP31: =+L31+O31+R31+U31+X31+AA31+DM31+AD31 -> 9986 | DQ31: =+M31+P31+S31+V31+Y31+AB31+DN31+AE31 -> 109602 | DR31: 201446
B32: aizņēmums "Multifunkcionālās komunālās mašīnas un tā aprīkojuma iegādei" (PA "Spodra") | C32: 07.09.2017. | D32: 20.12.2024. | E32: A2/1/17/656 | F32: P-509/2017 | G32: valsts kase | H32: 4.325 | I32: mainīga | J32: EUR | K32: 36684 | L32: 1358 | M32: =K32+L32 -> 38042 | O32: 84 | P32: =N32+O32 -> 84 | DL32: =+AF32+AI32+AL32+AO32+AR32+AU32+AX32+BA32+BD32+BG32+BJ32+BM32+BP32+BS32+BV32+BY32+CB32+CE32+CH32+CK32+CN32+CQ32+CT32+CW32+CZ32+DC32+DF32+DI32 -> 0 | DM32: =+AG32+AJ32+AM32+AP32+AS32+AV32+AY32+BB32+BE32+BH32+BK32+BN32+BQ32+BT32+BW32+BZ32+CC32+CF32+CI32+CL32+CO32+CR32+CU32+CX32+DA32+DD32+DG32+DJ32 -> 0 | DN32: =+AH32+AK32+AN32+AQ32+AT32+AW32+AZ32+BC32+BF32+BI32+BL32+BO32+BR32+BU32+BX32+CA32+CD32+CG32+CJ32+CM32+CP32+CS32+CV32+CY32+DB32+DE32+DH32+DK32 -> 0 | DO32: =+K32+N32+Q32+T32+W32+Z32+DL32+AC32 -> 36684 | DP32: =+L32+O32+R32+U32+X32+AA32+DM32+AD32 -> 1442 | DQ32: =+M32+P32+S32+V32+Y32+AB32+DN32+AE32 -> 38126 | DR32: 185292
B33: Aizņēmums Alūksnes Pilssalas infrastruktūras izbūvei | C33: 06.10.2017.; 20.12.2017.; 01.06.2018.; 18.02.2019. | D33: 20.12.2028. | E33: A2/1/17/720; A2/1/17/720-V/17/1; A2/1/17/720-V/18/2; A2/1/17/720-V/19/3 | F33: P-572/2017 | G33: valsts kase | H33: 4.45 | I33: mainīga | J33: EUR | K33: 60620 | L33: 13224 | M33: =K33+L33 -> 73844 | N33: 60620 | O33: 9679 | P33: =N33+O33 -> 70299 | Q33: 60620 | R33: 7159 | S33: =Q33+R33 -> 67779 | T33: 60620 | U33: 4643 | V33: =T33+U33 -> 65263 | W33: 60620 | X33: 2127 | Y33: =W33+X33 -> 62747 | AA33: 138 | AB33: =Z33+AA33 -> 138 | DL33: =+AF33+AI33+AL33+AO33+AR33+AU33+AX33+BA33+BD33+BG33+BJ33+BM33+BP33+BS33+BV33+BY33+CB33+CE33+CH33+CK33+CN33+CQ33+CT33+CW33+CZ33+DC33+DF33+DI33 -> 0 | DM33: =+AG33+AJ33+AM33+AP33+AS33+AV33+AY33+BB33+BE33+BH33+BK33+BN33+BQ33+BT33+BW33+BZ33+CC33+CF33+CI33+CL33+CO33+CR33+CU33+CX33+DA33+DD33+DG33+DJ33 -> 0 | DN33: =+AH33+AK33+AN33+AQ33+AT33+AW33+AZ33+BC33+BF33+BI33+BL33+BO33+BR33+BU33+BX33+CA33+CD33+CG33+CJ33+CM33+CP33+CS33+CV33+CY33+DB33+DE33+DH33+DK33 -> 0 | DO33: =+K33+N33+Q33+T33+W33+Z33+DL33+AC33 -> 303100 | DP33: =+L33+O33+R33+U33+X33+AA33+DM33+AD33 -> 36970 | DQ33: =+M33+P33+S33+V33+Y33+AB33+DN33+AE33 -> 340070 | DR33: 552349
B34: aizņēmums ERAF projekta Nr.5.6.2.0/18I/012 "Alūksnes pilsētas rūpnieciskās apbūves teritorijas attīstības 2.kārta" | C34: 30.11.2018. 27.12.2018. 14.01.2019. 17.05.2019. 30.01.2024. | D34: 52220 | E34: A2/1/18/865; A2/1/18/865-V/18/1; A2/1/18/865-V19/2; A2/1/18/865-V/19/3; A2/1/18/865-ekase; A2/1/18/865-V/24/4 | F34: P-718/2018 | G34: Valsts kase | H34: 4.397 | I34: mainīga | J34: EUR | K34: 75956 | L34: 45204 | M34: =K34+L34 -> 121160 | N34: 90740 | O34: 41299 | P34: =N34+O34 -> 132039 | Q34: 90740 | R34: 37067 | S34: =Q34+R34 -> 127807 | T34: 90740 | U34: 33300 | V34: =T34+U34 -> 124040 | W34: 90740 | X34: 29608 | Y34: =W34+X34 -> 120348 | Z34: 90740 | AA34: 25761 | AB34: =Z34+AA34 -> 116501 | AC34: 90740 | AD34: 21996 | AE34: =AC34+AD34 -> 112736 | DL34: 453661 | DM34: 53777 | DN34: =DL34+DM34 -> 507438 | DO34: =+K34+N34+Q34+T34+W34+Z34+DL34+AC34 -> 1074057 | DP34: =+L34+O34+R34+U34+X34+AA34+DM34+AD34 -> 288012 | DQ34: =+M34+P34+S34+V34+Y34+AB34+DN34+AE34 -> 1362069 | DR34: 1466883
B35: aizņēmums projekta "Ernsta Glika Alūksnes Valsts ģimnāzijas mācību vides uzlabošanas būvprojekta izstrāde" īstenošanai | C35: 31.01.2018. | D35: 20.12.2023. | E35: A2/1/18/27 | F35: P-20/2018 | G35: valsts kase | H35: 0.25 | I35: mainīga | J35: EUR | L35: 50 | M35: =K35+L35 -> 50 | P35: =N35+O35 -> 0 | S35: =Q35+R35 -> 0 | V35: =T35+U35 -> 0 | Y35: =W35+X35 -> 0 | AB35: =Z35+AA35 -> 0 | AE35: =AC35+AD35 -> 0 | DL35: =+AF35+AI35+AL35+AO35+AR35+AU35+AX35+BA35+BD35+BG35+BJ35+BM35+BP35+BS35+BV35+BY35+CB35+CE35+CH35+CK35+CN35+CQ35+CT35+CW35+CZ35+DC35+DF35+DI35 -> 0 | DM35: =+AG35+AJ35+AM35+AP35+AS35+AV35+AY35+BB35+BE35+BH35+BK35+BN35+BQ35+BT35+BW35+BZ35+CC35+CF35+CI35+CL35+CO35+CR35+CU35+CX35+DA35+DD35+DG35+DJ35 -> 0 | DN35: =+AH35+AK35+AN35+AQ35+AT35+AW35+AZ35+BC35+BF35+BI35+BL35+BO35+BR35+BU35+BX35+CA35+CD35+CG35+CJ35+CM35+CP35+CS35+CV35+CY35+DB35+DE35+DH35+DK35 -> 0 | DO35: =+K35+N35+Q35+T35+W35+Z35+DL35+AC35 -> 0 | DP35: =+L35+O35+R35+U35+X35+AA35+DM35+AD35 -> 50 | DQ35: =+M35+P35+S35+V35+Y35+AB35+DN35+AE35 -> 50 | DR35: 100193
B36: aizņēmums projekta "Ernsta Glika Alūksnes Valsts ģimnāzijas mācību vides uzlabošanas būvprojekta izstrāde" īstenošanai papildu | C36: 22.06.2021. 12.01.2022. | D36: 22.12.2036. | E36: A2/1/21/321; A2/1/21/321-V/22/1 | F36: P-210/2021 | G36: valsts kase | H36: 4.551 | I36: mainīga | J36: EUR | K36: 2346 | L36: 120 | M36: =K36+L36 -> 2466 | N36: 0 | O36: 0 | P36: =N36+O36 -> 0 | Q36: 0 | R36: 0 | S36: =Q36+R36 -> 0 | T36: 0 | U36: 0 | V36: =T36+U36 -> 0 | W36: 0 | X36: 0 | Y36: =W36+X36 -> 0 | Z36: 0 | AA36: 0 | AB36: =Z36+AA36 -> 0 | AC36: 0 | AD36: 0 | AE36: =AC36+AD36 -> 0 | DL36: =+AF36+AI36+AL36+AO36+AR36+AU36+AX36+BA36+BD36+BG36+BJ36+BM36+BP36+BS36+BV36+BY36+CB36+CE36+CH36+CK36+CN36+CQ36+CT36+CW36+CZ36+DC36+DF36+DI36 -> 0 | DM36: =+AG36+AJ36+AM36+AP36+AS36+AV36+AY36+BB36+BE36+BH36+BK36+BN36+BQ36+BT36+BW36+BZ36+CC36+CF36+CI36+CL36+CO36+CR36+CU36+CX36+DA36+DD36+DG36+DJ36 -> 0 | DN36: =+AH36+AK36+AN36+AQ36+AT36+AW36+AZ36+BC36+BF36+BI36+BL36+BO36+BR36+BU36+BX36+CA36+CD36+CG36+CJ36+CM36+CP36+CS36+CV36+CY36+DB36+DE36+DH36+DK36 -> 0 | DO36: =+K36+N36+Q36+T36+W36+Z36+DL36+AC36 -> 2346 | DP36: =+L36+O36+R36+U36+X36+AA36+DM36+AD36 -> 120 | DQ36: =+M36+P36+S36+V36+Y36+AB36+DN36+AE36 -> 2466
B37: ERAF projekta "Ernsta Glika Alūksnes Valsts ģimnāzijas mācību vides uzlabošanas būvprojekta izstrāde" īstenošanai papildu 2.aizdevums | C37: 28.01.2022.; 30.01.2024. | D37: 20.01.2037. | E37: A2/1/22/12; A2/1/22/12-V/24/1 | F37: P-3/2022 | G37: valsts kase | H37: 4.085 | I37: mainīga | J37: EUR | K37: 59692 | L37: 36992 | M37: =K37+L37 -> 96684 | N37: 71796 | O37: 35439 | P37: =N37+O37 -> 107235 | Q37: 71796 | R37: 32654 | S37: =Q37+R37 -> 104450 | T37: 71796 | U37: 29625 | V37: =T37+U37 -> 101421 | W37: 71796 | X37: 26665 | Y37: =W37+X37 -> 98461 | Z37: 71796 | AA37: 23565 | AB37: =Z37+AA37 -> 95361 | AC37: 71796 | AD37: 20539 | AE37: =AC37+AD37 -> 92335 | DL37: 426781 | DM37: 61584 | DN37: =DL37+DM37 -> 488365 | DO37: =+K37+N37+Q37+T37+W37+Z37+DL37+AC37 -> 917249 | DP37: =+L37+O37+R37+U37+X37+AA37+DM37+AD37 -> 267063 | DQ37: =+M37+P37+S37+V37+Y37+AB37+DN37+AE37 -> 1184312
B38: aizņēmums projekta "Lietus kanalizācijas sistēmas izbūve un ielu seguma atjaunošana" īstenošanai (O.Vācieša un Dārza ielu rekonstrukcijai) | C38: 29.10.2018.; 30.11.2018. | D38: 20.12.2028. | E38: A2/1/18/751; A2/1/18/751-V/18/1 | F38: P-628/2018 | G38: Valsts kase | H38: 4.467 | I38: mainīga | J38: EUR | K38: 17772 | L38: 3816 | M38: =K38+L38 -> 21588 | N38: 17772 | O38: 2854 | P38: =N38+O38 -> 20626 | Q38: 17772 | R38: 2099 | S38: =Q38+R38 -> 19871 | T38: 17772 | U38: 1361 | V38: =T38+U38 -> 19133 | W38: 17772 | X38: 624 | Y38: =W38+X38 -> 18396 | AA38: 41 | AB38: =Z38+AA38 -> 41 | DL38: =+AF38+AI38+AL38+AO38+AR38+AU38+AX38+BA38+BD38+BG38+BJ38+BM38+BP38+BS38+BV38+BY38+CB38+CE38+CH38+CK38+CN38+CQ38+CT38+CW38+CZ38+DC38+DF38+DI38 -> 0 | DM38: =+AG38+AJ38+AM38+AP38+AS38+AV38+AY38+BB38+BE38+BH38+BK38+BN38+BQ38+BT38+BW38+BZ38+CC38+CF38+CI38+CL38+CO38+CR38+CU38+CX38+DA38+DD38+DG38+DJ38 -> 0 | DN38: =+AH38+AK38+AN38+AQ38+AT38+AW38+AZ38+BC38+BF38+BI38+BL38+BO38+BR38+BU38+BX38+CA38+CD38+CG38+CJ38+CM38+CP38+CS38+CV38+CY38+DB38+DE38+DH38+DK38 -> 0 | DO38: =+K38+N38+Q38+T38+W38+Z38+DL38+AC38 -> 88860 | DP38: =+L38+O38+R38+U38+X38+AA38+DM38+AD38 -> 10795 | DQ38: =+M38+P38+S38+V38+Y38+AB38+DN38+AE38 -> 99655 | DR38: 161932
B39: aizņēmums prioritāro invesīciju projekta "Nekustamā īpašuma Uzvaras iela 1, Alūksnē, Alūksnes novadā" īstenošanai | C39: 15.11.2018. | D39: 20.12.2028. | E39: A2/1/18/795 | F39: P-667/2018 | G39: Valsts kase | H39: 4.409 | I39: mainīga | J39: EUR | K39: 13000 | L39: 2725 | M39: =K39+L39 -> 15725 | N39: 13000 | O39: 2094 | P39: =N39+O39 -> 15094 | Q39: 13000 | R39: 1535 | S39: =Q39+R39 -> 14535 | T39: 13000 | U39: 996 | V39: =T39+U39 -> 13996 | W39: 13000 | X39: 456 | Y39: =W39+X39 -> 13456 | AA39: 30 | AB39: =Z39+AA39 -> 30 | AE39: =AC39+AD39 -> 0 | DL39: =+AF39+AI39+AL39+AO39+AR39+AU39+AX39+BA39+BD39+BG39+BJ39+BM39+BP39+BS39+BV39+BY39+CB39+CE39+CH39+CK39+CN39+CQ39+CT39+CW39+CZ39+DC39+DF39+DI39 -> 0 | DM39: =+AG39+AJ39+AM39+AP39+AS39+AV39+AY39+BB39+BE39+BH39+BK39+BN39+BQ39+BT39+BW39+BZ39+CC39+CF39+CI39+CL39+CO39+CR39+CU39+CX39+DA39+DD39+DG39+DJ39 -> 0 | DN39: =+AH39+AK39+AN39+AQ39+AT39+AW39+AZ39+BC39+BF39+BI39+BL39+BO39+BR39+BU39+BX39+CA39+CD39+CG39+CJ39+CM39+CP39+CS39+CV39+CY39+DB39+DE39+DH39+DK39 -> 0 | DO39: =+K39+N39+Q39+T39+W39+Z39+DL39+AC39 -> 65000 | DP39: =+L39+O39+R39+U39+X39+AA39+DM39+AD39 -> 7836 | DQ39: =+M39+P39+S39+V39+Y39+AB39+DN39+AE39 -> 72836 | DR39: 118451
B40: aiņēmums ERAF projektam “Infrastruktūras risinājumi deinstitucionālizācijas īstenošanai Alūksnes novadā” Nr.9.3.1.1/19/I/048 (ēkas Uzvaras iela 1 pārbūve) | C40: 01.06.2020. | D40: 20.12.2031. | E40: A2/1/20/254 | F40: P-139/2020 | G40: Valsts kase | H40: 5.076 | I40: mainīga | J40: EUR | K40: 14048 | L40: 5590 | M40: =K40+L40 -> 19638 | N40: 14048 | O40: 4685 | P40: =N40+O40 -> 18733 | Q40: 14048 | R40: 4002 | S40: =Q40+R40 -> 18050 | T40: 14048 | U40: 3317 | V40: =T40+U40 -> 17365 | W40: 14048 | X40: 2638 | Y40: =W40+X40 -> 16686 | Z40: 14048 | AA40: 1946 | AB40: =Z40+AA40 -> 15994 | AC40: 14048 | AD40: 1262 | AE40: =AC40+AD40 -> 15310 | DL40: 14048 | DM40: 616 | DN40: =DL40+DM40 -> 14664 | DO40: =+K40+N40+Q40+T40+W40+Z40+DL40+AC40 -> 112384 | DP40: =+L40+O40+R40+U40+X40+AA40+DM40+AD40 -> 24056 | DQ40: =+M40+P40+S40+V40+Y40+AB40+DN40+AE40 -> 136440 | DR40: 151364
B41: aizņēmums LAT-RUS projektam "630 verstis pilnas sajūtām" | C41: 29.11.2019. | D41: 20.12.2030. | E41: A2/1/19/436 | F41: P-274/2019 | G41: Valsts kase | H41: 4.397 | I41: mainīga | J41: EUR | K41: 21480 | L41: 6259 | M41: =K41+L41 -> 27739 | N41: 21480 | O41: 5273 | P41: =N41+O41 -> 26753 | Q41: 21480 | R41: 4319 | S41: =Q41+R41 -> 25799 | T41: 21480 | U41: 3427 | V41: =T41+U41 -> 24907 | W41: 21480 | X41: 2541 | Y41: =W41+X41 -> 24021 | Z41: 21480 | AA41: 1643 | AB41: =Z41+AA41 -> 23123 | AC41: 21480 | AD41: 751 | AE41: =AC41+AD41 -> 22231 | DL41: =+AF41+AI41+AL41+AO41+AR41+AU41+AX41+BA41+BD41+BG41+BJ41+BM41+BP41+BS41+BV41+BY41+CB41+CE41+CH41+CK41+CN41+CQ41+CT41+CW41+CZ41+DC41+DF41+DI41 -> 0 | DM41: 49 | DN41: =DL41+DM41 -> 49 | DO41: =+K41+N41+Q41+T41+W41+Z41+DL41+AC41 -> 150360 | DP41: =+L41+O41+R41+U41+X41+AA41+DM41+AD41 -> 24262 | DQ41: =+M41+P41+S41+V41+Y41+AB41+DN41+AE41 -> 174622 | DR41: 218155
B42: aizņēmums LAT-RUS projektam "630 verstis pilnas sajūtām" papildus | C42: 06.10.2020. | D42: 20.12.2030. | E42: A2/1/20/704 | F42: P-371/2020 | G42: Valsts kase | H42: 4.732 | I42: mainīga | J42: EUR | K42: 5768 | L42: 1888 | M42: =K42+L42 -> 7656 | N42: 5768 | O42: 1434 | P42: =N42+O42 -> 7202 | Q42: 5768 | R42: 1187 | S42: =Q42+R42 -> 6955 | T42: 5768 | U42: 942 | V42: =T42+U42 -> 6710 | W42: 5768 | X42: 699 | Y42: =W42+X42 -> 6467 | Z42: 5768 | AA42: 452 | AB42: =Z42+AA42 -> 6220 | AC42: 5768 | AD42: 207 | AE42: =AC42+AD42 -> 5975 | DL42: =+AF42+AI42+AL42+AO42+AR42+AU42+AX42+BA42+BD42+BG42+BJ42+BM42+BP42+BS42+BV42+BY42+CB42+CE42+CH42+CK42+CN42+CQ42+CT42+CW42+CZ42+DC42+DF42+DI42 -> 0 | DM42: 13 | DN42: =DL42+DM42 -> 13 | DO42: =+K42+N42+Q42+T42+W42+Z42+DL42+AC42 -> 40376 | DP42: =+L42+O42+R42+U42+X42+AA42+DM42+AD42 -> 6822 | DQ42: =+M42+P42+S42+V42+Y42+AB42+DN42+AE42 -> 47198 | DR42: 53444
B43: aizņēmums ERAF projektam "Uzņēmējdarbībai nozīmīgas infrastruktūras attīstība Alūksnes pilsētā" | C43: 31.08.2020. | D43: 20.12.2031. | E43: A2/1/20/604 | F43: P-274/2020 | G43: Valsts kase | H43: 5.18 | I43: mainīga | J43: EUR | K43: 11520 | L43: 4585 | M43: =K43+L43 -> 16105 | N43: 11520 | O43: 3690 | P43: =N43+O43 -> 15210 | Q43: 11520 | R43: 3133 | S43: =Q43+R43 -> 14653 | T43: 11520 | U43: 2574 | V43: =T43+U43 -> 14094 | W43: 11520 | X43: 2019 | Y43: =W43+X43 -> 13539 | Z43: 11520 | AA43: 1455 | AB43: =Z43+AA43 -> 12975 | AC43: 11520 | AD43: 896 | AE43: =AC43+AD43 -> 12416 | DL43: 8758 | DM43: 339 | DN43: =DL43+DM43 -> 9097 | DO43: =+K43+N43+Q43+T43+W43+Z43+DL43+AC43 -> 89398 | DP43: =+L43+O43+R43+U43+X43+AA43+DM43+AD43 -> 18691 | DQ43: =+M43+P43+S43+V43+Y43+AB43+DN43+AE43 -> 108089 | DR43: 123255
B44: aizņēmums ERAF projektam "Uzņēmējdarbībai nozīmīgas infrastruktūras attīstība Alūksnes pilsētā" | C44: 31.08.2020. | D44: 20.12.2031. | E44: A2/1/20/603 | F44: P-275/2020 | G44: Valsts kase | H44: 4.58 | I44: mainīgā | J44: EUR | K44: 3428 | L44: 441 | M44: =K44+L44 -> 3869 | N44: 3428 | O44: 258 | P44: =N44+O44 -> 3686 | Q44: 3195 | R44: 113 | S44: =Q44+R44 -> 3308 | T44: 0 | U44: 6 | V44: =T44+U44 -> 6 | W44: 0 | X44: 0 | Y44: =W44+X44 -> 0 | Z44: 0 | AA44: 0 | AB44: =Z44+AA44 -> 0 | AC44: 0 | AD44: 0 | AE44: =AC44+AD44 -> 0 | DL44: =+AF44+AI44+AL44+AO44+AR44+AU44+AX44+BA44+BD44+BG44+BJ44+BM44+BP44+BS44+BV44+BY44+CB44+CE44+CH44+CK44+CN44+CQ44+CT44+CW44+CZ44+DC44+DF44+DI44 -> 0 | DM44: =+AG44+AJ44+AM44+AP44+AS44+AV44+AY44+BB44+BE44+BH44+BK44+BN44+BQ44+BT44+BW44+BZ44+CC44+CF44+CI44+CL44+CO44+CR44+CU44+CX44+DA44+DD44+DG44+DJ44 -> 0 | DN44: =+AH44+AK44+AN44+AQ44+AT44+AW44+AZ44+BC44+BF44+BI44+BL44+BO44+BR44+BU44+BX44+CA44+CD44+CG44+CJ44+CM44+CP44+CS44+CV44+CY44+DB44+DE44+DH44+DK44 -> 0 | DO44: =+K44+N44+Q44+T44+W44+Z44+DL44+AC44 -> 10051 | DP44: =+L44+O44+R44+U44+X44+AA44+DM44+AD44 -> 818 | DQ44: =+M44+P44+S44+V44+Y44+AB44+DN44+AE44 -> 10869 | DR44: 35350
B45: aizņēmums pašvaldības transporta infrastruktūras attīstības projekts "Baložu bulvāra pārbūve Alūksnē, Alūksnes novadā" | C45: 31.08.2020. | D45: 20.12.2031. | E45: A2/1/20/601 | F45: P-277/2020 | G45: Valsts kase | H45: 4.58 | I45: mainīga | J45: EUR | K45: 12664 | L45: 4593 | M45: =K45+L45 -> 17257 | N45: 12664 | O45: 3677 | P45: =N45+O45 -> 16341 | Q45: 12664 | R45: 3141 | S45: =Q45+R45 -> 15805 | T45: 12664 | U45: 2603 | V45: =T45+U45 -> 15267 | W45: 12664 | X45: 2071 | Y45: =W45+X45 -> 14735 | Z45: 12664 | AA45: 1527 | AB45: =Z45+AA45 -> 14191 | AC45: 12664 | AD45: 990 | AE45: =AC45+AD45 -> 13654 | DL45: 12664 | DM45: 484 | DN45: =DL45+DM45 -> 13148 | DO45: =+K45+N45+Q45+T45+W45+Z45+DL45+AC45 -> 101312 | DP45: =+L45+O45+R45+U45+X45+AA45+DM45+AD45 -> 19086 | DQ45: =+M45+P45+S45+V45+Y45+AB45+DN45+AE45 -> 120398 | DR45: 130661
B46: Aizņēmums KF projektam "Zāļo un dārza atkritumu kompostēšanas laukuma izveide Alūksnes novadā" | C46: 24.02.2021. 28.10.2021. | D46: 20.12.2032. | E46: A2/1/21/37; A2/1/21/37-V/21/1; A2/1/21/37-V/21/2 | F46: P-9/2021 | G46: Valsts kase | H46: 4.602 | I46: mainīga | J46: EUR | K46: 16724 | L46: 4941 | M46: =K46+L46 -> 21665 | N46: 16724 | O46: 4139 | P46: =N46+O46 -> 20863 | Q46: 16724 | R46: 3330 | S46: =Q46+R46 -> 20054 | T46: 16724 | U46: 2544 | V46: =T46+U46 -> 19268 | W46: 16724 | X46: 1763 | Y46: =W46+X46 -> 18487 | Z46: 16724 | AA46: 973 | AB46: =Z46+AA46 -> 17697 | AC46: 6619 | AD46: 216 | AE46: =AC46+AD46 -> 6835 | DL46: =+AF46+AI46+AL46+AO46+AR46+AU46+AX46+BA46+BD46+BG46+BJ46+BM46+BP46+BS46+BV46+BY46+CB46+CE46+CH46+CK46+CN46+CQ46+CT46+CW46+CZ46+DC46+DF46+DI46 -> 0 | DM46: =+AG46+AJ46+AM46+AP46+AS46+AV46+AY46+BB46+BE46+BH46+BK46+BN46+BQ46+BT46+BW46+BZ46+CC46+CF46+CI46+CL46+CO46+CR46+CU46+CX46+DA46+DD46+DG46+DJ46 -> 0 | DN46: =+AH46+AK46+AN46+AQ46+AT46+AW46+AZ46+BC46+BF46+BI46+BL46+BO46+BR46+BU46+BX46+CA46+CD46+CG46+CJ46+CM46+CP46+CS46+CV46+CY46+DB46+DE46+DH46+DK46 -> 0 | DO46: =+K46+N46+Q46+T46+W46+Z46+DL46+AC46 -> 106963 | DP46: =+L46+O46+R46+U46+X46+AA46+DM46+AD46 -> 17906 | DQ46: =+M46+P46+S46+V46+Y46+AB46+DN46+AE46 -> 124869
B47: aizņēmums Izglītības un sporta centra izveidei Alūksnes pilsētā | C47: 28.07.2021.; 30.01.2024. | D47: 20.12.2050. | E47: A2/1/21/435; A2/1/21/435-V/24/1 | F47: P-315/2021 | G47: Valsts kase | H47: 4.931 | I47: mainīga | J47: EUR | K47: 61631 | L47: 274700 | M47: =K47+L47 -> 336331 | N47: 211788 | O47: 248743 | P47: =N47+O47 -> 460531 | Q47: 211788 | R47: 239498 | S47: =Q47+R47 -> 451286 | T47: 211788 | U47: 229852 | V47: =T47+U47 -> 441640 | W47: 211788 | X47: 220794 | Y47: =W47+X47 -> 432582 | Z47: 211788 | AA47: 210548 | AB47: =Z47+AA47 -> 422336 | AC47: 211788 | AD47: 200908 | AE47: =AC47+AD47 -> 412696 | DL47: 4235689 | DM47: 1996155 | DN47: =DL47+DM47 -> 6231844 | DO47: =+K47+N47+Q47+T47+W47+Z47+DL47+AC47 -> 5568048 | DP47: =+L47+O47+R47+U47+X47+AA47+DM47+AD47 -> 3621198 | DQ47: =+M47+P47+S47+V47+Y47+AB47+DN47+AE47 -> 9189246
B48: projekta "Izglītības un sporta centra izveide Alūksnes pilsētā" investīciju īstenošana (papildus) | C48: 05.10.2022.; 30.01.2024. | D48: 20.09.2051. | E48: A2/1/22/411; A2/1/22/411-V/24/1 | F48: P-283/2022 | G48: Valsts kase | H48: 6.122 | I48: mainīga | J48: EUR | K48: 4920 | L48: 25334 | M48: =K48+L48 -> 30254 | N48: 15092 | O48: 22694 | P48: =N48+O48 -> 37786 | Q48: 15092 | R48: 21849 | S48: =Q48+R48 -> 36941 | T48: 15092 | U48: 20995 | V48: =T48+U48 -> 36087 | W48: 15092 | X48: 20194 | Y48: =W48+X48 -> 35286 | Z48: 15092 | AA48: 19285 | AB48: =Z48+AA48 -> 34377 | AC48: 15092 | AD48: 18431 | AE48: =AC48+AD48 -> 33523 | DL48: 313119 | DM48: 190017 | DN48: =DL48+DM48 -> 503136 | DO48: =+K48+N48+Q48+T48+W48+Z48+DL48+AC48 -> 408591 | DP48: =+L48+O48+R48+U48+X48+AA48+DM48+AD48 -> 338799 | DQ48: =+M48+P48+S48+V48+Y48+AB48+DN48+AE48 -> 747390
B49: aizņēmums LAT_RUS projektam "630 verstis pilnas sajūtām" (multimediju projekcija) | C49: 27.05.2021. | D49: 20.12.2030. | E49: A2/1/21/243 | F49: P-155/2021 | G49: Valsts kase | H49: 4.265 | I49: mainīga | J49: EUR | K49: 2000 | L49: 580 | M49: =K49+L49 -> 2580 | N49: 2000 | O49: 472 | P49: =N49+O49 -> 2472 | Q49: 2000 | R49: 391 | S49: =Q49+R49 -> 2391 | T49: 2000 | U49: 310 | V49: =T49+U49 -> 2310 | W49: 2000 | X49: 230 | Y49: =W49+X49 -> 2230 | Z49: 2000 | AA49: 149 | AB49: =Z49+AA49 -> 2149 | AC49: 2000 | AD49: 68 | AE49: =AC49+AD49 -> 2068 | DL49: =+AF49+AI49+AL49+AO49+AR49+AU49+AX49+BA49+BD49+BG49+BJ49+BM49+BP49+BS49+BV49+BY49+CB49+CE49+CH49+CK49+CN49+CQ49+CT49+CW49+CZ49+DC49+DF49+DI49 -> 0 | DM49: 4 | DN49: =DL49+DM49 -> 4 | DO49: =+K49+N49+Q49+T49+W49+Z49+DL49+AC49 -> 14000 | DP49: =+L49+O49+R49+U49+X49+AA49+DM49+AD49 -> 2204 | DQ49: =+M49+P49+S49+V49+Y49+AB49+DN49+AE49 -> 16204
B50: Prioritārais investīciju projekts "Alūksnes izziņas un pakalpojumu centrs" (atviegl.) | C50: 05.07.2022.; 30.01.2024. | D50: 20.12.2032. | E50: A2/1/22/189; A2/1/22/189-V/24/1 | F50: P-114/2022 PRIO | G50: Valsts kase | H50: 5.345 | I50: mainīga | J50: EUR | K50: 48969 | L50: 29694 | M50: =K50+L50 -> 78663 | N50: 64548 | O50: 24857 | P50: =N50+O50 -> 89405 | Q50: 64548 | R50: 21731 | S50: =Q50+R50 -> 86279 | T50: 64548 | U50: 18555 | V50: =T50+U50 -> 83103 | W50: 64548 | X50: 15415 | Y50: =W50+X50 -> 79963 | Z50: 64548 | AA50: 12198 | AB50: =Z50+AA50 -> 76746 | AC50: 64548 | AD50: 9024 | AE50: =AC50+AD50 -> 73572 | DL50: 129087 | DM50: 8723 | DN50: =DL50+DM50 -> 137810 | DO50: =+K50+N50+Q50+T50+W50+Z50+DL50+AC50 -> 565344 | DP50: =+L50+O50+R50+U50+X50+AA50+DM50+AD50 -> 140197 | DQ50: =+M50+P50+S50+V50+Y50+AB50+DN50+AE50 -> 705541
B51: Prioritārais investīciju projekts "Alūksnes izziņas un pakalpojumu centrs" (tirgus nosac.) | C51: 06.07.2022. | D51: 20.12.2032. | E51: A2/1/22/194 | F51: P-108/2022 PRIO | G51: Valsts kase | H51: 5.946 | I51: mainīga | J51: EUR | K51: 23156 | L51: 12144 | M51: =K51+L51 -> 35300 | N51: 23156 | O51: 10037 | P51: =N51+O51 -> 33193 | Q51: 23156 | R51: 8760 | S51: =Q51+R51 -> 31916 | T51: 23156 | U51: 7480 | V51: =T51+U51 -> 30636 | W51: 23156 | X51: 6215 | Y51: =W51+X51 -> 29371 | Z51: 23156 | AA51: 4918 | AB51: =Z51+AA51 -> 28074 | AC51: 23156 | AD51: 3638 | AE51: =AC51+AD51 -> 26794 | DL51: 46312 | DM51: 3517 | DN51: =DL51+DM51 -> 49829 | DO51: =+K51+N51+Q51+T51+W51+Z51+DL51+AC51 -> 208404 | DP51: =+L51+O51+R51+U51+X51+AA51+DM51+AD51 -> 56709 | DQ51: =+M51+P51+S51+V51+Y51+AB51+DN51+AE51 -> 265113
B52: ERAF projekta (Nr.5.6.2.0/21/I/010) "Uzņēmējdarbībai nozīmīgas infrastruktūras attīstība Alūksnes novadā" īstenošanai (tirgus nosacījumi) | C52: 14.09.2022.; 30.01.2024. | D52: 20.08.2052. | E52: A2/1/22/385; A2/1/22/385-V/24/2 | F52: P-267/2022 | G52: Valsts kase | H52: 6.512 | I52: mainīga | J52: EUR | K52: 2999 | L52: 65651 | M52: =K52+L52 -> 68650 | N52: 27500 | O52: 46601 | P52: =N52+O52 -> 74101 | Q52: 27500 | R52: 45005 | S52: =Q52+R52 -> 72505 | T52: 27500 | U52: 43312 | V52: =T52+U52 -> 70812 | W52: 27500 | X52: 41729 | Y52: =W52+X52 -> 69229 | Z52: 27500 | AA52: 39923 | AB52: =Z52+AA52 -> 67423 | AC52: 27500 | AD52: 38230 | AE52: =AC52+AD52 -> 65730 | DL52: 598115 | DM52: 413263 | DN52: =DL52+DM52 -> 1011378 | DO52: =+K52+N52+Q52+T52+W52+Z52+DL52+AC52 -> 766114 | DP52: =+L52+O52+R52+U52+X52+AA52+DM52+AD52 -> 733714 | DQ52: =+M52+P52+S52+V52+Y52+AB52+DN52+AE52 -> 1499828
B53: ERAF projekta (Nr.5.6.2.0/21/I/010) "Uzņēmējdarbībai nozīmīgas infrastruktūras attīstība Alūksnes novadā" īstenošanai | C53: 14.09.2022. 30.01.2024. | D53: 20.08.2052. | E53: A2/1/22/386; A2/1/22/386-V/24/1 | F53: P-266/2022 | G53: Valsts kase | H53: 5.912 | I53: mainīga | J53: EUR | K53: 7973 | L53: 43751 | M53: =K53+L53 -> 51724 | N53: 26048 | O53: 39796 | P53: =N53+O53 -> 65844 | Q53: 26048 | R53: 38410 | S53: =Q53+R53 -> 64458 | T53: 26048 | U53: 36964 | V53: =T53+U53 -> 63012 | W53: 26048 | X53: 35614 | Y53: =W53+X53 -> 61662 | Z53: 26048 | AA53: 34071 | AB53: =Z53+AA53 -> 60119 | AC53: 26048 | AD53: 32627 | AE53: =AC53+AD53 -> 58675 | DL53: 566449 | DM53: 352638 | DN53: =DL53+DM53 -> 919087 | DO53: =+K53+N53+Q53+T53+W53+Z53+DL53+AC53 -> 730710 | DP53: =+L53+O53+R53+U53+X53+AA53+DM53+AD53 -> 613871 | DQ53: =+M53+P53+S53+V53+Y53+AB53+DN53+AE53 -> 1344581
B54: projekts "Ernsta Glika Alūksnes Valsts ģimnāzijas ēku pārbūve, 2.kārta" | C54: 03.11.2022.; 30.01.2024. | D54: 20.12.2044. | E54: A2/1/22/475; A2/1/22/475-V/24/1 | F54: P-341/2022 COVID VARAM | G54: Valsts kase | H54: 6.227 | I54: mainīga | J54: EUR | K54: 27256 | L54: 137391 | M54: =K54+L54 -> 164647 | N54: 112804 | O54: 133973 | P54: =N54+O54 -> 246777 | Q54: 112804 | R54: 126825 | S54: =Q54+R54 -> 239629 | T54: 112804 | U54: 120091 | V54: =T54+U54 -> 232895 | W54: 112804 | X54: 113657 | Y54: =W54+X54 -> 226461 | Z54: 112804 | AA54: 106614 | AB54: =Z54+AA54 -> 219418 | AC54: 112804 | AD54: 99884 | AE54: =AC54+AD54 -> 212688 | DL54: 1579190 | DM54: 692509 | DN54: =DL54+DM54 -> 2271699 | DO54: =+K54+N54+Q54+T54+W54+Z54+DL54+AC54 -> 2283270 | DP54: =+L54+O54+R54+U54+X54+AA54+DM54+AD54 -> 1530944 | DQ54: =+M54+P54+S54+V54+Y54+AB54+DN54+AE54 -> 3814214
A55: Annas pagasts | B55: ERAF projekts "Energoefektivitātes paaugstināšana Alūksnes novada pašvaldības ēkā" | C55: 06.07.2022. | D55: 21.12.2026. | E55: A2/1/22/195 | F55: P-107/2022 | G55: Valsts kase | H55: 5.065 | I55: mainīga | J55: EUR | K55: 8578 | L55: 807 | M55: =K55+L55 -> 9385 | N55: 8580 | O55: 365 | P55: =N55+O55 -> 8945 | Q55: 625 | R55: 36 | S55: =Q55+R55 -> 661 | V55: =T55+U55 -> 0 | Y55: =W55+X55 -> 0 | AB55: =Z55+AA55 -> 0 | AE55: =AC55+AD55 -> 0 | DL55: =+AF55+AI55+AL55+AO55+AR55+AU55+AX55+BA55+BD55+BG55+BJ55+BM55+BP55+BS55+BV55+BY55+CB55+CE55+CH55+CK55+CN55+CQ55+CT55+CW55+CZ55+DC55+DF55+DI55 -> 0 | DM55: =+AG55+AJ55+AM55+AP55+AS55+AV55+AY55+BB55+BE55+BH55+BK55+BN55+BQ55+BT55+BW55+BZ55+CC55+CF55+CI55+CL55+CO55+CR55+CU55+CX55+DA55+DD55+DG55+DJ55 -> 0 | DN55: =+AH55+AK55+AN55+AQ55+AT55+AW55+AZ55+BC55+BF55+BI55+BL55+BO55+BR55+BU55+BX55+CA55+CD55+CG55+CJ55+CM55+CP55+CS55+CV55+CY55+DB55+DE55+DH55+DK55 -> 0 | DO55: =+K55+N55+Q55+T55+W55+Z55+DL55+AC55 -> 17783 | DP55: =+L55+O55+R55+U55+X55+AA55+DM55+AD55 -> 1208 | DQ55: =+M55+P55+S55+V55+Y55+AB55+DN55+AE55 -> 18991
A56: Ilzenes pagasts | B56: Sporta, interešu izglītības un mūžizglītības centra "Dailes" rekonstrukcijas daļējai pabeigšanai | C56: 19.11.2008; 12.10.2009.; 13.05.2013.; 06.07.2016. | D56: 47442 | E56: A2/1/08/912; A2/1/09/556; A2/1/09/556-V/13/1; A2/1/09/556-V/16/2 | F56: P-388/2008; PE-7/2009 | G56: Valsts kase | H56: 4.415 | I56: mainīga | J56: EUR | K56: 8996 | L56: 2320 | M56: =K56+L56 -> 11316 | N56: 8996 | O56: 1806 | P56: =N56+O56 -> 10802 | Q56: 8996 | R56: 1434 | S56: =Q56+R56 -> 10430 | T56: 8996 | U56: 1060 | V56: =T56+U56 -> 10056 | W56: 8996 | X56: 688 | Y56: =W56+X56 -> 9684 | Z56: 8955 | AA56: 313 | AB56: =Z56+AA56 -> 9268 | AD56: 13 | AE56: =AC56+AD56 -> 13 | DL56: =+AF56+AI56+AL56+AO56+AR56+AU56+AX56+BA56+BD56+BG56+BJ56+BM56+BP56+BS56+BV56+BY56+CB56+CE56+CH56+CK56+CN56+CQ56+CT56+CW56+CZ56+DC56+DF56+DI56 -> 0 | DM56: =+AG56+AJ56+AM56+AP56+AS56+AV56+AY56+BB56+BE56+BH56+BK56+BN56+BQ56+BT56+BW56+BZ56+CC56+CF56+CI56+CL56+CO56+CR56+CU56+CX56+DA56+DD56+DG56+DJ56 -> 0 | DN56: =+AH56+AK56+AN56+AQ56+AT56+AW56+AZ56+BC56+BF56+BI56+BL56+BO56+BR56+BU56+BX56+CA56+CD56+CG56+CJ56+CM56+CP56+CS56+CV56+CY56+DB56+DE56+DH56+DK56 -> 0 | DO56: =+K56+N56+Q56+T56+W56+Z56+DL56+AC56 -> 53935 | DP56: =+L56+O56+R56+U56+X56+AA56+DM56+AD56 -> 7634 | DQ56: =+M56+P56+S56+V56+Y56+AB56+DN56+AE56 -> 61569 | DR56: 91151
B57: Sporta, interešu izglītības un mūžizglītības centra "Dailes"rekonstrukcijas pabeigšanai | C57: 28.04.2009., 20.11.2009., 13.05.2013.; 06.07.2016. | D57: 20.12.2030. | E57: A2/1/09/119; A2/1/09/119-V/09/1; A2/1/09/119-V/13/2; A2/1/09/119-V/16/3 | F57: P-37/2009 | G57: Valsts kase | H57: 4.415 | I57: mainīga | J57: EUR | K57: 2644 | L57: 797 | M57: =K57+L57 -> 3441 | N57: 2644 | O57: 640 | P57: =N57+O57 -> 3284 | Q57: 2644 | R57: 530 | S57: =Q57+R57 -> 3174 | T57: 2644 | U57: 421 | V57: =T57+U57 -> 3065 | W57: 2644 | X57: 311 | Y57: =W57+X57 -> 2955 | Z57: 2644 | AA57: 201 | AB57: =Z57+AA57 -> 2845 | AC57: 2612 | AD57: 92 | AE57: =AC57+AD57 -> 2704 | DL57: =+AF57+AI57+AL57+AO57+AR57+AU57+AX57+BA57+BD57+BG57+BJ57+BM57+BP57+BS57+BV57+BY57+CB57+CE57+CH57+CK57+CN57+CQ57+CT57+CW57+CZ57+DC57+DF57+DI57 -> 0 | DM57: 6 | DN57: =DL57+DM57 -> 6 | DO57: =+K57+N57+Q57+T57+W57+Z57+DL57+AC57 -> 18476 | DP57: =+L57+O57+R57+U57+X57+AA57+DM57+AD57 -> 2998 | DQ57: =+M57+P57+S57+V57+Y57+AB57+DN57+AE57 -> 21474 | DR57: 29487
B58: ERAF projekts "Ūdenssaimniecības attīstība Alūksnes novada Ilzenes pagasta Jaunzemu ciemā" (SIA Rūpe pamatkapitāls) | C58: 18.03.2015. | D58: 20.12.2025. | E58: A2/1/15/111 | F58: P-70/2015 | G58: Valsts kase | H58: 3.912 | I58: mainīga | J58: EUR | K58: 7392 | L58: 553 | M58: =K58+L58 -> 7945 | N58: 7392 | O58: 259 | P58: =N58+O58 -> 7651 | R58: 17 | S58: =Q58+R58 -> 17 | V58: =T58+U58 -> 0 | Y58: =W58+X58 -> 0 | AB58: =Z58+AA58 -> 0 | AE58: =AC58+AD58 -> 0 | DL58: =+AF58+AI58+AL58+AO58+AR58+AU58+AX58+BA58+BD58+BG58+BJ58+BM58+BP58+BS58+BV58+BY58+CB58+CE58+CH58+CK58+CN58+CQ58+CT58+CW58+CZ58+DC58+DF58+DI58 -> 0 | DM58: =+AG58+AJ58+AM58+AP58+AS58+AV58+AY58+BB58+BE58+BH58+BK58+BN58+BQ58+BT58+BW58+BZ58+CC58+CF58+CI58+CL58+CO58+CR58+CU58+CX58+DA58+DD58+DG58+DJ58 -> 0 | DN58: =+AH58+AK58+AN58+AQ58+AT58+AW58+AZ58+BC58+BF58+BI58+BL58+BO58+BR58+BU58+BX58+CA58+CD58+CG58+CJ58+CM58+CP58+CS58+CV58+CY58+DB58+DE58+DH58+DK58 -> 0 | DO58: =+K58+N58+Q58+T58+W58+Z58+DL58+AC58 -> 14784 | DP58: =+L58+O58+R58+U58+X58+AA58+DM58+AD58 -> 829 | DQ58: =+M58+P58+S58+V58+Y58+AB58+DN58+AE58 -> 15613 | DR58: 45294
A59: Jaunannas pagasts | B59: ELFLA projekts "Jaunannas pagasta tautas nama II kārtas rekonstrukcijas un pamatlīdzekļu iegāde" | C59: 25.08.2009.; 18.04.2013. 10.05.2017. | D59: 20.12.2028. | E59: A2/1/09/434 A2/1/09/434-V/13/1 A2/1/09/434-V/17/2 | F59: P-167/2009 | G59: Valsts kase | H59: 4.108 | I59: mainīga | J59: EUR | K59: 5208 | L59: 1052 | M59: =K59+L59 -> 6260 | N59: 5208 | O59: 831 | P59: =N59+O59 -> 6039 | Q59: 5208 | R59: 615 | S59: =Q59+R59 -> 5823 | T59: 5208 | U59: 399 | V59: =T59+U59 -> 5607 | W59: 5208 | X59: 183 | Y59: =W59+X59 -> 5391 | AA59: 12 | AB59: =Z59+AA59 -> 12 | AE59: =AC59+AD59 -> 0 | DL59: =+AF59+AI59+AL59+AO59+AR59+AU59+AX59+BA59+BD59+BG59+BJ59+BM59+BP59+BS59+BV59+BY59+CB59+CE59+CH59+CK59+CN59+CQ59+CT59+CW59+CZ59+DC59+DF59+DI59 -> 0 | DM59: =+AG59+AJ59+AM59+AP59+AS59+AV59+AY59+BB59+BE59+BH59+BK59+BN59+BQ59+BT59+BW59+BZ59+CC59+CF59+CI59+CL59+CO59+CR59+CU59+CX59+DA59+DD59+DG59+DJ59 -> 0 | DN59: =+AH59+AK59+AN59+AQ59+AT59+AW59+AZ59+BC59+BF59+BI59+BL59+BO59+BR59+BU59+BX59+CA59+CD59+CG59+CJ59+CM59+CP59+CS59+CV59+CY59+DB59+DE59+DH59+DK59 -> 0 | DO59: =+K59+N59+Q59+T59+W59+Z59+DL59+AC59 -> 26040 | DP59: =+L59+O59+R59+U59+X59+AA59+DM59+AD59 -> 3092 | DQ59: =+M59+P59+S59+V59+Y59+AB59+DN59+AE59 -> 29132 | DR59: 56356
B60: ERAF projekts "Ūdenssaimniecības attīstība Alūksnes novada Jaunannas pagasta Jaunannā" (SIA "Ievedne" pamatkapitāls) | C60: 18.04.2013. | D60: 20.12.2023. | E60: A2/1/13/145 | F60: P-88/2013 | G60: valsts kase | H60: 0.25 | I60: mainīga | J60: EUR | K60: 0 | L60: 13 | M60: =K60+L60 -> 13 | P60: =N60+O60 -> 0 | S60: =Q60+R60 -> 0 | V60: =T60+U60 -> 0 | Y60: =W60+X60 -> 0 | AB60: =Z60+AA60 -> 0 | AE60: =AC60+AD60 -> 0 | DL60: =+AF60+AI60+AL60+AO60+AR60+AU60+AX60+BA60+BD60+BG60+BJ60+BM60+BP60+BS60+BV60+BY60+CB60+CE60+CH60+CK60+CN60+CQ60+CT60+CW60+CZ60+DC60+DF60+DI60 -> 0 | DM60: =+AG60+AJ60+AM60+AP60+AS60+AV60+AY60+BB60+BE60+BH60+BK60+BN60+BQ60+BT60+BW60+BZ60+CC60+CF60+CI60+CL60+CO60+CR60+CU60+CX60+DA60+DD60+DG60+DJ60 -> 0 | DN60: =+AH60+AK60+AN60+AQ60+AT60+AW60+AZ60+BC60+BF60+BI60+BL60+BO60+BR60+BU60+BX60+CA60+CD60+CG60+CJ60+CM60+CP60+CS60+CV60+CY60+DB60+DE60+DH60+DK60 -> 0 | DO60: =+K60+N60+Q60+T60+W60+Z60+DL60+AC60 -> 0 | DP60: =+L60+O60+R60+U60+X60+AA60+DM60+AD60 -> 13 | DQ60: =+M60+P60+S60+V60+Y60+AB60+DN60+AE60 -> 13 | DR60: 24297
B61: ERAF projekts "Ūdenssaimniecības attīstība Alūksnes novada Jaunannas pagasta Jaunannā" (SIA "Ievedne" pamatkapitāls) | C61: 02.09.2013. | D61: 20.12.2023. | E61: A2/1/13/449 | F61: P-323/2013 | G61: valsts kase | H61: 0.25 | I61: mainīga | J61: EUR | L61: 5 | M61: =K61+L61 -> 5 | AB61: =Z61+AA61 -> 0 | DL61: =+AF61+AI61+AL61+AO61+AR61+AU61+AX61+BA61+BD61+BG61+BJ61+BM61+BP61+BS61+BV61+BY61+CB61+CE61+CH61+CK61+CN61+CQ61+CT61+CW61+CZ61+DC61+DF61+DI61 -> 0 | DM61: =+AG61+AJ61+AM61+AP61+AS61+AV61+AY61+BB61+BE61+BH61+BK61+BN61+BQ61+BT61+BW61+BZ61+CC61+CF61+CI61+CL61+CO61+CR61+CU61+CX61+DA61+DD61+DG61+DJ61 -> 0 | DN61: =+AH61+AK61+AN61+AQ61+AT61+AW61+AZ61+BC61+BF61+BI61+BL61+BO61+BR61+BU61+BX61+CA61+CD61+CG61+CJ61+CM61+CP61+CS61+CV61+CY61+DB61+DE61+DH61+DK61 -> 0 | DO61: =+K61+N61+Q61+T61+W61+Z61+DL61+AC61 -> 0 | DP61: =+L61+O61+R61+U61+X61+AA61+DM61+AD61 -> 5 | DQ61: =+M61+P61+S61+V61+Y61+AB61+DN61+AE61 -> 5 | DR61: 8326
A62: Jaunlaicenes pagasts | B62: ERAF "Ūdenssaimniecības pakalpojumu attīstība Jaunlaicenē" SIA "Rūpe" pamatkapitāls | C62: 19.11.2014. | D62: 20.12.2024. | E62: A2/1/14/877 | F62: P-568/2014 | G62: Valsts kase | H62: 4.422 | I62: mainīga | J62: EUR | K62: 4880 | L62: 174 | M62: =K62+L62 -> 5054 | O62: 12 | P62: =N62+O62 -> 12 | AB62: =Z62+AA62 -> 0 | DL62: =+AF62+AI62+AL62+AO62+AR62+AU62+AX62+BA62+BD62+BG62+BJ62+BM62+BP62+BS62+BV62+BY62+CB62+CE62+CH62+CK62+CN62+CQ62+CT62+CW62+CZ62+DC62+DF62+DI62 -> 0 | DM62: =+AG62+AJ62+AM62+AP62+AS62+AV62+AY62+BB62+BE62+BH62+BK62+BN62+BQ62+BT62+BW62+BZ62+CC62+CF62+CI62+CL62+CO62+CR62+CU62+CX62+DA62+DD62+DG62+DJ62 -> 0 | DN62: =+AH62+AK62+AN62+AQ62+AT62+AW62+AZ62+BC62+BF62+BI62+BL62+BO62+BR62+BU62+BX62+CA62+CD62+CG62+CJ62+CM62+CP62+CS62+CV62+CY62+DB62+DE62+DH62+DK62 -> 0 | DO62: =+K62+N62+Q62+T62+W62+Z62+DL62+AC62 -> 4880 | DP62: =+L62+O62+R62+U62+X62+AA62+DM62+AD62 -> 186 | DQ62: =+M62+P62+S62+V62+Y62+AB62+DN62+AE62 -> 5066 | DR62: 24626
B63: ERAF "Ūdenssaimniecības pakalpojumu attīstība Jaunlaicenē" SIA "Rūpe" pamatkapitāls sadardzinājums | C63: 18.03.2015. | D63: 20.12.2024. | E63: A2/1/15/109 | F63: P-68/2015 | G63: Valsts kase | H63: 3.912 | I63: mainīga | J63: EUR | K63: 2536 | L63: 86 | M63: =K63+L63 -> 2622 | O63: 6 | P63: =N63+O63 -> 6 | AB63: =Z63+AA63 -> 0 | DL63: =+AF63+AI63+AL63+AO63+AR63+AU63+AX63+BA63+BD63+BG63+BJ63+BM63+BP63+BS63+BV63+BY63+CB63+CE63+CH63+CK63+CN63+CQ63+CT63+CW63+CZ63+DC63+DF63+DI63 -> 0 | DM63: =+AG63+AJ63+AM63+AP63+AS63+AV63+AY63+BB63+BE63+BH63+BK63+BN63+BQ63+BT63+BW63+BZ63+CC63+CF63+CI63+CL63+CO63+CR63+CU63+CX63+DA63+DD63+DG63+DJ63 -> 0 | DN63: =+AH63+AK63+AN63+AQ63+AT63+AW63+AZ63+BC63+BF63+BI63+BL63+BO63+BR63+BU63+BX63+CA63+CD63+CG63+CJ63+CM63+CP63+CS63+CV63+CY63+DB63+DE63+DH63+DK63 -> 0 | DO63: =+K63+N63+Q63+T63+W63+Z63+DL63+AC63 -> 2536 | DP63: =+L63+O63+R63+U63+X63+AA63+DM63+AD63 -> 92 | DQ63: =+M63+P63+S63+V63+Y63+AB63+DN63+AE63 -> 2628 | DR63: 12908
B64: aizņēmums ERAF projektam "Infrastruktūras uzlabošana industriālās teritorijas attīstībai Alūksnes novada Jaunlaicenes ciemā" ar sadardzinājumu un papildinājumu | C64: 26.05.2017.; 03.08.2017.; 05.07.2018.; 10.07.2018.; 18.02.2019.; 21.03.2019. | D64: 20.12.2026. | E64: A2/1/17/316; A2/1/17/316-V/17/1; A2/1/17/316-V/18/2; A2/1/17/316-V/18/3; A2/1/17/316-V/19/4; A2/1/17/316-V/19/5 | F64: P-211/2017 | G64: Valsts kase | H64: 4.754 | I64: mainīga | J64: EUR | K64: 17844 | L64: 2442 | M64: =K64+L64 -> 20286 | N64: 17844 | O64: 1566 | P64: =N64+O64 -> 19410 | Q64: 17844 | R64: 719 | S64: =Q64+R64 -> 18563 | T64: 0 | U64: 47 | V64: =T64+U64 -> 47 | W64: 0 | X64: 0 | Y64: =W64+X64 -> 0 | Z64: 0 | AA64: 0 | AB64: =Z64+AA64 -> 0 | AC64: 0 | AD64: 0 | AE64: =AC64+AD64 -> 0 | DL64: =+AF64+AI64+AL64+AO64+AR64+AU64+AX64+BA64+BD64+BG64+BJ64+BM64+BP64+BS64+BV64+BY64+CB64+CE64+CH64+CK64+CN64+CQ64+CT64+CW64+CZ64+DC64+DF64+DI64 -> 0 | DM64: =+AG64+AJ64+AM64+AP64+AS64+AV64+AY64+BB64+BE64+BH64+BK64+BN64+BQ64+BT64+BW64+BZ64+CC64+CF64+CI64+CL64+CO64+CR64+CU64+CX64+DA64+DD64+DG64+DJ64 -> 0 | DN64: =+AH64+AK64+AN64+AQ64+AT64+AW64+AZ64+BC64+BF64+BI64+BL64+BO64+BR64+BU64+BX64+CA64+CD64+CG64+CJ64+CM64+CP64+CS64+CV64+CY64+DB64+DE64+DH64+DK64 -> 0 | DO64: =+K64+N64+Q64+T64+W64+Z64+DL64+AC64 -> 53532 | DP64: =+L64+O64+R64+U64+X64+AA64+DM64+AD64 -> 4774 | DQ64: =+M64+P64+S64+V64+Y64+AB64+DN64+AE64 -> 58306 | DR64: 129107
A65: Kalncempju pagasts | B65: ELFLA projekts "Pašvaldības autoceļa "Lūkuži - Gotlupi - Nāzupi" pārbūves 1.kārta Kalncempju pagastā, Alūksnes novadā" | C65: 01.06.2018.; 14.01.2019.; 25.02.2020. | D65: 20.06.2027. | E65: A2/1/18/298; A2/1/18/298-V/19/1; A2/1/18/298-V/20/2 | F65: P-258/2018 | G65: Valsts kase | H65: 4.154 | I65: mainīga | J65: EUR | K65: 7984 | L65: 1122 | M65: =K65+L65 -> 9106 | N65: 7984 | O65: 777 | P65: =N65+O65 -> 8761 | Q65: 7984 | R65: 446 | S65: =Q65+R65 -> 8430 | T65: 3992 | U65: 117 | V65: =T65+U65 -> 4109 | AB65: =Z65+AA65 -> 0 | DL65: =+AF65+AI65+AL65+AO65+AR65+AU65+AX65+BA65+BD65+BG65+BJ65+BM65+BP65+BS65+BV65+BY65+CB65+CE65+CH65+CK65+CN65+CQ65+CT65+CW65+CZ65+DC65+DF65+DI65 -> 0 | DM65: =+AG65+AJ65+AM65+AP65+AS65+AV65+AY65+BB65+BE65+BH65+BK65+BN65+BQ65+BT65+BW65+BZ65+CC65+CF65+CI65+CL65+CO65+CR65+CU65+CX65+DA65+DD65+DG65+DJ65 -> 0 | DN65: =+AH65+AK65+AN65+AQ65+AT65+AW65+AZ65+BC65+BF65+BI65+BL65+BO65+BR65+BU65+BX65+CA65+CD65+CG65+CJ65+CM65+CP65+CS65+CV65+CY65+DB65+DE65+DH65+DK65 -> 0 | DO65: =+K65+N65+Q65+T65+W65+Z65+DL65+AC65 -> 27944 | DP65: =+L65+O65+R65+U65+X65+AA65+DM65+AD65 -> 2462 | DQ65: =+M65+P65+S65+V65+Y65+AB65+DN65+AE65 -> 30406 | DR65: 60536
A66: Mālupes pagasts | B66: Mālupes Saeita nama rekonstrukcija 1.kārta | C66: 28.04.2009.; 10.03.2010.; 13.05.2013.; 06.07.2016. | D66: 20.05.2030. | E66: A2/1/09/120; A2/1/09/120-V/10/1; A2/1/09/120-V/13/2; A2/1/09/120-V/16/3 | F66: P-39/2009 | G66: Valsts kase | H66: 4.415 | I66: mainīga | J66: EUR | K66: 13044 | L66: 3512 | M66: =K66+L66 -> 16556 | N66: 13044 | O66: 2758 | P66: =N66+O66 -> 15802 | Q66: 13044 | R66: 2219 | S66: =Q66+R66 -> 15263 | T66: 13044 | U66: 1677 | V66: =T66+U66 -> 14721 | W66: 13044 | X66: 1138 | Y66: =W66+X66 -> 14182 | Z66: 13044 | AA66: 593 | AB66: =Z66+AA66 -> 13637 | AC66: 3298 | AD66: 72 | AE66: =AC66+AD66 -> 3370 | DL66: =+AF66+AI66+AL66+AO66+AR66+AU66+AX66+BA66+BD66+BG66+BJ66+BM66+BP66+BS66+BV66+BY66+CB66+CE66+CH66+CK66+CN66+CQ66+CT66+CW66+CZ66+DC66+DF66+DI66 -> 0 | DM66: =+AG66+AJ66+AM66+AP66+AS66+AV66+AY66+BB66+BE66+BH66+BK66+BN66+BQ66+BT66+BW66+BZ66+CC66+CF66+CI66+CL66+CO66+CR66+CU66+CX66+DA66+DD66+DG66+DJ66 -> 0 | DN66: =+AH66+AK66+AN66+AQ66+AT66+AW66+AZ66+BC66+BF66+BI66+BL66+BO66+BR66+BU66+BX66+CA66+CD66+CG66+CJ66+CM66+CP66+CS66+CV66+CY66+DB66+DE66+DH66+DK66 -> 0 | DO66: =+K66+N66+Q66+T66+W66+Z66+DL66+AC66 -> 81562 | DP66: =+L66+O66+R66+U66+X66+AA66+DM66+AD66 -> 11969 | DQ66: =+M66+P66+S66+V66+Y66+AB66+DN66+AE66 -> 93531 | DR66: 135614
B67: aizņēmums sociālo iestāžu investīciju projektam "Sociālās apūpes centra "Alūksne" filiāles "Pīlādži" izveide | C67: 11.04.2018.; 18.02.2019. | D67: 12.2038. | E67: A2/1/18/164; A2/1/18/164-V/19/1 | F67: P-138/2018 | G67: Valsts kase | H67: 3.888 | I67: mainīga | J67: EUR | K67: 39828 | L67: 23941 | M67: =K67+L67 -> 63769 | N67: 39828 | O67: 22877 | P67: =N67+O67 -> 62705 | Q67: 39828 | R67: 21228 | S67: =Q67+R67 -> 61056 | T67: 39828 | U67: 19574 | V67: =T67+U67 -> 59402 | W67: 39828 | X67: 17967 | Y67: =W67+X67 -> 57795 | Z67: 39828 | AA67: 16265 | AB67: =Z67+AA67 -> 56093 | AC67: 39828 | AD67: 14612 | AE67: =AC67+AD67 -> 54440 | DL67: 318624 | DM67: 57570 | DN67: =DL67+DM67 -> 376194 | DO67: =+K67+N67+Q67+T67+W67+Z67+DL67+AC67 -> 597420 | DP67: =+L67+O67+R67+U67+X67+AA67+DM67+AD67 -> 194034 | DQ67: =+M67+P67+S67+V67+Y67+AB67+DN67+AE67 -> 791454 | DR67: 804554
B68: aizņēmums pašvaldības transporta infrastruktūras attīstības projektam "Autoceļa "Mālupe - Priednieki" transporta infrastruktūras atjaunošana" | C68: 31.08.2020. | D68: 20.12.2031. | E68: A2/1/20/600 | F68: P-278/2020 | G68: Valsts kase | H68: 4.58 | I68: mainīga | J68: EUR | K68: 7260 | L68: 2633 | M68: =K68+L68 -> 9893 | N68: 7260 | O68: 2108 | P68: =N68+O68 -> 9368 | Q68: 7260 | R68: 1801 | S68: =Q68+R68 -> 9061 | T68: 7260 | U68: 1492 | V68: =T68+U68 -> 8752 | W68: 7260 | X68: 1187 | Y68: =W68+X68 -> 8447 | Z68: 7260 | AA68: 876 | AB68: =Z68+AA68 -> 8136 | AC68: 7260 | AD68: 568 | AE68: =AC68+AD68 -> 7828 | DL68: 7260 | DM68: 277 | DN68: =DL68+DM68 -> 7537 | DO68: =+K68+N68+Q68+T68+W68+Z68+DL68+AC68 -> 58080 | DP68: =+L68+O68+R68+U68+X68+AA68+DM68+AD68 -> 10942 | DQ68: =+M68+P68+S68+V68+Y68+AB68+DN68+AE68 -> 69022 | DR68: 74881
A69: Veclaicenes pagasts | B69: aizņēmums ERAF projekta "Aizsargājamo ainavu apvidus "Veclaicene" infrastruktūras uzlabošana antropogēnās slodzes mazināšanai un pieejamības nodrošināšanai" īstenošanai | C69: 05.12.2017.; 30.08.2018. | D69: 12.2036. | E69: A2/1/17/869; A2/1/17/869-V/18/1 | F69: P-662/2017 | G69: valsts kase | H69: 4.397 | I69: mainīga | J69: EUR | K69: 40960 | L69: 22353 | M69: =K69+L69 -> 63313 | N69: 40960 | O69: 20383 | P69: =N69+O69 -> 61343 | Q69: 40960 | R69: 18433 | S69: =Q69+R69 -> 59393 | T69: 40960 | U69: 16732 | V69: =T69+U69 -> 57692 | W69: 40960 | X69: 15070 | Y69: =W69+X69 -> 56030 | Z69: 40960 | AA69: 13328 | AB69: =Z69+AA69 -> 54288 | AC69: 40960 | AD69: 11629 | AE69: =AC69+AD69 -> 52589 | DL69: 245760 | DM69: 34222 | DN69: =DL69+DM69 -> 279982 | DO69: =+K69+N69+Q69+T69+W69+Z69+DL69+AC69 -> 532480 | DP69: =+L69+O69+R69+U69+X69+AA69+DM69+AD69 -> 152150 | DQ69: =+M69+P69+S69+V69+Y69+AB69+DN69+AE69 -> 684630 | DR69: 863296
A70: Zeltiņu pagasts | B70: ERAF projekts "Ūdenssaimniecības attīstība Alūksnes novada Zeltiņu pagasta Zeltiņu ciemā" SIA "Rūpe" pamatkapitāls | C70: 18.03.2015. | D70: 20.12.2025. | E70: A2/1/15/113 | F70: P-72/2015 | G70: valsts kase | H70: 3.912 | I70: mainīga | J70: EUR | K70: 6396 | L70: 478 | M70: =K70+L70 -> 6874 | N70: 6396 | O70: 224 | P70: =N70+O70 -> 6620 | R70: 15 | S70: =Q70+R70 -> 15 | V70: =T70+U70 -> 0 | Y70: =W70+X70 -> 0 | AB70: =Z70+AA70 -> 0 | AE70: =AC70+AD70 -> 0 | DL70: =+AF70+AI70+AL70+AO70+AR70+AU70+AX70+BA70+BD70+BG70+BJ70+BM70+BP70+BS70+BV70+BY70+CB70+CE70+CH70+CK70+CN70+CQ70+CT70+CW70+CZ70+DC70+DF70+DI70 -> 0 | DM70: =+AG70+AJ70+AM70+AP70+AS70+AV70+AY70+BB70+BE70+BH70+BK70+BN70+BQ70+BT70+BW70+BZ70+CC70+CF70+CI70+CL70+CO70+CR70+CU70+CX70+DA70+DD70+DG70+DJ70 -> 0 | DN70: =+AH70+AK70+AN70+AQ70+AT70+AW70+AZ70+BC70+BF70+BI70+BL70+BO70+BR70+BU70+BX70+CA70+CD70+CG70+CJ70+CM70+CP70+CS70+CV70+CY70+DB70+DE70+DH70+DK70 -> 0 | DO70: =+K70+N70+Q70+T70+W70+Z70+DL70+AC70 -> 12792 | DP70: =+L70+O70+R70+U70+X70+AA70+DM70+AD70 -> 717 | DQ70: =+M70+P70+S70+V70+Y70+AB70+DN70+AE70 -> 13509 | DR70: 39190
A71: Alūksnes novads | B71: aizņemums četru ELFLA projektu īstenošanai* | C71: 11.04.2018.; 14.01.2019. | D71: 20.06.2027. | E71: A2/1/18/166; A2/1/18/166-V/19/1 | F71: P-136/2018 | G71: Valsts kase | H71: 3.888 | I71: mainīga | J71: EUR | K71: 47340 | L71: 6401 | M71: =K71+L71 -> 53741 | N71: 47340 | O71: 4605 | P71: =N71+O71 -> 51945 | Q71: 47340 | R71: 2645 | S71: =Q71+R71 -> 49985 | T71: 23670 | U71: 694 | V71: =T71+U71 -> 24364 | Y71: =W71+X71 -> 0 | AB71: =Z71+AA71 -> 0 | AE71: =AC71+AD71 -> 0 | DL71: =+AF71+AI71+AL71+AO71+AR71+AU71+AX71+BA71+BD71+BG71+BJ71+BM71+BP71+BS71+BV71+BY71+CB71+CE71+CH71+CK71+CN71+CQ71+CT71+CW71+CZ71+DC71+DF71+DI71 -> 0 | DM71: =+AG71+AJ71+AM71+AP71+AS71+AV71+AY71+BB71+BE71+BH71+BK71+BN71+BQ71+BT71+BW71+BZ71+CC71+CF71+CI71+CL71+CO71+CR71+CU71+CX71+DA71+DD71+DG71+DJ71 -> 0 | DN71: =+AH71+AK71+AN71+AQ71+AT71+AW71+AZ71+BC71+BF71+BI71+BL71+BO71+BR71+BU71+BX71+CA71+CD71+CG71+CJ71+CM71+CP71+CS71+CV71+CY71+DB71+DE71+DH71+DK71 -> 0 | DO71: =+K71+N71+Q71+T71+W71+Z71+DL71+AC71 -> 165690 | DP71: =+L71+O71+R71+U71+X71+AA71+DM71+AD71 -> 14345 | DQ71: =+M71+P71+S71+V71+Y71+AB71+DN71+AE71 -> 180035 | DR71: 358866
A72: Alūsknes novads | B72: aizņēmums pašvaldības investīciju projektam "Bezkontakta, attalinātās pārvaldīšanas sistēmas ieviešana" | C72: 12.2020. | D72: 20.12.2024. | E72: A2/1/20/839 | F72: P-464/2020 | G72: Valsts kase | H72: 0.25 | I72: mainīga | J72: EUR | K72: 17924 | L72: 38 | M72: =K72+L72 -> 17962 | O72: 3 | P72: =N72+O72 -> 3 | V72: =T72+U72 -> 0 | Y72: =W72+X72 -> 0 | AB72: =Z72+AA72 -> 0 | AE72: =AC72+AD72 -> 0 | DL72: =+AF72+AI72+AL72+AO72+AR72+AU72+AX72+BA72+BD72+BG72+BJ72+BM72+BP72+BS72+BV72+BY72+CB72+CE72+CH72+CK72+CN72+CQ72+CT72+CW72+CZ72+DC72+DF72+DI72 -> 0 | DM72: =+AG72+AJ72+AM72+AP72+AS72+AV72+AY72+BB72+BE72+BH72+BK72+BN72+BQ72+BT72+BW72+BZ72+CC72+CF72+CI72+CL72+CO72+CR72+CU72+CX72+DA72+DD72+DG72+DJ72 -> 0 | DN72: =+AH72+AK72+AN72+AQ72+AT72+AW72+AZ72+BC72+BF72+BI72+BL72+BO72+BR72+BU72+BX72+CA72+CD72+CG72+CJ72+CM72+CP72+CS72+CV72+CY72+DB72+DE72+DH72+DK72 -> 0 | DO72: =+K72+N72+Q72+T72+W72+Z72+DL72+AC72 -> 17924 | DP72: =+L72+O72+R72+U72+X72+AA72+DM72+AD72 -> 41 | DQ72: =+M72+P72+S72+V72+Y72+AB72+DN72+AE72 -> 17965
A73: Kopā | K73: =SUM(K7:K72) -> 1646496 | L73: =SUM(L7:L72) -> 1200876 | M73: =K73+L73 -> 2847372 | N73: =SUM(N7:N72) -> 1969385 | O73: =SUM(O7:O72) -> 1067653 | P73: =N73+O73 -> 3037038 | Q73: =SUM(Q7:Q71) -> 1877682 | R73: =SUM(R7:R71) -> 978941 | S73: =Q73+R73 -> 2856623 | T73: =SUM(T7:T71) -> 1799682 | U73: =SUM(U7:U71) -> 895099 | V73: =T73+U73 -> 2694781 | W73: =SUM(W7:W72) -> 1629112 | X73: =SUM(X7:X72) -> 818260 | Y73: =SUM(Y7:Y72) -> 2447372 | Z73: =SUM(Z7:Z72) -> 1415841 | AA73: =SUM(AA7:AA72) -> 744097 | AB73: =SUM(AB7:AB72) -> 2159938 | AC73: =SUM(AC7:AC72) -> 1316934 | AD73: =SUM(AD7:AD72) -> 680162 | ... DN73: =SUM(DN7:DN72) -> 18349585 | DO73: =+K73+N73+Q73+T73+W73+Z73+DL73+AC73 -> 25041221 | DP73: =+L73+O73+R73+U73+X73+AA73+DM73+AD73 -> 11348584 | DQ73: =+M73+P73+S73+V73+Y73+AB73+DN73+AE73 -> 36389805
A74: Galvojumi | K74: ='GALVOJUMI (paredzamie)'!H16 -> 142842 | L74: ='GALVOJUMI (paredzamie)'!I16 -> 0 | M74: ='GALVOJUMI (paredzamie)'!J16 -> 142842 | N74: ='GALVOJUMI (paredzamie)'!K16 -> 132319 | O74: ='GALVOJUMI (paredzamie)'!L16 -> 0 | P74: ='GALVOJUMI (paredzamie)'!M16 -> 132319 | Q74: ='GALVOJUMI (paredzamie)'!N16 -> 121642 | R74: ='GALVOJUMI (paredzamie)'!O16 -> 0 | ... AN74: ='GALVOJUMI (paredzamie)'!AK16 -> 0 | AO74: 0 | AP74: 0 | AQ74: 0 | AR74: 0 | AS74: 0 | AT74: 0 | AU74: 0 | AV74: 0 | AW74: 0 | AX74: 0 | AY74: 0 | AZ74: 0 | BA74: 0 | BB74: 0 | BC74: 0 | BD74: 0 | BE74: 0 | BF74: 0 | BG74: 0 | BH74: 0 | BI74: 0 | BJ74: 0 | BK74: 0 | BL74: 0 | BM74: 0 | BN74: 0 | BO74: 0 | BP74: 0 | BQ74: 0 | BR74: 0 | BS74: 0 | BT74: 0 | BU74: 0 | BV74: 0 | BW74: 0 | BX74: 0 | BY74: 0 | BZ74: 0 | CA74: 0 | CB74: 0 | CC74: 0 | CD74: 0 | CE74: 0 | CF74: 0 | CG74: 0 | CH74: 0 | CI74: 0 | CJ74: 0 | CK74: 0 | CL74: 0 | CM74: 0 | CN74: 0 | CO74: 0 | CP74: 0 | CQ74: 0 | CR74: 0 | CS74: 0 | CT74: 0 | CU74: 0 | CV74: 0 | CW74: 0 | CX74: 0 | CY74: 0 | CZ74: 0 | DA74: 0 | DB74: 0 | DL74: 0 | DM74: 0 | DN74: 0 | DO74: =+K74+N74+Q74+T74+W74+Z74+DL74+AC74 -> 597619 | DP74: =+L74+O74+R74+U74+X74+AA74+DM74+AD74 -> 0 | DQ74: =+M74+P74+S74+V74+Y74+AB74+DN74+AE74 -> 597619
A75: Kopā aizņēmumi un galvojumi | K75: =K73+K74 -> 1789338 | L75: =L73+L74 -> 1200876 | M75: =M73+M74 -> 2990214 | N75: =N73+N74 -> 2101704 | O75: =O73+O74 -> 1067653 | P75: =P73+P74 -> 3169357 | Q75: =Q73+Q74 -> 1999324 | R75: =R73+R74 -> 978941 | ... DM75: =DM73+DM74 -> 4963496 | DN75: =DL75+DM75 -> 18349585 | DO75: =+K75+N75+Q75+T75+W75+Z75+DL75+AC75 -> 25638840 | DP75: =+L75+O75+R75+U75+X75+AA75+DM75+AD75 -> 11348584 | DQ75: =+M75+P75+S75+V75+Y75+AB75+DN75+AE75 -> 36987424
A76: % pret budžetu | M76: =M75/$E$78% -> 18.125033 | P76: =P75/$E$78% -> 19.2109 | S76: =S75/$E$78% -> 18.052605 | V76: =V75/$E$78% -> 17.035718 | Y76: =Y75/$E$78% -> 15.287311 | AB76: =AB75/$E$78% -> 13.155469 | AE76: =AE75/$E$78% -> 12.105298 | AH76: =AH75/$E$78% -> 0 | AK76: =AK75/$E$78% -> 0 | AN76: =AN75/$E$78% -> 0 | AQ76: =AQ75/$E$78% -> 0 | AT76: =AT75/$E$78% -> 0 | AW76: =AW75/$E$78% -> 0 | AZ76: =AZ75/$E$78% -> 0 | BC76: =BC75/$E$78% -> 0 | BF76: =BF75/$E$78% -> 0 | BI76: =BI75/$E$78% -> 0 | BL76: =BL75/$E$78% -> 0 | BO76: =BO75/$E$78% -> 0 | BR76: =BR75/$E$78% -> 0 | BU76: =BU75/$E$78% -> 0 | BX76: =BX75/$E$78% -> 0 | CA76: =CA75/$E$78% -> 0 | CD76: =CD75/$E$78% -> 0 | CG76: =CG75/$E$78% -> 0 | CJ76: =CJ75/$E$78% -> 0 | CM76: =CM75/$E$78% -> 0 | CP76: =CP75/$E$78% -> 0 | CS76: =CS75/$E$78% -> 0 | CV76: =CV75/$E$78% -> 0 | CY76: =CY75/$E$78% -> 0 | DB76: =DB75/$E$78% -> 0 | DE76: =DE75/$E$78% -> 0 | DH76: =DH75/$E$78% -> 0 | DK76: =DK75/$E$78% -> 0
A78: Pasvaldības budžets bez mērķdotācijām un iemaksām PFIF | E78: 16497702 | DR78: =+N75+Q75+T75+W75+Z75+AC75+DO75 -> 36102253
E79: 13085672 | DL79: =SUM(DL7:DL71) -> 13386089
A81: * | B81: ELFLA projekts "Pašvaldības autoceļu "Tomsona pagrieziens - Sebežnieki", "Brenci - Sakvārne" un "P41-Cūku komplekss""pārbūve, Malienas pagastā, Alūksnes novadā" | DR81: =SUM(DR7:DR71) -> 19918147
B82: ELFLA projekts "Alūksnes novada pašvaldības autoceļa "Mālupe - Purmala" pārbvūve"
B83: ELFLA projekts "Pašvaldības autoceļa "Dzintari - Cīņa" pārbūve Veclaicenes pagastā, Alūksnes novadā”
B84: ELFLA projekts "Pašvaldības autoceļa "Indrāni- Blūmji - Gailīši", "Rijukalns - Vengerski"un "Ziemeri - Murati" pārbūve Ziemera pagastā, Alūksnes novadā"
A86: Alūksnes novada pašvaldības domes priekšsēdētājs Dz. Adlers

Sheet GALVOJUMI (paredzamie)
AQ1: 5. pielikums
AQ2: Alūksnes novada pašvaldības domes
AQ3: saistošajiem noteikumiem Nr. 20/2024
B6: Alūksnes novada pašvaldība
B7: Galvojumu saistības uz 25.04.2024. (noslēgtie līgumi) un paredzamie galvojumi
A9: Pašvaldība | B9: Mērķis | H9: saistību apmērs /2024 | K9: saistību apmērs /2025 | N9: saistību apmērs /2026 | Q9: saistību apmērs /2027 | T9: saistību apmērs /2028 | W9: saistību apmērs /2029 | Z9: saistību apmērs /2030 | AC9: saistību apmērs /2031 | AF9: saistību apmērs /2032 | AI9: saistību apmērs /2033 | AL9: turpmākie gadi (2031-2031) | AO9: Kopā
C10: līguma noslēgšanas datums | D10: līguma atmaksas termiņš | E10: aizdevējs | F10: aizdevuma procentu likme | G10: procentu likmes veids | H10: pamatsumma | I10: % | J10: Kopā | K10: pamatsumma | L10: % | M10: Kopā | N10: pamatsumma | O10: % | P10: Kopā | Q10: pamatsumma | R10: % | S10: Kopā | T10: pamatsumma | U10: % | V10: Kopā | W10: pamatsumma | X10: % | Y10: Kopā | Z10: pamatsumma | AA10: % | AB10: Kopā | AC10: pamatsumma | AD10: % | AE10: Kopā | AF10: pamatsumma | AG10: % | AH10: Kopā | AI10: pamatsumma | AJ10: % | AK10: Kopā | AL10: pamatsumma | AM10: % | AN10: Kopā | AO10: pamatsumma | AP10: % | AQ10: Kopā | AR10: pašvaldības pamatbudžeta ieņēmumi bez mērķdotācijām un iemaksām PFIF | AS10: esošie
A11: Alūksnes novads | B11: SIA "RŪPE" ES projekta "Ūdenssaimniecības attīstība Austrumlatvijas upju baseinos" neattiecināmo izdevumu segšanai | C11: 06.11.2009.; 19.07.2010. | D11: 20.06.2029. | E11: Valsts kase | F11: 5.002 | G11: fiksēta | H11: 25084 | J11: =H11+I11 -> 25084 | K11: 24118 | M11: =K11+L11 -> 24118 | N11: 23206 | P11: =N11+O11 -> 23206 | Q11: 22292 | S11: =Q11+R11 -> 22292 | T11: 21380 | V11: =T11+U11 -> 21380 | W11: 10412 | Y11: =W11+X11 -> 10412 | AB11: =Z11+AA11 -> 0 | AE11: =AC11+AD11 -> 0 | AH11: =AF11+AG11 -> 0 | AK11: =AI11+AJ11 -> 0 | AL11: =Z11 -> 0 | AM11: =AA11 -> 0 | AN11: =AB11 -> 0 | AO11: =+H11+K11+N11+Q11+T11+W11+Z11+AC11+AF11+AI11+AL11 -> 126492 | AP11: =+I11+L11+O11+R11+U11+X11+AA11+AD11+AG11+AJ11+AM11 -> 0 | AQ11: =+J11+M11+P11+S11+V11+Y11+AB11+AE11+AH11+AK11+AN11 -> 126492
A12: Alūksnes novads | B12: SIA "Alūksnes slimnīca" ERAF projektam "Stacionārās veselības aprūpes infrastruktūras uzlabošana SIA "Alūksnes slimnīca", uzlabojot veselības aprūpes pakalpojumu kvalitāti un pieejamību" | C12: 24.09.2012. | D12: 20.09.2028. | E12: Valsts kase | F12: 1.118 | G12: mainīga | H12: 71332 | I12: 0 | J12: =H12+I12 -> 71332 | K12: 68637 | L12: 0 | M12: =K12+L12 -> 68637 | N12: 65943 | O12: 0 | P12: =N12+O12 -> 65943 | Q12: 63248 | R12: 0 | S12: =Q12+R12 -> 63248 | T12: 46931 | U12: 0 | V12: =T12+U12 -> 46931 | Y12: =W12+X12 -> 0 | AB12: =Z12+AA12 -> 0 | AE12: =AC12+AD12 -> 0 | AH12: =AF12+AG12 -> 0 | AK12: =AI12+AJ12 -> 0 | AL12: =Z12 -> 0 | AM12: =AA12 -> 0 | AN12: =AB12 -> 0 | AO12: =+H12+K12+N12+Q12+T12+W12+Z12+AC12+AF12+AI12+AL12 -> 316091 | AP12: =+I12+L12+O12+R12+U12+X12+AA12+AD12+AG12+AJ12+AM12 -> 0 | AQ12: =+J12+M12+P12+S12+V12+Y12+AB12+AE12+AH12+AK12+AN12 -> 316091 | AS12: 523952
A13: Alūksnes novads | B13: SIA "ALBA 5" ilgterniņa aizņēmums ES KF projekta "Atkritumu apglabāšanas poligona "Kaudzītes" infrastruktūras attīstība" | C13: 24.09.2012. | D13: 24.09.2027. | E13: Nordea bank Finland Ple | F13: 3.2 | G13: fiksēta | H13: 6741 | J13: =H13+I13 -> 6741 | K13: 6741 | M13: =K13+L13 -> 6741 | N13: 6180 | P13: =N13+O13 -> 6180 | Q13: 4965 | S13: =Q13+R13 -> 4965 | V13: =T13+U13 -> 0 | Y13: =W13+X13 -> 0 | AB13: =Z13+AA13 -> 0 | AE13: =AC13+AD13 -> 0 | AH13: =AF13+AG13 -> 0 | AK13: =AI13+AJ13 -> 0 | AL13: =Z13 -> 0 | AM13: =AA13 -> 0 | AN13: =AB13 -> 0 | AO13: =+H13+K13+N13+Q13+T13+W13+Z13+AC13+AF13+AI13+AL13 -> 24627 | AP13: =+I13+L13+O13+R13+U13+X13+AA13+AD13+AG13+AJ13+AM13 -> 0 | AQ13: =+J13+M13+P13+S13+V13+Y13+AB13+AE13+AH13+AK13+AN13 -> 24627 | AS13: 43182
A14: Alūksnes novads | B14: SIA "RŪPE" aizņēmums ERAF projektiem "Alūksnes novada Alsviķu pagasta Alsviķu ciema ūdenssaimniecības attīstība", "Alūksnes novada Alsviķu pagasta Strautiņu ciema ūdenssaimniecības attīstība", "Alūksnes novada Ilzenes pagasta Jaunzemu ciema ūdenssaimniecības attīstība", "Alūksnes novada Zeltiņu pagasta Zeltiņu ciema ūdenssaimniecības attīstība" | C14: 03.06.2015. | D14: 20.04.2025. | E14: Valsts kase | F14: 0.544 | G14: mainīga, ik pēc 6 mēnešiem | H14: 11176 | J14: =H14+I14 -> 11176 | K14: 5412 | M14: =K14+L14 -> 5412 | P14: 0 | S14: 0 | V14: 0 | Y14: 0 | AL14: =Z14 -> 0 | AM14: =AA14 -> 0 | AN14: =AB14 -> 0 | AO14: =+H14+K14+N14+Q14+T14+W14+Z14+AC14+AF14+AI14+AL14 -> 16588 | AP14: =+I14+L14+O14+R14+U14+X14+AA14+AD14+AG14+AJ14+AM14 -> 0 | AQ14: =+J14+M14+P14+S14+V14+Y14+AB14+AE14+AH14+AK14+AN14 -> 16588
A15: Alūksnes novads | B15: galvojums SIA "Alūksnes slimnīca" aizņēmumam radioloģijas nodaļas iekārtu modernizācijai | C15: 22.02.2018. | D15: 20.02.2028. | E15: Valsts kase | F15: 0.005 | G15: mainīga | H15: 28509 | I15: 0 | J15: =H15+I15 -> 28509 | K15: 27411 | L15: 0 | M15: =K15+L15 -> 27411 | N15: 26313 | O15: 0 | P15: =N15+O15 -> 26313 | Q15: 25216 | R15: 0 | S15: =Q15+R15 -> 25216 | T15: 6372 | U15: 0 | V15: =T15+U15 -> 6372 | Y15: 0 | AL15: =Z15 -> 0 | AM15: =AA15 -> 0 | AN15: =AB15 -> 0 | AO15: =+H15+K15+N15+Q15+T15+W15+Z15+AC15+AF15+AI15+AL15 -> 113821 | AP15: =+I15+L15+O15+R15+U15+X15+AA15+AD15+AG15+AJ15+AM15 -> 0 | AQ15: =+J15+M15+P15+S15+V15+Y15+AB15+AE15+AH15+AK15+AN15 -> 113821
A16: Kopā | H16: =SUM(H11:H15) -> 142842 | I16: =SUM(I11:I15) -> 0 | J16: =SUM(J11:J15) -> 142842 | K16: =SUM(K11:K15) -> 132319 | L16: =SUM(L11:L15) -> 0 | M16: =SUM(M11:M15) -> 132319 | N16: =SUM(N11:N15) -> 121642 | O16: =SUM(O11:O15) -> 0 | ... AQ16: =SUM(AQ11:AQ15) -> 597619 | AR16: =#REF!+#REF!+#REF!+#REF!+#REF!+#REF!+#REF!+#REF!+H16+K16+N16+Q16+T16+W16+Z16+AO16 -> #REF! | AS16: =SUM(AS11:AS15) -> 567134
A17: Procentos pret pamatbudžetu bez mērķdotācijām un iemaksām PFIF | AL17: =#REF!+#REF!+H17+K17+N17+Q17+T17+W17+Z17 -> #REF! | AM17: =#REF!+#REF!+I17+L17+O17+R17+U17+X17+AA17 -> #REF! | AN17: =#REF!+#REF!+J17+M17+P17+S17+V17+Y17+AB17 -> #REF! | AO17: =#REF!+#REF!+#REF!+#REF!+#REF!+#REF!+#REF!+AL17 -> #REF! | AP17: =#REF!+#REF!+#REF!+#REF!+#REF!+#REF!+#REF!+AM17 -> #REF! | AQ17: =#REF!+#REF!+#REF!+#REF!+#REF!+#REF!+#REF!+AN17 -> #REF!
AL18: =N16+Q16+T16+W16 -> 322458 | AM18: =O16+R16+U16+X16 -> 0 | AN18: =P16+S16+V16+Y16 -> 322458 | AO18: =#REF!+#REF!+#REF!+#REF!+#REF!+H16+K16+N16+Q16+T16+W16 -> #REF! | AP18: =#REF!+#REF!+#REF!+#REF!+#REF!+I16+L16+O16+R16+U16+X16 -> #REF! | AQ18: =#REF!+#REF!+#REF!+#REF!+#REF!+J16+M16+P16+S16+V16+Y16 -> #REF! | AR18: =#REF!+#REF!+#REF!+#REF!+H16+K16+N16+Q16+T16+W16+Z16 -> #REF! | AS18: =#REF!+#REF!+#REF!+#REF!+I16+L16+O16+R16+U16+X16+AA16 -> #REF!
B19: esošie | J19: =J16-J15 -> 114333 | K19: =K16-K15 -> 104908 | L19: =L16-L15 -> 0 | M19: =M16-M15 -> 104908 | N19: =N16-N15 -> 95329 | O19: =O16-O15 -> 0 | P19: =P16-P15 -> 95329 | Q19: =Q16-Q15 -> 90505 | ... AK19: =AK16-AK15 -> 0 | AN19: =AN16-AN15 -> 0 | AQ19: =AQ16-AQ15 -> 483798 | AR19: =AR16-AR15 -> #REF!
A21: Domes priekšsēdētājs | B21: Domes priekšsēdētājs | F21: Dz.ADLERS
B23: Alūksnes novada pašvaldības domes priekšsēdētājs Dz. Adlers
