Workbook

Sheet 1.pielikums
E1: 1. pielikums
E2: Balvu novada domes
E3: 2023. gada 28. decembra saistošajiem noteikumiem Nr. 25/2023
E4: "Grozījumi 2023. gada 23. marta saistošajos noteikumos Nr. 4/2023
E5: "Par Balvu novada pašvaldības budžetu 2023. gadam""
E7: 1.pielikums
E8: Balvu novada domes
E9: 2023. gada 23. marta saistošajiem noteikumiem Nr. 4/2023
E10: "Par Balvu novada pašvaldības 2023.gada budžetu"
A13: Balvu novada pašvaldības pamatbudžets 2023. gadam ( EUR)
A15: Rādītāju nosaukumi | B15: Budžeta kategoriju kodi | C15: Apstiprināts 2023. gadam (EUR) | D15: Grozījumi (EUR) | E15: Apstiprināts ar grozījumiem 2023. gadam (EUR)
A16: I IEŅĒMUMI - kopā | C16: =C17+C19+C21+C25+C28+C30+C32+C36+C38+C40+C42+C23 -> 35342432 | D16: =D17+D19+D21+D25+D28+D30+D32+D36+D38+D40+D42+D23 -> 315316 | E16: =E17+E19+E21+E25+E28+E30+E32+E36+E38+E40+E42+E23 -> 35657748
A17: IENĀKUMA NODOKĻI | B17: 1.0.0.0. | C17: =C18 -> 9921221 | D17: =D18 -> 0 | E17: =E18 -> 9921221
A18: Ieņēmumi no iedzīvotāju ienākuma nodokļa | B18: 1.1.0.0. | C18: 9921221 | D18: =E18-C18 -> 0 | E18: ='2.pielikums'!E22 -> 9921221
A19: ĪPAŠUMA NODOKĻI | B19: 4.0.0.0. | C19: =C20 -> 1245954 | E19: =E20 -> 1245954
A20: Nekustamā īpašuma nodoklis | B20: 4.1.0.0. | C20: 1245954 | E20: ='2.pielikums'!E24 -> 1245954
A21: NODOKĻI PAR PAKALPOJUMIEM UN PRECĒM | B21: 5.0.0.0. | C21: =C22 -> 46000 | E21: =E22 -> 46000
A22: Nodokļi un maksājumi par tiesībām lietot atsevišķas preces | B22: 5.5.0.0. | C22: 46000 | E22: ='2.pielikums'!E35 -> 46000
A23: IEŅĒMUMI NO UZŅĒMĒJDARBĪBAS UN ĪPAŠUMA | B23: 8.0.0.0. | C23: =C24 -> 7080 | E23: =E24 -> 7080
A24: Procentu ieņēmumi par depozītiem, kontu atlikumiem, valsts parāda vērtspapīriem un atlikto maksājumu | B24: 8.6.0.0. | C24: 7080 | E24: ='2.pielikums'!E42 -> 7080
A25: VALSTS (PAŠVALDĪBU) NODEVAS UN KANCELEJAS NODEVAS | B25: 9.0.0.0. | C25: =C26+C27 -> 24840 | E25: =E26+E27 -> 24840
A26: Valsts nodevas, kuras ieskaita pašvaldību budžetā | B26: 9.4.0.0. | C26: 12690 | E26: ='2.pielikums'!E44 -> 12690
A27: Pašvaldību nodevas | B27: 9.5.0.0. | C27: 12150 | E27: ='2.pielikums'!E48 -> 12150
A28: NAUDAS SODI UN SANKCIJAS | B28: 10.0.0.0. | C28: =C29 -> 4000 | E28: =E29 -> 4000
A29: Naudas sodi | B29: 10.1.0.0. | C29: 4000 | E29: ='2.pielikums'!E54 -> 4000
A30: PĀRĒJIE NENODOKĻU IEŅĒMUMI | B30: 12.0.0.0. | C30: =C31 -> 152517 | D30: =D31 -> 0 | E30: =E31 -> 152517
A31: Citi dažādi nenodokļu ieņēmumi | B31: 12.3.0.0. | C31: 152517 | D31: =E31-C31 -> 0 | E31: ='2.pielikums'!E57 -> 152517
A32: Ieņēmumi no valsts (pašvaldību) īpašuma iznomāšanas, pārdošanas un no nodokļu pamatparāda kapitalizācijas | B32: 13.0.0.0. | C32: =C33+C34+C35 -> 505420 | D32: =D33+D34+D35 -> 114000 | E32: =E33+E34+E35 -> 619420
A33: Ieņēmumi no ēku un būvju īpašuma pārdošanas | B33: 13.1.0.0. | C33: 20000 | E33: ='2.pielikums'!E60 -> 20000
A34: Ieņēmumi no zemes, meža īpašuma pārdošanas | B34: 13.2.0.0. | C34: 433520 | D34: =E34-C34 -> 100000 | E34: ='2.pielikums'!E61 -> 533520
A35: Ieņēmumi no kustamās mantas pārdošanas | B35: 13.4.0.0. | C35: 51900 | D35: =E35-C35 -> 14000 | E35: ='2.pielikums'!E63 -> 65900
A36: No valsts budžeta daļēji finansēto atvasināto publisko personu un budžeta nefinansēto iestāžu transferti | B36: 17.0.0.0. | C36: =C37 -> 912778 | D36: =E36-C36 -> 5513 | E36: =E37 -> 918291
A37: Pašvaldību saņemtie transferti no valsts budžeta daļēji finansētām atvasinātām publiskām personām un no budžeta nefinansētām iestādēm | B37: 17.2.0.0. | C37: 912778 | D37: =E37-C37 -> 5513 | E37: ='2.pielikums'!E64 -> 918291
A38: Valsts budžeta transferti | B38: 18.0.0.0. | C38: =C39 -> 17171440 | D38: =D39 -> 115667 | E38: =E39 -> 17287107
A39: Pašvaldību saņemtie transferti no valsts budžeta | B39: 18.6.0.0. | C39: 17171440 | D39: =E39-C39 -> 115667 | E39: ='2.pielikums'!E67 -> 17287107
A40: Pašvaldību budžetu transferti | B40: 19.0.0.0 | C40: =C41 -> 162500 | D40: =D41 -> 29000 | E40: =E41 -> 191500
A41: Pašvaldību saņemtie transferti no citām pašvaldībām | B41: 19.2.0.0. | C41: 162500 | D41: =E41-C41 -> 29000 | E41: ='2.pielikums'!E116 -> 191500
A42: Budžeta iestāžu ieņēmumi | B42: 21.0.0.0. | C42: =SUM(C43:C45) -> 5188682 | D42: =SUM(D43:D45) -> 51136 | E42: =SUM(E43:E45) -> 5239818
A43: Iestādes ieņēmumi no ārvalstu finanšu palīdzības | B43: 21.1.0.0. | C43: 0 | D43: =E43-C43 -> 47719 | E43: ='2.pielikums'!E121 -> 47719
A44: Ieņēmumi no budžeta iestāžu sniegtajiem maksas pakalpojumiem un citi pašu ieņēmumi | B44: 21.3.0.0. | C44: 4528800 | D44: =E44-C44 -> 3417 | E44: ='2.pielikums'!E124 -> 4532217
...

Sheet 2.pielikums
E1: 2. pielikums
E2: Balvu novada domes
E3: 2023. gada 28. decembra saistošajiem noteikumiem Nr. 25/2023
E4: "Grozījumi 2023. gada 23. marta saistošajos noteikumos Nr. 4/2023
E5: "Par Balvu novada pašvaldības budžetu 2023. gadam""
E7: 2. pielikums
E8: Balvu novada domes
E9: 2023. gada 23. marta saistošajiem noteikumiem Nr. 4/2023
E10: "Par Balvu novada pašvaldības 2023. gada budžetu"
A14: Balvu novada pašvaldības pamatbudžeta ieņēmumi 2023. gadam (EUR)
A16: Klasifikācijas kods | B16: Ieņēmumi | C16: Apstiprināts 2023. gadam (EUR) | D16: Grozījumi (EUR) | E16: Apstiprināts ar grozījumiem 2023. gadam (EUR)
A18: I | B18: IEŅĒMUMI KOPĀ | C18: =C20+C23+C35+C43+C54+C57+C59+C115+C116+C120+C68+C64+C105+C41 -> 35342432 | D18: =D20+D23+D35+D43+D54+D57+D59+D115+D116+D120+D68+D64+D105+D41 -> 315316 | E18: =C18+D18 -> 35657748
A19: 1 | B19: Nodokļu ieņēmumi | C19: =C20+C23+C35 -> 11213175 | E19: =C19+D19 -> 11213175
A20: 1.0.0.0. | B20: IENĀKUMA NODOKĻI | C20: =C21 -> 9921221 | D20: =D21 -> 0 | E20: =C20+D20 -> 9921221
A21: 1.1.1.0 | B21: Iedzīvotāju ienākuma nodoklis | C21: =C22 -> 9921221 | D21: =D22 -> 0 | E21: =C21+D21 -> 9921221
A22: 1.1.1.2 | B22: Iedzīvotāju ienākuma nodoklis | C22: 9921221 | D22: 0 | E22: =C22+D22 -> 9921221
A23: 4.0.0.0. | B23: ĪPAŠUMA NODOKĻI | C23: =C24 -> 1245954 | E23: =C23+D23 -> 1245954
A24: 4.1.0.0 | B24: Nekustamā īpašuma nodoklis | C24: =C25+C28+C32 -> 1245954 | E24: =C24+D24 -> 1245954
A25: 4.1.1.0 | B25: Nekustamā īpašuma nodoklis par zemi | C25: =C26+C27 -> 1114475 | E25: =C25+D25 -> 1114475
A26: 4.1.1.1 | B26: Nekustamā īpašuma nodokļa par zemi kārtējā saimnieciskā gada ieņēmumi | C26: 1047119 | E26: =C26+D26 -> 1047119
A27: 4.1.1.2 | B27: Nekustamā īpašuma nodoklis par zemi-iepriekšējo gadu parādi | C27: 67356 | E27: =C27+D27 -> 67356
A28: 4.1.2.0 | B28: Nekustamā īpašuma nodokļi par ēkām | C28: =C29+C31 -> 81363 | E28: =C28+D28 -> 81363
A29: 4.1.2.1 | B29: Nekustamā īpašuma nodoklis par ēkām kārtējā gada maksājumi | C29: 76097 | E29: =C29+D29 -> 76097
B30: t.sk. par inženierbūvēm | C30: 4954 | E30: =C30+D30 -> 4954
A31: 4.1.2.2 | B31: Nekustamā īpašuma nodoklis par ēkām-iepriekšējo gadu parādi | C31: 5266 | E31: =C31+D31 -> 5266
A32: 4.1.3.0 | B32: Nekustamā īpašuma nodokļi par mājokļiem | C32: =C33+C34 -> 50116 | E32: =C32+D32 -> 50116
A33: 4.1.3.1. | B33: Nekustamā īpašuma nodokļa par mājokļiem kārtējā saimnieciskā gada ieņēmumi | C33: 41969 | E33: =C33+D33 -> 41969
A34: 4.1.3.2. | B34: Nekustamā īpašuma nodoklis par mājokļiem-iepriekšējo gadu parādi | C34: 8147 | E34: =C34+D34 -> 8147
A35: 5.0.0.0. | B35: NODOKĻI PAR PAKALPOJUMIEM UN PRECĒM | C35: =C36+C38 -> 46000 | E35: =C35+D35 -> 46000
A36: 5.4.0.0. | B36: Nodokļi par atsevišķām precēm un pakalpojumu veidiem | C36: =C37 -> 9000 | E36: =C36+D36 -> 9000
A37: 5.4.1.0 | B37: Azartspēļu nodoklis | C37: 9000 | E37: =C37+D37 -> 9000
A38: 5.5.0.0. | B38: Nodokļi un maksājumi par tiesībām lietot atsevišķas preces | C38: =C39 -> 37000 | E38: =C38+D38 -> 37000
A39: 5.5.3.0. | B39: Dabas resursu nodoklis | C39: 37000 | E39: =C39+D39 -> 37000
A40: 2 | B40: Nenodokļu ieņēmumi | C40: =C41+C43+C54+C57+C59 -> 693857 | D40: =D41+D43+D54+D57+D59 -> 114000 | E40: =C40+D40 -> 807857
A41: 8.0.0.0. | B41: Ieņēmumi no uzņēmējdarbības un īpašuma | C41: =C42 -> 7080 | E41: =C41+D41 -> 7080
A42: 8.6.0.0. | B42: Procentu ieņēmumi par depozītiem, kontu atlikumiem, valsts parāda vērtspapīriem un atlikto maksājumu | C42: 7080 | E42: =C42+D42 -> 7080
A43: 9.0.0.0. | B43: VALSTS (PAŠVALDĪBU) NODEVAS UN KANCELEJAS NODEVAS | C43: =C44+C48 -> 24840 | E43: =C43+D43 -> 24840
A44: 9.4.0.0. | B44: Valsts nodevas, kuras ieskaita valsts budžetā | C44: =C45+C46+C47 -> 12690 | E44: =C44+D44 -> 12690
A45: 9.4.2.0. | B45: Valsts nodeva par apliecinājumiem un citu funkciju pildīšanu bāriņtiesās | C45: 11000 | E45: =C45+D45 -> 11000
A46: 9.4.5.0. | B46: Valsts nodeva par civilstāvokļa aktu reģistrēšanu, grozīšanu un papildināšanu | C46: 1400 | E46: =C46+D46 -> 1400
...

Sheet 3.pielikums
H1: 3. pielikums
H2: Balvu novada domes
H3: 2023. gada 28. decembra saistošajiem noteikumiem Nr. 25/2023
H4: "Grozījumi 2023. gada 23. marta saistošajos noteikumos Nr. 4/2023
H5: "Par Balvu novada pašvaldības budžetu 2023. gadam""
H7: 3. pielikums
H8: Balvu novada domes
H9: 2023. gada 23. marta saistošajiem noteikumiem Nr. 4/2023
H10: "Par Balvu novada pašvaldības 2023. gada budžetu"
B12: Balvu novada pašvaldības pamatbudžeta izdevumi 2023. gadam (EUR)
A14: Klasifikācijas kods | B14: Iestādes un pasākumi | D14: Finansēšanas avots | H14: Kopā
C15: Atlikums uz gada sākumu | D15: Vispārējie ieņēmumi | E15: Budžeta iestāžu ieņēmumi | F15: Valsts un pašvaldību transferti | G15: Aizņēmumi
C16: =C17+C49+C53+C120+C188+C203+C260+C336+C97 -> 1068637 | D16: =D17+D49+D53+D120+D188+D203+D260+D336+D97 -> 20161698 | E16: =E17+E49+E53+E120+E188+E203+E260+E336+E97 -> 4387501 | F16: =F17+F49+F53+F120+F188+F203+F260+F336+F97 -> 11174135 | G16: =G17+G49+G53+G120+G188+G203+G260+G336+G97 -> 3343084.6 | H16: =H17+H49+H53+H120+H188+H203+H260+H336+H97 -> 40223253
A17: 01.000 | B17: Vispārējie valdības dienesti | C17: =SUM(C18:C48) -> 0 | D17: =SUM(D18:D48) -> 3769189.8 | E17: =SUM(E18:E48) -> 26692 | F17: =SUM(F18:F48) -> 67957 | G17: =SUM(G18:G48) -> 667591.17 | H17: =SUM(H18:H48) -> 4531430
B18: Balvu novada administrācija | D18: =H18-E18-G18-F18-C18 -> 1609782 | H18: ='4.pielikums'!B18 -> 1609782
B19: Deputātu darba samaksa | D19: =H19-E19-G19-F19-C19 -> 152160 | H19: ='4.pielikums'!B20 -> 152160
B20: Bijušo pagastu padomju un pilsētu domju vadītāju pabalsti | D20: =H20-E20-G20-F20-C20 -> 250642 | H20: ='4.pielikums'!B22 -> 250642
B21: Komisiju darba samaksa | D21: =H21-E21-G21-F21-C21 -> 37776 | H21: ='4.pielikums'!B23 -> 37776
B22: Balvu pilsētas pārvalde | D22: =H22-E22-G22-F22-C22 -> 298102.83 | G22: =370452/1.15 -> 322132.17 | H22: ='4.pielikums'!B25 -> 620235
B23: Balvu pagasta pārvalde | D23: =H23-E23-G23-F23-C23 -> 34564 | H23: ='4.pielikums'!B26 -> 34564
B24: Baltinavas pagasta pārvalde | D24: =H24-E24-G24-F24-C24 -> 73892 | E24: =674+239 -> 913 | H24: ='4.pielikums'!B27 -> 74805
B25: Bērzkalnes pagasta pārvalde | D25: =H25-E25-G25-F25-C25 -> 34798 | H25: ='4.pielikums'!B28 -> 34798
B26: Bērzpils pagasta pārvalde | D26: =H26-E26-G26-F26-C26 -> 47875 | E26: =340+1380 -> 1720 | H26: ='4.pielikums'!B29 -> 49595
B27: Briežuciema pagasta pārvalde | D27: =H27-E27-G27-F27-C27 -> 40318 | H27: ='4.pielikums'!B30 -> 40318
B28: Krišjāņu pagasta pārvalde | D28: =H28-E28-G28-F28-C28 -> 39911 | E28: =85 -> 85 | H28: ='4.pielikums'!B31 -> 39996
B29: Kubulu pagasta pārvalde | D29: =H29-E29-G29-F29-C29 -> 43428 | E29: =12 -> 12 | H29: ='4.pielikums'!B32 -> 43440
B30: Kupravas pagasta pārvalde | D30: =H30-E30-G30-F30-C30 -> 35296 | E30: =150 -> 150 | H30: ='4.pielikums'!B33 -> 35446
B31: Lazdukalna pagasta pārvalde | D31: =H31-E31-G31-F31-C31 -> 36877 | H31: ='4.pielikums'!B34 -> 36877
B32: Lazdulejas pagasta pārvalde | D32: =H32-E32-G32-F32-C32 -> 23494 | H32: ='4.pielikums'!B35 -> 23494
B33: Medņevas pagasta pārvalde | D33: =H33-E33-G33-F33-C33 -> 44864 | H33: ='4.pielikums'!B36 -> 44864
B34: Rugāju pagasta pārvalde | D34: =H34-E34-G34-F34-C34 -> 48643 | E34: =1400 -> 1400 | H34: ='4.pielikums'!B37 -> 50043
B35: Susāju pagasta pārvalde | D35: =H35-E35-G35-F35-C35 -> 20658 | H35: ='4.pielikums'!B38 -> 20658
B36: Šķilbēnu pagasta pārvalde | D36: =H36-E36-G36-F36-C36 -> 48906 | H36: ='4.pielikums'!B39 -> 48906
B37: Tilžas pagasta pārvalde | D37: =H37-E37-G37-F37-C37 -> 43553 | E37: =500 -> 500 | H37: ='4.pielikums'!B40 -> 44053
B38: Vectilžas pagasta pārvalde | D38: =H38-E38-G38-F38-C38 -> 34012 | H38: ='4.pielikums'!B41 -> 34012
B39: Vecumu pagasta pārvalde | D39: =H39-E39-G39-F39-C39 -> 34090 | E39: =1900+2578 -> 4478 | H39: ='4.pielikums'!B42 -> 38568
B40: Vīksnas pagasta pārvalde | D40: =H40-E40-G40-F40-C40 -> 39126 | E40: =67 -> 67 | H40: ='4.pielikums'!B43 -> 39193
B41: Viļakas pilsētas pārvalde | D41: =H41-E41-G41-F41-C41 -> 68633 | E41: =3693+2629+1639+756 -> 8717 | H41: ='4.pielikums'!B44 -> 77350
B42: Žīguru pagasta pārvalde | D42: =H42-E42-G42-F42-C42 -> 37510 | H42: ='4.pielikums'!B45 -> 37510
B43: Rugāju pagasta pārvaldes ēkas energoefektivitātes paaugstināšana | D43: =H43-E43-G43-F43-C43 -> 491 | F43: 7207 | G43: 345459 | H43: ='4.pielikums'!B366 -> 353157
...

Sheet 4.pielikums
I1: 4. pielikums
I2: Balvu novada domes
I3: 2023. gada 28. decembra saistošajiem noteikumiem Nr. 25/2023
I4: "Grozījumi 2023. gada 23. marta saistošajos noteikumos Nr. 4/2023
I5: "Par Balvu novada pašvaldības budžetu 2023. gadam""
I7: 4. pielikums
I8: Balvu novada domes
I9: 2023. gada 23. marta saistošajiem noteikumiem Nr. 4/2023
I10: "Par Balvu novada pašvaldības 2023. gada budžetu"
A13: Balvu novada pašvaldības 2023. gada pamatbudžeta izdevumi atbilstoši ekonomiskajām kategorijām (EUR)
A15: Iestādes | B15: Apstiprināts 2023.gadam (EUR) | C15: Izdevumi pa ekonomiskās klasifikācijas kodiem (EUR)
C16: 1000 | D16: 2000 | E16: 3000 | F16: 4000 | G16: 5000 | H16: 6000 | I16: 7000
C17: Atlīdzība | D17: Preces un pakalpojumi | E17: Subsīdijas un dotācijas | F17: Procentu maksājumi | G17: Pamatkapitāla veidošana | H17: Sociālā rakstura maksājumi un kompensācijas | I17: Transferti
A18: Balvu novada administrācija | B18: =SUM(C18:I18) -> 1609782 | C18: 1385996 | D18: =197892+D19 -> 216857 | G18: =1000+G19 -> 6929
A19: Grozījumi | B19: =SUM(C19:I19) -> 24894 | D19: 18965 | G19: 5929
A20: Deputātu darba samaksa | B20: =SUM(C20:I20) -> 152160 | C20: =155358+C21 -> 152160
A21: Grozījumi | B21: =SUM(C21:I21) -> -3198 | C21: -3198
A22: Bijušo pagastu padomju un pilsētu domju vadītāju pabalsti | B22: =SUM(C22:I22) -> 250642 | C22: 0 | H22: 250642
A23: Komisiju darba samaksa | B23: =SUM(C23:I23) -> 37776 | C23: =34578+C24 -> 37776
A24: Grozījumi | B24: =SUM(C24:I24) -> 3198 | C24: 3198
A25: Balvu pilsētas pārvalde | B25: =SUM(C25:I25) -> 620235 | C25: =158924 -> 158924 | D25: 85359 | G25: 375952
A26: Balvu pagasta pārvalde | B26: =SUM(C26:I26) -> 34564 | C26: 30978 | D26: 3586
A27: Baltinavas pagasta pārvalde | B27: =SUM(C27:I27) -> 74805 | C27: 47368 | D27: 27437
A28: Bērzkalnes pagasta pārvalde | B28: =SUM(C28:I28) -> 34798 | C28: 31299 | D28: 3499
A29: Bērzpils pagasta pārvalde | B29: =SUM(C29:I29) -> 49595 | C29: 36831 | D29: 12764
A30: Briežuciema pagasta pārvalde | B30: =SUM(C30:I30) -> 40318 | C30: 29342 | D30: 10976
A31: Krišjāņu pagasta pārvalde | B31: =SUM(C31:I31) -> 39996 | C31: 30631 | D31: 9365
A32: Kubulu pagasta pārvalde | B32: =SUM(C32:I32) -> 43440 | C32: 34818 | D32: 8622
A33: Kupravas pagasta pārvalde | B33: =SUM(C33:I33) -> 35446 | C33: 30502 | D33: 4944
A34: Lazdukalna pagasta pārvalde | B34: =SUM(C34:I34) -> 36877 | C34: 29109 | D34: 7768
A35: Lazdulejas pagasta pārvalde | B35: =SUM(C35:I35) -> 23494 | C35: 20880 | D35: 2614
A36: Medņevas pagasta pārvalde | B36: =SUM(C36:I36) -> 44864 | C36: 29340 | D36: 15524
A37: Rugāju pagasta pārvalde | B37: =SUM(C37:I37) -> 50043 | C37: 34703 | D37: 15340
... A41: Vectilžas pagasta pārvalde | B41: =SUM(C41:I41) -> 34012 | C41: 28627 | D41: 5385
A42: Vecumu pagasta pārvalde | B42: =SUM(C42:I42) -> 38568 | C42: 26699 | D42: 7391 | G42: 4478
A43: Vīksnas pagasta pārvalde | B43: =SUM(C43:I43) -> 39193 | C43: 34031 | D43: 5162
A44: Viļakas pilsētas pārvalde | B44: =SUM(C44:I44) -> 77350 | C44: 48121 | D44: 29229
A45: Žīguru pagasta pārvalde | B45: =SUM(C45:I45) -> 37510 | C45: 30183 | D45: 7327
A46: Valsts un pašvaldības vienotais klientu apkalpošanas centrs | B46: =SUM(C46:I46) -> 123888 | C46: 88457 | D46: 28431 | G46: 7000
A47: Izdevumi neparedzētiem gadījumiem | B47: =SUM(C47:I47) -> 0 | D47: =2470+D48 -> 0
...
