Workbook

Sheet 1.pielikums
E1: 1. pielikums
E2: Balvu novada domes
E3: 2023. gada 28. decembra saistošajiem noteikumiem Nr. 25/2023
E4: "Grozījumi 2023. gada 23. marta saistošajos noteikumos Nr. 4/2023
E5: "Par Balvu novada pašvaldības budžetu 2023. gadam""
E7: 1.pielikums
E8: Balvu novada domes
E9: 2023. gada 23. marta saistošajiem noteikumiem Nr. 4/2023
E10: "Par Balvu novada pašvaldības 2023.gada budžetu"
A13: Balvu novada pašvaldības pamatbudžets 2023. gadam ( EUR)
A15: Rādītāju nosaukumi | B15: Budžeta kategoriju kodi | C15: Apstiprināts 2023. gadam (EUR) | D15: Grozījumi (EUR) | E15: Apstiprināts ar grozījumiem 2023. gadam (EUR)
A16: I IEŅĒMUMI - kopā | C16: =C17+C19+C21+C25+C28+C30+C32+C36+C38+C40+C42+C23 -> 35342432 | D16: =D17+D19+D21+D25+D28+D30+D32+D36+D38+D40+D42+D23 -> 315316 | E16: =E17+E19+E21+E25+E28+E30+E32+E36+E38+E40+E42+E23 -> 35657748
A17: IENĀKUMA NODOKĻI | B17: 1.0.0.0. | C17: =C18 -> 9921221 | D17: =D18 -> 0 | E17: =E18 -> 9921221
A18: Ieņēmumi no iedzīvotāju ienākuma nodokļa | B18: 1.1.0.0. | C18: 9921221 | D18: =E18-C18 -> 0 | E18: ='2.pielikums'!E22 -> 9921221
A19: ĪPAŠUMA NODOKĻI | B19: 4.0.0.0. | C19: =C20 -> 1245954 | E19: =E20 -> 1245954
A20: Nekustamā īpašuma nodoklis | B20: 4.1.0.0. | C20: 1245954 | E20: ='2.pielikums'!E24 -> 1245954
A21: NODOKĻI PAR PAKALPOJUMIEM UN PRECĒM | B21: 5.0.0.0. | C21: =C22 -> 46000 | E21: =E22 -> 46000
A22: Nodokļi un maksājumi par tiesībām lietot atsevišķas preces | B22: 5.5.0.0. | C22: 46000 | E22: ='2.pielikums'!E35 -> 46000
A23: IEŅĒMUMI NO UZŅĒMĒJDARBĪBAS UN ĪPAŠUMA | B23: 8.0.0.0. | C23: =C24 -> 7080 | E23: =E24 -> 7080
A24: Procentu ieņēmumi par depozītiem, kontu atlikumiem, valsts parāda vērtspapīriem un atlikto maksājumu | B24: 8.6.0.0. | C24: 7080 | E24: ='2.pielikums'!E42 -> 7080
A25: VALSTS (PAŠVALDĪBU) NODEVAS UN KANCELEJAS NODEVAS | B25: 9.0.0.0. | C25: =C26+C27 -> 24840 | E25: =E26+E27 -> 24840
A26: Valsts nodevas, kuras ieskaita pašvaldību budžetā | B26: 9.4.0.0. | C26: 12690 | E26: ='2.pielikums'!E44 -> 12690
A27: Pašvaldību nodevas | B27: 9.5.0.0. | C27: 12150 | E27: ='2.pielikums'!E48 -> 12150
A28: NAUDAS SODI UN SANKCIJAS | B28: 10.0.0.0. | C28: =C29 -> 4000 | E28: =E29 -> 4000
A29: Naudas sodi | B29: 10.1.0.0. | C29: 4000 | E29: ='2.pielikums'!E54 -> 4000
A30: PĀRĒJIE NENODOKĻU IEŅĒMUMI | B30: 12.0.0.0. | C30: =C31 -> 152517 | D30: =D31 -> 0 | E30: =E31 -> 152517
A31: Citi dažādi nenodokļu ieņēmumi | B31: 12.3.0.0. | C31: 152517 | D31: =E31-C31 -> 0 | E31: ='2.pielikums'!E57 -> 152517
A32: Ieņēmumi no valsts (pašvaldību) īpašuma iznomāšanas, pārdošanas un no nodokļu pamatparāda kapitalizācijas | B32: 13.0.0.0. | C32: =C33+C34+C35 -> 505420 | D32: =D33+D34+D35 -> 114000 | E32: =E33+E34+E35 -> 619420
A33: Ieņēmumi no ēku un būvju īpašuma pārdošanas | B33: 13.1.0.0. | C33: 20000 | E33: ='2.pielikums'!E60 -> 20000
A34: Ieņēmumi no zemes, meža īpašuma pārdošanas | B34: 13.2.0.0. | C34: 433520 | D34: =E34-C34 -> 100000 | E34: ='2.pielikums'!E61 -> 533520
A35: Ieņēmumi no kustamās mantas pārdošanas | B35: 13.4.0.0. | C35: 51900 | D35: =E35-C35 -> 14000 | E35: ='2.pielikums'!E63 -> 65900
A36: No valsts budžeta daļēji finansēto atvasināto publisko personu un budžeta nefinansēto iestāžu transferti | B36: 17.0.0.0. | C36: =C37 -> 912778 | D36: =E36-C36 -> 5513 | E36: =E37 -> 918291
A37: Pašvaldību saņemtie transferti no valsts budžeta daļēji finansētām atvasinātām publiskām personām un no budžeta nefinansētām iestādēm | B37: 17.2.0.0. | C37: 912778 | D37: =E37-C37 -> 5513 | E37: ='2.pielikums'!E64 -> 918291
A38: Valsts budžeta transferti | B38: 18.0.0.0. | C38: =C39 -> 17171440 | D38: =D39 -> 115667 | E38: =E39 -> 17287107
A39: Pašvaldību saņemtie transferti no valsts budžeta | B39: 18.6.0.0. | C39: 17171440 | D39: =E39-C39 -> 115667 | E39: ='2.pielikums'!E67 -> 17287107
A40: Pašvaldību budžetu transferti | B40: 19.0.0.0 | C40: =C41 -> 162500 | D40: =D41 -> 29000 | E40: =E41 -> 191500
A41: Pašvaldību saņemtie transferti no citām pašvaldībām | B41: 19.2.0.0. | C41: 162500 | D41: =E41-C41 -> 29000 | E41: ='2.pielikums'!E116 -> 191500
A42: Budžeta iestāžu ieņēmumi | B42: 21.0.0.0. | C42: =SUM(C43:C45) -> 5188682 | D42: =SUM(D43:D45) -> 51136 | E42: =SUM(E43:E45) -> 5239818
A43: Iestādes ieņēmumi no ārvalstu finanšu palīdzības | B43: 21.1.0.0. | C43: 0 | D43: =E43-C43 -> 47719 | E43: ='2.pielikums'!E121 -> 47719
A44: Ieņēmumi no budžeta iestāžu sniegtajiem maksas pakalpojumiem un citi pašu ieņēmumi | B44: 21.3.0.0. | C44: 4528800 | D44: =E44-C44 -> 3417 | E44: ='2.pielikums'!E124 -> 4532217
A45: Pārējie 21.3.0.0. grupā neklasificētie budžeta iestāžu ieņēmumi par budžeta iestāžu sniegtajiem maksas pakalpojumiem un citi pašu ieņēmumi | B45: 21.4.0.0. | C45: 659882 | D45: =E45-C45 -> 0 | E45: ='2.pielikums'!E144 -> 659882
A46: II IZDEVUMI - kopā | C46: =C47 -> 39756735 | D46: =D47 -> 466518 | E46: =E47 -> 40223253
A47: Izdevumi atbilstoši funkcionālajām kategorijām | C47: =SUM(C48:C56) -> 39756735 | D47: =SUM(D48:D56) -> 466518 | E47: =SUM(E48:E56) -> 40223253
A48: Vispārējie valdības dienesti | B48: 01.000 | C48: 4460562 | D48: =E48-C48 -> 70868 | E48: ='3.pielikums'!H17 -> 4531430
A49: Sabiedriskā kārtība un drošība | B49: 03.000 | C49: 315668 | D49: =E49-C49 -> 0 | E49: ='3.pielikums'!H49 -> 315668
A50: Ekonomiskā darbība | B50: 04.000 | C50: 3323908 | D50: =E50-C50 -> 12438 | E50: ='3.pielikums'!H53 -> 3336346
A51: Vides aizsardzība | B51: 05.000 | C51: 278308 | D51: =E51-C51 -> 12532 | E51: ='3.pielikums'!H97 -> 290840
A52: Teritoriju un mājokļu apsaimniekošana | B52: 06.000 | C52: 4306164 | D52: =E52-C52 -> 146749 | E52: ='3.pielikums'!H120 -> 4452913
A53: Veselība | B53: 07.000 | C53: 230215 | D53: =E53-C53 -> 0 | E53: ='3.pielikums'!H188 -> 230215
A54: Atpūta, kultūra un reliģija | B54: 08.000 | C54: 4458523 | D54: =E54-C54 -> 3046 | E54: ='3.pielikums'!H203 -> 4461569
A55: Izglītība | B55: 09.000 | C55: 16321383 | D55: =E55-C55 -> 25060 | E55: ='3.pielikums'!H260 -> 16346443
A56: Sociālā aizsardzība | B56: 10.000 | C56: 6062004 | D56: =E56-C56 -> 195825 | E56: ='3.pielikums'!H336 -> 6257829
A57: Izdevumi atbilstoši ekonomiskajām kategorijām | C57: =C58+C59+C60+C61+C62+C63+C64 -> 39756735 | D57: =D58+D59+D60+D61+D62+D63+D64 -> 466518 | E57: =E58+E59+E60+E61+E62+E63+E64 -> 40223253
A58: Atlīdzība | B58: 1000 | C58: 22477696 | D58: =E58-C58 -> -225304 | E58: ='4.pielikums'!C377 -> 22252392
A59: Preces un pakalpojumi | B59: 2000 | C59: 8954272 | D59: =E59-C59 -> 226240 | E59: ='4.pielikums'!D377 -> 9180512
A60: Subsīdijas un dotācijas | B60: 3000 | C60: 68819 | D60: =E60-C60 -> 500 | E60: ='4.pielikums'!E377 -> 69319
A61: Procentu izdevumi | B61: 4000 | C61: 417830 | D61: =E61-C61 -> 48441 | E61: ='4.pielikums'!F377 -> 466271
A62: Pamatkapitāla veidošana | B62: 5000 | C62: 5989730 | D62: =E62-C62 -> 57886 | E62: ='4.pielikums'!G377 -> 6047616
A63: Sociālie pabalsti | B63: 6000 | C63: 1640876 | D63: =E63-C63 -> 358755 | E63: ='4.pielikums'!H377 -> 1999631
A64: Transferti, uzturēšanas izdevumu transferti, pašu resursu maksājumi, starptautiskā sadarbība | B64: 7000 | C64: 207512 | D64: =E64-C64 -> 0 | E64: ='4.pielikums'!I377 -> 207512
A66: III Ieņēmumu pārsniegums (+) deficīts (-) (I-II) | C66: =C16-C46 -> -4414303 | D66: =D16-D46 -> -151202 | E66: =E16-E46 -> -4565505
A67: IV FINANSĒŠANA - kopā | C67: =C68+C73+C76 -> 4414303 | D67: =D68+D73+D76 -> 151202 | E67: =E68+E73+E76 -> 4565504.6
A68: Naudas līdzekļi un noguldījumi | B68: F20010000 | C68: =C69+C70 -> 2919378 | D68: =D69+D70 -> 151202 | E68: =E69+E70 -> 3070580
A69: Naudas līdzekļi | B69: F21010000 | C69: 5214 | E69: 5214
A70: Pieprasījuma noguldījumi | B70: F22010000 | C70: =C71-C72 -> 2914164 | D70: =D71-D72 -> 151202 | E70: =E71-E72 -> 3065366
A71: Pieprasījuma noguldījumu atlikums gada sākumā | B71: F22010000 AS | C71: 3385839 | E71: 3385839
A72: Pieprasījuma noguldījumu atlikums perioda beigās | B72: F22010000 PB | C72: 471675 | D72: -151202 | E72: =C72+D72 -> 320473
A73: Aizņēmumi | B73: F40020000 | C73: =C74-C75 -> 1570417 | D73: =D74-D75 -> 0 | E73: =E74-E75 -> 1570416.6
A74: Saņemtie aizņēmumi | B74: F40020010 | C74: 3343085 | D74: 0 | E74: ='3.pielikums'!G16 -> 3343084.6
A75: Saņemto aizņēmumu atmaksa | B75: F40020020 | C75: 1772668 | D75: 0 | E75: =C75+D75 -> 1772668
A76: Kapitāldaļu iegāde līdzdalībai radniecīgo komersantu kapitālā | B76: F55010012 | C76: -75492 | D76: 0 | E76: =D76+C76 -> -75492
A78: Balvu novada domes priekšsēdētājs S. Maksimovs

Sheet 2.pielikums
E1: 2. pielikums
E2: Balvu novada domes
E3: 2023. gada 28. decembra saistošajiem noteikumiem Nr. 25/2023
E4: "Grozījumi 2023. gada 23. marta saistošajos noteikumos Nr. 4/2023
E5: "Par Balvu novada pašvaldības budžetu 2023. gadam""
E7: 2. pielikums
E8: Balvu novada domes
E9: 2023. gada 23. marta saistošajiem noteikumiem Nr. 4/2023
E10: "Par Balvu novada pašvaldības 2023. gada budžetu"
A14: Balvu novada pašvaldības pamatbudžeta ieņēmumi 2023. gadam (EUR)
A16: Klasifikācijas kods | B16: Ieņēmumi | C16: Apstiprināts 2023. gadam (EUR) | D16: Grozījumi (EUR) | E16: Apstiprināts ar grozījumiem 2023. gadam (EUR)
A18: I | B18: IEŅĒMUMI KOPĀ | C18: =C20+C23+C35+C43+C54+C57+C59+C115+C116+C120+C68+C64+C105+C41 -> 35342432 | D18: =D20+D23+D35+D43+D54+D57+D59+D115+D116+D120+D68+D64+D105+D41 -> 315316 | E18: =C18+D18 -> 35657748
A19: 1 | B19: Nodokļu ieņēmumi | C19: =C20+C23+C35 -> 11213175 | E19: =C19+D19 -> 11213175
A20: 1.0.0.0. | B20: IENĀKUMA NODOKĻI | C20: =C21 -> 9921221 | D20: =D21 -> 0 | E20: =C20+D20 -> 9921221
A21: 1.1.1.0 | B21: Iedzīvotāju ienākuma nodoklis | C21: =C22 -> 9921221 | D21: =D22 -> 0 | E21: =C21+D21 -> 9921221
A22: 1.1.1.2 | B22: Iedzīvotāju ienākuma nodoklis | C22: 9921221 | D22: 0 | E22: =C22+D22 -> 9921221
A23: 4.0.0.0. | B23: ĪPAŠUMA NODOKĻI | C23: =C24 -> 1245954 | E23: =C23+D23 -> 1245954
A24: 4.1.0.0 | B24: Nekustamā īpašuma nodoklis | C24: =C25+C28+C32 -> 1245954 | E24: =C24+D24 -> 1245954
A25: 4.1.1.0 | B25: Nekustamā īpašuma nodoklis par zemi | C25: =C26+C27 -> 1114475 | E25: =C25+D25 -> 1114475
A26: 4.1.1.1 | B26: Nekustamā īpašuma nodokļa par zemi kārtējā saimnieciskā gada ieņēmumi | C26: 1047119 | E26: =C26+D26 -> 1047119
A27: 4.1.1.2 | B27: Nekustamā īpašuma nodoklis par zemi-iepriekšējo gadu parādi | C27: 67356 | E27: =C27+D27 -> 67356
A28: 4.1.2.0 | B28: Nekustamā īpašuma nodokļi par ēkām | C28: =C29+C31 -> 81363 | E28: =C28+D28 -> 81363
A29: 4.1.2.1 | B29: Nekustamā īpašuma nodoklis par ēkām kārtējā gada maksājumi | C29: 76097 | E29: =C29+D29 -> 76097
B30: t.sk. par inženierbūvēm | C30: 4954 | E30: =C30+D30 -> 4954
A31: 4.1.2.2 | B31: Nekustamā īpašuma nodoklis par ēkām-iepriekšējo gadu parādi | C31: 5266 | E31: =C31+D31 -> 5266
A32: 4.1.3.0 | B32: Nekustamā īpašuma nodokļi par mājokļiem | C32: =C33+C34 -> 50116 | E32: =C32+D32 -> 50116
A33: 4.1.3.1. | B33: Nekustamā īpašuma nodokļa par mājokļiem kārtējā saimnieciskā gada ieņēmumi | C33: 41969 | E33: =C33+D33 -> 41969
A34: 4.1.3.2. | B34: Nekustamā īpašuma nodoklis par mājokļiem-iepriekšējo gadu parādi | C34: 8147 | E34: =C34+D34 -> 8147
A35: 5.0.0.0. | B35: NODOKĻI PAR PAKALPOJUMIEM UN PRECĒM | C35: =C36+C38 -> 46000 | E35: =C35+D35 -> 46000
A36: 5.4.0.0. | B36: Nodokļi par atsevišķām precēm un pakalpojumu veidiem | C36: =C37 -> 9000 | E36: =C36+D36 -> 9000
A37: 5.4.1.0 | B37: Azartspēļu nodoklis | C37: 9000 | E37: =C37+D37 -> 9000
A38: 5.5.0.0. | B38: Nodokļi un maksājumi par tiesībām lietot atsevišķas preces | C38: =C39 -> 37000 | E38: =C38+D38 -> 37000
A39: 5.5.3.0. | B39: Dabas resursu nodoklis | C39: 37000 | E39: =C39+D39 -> 37000
A40: 2 | B40: Nenodokļu ieņēmumi | C40: =C41+C43+C54+C57+C59 -> 693857 | D40: =D41+D43+D54+D57+D59 -> 114000 | E40: =C40+D40 -> 807857
A41: 8.0.0.0. | B41: Ieņēmumi no uzņēmējdarbības un īpašuma | C41: =C42 -> 7080 | E41: =C41+D41 -> 7080
A42: 8.6.0.0. | B42: Procentu ieņēmumi par depozītiem, kontu atlikumiem, valsts parāda vērtspapīriem un atlikto maksājumu | C42: 7080 | E42: =C42+D42 -> 7080
A43: 9.0.0.0. | B43: VALSTS (PAŠVALDĪBU) NODEVAS UN KANCELEJAS NODEVAS | C43: =C44+C48 -> 24840 | E43: =C43+D43 -> 24840
A44: 9.4.0.0. | B44: Valsts nodevas, kuras ieskaita valsts budžetā | C44: =C45+C46+C47 -> 12690 | E44: =C44+D44 -> 12690
A45: 9.4.2.0. | B45: Valsts nodeva par apliecinājumiem un citu funkciju pildīšanu bāriņtiesās | C45: 11000 | E45: =C45+D45 -> 11000
A46: 9.4.5.0. | B46: Valsts nodeva par civilstāvokļa aktu reģistrēšanu, grozīšanu un papildināšanu | C46: 1400 | E46: =C46+D46 -> 1400
A47: 9.4.9.0. | B47: Pārējās valsts nodevas, kuras ieskaita pašvaldību budžetos | C47: 290 | E47: =C47+D47 -> 290
A48: 9.5.0.0. | B48: Pašvaldības nodevas | C48: =C49+C50+C51+C52+C53 -> 12150 | E48: =C48+D48 -> 12150
A49: 9.5.1.2. | B49: Pašvaldības nodeva par izklaidējoša rakstura pasākumu sarīkošanu publiskās vietās | C49: 1000 | E49: =C49+D49 -> 1000
A50: 9.5.1.4. | B50: Pašvaldības nodeva par tirdzniecību publiskās vietās | C50: 1000 | E50: =C50+D50 -> 1000
A51: 9.5.1.7. | B51: Pašvaldības nodeva par reklāmas, afišu un sludinājumu izvietošanu publiskajās vietās | C51: 50 | E51: =C51+D51 -> 50
A52: 9.5.2.1. | B52: Pašvaldības nodeva par būvatļaujas izdošanu vai būvniecības ieceres akceptu | C52: 10000 | E52: =C52+D52 -> 10000
A53: 9.5.2.9. | B53: Pārējās nodevas, ko uzliek pašvaldības | C53: 100 | E53: =C53+D53 -> 100
A54: 10.0.0.0. | B54: NAUDAS SODI UN SANKCIJAS | C54: =C55+C56 -> 4000 | E54: =C54+D54 -> 4000
A55: 10.1.4.0. | B55: Naudas sodi, ko uzliek pašvaldības | C55: 3500 | E55: =C55+D55 -> 3500
A56: 10.1.5.0. | B56: Naudas sodi, ko uzliek pašvaldību institūcijas par pārkāpumiem ceļu satiksmē | C56: 500 | E56: =C56+D56 -> 500
A57: 12.0.0.0. | B57: PĀRĒJIE NENODOKĻU IEŅĒMUMI | C57: =C58 -> 152517 | D57: =D58 -> 0 | E57: =C57+D57 -> 152517
A58: 12.3.9.9. | B58: Pārējie dažādi nenodokļu ieņēmumi, kas nav iepriekš klasificēti šajā klasifikācijā | C58: 152517 | E58: =C58+D58 -> 152517
A59: 13.0.0.0. | B59: IEŅĒMUMI NO VALSTS (PAŠVALDĪBAS) ĪPAŠUMA IZNOMĀŠANAS PĀRDOŠANAS | C59: =C60+C61+C63 -> 505420 | D59: =D60+D61+D63 -> 114000 | E59: =C59+D59 -> 619420
A60: 13.1.0.0. | B60: Ieņēmumi no ēku un būvju īpašuma pārdošanas | C60: 20000 | E60: =C60+D60 -> 20000
A61: 13.2.0.0. | B61: Ieņēmumi no zemes, mežu īpašuma pārdošanas | C61: 433520 | D61: =D62 -> 100000 | E61: =C61+D61 -> 533520
A62: 13.2.1.0. | B62: Ieņēmumi no zemes īpašuma pārdošanas | C62: 433520 | D62: 100000 | E62: =C62+D62 -> 533520
A63: 13.4.0.0. | B63: Ieņēmumi no kustamās mantas pārdošanas | C63: 51900 | D63: 14000 | E63: =C63+D63 -> 65900
A64: 17.0.0.0. | B64: NO VALSTS BUDŽETA DAĻĒJI FINANSĒTO PUBLISKO PERSONU UN BUDŽETA NEFINANSĒTO IESTĀŽU TRANSFERTI | C64: =C65+C66 -> 912778 | D64: =D65+D66 -> 5513 | E64: =C64+D64 -> 918291
A65: 17.2.0.0. | B65: Latgales plānošanas reģiona finansējums projektam "Deinstitucionalizācijas pasākumu īstenošana Latgales reģionā" | C65: 462678 | E65: =C65+D65 -> 462678
A66: 17.2.0.0. | B66: Pašvaldību saņemtie transferti no valsts budžeta daļēji atvasinātām publiskām personām un no budžeta nefinansētām iestādēm | C66: 450100 | D66: 5513 | E66: =C66+D66 -> 455613
A67: 18.0.0.0. | B67: VALSTS BUDŽETA TRANSFERTI | C67: =C68+C105+C115 -> 17171440 | D67: =D68+D105+D115 -> 115667 | E67: =C67+D67 -> 17287107
A68: 18.6.2.0. | B68: Pašvaldības saņemtie valsts budžeta transferti noteiktam mērķim | C68: =SUM(C69:C104) -> 9369711 | D68: =SUM(D69:D104) -> 115327 | E68: =C68+D68 -> 9485038
A69: 18.6.2.0. | B69: Mērķdotācijas pašvaldību pamata un vispārējās izglītības iestāžu pedagogu darba samaksai un valsts sociālās apdrošināšanas obligātajām iemaksām | C69: 4251868 | E69: =C69+D69 -> 4251868
A70: 18.6.2.0. | B70: Mērķdotācijas pašvaldību profesionālās pamatizglītības, arodizglītības un profesionālās vidējās izglītības programmu pedagogu darba samaksai un valsts sociālās apdrošināšanas obligātajām iemaksām | C70: 233544 | E70: =C70+D70 -> 233544
A71: 18.6.2.0. | B71: Mērķdotācija interešu izglītības programmu pedagogu daļējai darba samaksai un valsts sociālās apdrošināšanas obligātajām iemaksām | C71: 198589 | E71: =C71+D71 -> 198589
A72: 18.6.2.0. | B72: Mērķdotācijas pašvaldības izglītības iestāžu piecgadīgo un sešgadīgo bērnu apmācības pedagogu darba samaksai un valsts soc.apdrošināšanas obligātajām iemaksām | C72: 616832 | E72: =C72+D72 -> 616832
A73: 18.6.2.0. | B73: Mērķdotācija latgaliešu rakstu valodas apguves nodrošināšanai | D73: 759 | E73: =C73+D73 -> 759
A74: 18.6.2.0. | B74: Mērķdotācija audžuģimenēm par bērna uzturnaudas palielināšanu | C74: 25441 | E74: =C74+D74 -> 25441
A75: 18.6.2.0. | B75: Valsts dotācija autoceļu (ielu) uzturēšanai | C75: 943732 | E75: =C75+D75 -> 943732
A76: 18.6.2.0. | B76: Valsts dotācija sporta skolai | C76: 289876 | E76: =C76+D76 -> 289876
A77: 18.6.2.0. | B77: Valsts dotācija mūzikas un mākslas skolām | C77: 678172 | E77: =C77+D77 -> 678172
A78: 18.6.2.0. | B78: Valsts dotācija 1.-4.klašu brīvpusdienu daļējai apmaksai | C78: 134651 | E78: =C78+D78 -> 134651
A79: 18.6.2.0. | B79: Valsts dotācija mācību grāmatu un mācību līdzekļu iegādei | C79: 46152 | E79: =C79+D79 -> 46152
A80: 18.6.2.0. | B80: Valsts ģimnāziju dotācija metodiskā centra uzturēšanai | C80: 0 | D80: 2701 | E80: =C80+D80 -> 2701
A81: 18.6.2.0. | B81: Valsts dotācija projektam "Pašvaldības infrastruktūras attīstība, uzlabojot pakalpojumu efektivitāti "Upītes Kultūrtelpā"" | C81: 142073 | E81: =C81+D81 -> 142073
A82: 18.6.2.0. | B82: MD māksliniecisko kolektīvu vadītāju darba samaksai un valsts sociālās apdrošināšanas obligātajām iemaksām | C82: 23722 | E82: =C82+D82 -> 23722
A83: 18.6.2.0. | B83: Valsts un pašvaldības vienotā klientu apkalpošanas centra uzturēšana | C83: 55580 | E83: =C83+D83 -> 55580
A84: 18.6.2.0. | B84: Latvijas Skolas soma | C84: 24650 | E84: =C84+D84 -> 24650
A85: 18.6.2.0. | B85: Dotācija no līdzekļiem neparedzētiem gadījumiem atskurbtuves uzturēšanai | C85: 3690 | E85: =C85+D85 -> 3690
A86: 18.6.2.0. | B86: Feldšerpunktu dotācija | C86: 100386 | E86: =C86+D86 -> 100386
A87: 18.6.2.0. | B87: Zobārstniecības kabinets (Rugāju pagastā) | C87: 34886 | E87: =C87+D87 -> 34886
A88: 18.6.2.0. | B88: LM finansējums asistenta pakalpojumiem personām ar invaliditāti | C88: 484637 | D88: 8165 | E88: =C88+D88 -> 492802
A89: 18.6.2.0. | B89: Vides pieejamības veicināšana Balvu novada Nodarbinātības valsts aģentūrā | C89: 111000 | E89: =C89+D89 -> 111000
A90: 18.6.2.0. | B90: Nodarbinātības valsts aģentūra - skolēnu nodarbinātība vasarā | C90: 38098 | E90: =C90+D90 -> 38098
A91: 18.6.2.0. | B91: Ģimenei draudzīgākā pašvaldība 2022 | C91: 5000 | E91: =C91+D91 -> 5000
A92: 18.6.2.0. | B92: Dotācija asistentu pakalpojumu nodrošināšanai | C92: 96548 | D92: =2013+4729 -> 6742 | E92: =C92+D92 -> 103290
A93: 18.6.2.0. | B93: Algoti pagaidu sabiedriskie darbi | C93: 172800 | E93: =C93+D93 -> 172800
A94: 18.6.2.0. | B94: Valsts dotācija sociālās aprūpes centru iemītniekiem | C94: 31392 | E94: =C94+D94 -> 31392
A95: 18.6.2.0. | B95: Atbalsts mājsaimniecībām apkures izdevumu kompensēšanai | C95: 25701 | E95: =C95+D95 -> 25701
A96: 18.6.2.0. | B96: Valsts dotācija Ukrainas civiliedzīvotāju atbalstam | C96: 45466 | D96: 48436 | E96: =C96+D96 -> 93902
A97: 18.6.2.0. | B97: Valsts dotācija Ukrainas civiliedzīvotāju izmitināšanas iespējām | C97: 42157 | E97: =C97+D97 -> 42157
A98: 18.6.2.0. | B98: Ukrainas civiliedzīvotāju mērķdotācija pabalstu izmaksām | C98: 53978 | E98: =C98+D98 -> 53978
A99: 18.6.2.0. | B99: Valsts atbalsts pašvaldībām sociālo darbinieku atlīdzības palielināšanai | C99: 44978 | E99: =C99+D99 -> 44978
A100: 18.6.2.0. | B100: Valsts dotācija mājokļa pabalstam | C100: 231715 | E100: =C100+D100 -> 231715
A101: 18.6.2.0. | B101: Valsts dotācija sociālo darbinieku atalgojuma palielināšanai | C101: 0 | D101: 40524 | E101: =C101+D101 -> 40524
A102: 18.6.2.0. | B102: Zivju resursu pavairošana Balvu novada ezeros 2023.gadā | D102: 8000 | E102: =C102+D102 -> 8000
A103: 18.6.2.0. | B103: Valsts finansējums Vispārējiem latviešu Dziesmu un Dēju svētkiem | C103: 67306 | E103: =C103+D103 -> 67306
A104: 18.6.2.0. | B104: Valsts budžeta dotācija pašvaldībām ar zemākajiem ienākumiem | C104: 115091 | E104: =C104+D104 -> 115091
A105: 18.6.3.0. | B105: Pašvaldību no valsts budžeta iestādēm saņemtie transferti ES politiku instrumentu un pārējās ārvalstu finanšu palīdzības līdzfinansētajiem projektiem (pasākumiem) | C105: 953089 | D105: =D112+D114+D113+D110+D111 -> 340 | E105: =C105+D105 -> 953429
B106: Pārrobežu sadarbības programmas projekts "Not just Books" | C106: 72000 | E106: =C106+D106 -> 72000
...

Sheet 3.pielikums
H1: 3. pielikums
H2: Balvu novada domes
H3: 2023. gada 28. decembra saistošajiem noteikumiem Nr. 25/2023
H4: "Grozījumi 2023. gada 23. marta saistošajos noteikumos Nr. 4/2023
H5: "Par Balvu novada pašvaldības budžetu 2023. gadam""
H7: 3. pielikums
H8: Balvu novada domes
H9: 2023. gada 23. marta saistošajiem noteikumiem Nr. 4/2023
H10: "Par Balvu novada pašvaldības 2023. gada budžetu"
B12: Balvu novada pašvaldības pamatbudžeta izdevumi 2023. gadam (EUR)
A14: Klasifikācijas kods | B14: Iestādes un pasākumi | D14: Finansēšanas avots | H14: Kopā
C15: Atlikums uz gada sākumu | D15: Vispārējie ieņēmumi | E15: Budžeta iestāžu ieņēmumi | F15: Valsts un pašvaldību transferti | G15: Aizņēmumi
C16: =C17+C49+C53+C120+C188+C203+C260+C336+C97 -> 1068637 | D16: =D17+D49+D53+D120+D188+D203+D260+D336+D97 -> 20161698 | E16: =E17+E49+E53+E120+E188+E203+E260+E336+E97 -> 4387501 | F16: =F17+F49+F53+F120+F188+F203+F260+F336+F97 -> 11174135 | G16: =G17+G49+G53+G120+G188+G203+G260+G336+G97 -> 3343084.6 | H16: =H17+H49+H53+H120+H188+H203+H260+H336+H97 -> 40223253
A17: 01.000 | B17: Vispārējie valdības dienesti | C17: =SUM(C18:C48) -> 0 | D17: =SUM(D18:D48) -> 3769189.8 | E17: =SUM(E18:E48) -> 26692 | F17: =SUM(F18:F48) -> 67957 | G17: =SUM(G18:G48) -> 667591.17 | H17: =SUM(H18:H48) -> 4531430
B18: Balvu novada administrācija | D18: =H18-E18-G18-F18-C18 -> 1609782 | H18: ='4.pielikums'!B18 -> 1609782
B19: Deputātu darba samaksa | D19: =H19-E19-G19-F19-C19 -> 152160 | H19: ='4.pielikums'!B20 -> 152160
B20: Bijušo pagastu padomju un pilsētu domju vadītāju pabalsti | D20: =H20-E20-G20-F20-C20 -> 250642 | H20: ='4.pielikums'!B22 -> 250642
B21: Komisiju darba samaksa | D21: =H21-E21-G21-F21-C21 -> 37776 | H21: ='4.pielikums'!B23 -> 37776
B22: Balvu pilsētas pārvalde | D22: =H22-E22-G22-F22-C22 -> 298102.83 | G22: =370452/1.15 -> 322132.17 | H22: ='4.pielikums'!B25 -> 620235
B23: Balvu pagasta pārvalde | D23: =H23-E23-G23-F23-C23 -> 34564 | H23: ='4.pielikums'!B26 -> 34564
B24: Baltinavas pagasta pārvalde | D24: =H24-E24-G24-F24-C24 -> 73892 | E24: =674+239 -> 913 | H24: ='4.pielikums'!B27 -> 74805
B25: Bērzkalnes pagasta pārvalde | D25: =H25-E25-G25-F25-C25 -> 34798 | H25: ='4.pielikums'!B28 -> 34798
B26: Bērzpils pagasta pārvalde | D26: =H26-E26-G26-F26-C26 -> 47875 | E26: =340+1380 -> 1720 | H26: ='4.pielikums'!B29 -> 49595
B27: Briežuciema pagasta pārvalde | D27: =H27-E27-G27-F27-C27 -> 40318 | H27: ='4.pielikums'!B30 -> 40318
B28: Krišjāņu pagasta pārvalde | D28: =H28-E28-G28-F28-C28 -> 39911 | E28: =85 -> 85 | H28: ='4.pielikums'!B31 -> 39996
B29: Kubulu pagasta pārvalde | D29: =H29-E29-G29-F29-C29 -> 43428 | E29: =12 -> 12 | H29: ='4.pielikums'!B32 -> 43440
B30: Kupravas pagasta pārvalde | D30: =H30-E30-G30-F30-C30 -> 35296 | E30: =150 -> 150 | H30: ='4.pielikums'!B33 -> 35446
B31: Lazdukalna pagasta pārvalde | D31: =H31-E31-G31-F31-C31 -> 36877 | H31: ='4.pielikums'!B34 -> 36877
B32: Lazdulejas pagasta pārvalde | D32: =H32-E32-G32-F32-C32 -> 23494 | H32: ='4.pielikums'!B35 -> 23494
B33: Medņevas pagasta pārvalde | D33: =H33-E33-G33-F33-C33 -> 44864 | H33: ='4.pielikums'!B36 -> 44864
B34: Rugāju pagasta pārvalde | D34: =H34-E34-G34-F34-C34 -> 48643 | E34: =1400 -> 1400 | H34: ='4.pielikums'!B37 -> 50043
B35: Susāju pagasta pārvalde | D35: =H35-E35-G35-F35-C35 -> 20658 | H35: ='4.pielikums'!B38 -> 20658
B36: Šķilbēnu pagasta pārvalde | D36: =H36-E36-G36-F36-C36 -> 48906 | H36: ='4.pielikums'!B39 -> 48906
B37: Tilžas pagasta pārvalde | D37: =H37-E37-G37-F37-C37 -> 43553 | E37: =500 -> 500 | H37: ='4.pielikums'!B40 -> 44053
B38: Vectilžas pagasta pārvalde | D38: =H38-E38-G38-F38-C38 -> 34012 | H38: ='4.pielikums'!B41 -> 34012
B39: Vecumu pagasta pārvalde | D39: =H39-E39-G39-F39-C39 -> 34090 | E39: =1900+2578 -> 4478 | H39: ='4.pielikums'!B42 -> 38568
B40: Vīksnas pagasta pārvalde | D40: =H40-E40-G40-F40-C40 -> 39126 | E40: =67 -> 67 | H40: ='4.pielikums'!B43 -> 39193
B41: Viļakas pilsētas pārvalde | D41: =H41-E41-G41-F41-C41 -> 68633 | E41: =3693+2629+1639+756 -> 8717 | H41: ='4.pielikums'!B44 -> 77350
B42: Žīguru pagasta pārvalde | D42: =H42-E42-G42-F42-C42 -> 37510 | H42: ='4.pielikums'!B45 -> 37510
B43: Rugāju pagasta pārvaldes ēkas energoefektivitātes paaugstināšana | D43: =H43-E43-G43-F43-C43 -> 491 | F43: 7207 | G43: 345459 | H43: ='4.pielikums'!B366 -> 353157
B44: Valsts un pašvaldības vienotais klientu apkalpošanas centrs | D44: =H44-E44-G44-F44-C44 -> 54488 | E44: =4350+4300 -> 8650 | F44: =33980+26770 -> 60750 | H44: ='4.pielikums'!B46 -> 123888
B45: Pašvaldības aizņēmumu apkalpošana un procentu maksa | D45: =H45-E45-G45-F45-C45 -> 490050 | H45: ='4.pielikums'!B50 -> 490050
B46: Izdevumi neparedzētiem gadījumiem | D46: =H46-E46-G46-F46-C46 -> 0 | H46: ='4.pielikums'!B47 -> 0
B47: Biedru maksa | D47: =H47-E47-G47-F47-C47 -> 45250 | H47: ='4.pielikums'!B49 -> 45250
B48: AS Balvu Enerģija akciju iegāde | D48: =H48-E48-G48-F48-C48 -> 0 | H48: ='4.pielikums'!B52 -> 0
A49: 03.000 | B49: Sabiedriskā kārtība un drošība | C49: =SUM(C50:C52) -> 0 | D49: =SUM(D50:D52) -> 287638 | E49: =SUM(E50:E52) -> 24340 | F49: =SUM(F50:F52) -> 3690 | G49: =SUM(G50:G52) -> 0 | H49: =SUM(H50:H52) -> 315668
B50: Dzimtsarakstu nodaļa | D50: =H50-E50-G50-F50-C50 -> 81365 | E50: =1400+1140+1200 -> 3740 | H50: ='4.pielikums'!B53 -> 85105
B51: Pašvaldības policija | D51: =H51-E51-G51-F51-C51 -> 169858 | E51: =2000+100 -> 2100 | H51: ='4.pielikums'!B54 -> 171958
B52: Atskurbtuves uzturēšana | D52: =H52-E52-G52-F52-C52 -> 36415 | E52: =18500 -> 18500 | F52: 3690 | H52: ='4.pielikums'!B56 -> 58605
A53: 04.000 | B53: Ekonomiskā darbība | C53: =SUM(C54:C96) -> 323002 | D53: =SUM(D54:D96) -> 666142.61 | E53: =SUM(E54:E96) -> 25750 | F53: =SUM(F54:F96) -> 1468234 | G53: =SUM(G54:G96) -> 765020.39 | H53: =SUM(H54:H96) -> 3336346
B54: Algoti pagaidu sabiedriskie darbi | C54: 3381 | D54: =H54-E54-G54-F54-C54 -> 425 | F54: 172800 | H54: ='4.pielikums'!B87 -> 176606
B55: Balvu novada Būvvalde | D55: =H55-E55-G55-F55-C55 -> 65147 | E55: =10000 -> 10000 | H55: ='4.pielikums'!B58 -> 75147
B56: Ziemeļlatgales biznesa un tūrisma centrs | D56: =H56-E56-G56-F56-C56 -> 106988 | E56: =4000+3500+1000 -> 8500 | F56: =68495 -> 68495 | H56: ='4.pielikums'!B61 -> 183983
B57: Balvu pilsētas autoceļu (ielu) uzturēšana | D57: =H57-E57-G57-F57-C57 -> 0 | F57: =117893+11226 -> 129119 | H57: ='4.pielikums'!B63 -> 129119
B58: Baltinavas pagasta autoceļu (ielu) uzturēšana | D58: =H58-E58-G58-F58-C58 -> 0 | F58: =46305+4408 -> 50713 | H58: ='4.pielikums'!B64 -> 50713
B59: Balvu pagasta autoceļu (ielu) uzturēšana | C59: 10778 | D59: =H59-E59-G59-F59-C59 -> 12438 | F59: =23910+2277 -> 26187 | H59: ='4.pielikums'!B65 -> 49403
B60: Bērzkalnes pagasta autoceļu (ielu) uzturēšana | D60: =H60-E60-G60-F60-C60 -> 4000 | F60: =19249+1832 -> 21081 | H60: ='4.pielikums'!B67 -> 25081
B61: Bērzpils pagasta autoceļu (ielu) uzturēšana | C61: 14413 | D61: =H61-E61-G61-F61-C61 -> 0 | F61: =39620+3772 -> 43392 | H61: ='4.pielikums'!B68 -> 57805
B62: Briežuciema pagasta autoceļu (ielu) uzturēšana | C62: 10723 | D62: =H62-E62-G62-F62-C62 -> 0 | F62: =21659+2062 -> 23721 | H62: ='4.pielikums'!B69 -> 34444
B63: Krišjāņu pagasta autoceļu (ielu) uzturēšana | C63: 14062 | D63: =H63-E63-G63-F63-C63 -> 0 | F63: =17112+1629 -> 18741 | H63: ='4.pielikums'!B70 -> 32803
B64: Kubulu pagasta autoceļu (ielu) uzturēšana | D64: =H64-E64-G64-F64-C64 -> 64412 | F64: =42118+4010 -> 46128 | H64: ='4.pielikums'!B71 -> 110540
B65: Kupravas pagasta autoceļu (ielu) uzturēšana | C65: 3363 | D65: =H65-E65-G65-F65-C65 -> 0 | F65: =9815+934 -> 10749 | H65: ='4.pielikums'!B72 -> 14112
B66: Lazdulejas pagasta autoceļu (ielu) uzturēšana | D66: =H66-E66-G66-F66-C66 -> 0 | F66: =14853+1414 -> 16267 | H66: ='4.pielikums'!B73 -> 16267
B67: Lazdukalna pagasta autoceļu (ielu) uzturēšana | C67: 21458 | D67: =H67-E67-G67-F67-C67 -> 0 | F67: =43712+4161 -> 47873 | H67: ='4.pielikums'!B74 -> 69331
B68: Medņevas pagasta autoceļu (ielu) uzturēšana | D68: =H68-E68-G68-F68-C68 -> 0 | F68: =31380+2987 -> 34367 | H68: ='4.pielikums'!B75 -> 34367
B69: Rugāju pagasta autoceļu (ielu) uzturēšana | C69: 160973 | D69: =H69-E69-G69-F69-C69 -> 0 | F69: =63137+6011 -> 69148 | H69: ='4.pielikums'!B76 -> 230121
B70: Susāju pagasta autoceļu (ielu) uzturēšana | C70: 13693 | D70: =H70-E70-G70-F70-C70 -> 0 | F70: =27134+2583 -> 29717 | H70: ='4.pielikums'!B77 -> 43410
B71: Šķilbēnu pagasta autoceļu (ielu) uzturēšana | C71: 22705 | D71: =H71-E71-G71-F71-C71 -> 0 | F71: =46312+4410 -> 50722 | H71: ='4.pielikums'!B78 -> 73427
B72: Tilžas pagasta autoceļu (ielu) uzturēšana | C72: 2834 | D72: =H72-E72-G72-F72-C72 -> 0 | F72: =35901+3417 -> 39318 | H72: ='4.pielikums'!B79 -> 42152
B73: Vectilžas pagasta autoceļu (ielu) uzturēšana | C73: 8787 | D73: =H73-E73-G73-F73-C73 -> 0 | F73: =11894+1133 -> 13027 | H73: ='4.pielikums'!B80 -> 21814
B74: Vecumu pagasta autoceļu (ielu) uzturēšana | C74: 7130 | D74: =H74-E74-G74-F74-C74 -> 0 | F74: =21413+2039 -> 23452 | H74: ='4.pielikums'!B81 -> 30582
B75: Vīksnas pagasta autoceļu (ielu) uzturēšana | C75: 4412 | D75: =H75-E75-G75-F75-C75 -> 0 | F75: =21303+2028 -> 23331 | H75: ='4.pielikums'!B82 -> 27743
B76: Žīguru pagasta autoceļu (ielu) uzturēšana | C76: 484 | D76: =H76-E76-G76-F76-C76 -> 0 | F76: =8414+801 -> 9215 | H76: ='4.pielikums'!B83 -> 9699
B77: Viļakas pilsētas autoceļu (ielu) uzturēšana | C77: 12249 | D77: =H77-E77-G77-F77-C77 -> 0 | F77: =26222+2496 -> 28718 | H77: ='4.pielikums'!B84 -> 40967
B78: Autoceļu (ielu) uzturēšanas līdzekļu rezerves fonds | D78: =H78-E78-G78-F78-C78 -> -68412 | F78: =172339+16407 -> 188746 | H78: ='4.pielikums'!B85 -> 120334
B79: Kubulu pagasta ielu pārbūve | D79: =H79-E79-G79-F79-C79 -> 33566.609 | G79: =257344/1.15 -> 223777.39 | H79: ='4.pielikums'!B353 -> 257344
B80: Vidzemes ielas pārbūve | D80: =H80-E80-G80-F80-C80 -> 138837 | H80: ='4.pielikums'!B352 -> 138837
B81: Balkanu Dabas parks | D81: =H81-E81-G81-F81-C81 -> 16110 | E81: =250+5500 -> 5750 | H81: ='4.pielikums'!B88 -> 21860
B82: Latgales speciālās ekonomiskās zonas atbalsts | D82: =H82-E82-G82-F82-C82 -> 3244 | H82: ='4.pielikums'!B60 -> 3244
B83: Pārējā ekonomiskā darbība (PVN) | D83: =H83-E83-G83-F83-C83 -> 96522 | H83: ='4.pielikums'!B59 -> 96522
B84: Biznesa ideju konkurss | D84: =H84-E84-G84-F84-C84 -> 50000 | H84: ='4.pielikums'!B62 -> 50000
B85: Balvu muižas apbūves tematiskā plānojuma izstrāde | D85: =H85-E85-G85-F85-C85 -> 20812 | H85: ='4.pielikums'!B350 -> 20812
B86: Degradēto teritoriju revitalizācija Austrumu pierobežā | D86: =H86-E86-G86-F86-C86 -> 63254 | G86: 541243 | H86: ='4.pielikums'!B355 -> 604497
B87: LV-LT pārrobežu sadarbības projekts "Amatu prasmes tūrisma telpā" | C87: 3057 | D87: =H87-E87-G87-F87-C87 -> 0 | H87: ='4.pielikums'!B89 -> 3057
B88: Projekts "Strengthening the entrepreneurial environment of the Balvi municipality" | C88: 8500 | D88: =H88-E88-G88-F88-C88 -> 11910 | E88: =1500 -> 1500 | H88: ='4.pielikums'!B90 -> 21910
B89: Vides pieejamības veicināšana Balvu novada Nodarbinātības valsts aģentūrā | D89: =H89-E89-G89-F89-C89 -> 23310 | F89: 111000 | H89: ='4.pielikums'!B91 -> 134310
B90: Pārrobežu sadarbības programmas projekts "Not just Books" | D90: =H90-E90-G90-F90-C90 -> 8000 | F90: 72000 | H90: ='4.pielikums'!B92 -> 80000
B91: Pārrobežu sadarbības programmas projekts "Hobby-business" | D91: =H91-E91-G91-F91-C91 -> 4000 | F91: 36000 | H91: ='4.pielikums'!B93 -> 40000
B92: Pārrobežu sadarbības programmas projekts "Strengthening traditional crafts of Latgale" | D92: =H92-E92-G92-F92-C92 -> 2000 | F92: 18000 | H92: ='4.pielikums'!B94 -> 20000
B93: Pārrobežu sadarbības programmas projekts "Greenways of Latvia" | D93: =H93-E93-G93-F93-C93 -> 3579 | F93: 32207 | H93: ='4.pielikums'!B96 -> 35786
B94: Projektrs Nr. CERV-2022-CITIZENS-TOWN-NT "Green youth empowerment" | D94: =H94-E94-G94-F94-C94 -> 6000 | F94: 9000 | H94: ='4.pielikums'!B97 -> 15000
B95: Operatīvā līzingā ņemto automašīnu iegāde | H95: ='4.pielikums'!B86 -> 88197
B96: Ģimenei draudzīgākā pašvaldība 2022 | D96: =H96-E96-G96-F96-C96 -> 0 | F96: 5000 | H96: ='4.pielikums'!B363 -> 5000
A97: 05.000 | B97: Vides aizsardzība | C97: =SUM(C98:C117) -> 0 | D97: =SUM(D98:D119) -> 93237 | E97: =SUM(E98:E119) -> 129303 | F97: =SUM(F98:F119) -> 68300 | G97: =SUM(G98:G117) -> 0 | H97: =SUM(H98:H119) -> 290840
B98: Vides piesārņojuma novēršana un samazināšana (dabas resursu nodoklis) | D98: =H98-E98-G98-F98-C98 -> 48012 | E98: 37000 | H98: ='4.pielikums'!B98 -> 85012
B99: Baltinavas komunālā saimniecība - notekūdeņu apsaimniekošana | D99: =H99-E99-G99-F99-C99 -> 7740 | E99: 2860 | H99: ='4.pielikums'!B99 -> 10600
B100: Bērzkalnes komunālā saimniecība - notekūdeņu apsaimniekošana | D100: =H100-E100-G100-F100-C100 -> -562 | E100: 6000 | H100: ='4.pielikums'!B100 -> 5438
B101: Bērzpils komunālā saimniecība -notekūdeņu apsaimniekošana | D101: =H101-E101-G101-F101-C101 -> -376 | E101: =5200 -> 5200 | H101: ='4.pielikums'!B102 -> 4824
B102: Briežuciema komunālā saimniecība - notekūdeņu apsaimniekošana | D102: =H102-E102-G102-F102-C102 -> 3239 | E102: 2300 | H102: ='4.pielikums'!B104 -> 5539
B103: Krišjāņu komunālā saimniecība -notekūdeņu apsaimniekošana | D103: =H103-E103-G103-F103-C103 -> 1997 | E103: =2045 -> 2045 | H103: ='4.pielikums'!B105 -> 4042
...

Sheet 4.pielikums
I1: 4. pielikums
I2: Balvu novada domes
I3: 2023. gada 28. decembra saistošajiem noteikumiem Nr. 25/2023
I4: "Grozījumi 2023. gada 23. marta saistošajos noteikumos Nr. 4/2023
I5: "Par Balvu novada pašvaldības budžetu 2023. gadam""
I7: 4. pielikums
I8: Balvu novada domes
I9: 2023. gada 23. marta saistošajiem noteikumiem Nr. 4/2023
I10: "Par Balvu novada pašvaldības 2023. gada budžetu"
A13: Balvu novada pašvaldības 2023. gada pamatbudžeta izdevumi atbilstoši ekonomiskajām kategorijām (EUR)
A15: Iestādes | B15: Apstiprināts 2023.gadam (EUR) | C15: Izdevumi pa ekonomiskās klasifikācijas kodiem (EUR)
C16: 1000 | D16: 2000 | E16: 3000 | F16: 4000 | G16: 5000 | H16: 6000 | I16: 7000
C17: Atlīdzība | D17: Preces un pakalpojumi | E17: Subsīdijas un dotācijas | F17: Procentu maksājumi | G17: Pamatkapitāla veidošana | H17: Sociālā rakstura maksājumi un kompensācijas | I17: Transferti
A18: Balvu novada administrācija | B18: =SUM(C18:I18) -> 1609782 | C18: 1385996 | D18: =197892+D19 -> 216857 | G18: =1000+G19 -> 6929
A19: Grozījumi | B19: =SUM(C19:I19) -> 24894 | D19: 18965 | G19: 5929
A20: Deputātu darba samaksa | B20: =SUM(C20:I20) -> 152160 | C20: =155358+C21 -> 152160
A21: Grozījumi | B21: =SUM(C21:I21) -> -3198 | C21: -3198
A22: Bijušo pagastu padomju un pilsētu domju vadītāju pabalsti | B22: =SUM(C22:I22) -> 250642 | C22: 0 | H22: 250642
A23: Komisiju darba samaksa | B23: =SUM(C23:I23) -> 37776 | C23: =34578+C24 -> 37776
A24: Grozījumi | B24: =SUM(C24:I24) -> 3198 | C24: 3198
A25: Balvu pilsētas pārvalde | B25: =SUM(C25:I25) -> 620235 | C25: =158924 -> 158924 | D25: 85359 | G25: 375952
A26: Balvu pagasta pārvalde | B26: =SUM(C26:I26) -> 34564 | C26: 30978 | D26: 3586
A27: Baltinavas pagasta pārvalde | B27: =SUM(C27:I27) -> 74805 | C27: 47368 | D27: 27437
A28: Bērzkalnes pagasta pārvalde | B28: =SUM(C28:I28) -> 34798 | C28: 31299 | D28: 3499
A29: Bērzpils pagasta pārvalde | B29: =SUM(C29:I29) -> 49595 | C29: 36831 | D29: 12764
A30: Briežuciema pagasta pārvalde | B30: =SUM(C30:I30) -> 40318 | C30: 29342 | D30: 10976
A31: Krišjāņu pagasta pārvalde | B31: =SUM(C31:I31) -> 39996 | C31: 30631 | D31: 9365
A32: Kubulu pagasta pārvalde | B32: =SUM(C32:I32) -> 43440 | C32: 34818 | D32: 8622
A33: Kupravas pagasta pārvalde | B33: =SUM(C33:I33) -> 35446 | C33: 30502 | D33: 4944
A34: Lazdukalna pagasta pārvalde | B34: =SUM(C34:I34) -> 36877 | C34: 29109 | D34: 7768
A35: Lazdulejas pagasta pārvalde | B35: =SUM(C35:I35) -> 23494 | C35: 20880 | D35: 2614
A36: Medņevas pagasta pārvalde | B36: =SUM(C36:I36) -> 44864 | C36: 29340 | D36: 15524
A37: Rugāju pagasta pārvalde | B37: =SUM(C37:I37) -> 50043 | C37: 34703 | D37: 15340
... A41: Vectilžas pagasta pārvalde | B41: =SUM(C41:I41) -> 34012 | C41: 28627 | D41: 5385
A42: Vecumu pagasta pārvalde | B42: =SUM(C42:I42) -> 38568 | C42: 26699 | D42: 7391 | G42: 4478
A43: Vīksnas pagasta pārvalde | B43: =SUM(C43:I43) -> 39193 | C43: 34031 | D43: 5162
A44: Viļakas pilsētas pārvalde | B44: =SUM(C44:I44) -> 77350 | C44: 48121 | D44: 29229
A45: Žīguru pagasta pārvalde | B45: =SUM(C45:I45) -> 37510 | C45: 30183 | D45: 7327
A46: Valsts un pašvaldības vienotais klientu apkalpošanas centrs | B46: =SUM(C46:I46) -> 123888 | C46: 88457 | D46: 28431 | G46: 7000
A47: Izdevumi neparedzētiem gadījumiem | B47: =SUM(C47:I47) -> 0 | D47: =2470+D48 -> 0
A48: Grozījumi | B48: =SUM(C48:I48) -> -2470 | D48: =-500-942-1028 -> -2470
A49: Biedru maksa | B49: =SUM(C49:I49) -> 45250 | D49: 41850 | E49: 3400
A50: Pašvaldības aizņēmumu apkalpošana un procentu maksa | B50: =SUM(C50:I50) -> 490050 | D50: =23776+D51 -> 23779 | F50: =417830+F51 -> 466271
A51: Grozījumi | B51: =SUM(C51:I51) -> 48444 | D51: 3 | F51: 48441
A52: AS Balvu Enerģija akciju iegāde | B52: =SUM(C52:I52) -> 0 | G52: 0
A53: Dzimtsarakstu nodaļa | B53: =SUM(C53:I53) -> 85105 | C53: 67634 | D53: 17471
A54: Pašvaldības policija | B54: =SUM(C54:I54) -> 171958 | C54: =153754+C55 -> 152070 | D54: 19888
A55: Grozījumi | B55: =SUM(C55:I55) -> -1684 | C55: -1684
A56: Atskurbtuves uzturēšana | B56: =SUM(C56:I56) -> 58605 | C56: =54104+C57 -> 55788 | D56: 2817
A57: Grozījumi | B57: =SUM(C57:I57) -> 1684 | C57: 1684
A58: Būvvalde | B58: =SUM(C58:I58) -> 75147 | C58: 73519 | D58: 1628
A59: Pārējā ekonomiskā darbība (PVN) | B59: =SUM(C59:I59) -> 96522 | D59: 96522
A60: Latgales speciālās ekonomiskās zonas atbalsts | B60: =SUM(C60:I60) -> 3244 | I60: 3244
A61: Ziemeļlatgales biznesa un tūrisma centrs | B61: =SUM(C61:I61) -> 183983 | C61: 83117 | D61: 84162 | G61: 16704
A62: Biznesa ideju konkurss | B62: =SUM(C62:I62) -> 50000 | E62: 50000
A63: Balvu pilsētas autoceļu (ielu) uzturēšana | B63: =SUM(C63:I63) -> 129119 | D63: =114937+11226 -> 126163 | G63: 2956
A64: Baltinavas pagasta autoceļu (ielu) uzturēšana | B64: =SUM(C64:I64) -> 50713 | D64: =46305+4408 -> 50713
A65: Balvu pagasta autoceļu (ielu) uzturēšana | B65: =SUM(C65:I65) -> 49403 | D65: =36965+D66 -> 17980 | G65: =G66 -> 31423
A66: Grozījumi | B66: =SUM(C66:I66) -> 12438 | D66: -18985 | G66: 31423
A67: Bērzkalnes pagasta autoceļu (ielu) uzturēšana | B67: =SUM(C67:I67) -> 25081 | D67: 25081
A68: Bērzpils pagasta autoceļu (ielu) uzturēšana | B68: =SUM(C68:I68) -> 57805 | D68: =47038+3772 -> 50810 | G68: 6995
A69: Briežuciema pagasta autoceļu (ielu) uzturēšana | B69: =SUM(C69:I69) -> 34444 | D69: =32382+2062 -> 34444
A70: Krišjāņu pagasta autoceļu (ielu) uzturēšana | B70: =SUM(C70:I70) -> 32803 | D70: =31174+1629 -> 32803
A71: Kubulu pagasta autoceļu (ielu) uzturēšana | B71: =SUM(C71:I71) -> 110540 | D71: 110540
A72: Kupravas pagasta autoceļu (ielu) uzturēšana | B72: =SUM(C72:I72) -> 14112 | C72: 3041 | D72: =10137+934 -> 11071
A73: Lazdulejas pagasta autoceļu (ielu) uzturēšana | B73: =SUM(C73:I73) -> 16267 | D73: =14853+1414 -> 16267
A74: Lazdukalna pagasta autoceļu (ielu) uzturēšana | B74: =SUM(C74:I74) -> 69331 | D74: =45170+4161 -> 49331 | G74: 20000
A75: Medņevas pagasta autoceļu (ielu) uzturēšana | B75: =SUM(C75:I75) -> 34367 | D75: =31380+2987 -> 34367
A76: Rugāju pagasta autoceļu (ielu) uzturēšana | B76: =SUM(C76:I76) -> 230121 | D76: =29110+6011 -> 35121 | G76: 195000
A77: Susāju pagasta autoceļu (ielu) uzturēšana | B77: =SUM(C77:I77) -> 43410 | C77: 6797 | D77: =14030+2583 -> 16613 | G77: 20000
A78: Šķilbēnu pagasta autoceļu (ielu) uzturēšana | B78: =SUM(C78:I78) -> 73427 | D78: =42017+4410 -> 46427 | G78: 27000
A79: Tilžas pagasta autoceļu (ielu) uzturēšana | B79: =SUM(C79:I79) -> 42152 | D79: =38735+3417 -> 42152
A80: Vectilžas pagasta autoceļu (ielu) uzturēšana | B80: =SUM(C80:I80) -> 21814 | D80: =20681+1133 -> 21814
A81: Vecumu pagasta autoceļu (ielu) uzturēšana | B81: =SUM(C81:I81) -> 30582 | C81: 7014 | D81: =21529+2039 -> 23568
A82: Vīksnas pagasta autoceļu (ielu) uzturēšana | B82: =SUM(C82:I82) -> 27743 | D82: =25715+2028 -> 27743
A83: Žīguru pagasta autoceļu (ielu) uzturēšana | B83: =SUM(C83:I83) -> 9699 | D83: =8898+801 -> 9699
A84: Viļakas pilsētas autoceļu (ielu) uzturēšana | B84: =SUM(C84:I84) -> 40967 | D84: =38471+2496 -> 40967
A85: Autoceļu (ielu) uzturēšanas līdzekļu rezerves fonds | B85: =SUM(C85:I85) -> 120334 | D85: 120334
A86: Operatīvā līzingā ņemto automašīnu iegāde | B86: =SUM(C86:I86) -> 88197 | G86: 88197
A87: Algotie pagaidu sabiedriskie darbi | B87: =SUM(C87:I87) -> 176606 | C87: 2225 | H87: 171000 | I87: 3381
A88: Balkanu Dabas parks | B88: =SUM(C88:I88) -> 21860 | C88: 17524 | D88: 4336
A89: LV-LT pārrobežu sadarbības projekts "Amatu prasmes tūrisma telpā" | B89: =SUM(C89:I89) -> 3057 | G89: 3057
A90: Projekts "Strengthening the entrepreneurial environment of the Balvi municipality" | B90: =SUM(C90:I90) -> 21910 | D90: 21910
A91: Vides pieejamības veicināšana Balvu novada Nodarbinātības valsts aģentūrā | B91: =SUM(C91:I91) -> 134310 | G91: 134310
A92: Pārrobežu sadarbības programmas projekts "Not just Books" | B92: =SUM(C92:I92) -> 80000 | C92: 4360 | D92: 300 | G92: 75340
A93: Pārrobežu sadarbības programmas projekts "Hobby-business" | B93: =SUM(C93:I93) -> 40000 | D93: 10355 | G93: 29645
A94: Pārrobežu sadarbības programmas projekts "Strengthening traditional crafts of Latgale" | B94: =SUM(C94:I94) -> 20000 | D94: 8000 | G94: 12000
A95: Pārrobežu sadarbības programmas projekts "Green Palette v2.0" | B95: =SUM(C95:I95) -> 67000 | D95: 16443 | G95: 50557
A96: Pārrobežu sadarbības programmas projekts "Greenways of Latvia" | B96: =SUM(C96:I96) -> 35786 | C96: 2796 | D96: 27490 | G96: 5500
A97: Projekts Nr. CERV-2022-CITIZENS-TOWN-NT "Green youth empowerment" | B97: =SUM(C97:I97) -> 15000 | D97: 15000
A98: Vides piesārņojuma novēršana un samazināšana (dabas resursu nodoklis) | B98: =SUM(C98:I98) -> 85012 | D98: 85012
A99: Baltinavas komunālā saimniecība - notekūdeņu apsaimniekošana | B99: =SUM(C99:I99) -> 10600 | D99: 10600
A100: Bērzkalnes komunālā saimniecība -notekūdeņu apsaimniekošana | B100: =SUM(C100:I100) -> 5438 | D100: =6625+D101 -> 5438
A101: Grozījumi | B101: =SUM(C101:I101) -> -1187 | D101: -1187
A102: Bērzpils komunālā saimniecība -notekūdeņu apsaimniekošana | B102: =SUM(C102:I102) -> 4824 | D102: =5359+D103 -> 4824
A103: Grozījumi | B103: =SUM(C103:I103) -> -535 | D103: -535
A104: Briežuciema komunālā saimniecība -notekūdeņu apsaimniekošana | B104: =SUM(C104:I104) -> 5539 | D104: 5539
A105: Krišjāņu komunālā saimniecība -notekūdeņu apsaimniekošana | B105: =SUM(C105:I105) -> 4042 | D105: 4042
A106: Kubulu komunālā saimniecība -notekūdeņu apsaimniekošana | B106: =SUM(C106:I106) -> 6752 | D106: 6752
A107: Kupravas komunālā saimniecība -notekūdeņu apsaimniekošana | B107: =SUM(C107:I107) -> 4700 | D107: 4700
...
