Workbook

Sheet aiznemumi (paredzamie) (2)
DT1: 4. pielikums
B2: Alūksnes novada pašvaldība | DT2: Alūksnes novada pašvaldības
B3: Aizņēmumu saistības uz 30.11.2023. (noslēgtie līgumi) un paredzamie aizņēmumi | DT3: saistošajiem noteikumiem Nr. 42/2023
A5: Pašvaldība | B5: Mērķis | C5: līguma noslēgšanas datums | D5: līguma atmaksas termiņš | E5: Aizdevuma līguma Nr. | F5: Līguma Nr. (trančes Nr.) | G5: aizdevējs | H5: aizdevuma procentu likme | I5: procentu likmes veids | J5: valūta | K5: saistību apmērs /2023 | N5: saistību apmērs /2024 | Q5: saistību apmērs /2025 | T5: saistību apmērs /2026 | W5: saistību apmērs /2027 | Z5: saistību apmērs /2028 | AC5: saistību apmērs /2029 | AF5: saistību apmērs /2030 | AI5: saistību apmērs /2031 | AL5: saistību apmērs /2032 | AO5: saistību apmērs /2033 | AR5: saistību apmērs /2034 | AU5: saistību apmērs /2035 | AX5: saistību apmērs /2036 | BA5: saistību apmērs /2037 | BD5: saistību apmērs /2038 | BG5: saistību apmērs /2039 | BJ5: saistību apmērs /2040 | BM5: saistību apmērs /2041 | BP5: saistību apmērs /2042 | BS5: saistību apmērs /2043 | BV5: saistību apmērs /2044 | BY5: saistību apmērs /2045 | CB5: saistību apmērs /2046 | CE5: saistību apmērs /2047 | CH5: saistību apmērs /2048 | CK5: saistību apmērs /2049 | CN5: saistību apmērs /2050 | CQ5: saistību apmērs /2051 | CT5: saistību apmērs /2052 | CW5: saistību apmērs /2053 | CZ5: saistību apmērs /2054 | DC5: saistību apmērs /2055 | DF5: saistību apmērs /2056 | DI5: saistību apmērs /2057 | DL5: saistību apmērs /2058 | DO5: turpmākie gadi (2030 - 2052) | DR5: Kopā
K6: pamatsumma | L6: % | M6: Kopā | N6: pamatsumma | O6: % | P6: Kopā | Q6: pamatsumma | R6: % | S6: Kopā | T6: pamatsumma | U6: % | V6: Kopā | W6: pamatsumma | X6: % | Y6: Kopā | Z6: pamatsumma | AA6: % | AB6: Kopā | AC6: pamatsumma | AD6: % | AE6: Kopā | AF6: pamatsumma | AG6: % | AH6: Kopā | AI6: pamatsumma | AJ6: % | AK6: Kopā | AL6: pamatsumma | AM6: % | AN6: Kopā | AO6: pamatsumma | AP6: % | AQ6: Kopā | AR6: pamatsumma | AS6: % | AT6: Kopā | AU6: pamatsumma | AV6: % | AW6: Kopā | AX6: pamatsumma | AY6: % | AZ6: Kopā | BA6: pamatsumma | BB6: % | BC6: Kopā | BD6: pamatsumma | BE6: % | BF6: Kopā | BG6: pamatsumma | BH6: % | BI6: Kopā | BJ6: pamatsumma | BK6: % | BL6: Kopā | BM6: pamatsumma | BN6: % | BO6: Kopā | BP6: pamatsumma | BQ6: % | BR6: Kopā | BS6: pamatsumma | BT6: % | BU6: Kopā | BV6: pamatsumma | BW6: % | BX6: Kopā | BY6: pamatsumma | BZ6: % | CA6: Kopā | CB6: pamatsumma | CC6: % | CD6: Kopā | CE6: pamatsumma | CF6: % | CG6: Kopā | CH6: pamatsumma | CI6: % | CJ6: Kopā | CK6: pamatsumma | CL6: % | CM6: Kopā | CN6: pamatsumma | CO6: % | CP6: Kopā | CQ6: pamatsumma | CR6: % | CS6: Kopā | CT6: pamatsumma | CU6: % | CV6: Kopā | CW6: pamatsumma | CX6: % | CY6: Kopā | CZ6: pamatsumma | DA6: % | DB6: Kopā | DC6: pamatsumma | DD6: % | DE6: Kopā | DF6: pamatsumma | DG6: % | DH6: Kopā | DI6: pamatsumma | DJ6: % | DK6: Kopā | DL6: pamatsumma | DM6: % | DN6: Kopā | DO6: pamatsumma | DP6: % | DQ6: Kopā | DR6: pamatsumma | DS6: % | DT6: Kopā | DU6: esošie
A7: Alsviķu pagasts | B7: ERAF Ūdenssaimniecības attīstība Alsviķu pagasta Alsviķu ciemā ( SIA Rūpe pamatkapitāls) | C7: 18.03.2015. | D7: 20.12.2025. | E7: A2/1/15/108 | F7: P-67/2015 | G7: Valsts kase | H7: 3.912 | I7: mainīga | J7: EUR | K7: 7500 | L7: 506 | M7: =K7+L7 -> 8006 | N7: 7500 | O7: 546 | P7: =N7+O7 -> 8046 | Q7: 7500 | R7: 251 | S7: =Q7+R7 -> 7751 | V7: =T7+U7 -> 0 | Y7: =W7+X7 -> 0 | AB7: =Z7+AA7 -> 0 | AE7: =AC7+AD7 -> 0 | AH7: =AF7+AG7 -> 0 | AK7: =AI7+AJ7 -> 0 | AN7: =AL7+AM7 -> 0 | AQ7: =AO7+AP7 -> 0 | AT7: =AR7+AS7 -> 0 | AW7: =AU7+AV7 -> 0 | AZ7: =AX7+AY7 -> 0 | BC7: =BA7+BB7 -> 0 | BF7: =BD7+BE7 -> 0 | BI7: =BG7+BH7 -> 0 | BL7: =BJ7+BK7 -> 0 | BO7: =BM7+BN7 -> 0 | DO7: =+AF7+AI7+AL7+AO7+AR7+AU7+AX7+BA7+BD7+BG7+BJ7+BM7+BP7+BS7+BV7+BY7+CB7+CE7+CH7+CK7+CN7+CQ7+CT7+CW7+CZ7+DC7+DF7+DI7+DL7 -> 0 | DP7: =+AD7+AG7+AJ7+AM7+AP7+AS7+AV7+AY7+BB7+BE7+BH7+BK7+BN7+BQ7+BT7+BW7+BZ7+CC7+CF7+CI7+CL7+CO7+CR7+CU7+CX7+DA7+DD7+DG7+DJ7+DM7 -> 0 | DQ7: =+AE7+AH7+AK7+AN7+AQ7+AT7+AW7+AZ7+BC7+BF7+BI7+BL7+BO7+BR7+BU7+BX7+CA7+CD7+CG7+CJ7+CM7+CP7+CS7+CV7+CY7+DB7+DE7+DH7+DK7+DN7 -> 0 | DR7: =K7+N7+Q7+T7+W7+Z7+AC7+DO7 -> 22500 | DS7: =L7+O7+R7+U7+X7+AA7+AD7+DP7 -> 1303 | DT7: =DR7+DS7 -> 23803 | DU7: 45955
B8: ERAF Ūdenssaimniecības attīstība Alsviķu pagasta Strautiņu ciemā (SIA Rūpe pamatkapitāls) | C8: 18.03.2015. | D8: 20.12.2025. | E8: A2/1/15/110 | F8: P-69/2015 | G8: Valsts kase | H8: 3.912 | I8: mainīga | J8: EUR | K8: 7500 | L8: 506 | M8: =K8+L8 -> 8006 | N8: 7500 | O8: 546 | P8: =N8+O8 -> 8046 | Q8: 7500 | R8: 251 | S8: =Q8+R8 -> 7751 | V8: =T8+U8 -> 0 | Y8: =W8+X8 -> 0 | AB8: =Z8+AA8 -> 0 | AE8: =AC8+AD8 -> 0 | AH8: =AF8+AG8 -> 0 | AK8: =AI8+AJ8 -> 0 | AN8: =AL8+AM8 -> 0 | AQ8: =AO8+AP8 -> 0 | AT8: =AR8+AS8 -> 0 | AW8: =AU8+AV8 -> 0 | AZ8: =AX8+AY8 -> 0 | BC8: =BA8+BB8 -> 0 | BF8: =BD8+BE8 -> 0 | BI8: =BG8+BH8 -> 0 | BL8: =BJ8+BK8 -> 0 | BO8: =BM8+BN8 -> 0 | DO8: =+AF8+AI8+AL8+AO8+AR8+AU8+AX8+BA8+BD8+BG8+BJ8+BM8+BP8+BS8+BV8+BY8+CB8+CE8+CH8+CK8+CN8+CQ8+CT8+CW8+CZ8+DC8+DF8+DI8+DL8 -> 0 | DP8: =+AD8+AG8+AJ8+AM8+AP8+AS8+AV8+AY8+BB8+BE8+BH8+BK8+BN8+BQ8+BT8+BW8+BZ8+CC8+CF8+CI8+CL8+CO8+CR8+CU8+CX8+DA8+DD8+DG8+DJ8+DM8 -> 0 | DQ8: =+AE8+AH8+AK8+AN8+AQ8+AT8+AW8+AZ8+BC8+BF8+BI8+BL8+BO8+BR8+BU8+BX8+CA8+CD8+CG8+CJ8+CM8+CP8+CS8+CV8+CY8+DB8+DE8+DH8+DK8+DN8 -> 0 | DR8: =K8+N8+Q8+T8+W8+Z8+AC8+DO8 -> 22500 | DS8: =L8+O8+R8+U8+X8+AA8+AD8+DP8 -> 1303 | DT8: =DR8+DS8 -> 23803 | DU8: 45955
A9: Alūksne | B9: Alūksnes pilsētas ielu renovācijas pabeigšana | C9: 39643 | D9: 47107 | E9: A2/1/08/649; A2/1/08/649-V/11/1 | F9: P-251/2008 | G9: Valsts kase | H9: 2,201/x | I9: mainīga | J9: EUR | K9: 19552 | L9: 3148 | M9: =K9+L9 -> 22700 | N9: 19550 | O9: 4221 | P9: =N9+O9 -> 23771 | Q9: 19550 | R9: 3381 | S9: =Q9+R9 -> 22931 | T9: 19550 | U9: 2502 | V9: =T9+U9 -> 22052 | W9: 19550 | X9: 1622 | Y9: =W9+X9 -> 21172 | Z9: 19475 | AA9: 741 | AB9: =Z9+AA9 -> 20216 | AC9: 0 | AD9: 48 | AE9: =AC9+AD9 -> 48 | AH9: =AF9+AG9 -> 0 | AK9: =AI9+AJ9 -> 0 | AN9: =AL9+AM9 -> 0 | AQ9: =AO9+AP9 -> 0 | AT9: =AR9+AS9 -> 0 | AW9: =AU9+AV9 -> 0 | AZ9: =AX9+AY9 -> 0 | BC9: =BA9+BB9 -> 0 | BF9: =BD9+BE9 -> 0 | BI9: =BG9+BH9 -> 0 | BL9: =BJ9+BK9 -> 0 | BO9: =BM9+BN9 -> 0 | DO9: =+AF9+AI9+AL9+AO9+AR9+AU9+AX9+BA9+BD9+BG9+BJ9+BM9+BP9+BS9+BV9+BY9+CB9+CE9+CH9+CK9+CN9+CQ9+CT9+CW9+CZ9+DC9+DF9+DI9+DL9 -> 0 | DP9: =+AG9+AJ9+AM9+AP9+AS9+AV9+AY9+BB9+BE9+BH9+BK9+BN9+BQ9+BT9+BW9+BZ9+CC9+CF9+CI9+CL9+CO9+CR9+CU9+CX9+DA9+DD9+DG9+DJ9+DM9 -> 0 | DQ9: =+AH9+AK9+AN9+AQ9+AT9+AW9+AZ9+BC9+BF9+BI9+BL9+BO9+BR9+BU9+BX9+CA9+CD9+CG9+CJ9+CM9+CP9+CS9+CV9+CY9+DB9+DE9+DH9+DK9+DN9 -> 0 | DR9: =K9+N9+Q9+T9+W9+Z9+AC9+DO9 -> 117227 | DS9: =L9+O9+R9+U9+X9+AA9+AD9+DP9 -> 15663 | DT9: =DR9+DS9 -> 132890 | DU9: 194723
B10: SIA Rūpe pamatkapitāla palielināšana | C10: 39643 | D10: 47107 | E10: A2/1/08/650; A2/1/08/650-V/11/1 | F10: P-252/2008 | G10: Valsts kase | H10: 2,802/x | I10: mainīga | J10: EUR | K10: 7114 | L10: 1146 | M10: =K10+L10 -> 8260 | N10: 7114 | O10: 1537 | P10: =N10+O10 -> 8651 | Q10: 7114 | R10: 1232 | S10: =Q10+R10 -> 8346 | T10: 7114 | U10: 912 | V10: =T10+U10 -> 8026 | W10: 7115 | X10: 591 | Y10: =W10+X10 -> 7706 | Z10: 7115 | AA10: 271 | AB10: =Z10+AA10 -> 7386 | AD10: 18 | AE10: =AC10+AD10 -> 18 | AH10: =AF10+AG10 -> 0 | AK10: =AI10+AJ10 -> 0 | AN10: =AL10+AM10 -> 0 | AQ10: =AO10+AP10 -> 0 | AT10: =AR10+AS10 -> 0 | AW10: =AU10+AV10 -> 0 | AZ10: =AX10+AY10 -> 0 | BC10: =BA10+BB10 -> 0 | BF10: =BD10+BE10 -> 0 | BI10: =BG10+BH10 -> 0 | BL10: =BJ10+BK10 -> 0 | BO10: =BM10+BN10 -> 0 | DO10: =+AF10+AI10+AL10+AO10+AR10+AU10+AX10+BA10+BD10+BG10+BJ10+BM10+BP10+BS10+BV10+BY10+CB10+CE10+CH10+CK10+CN10+CQ10+CT10+CW10+CZ10+DC10+DF10+DI10+DL10 -> 0 | DP10: =+AG10+AJ10+AM10+AP10+AS10+AV10+AY10+BB10+BE10+BH10+BK10+BN10+BQ10+BT10+BW10+BZ10+CC10+CF10+CI10+CL10+CO10+CR10+CU10+CX10+DA10+DD10+DG10+DJ10+DM10 -> 0 | DQ10: =+AH10+AK10+AN10+AQ10+AT10+AW10+AZ10+BC10+BF10+BI10+BL10+BO10+BR10+BU10+BX10+CA10+CD10+CG10+CJ10+CM10+CP10+CS10+CV10+CY10+DB10+DE10+DH10+DK10+DN10 -> 0 | DR10: =K10+N10+Q10+T10+W10+Z10+AC10+DO10 -> 42686 | DS10: =L10+O10+R10+U10+X10+AA10+AD10+DP10 -> 5707 | DT10: =DR10+DS10 -> 48393 | DU10: 70893
B11: Kohēzijas fonda projekts "Ūdenssaimniecības attīstība Austrumlatvijas upju baseinos" pašvaldības līdzfinansējums - ieguldījums SIA "RŪPE" pamatkapitālā | C11: 07.09.2009; 13.05.2013. 10.05.2017. | D11: 20.06.2027. | E11: A2/1/09/468 A2/1/09/468-V/13/1; A2/1/09/468-V/17/2 | F11: P-191/2009 | G11: Valsts kase | H11: 4.108 | I11: mainīga | J11: EUR | K11: 23996 | L11: 1995 | M11: =K11+L11 -> 25991 | N11: 23995 | O11: 3422 | P11: =N11+O11 -> 27417 | Q11: 23995 | R11: 2484 | S11: =Q11+R11 -> 26479 | T11: 23996 | U11: 1425 | V11: =T11+U11 -> 25421 | W11: 11949 | X11: 373 | Y11: =W11+X11 -> 12322 | AB11: =Z11+AA11 -> 0 | AE11: =AC11+AD11 -> 0 | AH11: =AF11+AG11 -> 0 | AK11: =AI11+AJ11 -> 0 | AN11: =AL11+AM11 -> 0 | AQ11: =AO11+AP11 -> 0 | AT11: =AR11+AS11 -> 0 | AW11: =AU11+AV11 -> 0 | AZ11: =AX11+AY11 -> 0 | BC11: =BA11+BB11 -> 0 | BF11: =BD11+BE11 -> 0 | BI11: =BG11+BH11 -> 0 | BL11: =BJ11+BK11 -> 0 | BO11: =BM11+BN11 -> 0 | DO11: =+AF11+AI11+AL11+AO11+AR11+AU11+AX11+BA11+BD11+BG11+BJ11+BM11+BP11+BS11+BV11+BY11+CB11+CE11+CH11+CK11+CN11+CQ11+CT11+CW11+CZ11+DC11+DF11+DI11+DL11 -> 0 | DP11: =+AG11+AJ11+AM11+AP11+AS11+AV11+AY11+BB11+BE11+BH11+BK11+BN11+BQ11+BT11+BW11+BZ11+CC11+CF11+CI11+CL11+CO11+CR11+CU11+CX11+DA11+DD11+DG11+DJ11+DM11 -> 0 | DQ11: =+AH11+AK11+AN11+AQ11+AT11+AW11+AZ11+BC11+BF11+BI11+BL11+BO11+BR11+BU11+BX11+CA11+CD11+CG11+CJ11+CM11+CP11+CS11+CV11+CY11+DB11+DE11+DH11+DK11+DN11 -> 0 | DR11: =K11+N11+Q11+T11+W11+Z11+AC11+DO11 -> 107931 | DS11: =L11+O11+R11+U11+X11+AA11+AD11+DP11 -> 9699 | DT11: =DR11+DS11 -> 117630 | DU11: 195132
DO12: =+AF12+AI12+AL12+AO12+AR12+AU12+AX12+BA12+BD12+BG12+BJ12+BM12+BP12+BS12+BV12+BY12+CB12+CE12+CH12+CK12+CN12+CQ12+CT12+CW12+CZ12+DC12+DF12+DI12+DL12 -> 0 | DP12: =+AD12+AG12+AJ12+AM12+AP12+AS12+AV12+AY12+BB12+BE12+BH12+BK12+BN12+BQ12+BT12+BW12+BZ12+CC12+CF12+CI12+CL12+CO12+CR12+CU12+CX12+DA12+DD12+DG12+DJ12+DM12 -> 0 | DQ12: =+AE12+AH12+AK12+AN12+AQ12+AT12+AW12+AZ12+BC12+BF12+BI12+BL12+BO12+BR12+BU12+BX12+CA12+CD12+CG12+CJ12+CM12+CP12+CS12+CV12+CY12+DB12+DE12+DH12+DK12+DN12 -> 0 | DR12: =K12+N12+Q12+T12+W12+Z12+AC12+DO12 -> 0 | DS12: =L12+O12+R12+U12+X12+AA12+AD12+DP12 -> 0 | DT12: =DR12+DS12 -> 0
DO13: =+AF13+AI13+AL13+AO13+AR13+AU13+AX13+BA13+BD13+BG13+BJ13+BM13+BP13+BS13+BV13+BY13+CB13+CE13+CH13+CK13+CN13+CQ13+CT13+CW13+CZ13+DC13+DF13+DI13+DL13 -> 0 | DP13: =+AD13+AG13+AJ13+AM13+AP13+AS13+AV13+AY13+BB13+BE13+BH13+BK13+BN13+BQ13+BT13+BW13+BZ13+CC13+CF13+CI13+CL13+CO13+CR13+CU13+CX13+DA13+DD13+DG13+DJ13+DM13 -> 0 | DQ13: =+AE13+AH13+AK13+AN13+AQ13+AT13+AW13+AZ13+BC13+BF13+BI13+BL13+BO13+BR13+BU13+BX13+CA13+CD13+CG13+CJ13+CM13+CP13+CS13+CV13+CY13+DB13+DE13+DH13+DK13+DN13 -> 0 | DR13: =K13+N13+Q13+T13+W13+Z13+AC13+DO13 -> 0 | DS13: =L13+O13+R13+U13+X13+AA13+AD13+DP13 -> 0 | DT13: =DR13+DS13 -> 0
M14: =K14+L14 -> 0 | P14: =N14+O14 -> 0 | S14: =Q14+R14 -> 0 | V14: =T14+U14 -> 0 | Y14: =W14+X14 -> 0 | AB14: =Z14+AA14 -> 0 | AE14: =AC14+AD14 -> 0 | AH14: =AF14+AG14 -> 0 | AK14: =AI14+AJ14 -> 0 | AN14: =AL14+AM14 -> 0 | AQ14: =AO14+AP14 -> 0 | AT14: =AR14+AS14 -> 0 | AW14: =AU14+AV14 -> 0 | AZ14: =AX14+AY14 -> 0 | BC14: =BA14+BB14 -> 0 | BF14: =BD14+BE14 -> 0 | BI14: =BG14+BH14 -> 0 | BL14: =BJ14+BK14 -> 0 | BO14: =BM14+BN14 -> 0 | DO14: =+AF14+AI14+AL14+AO14+AR14+AU14+AX14+BA14+BD14+BG14+BJ14+BM14+BP14+BS14+BV14+BY14+CB14+CE14+CH14+CK14+CN14+CQ14+CT14+CW14+CZ14+DC14+DF14+DI14+DL14 -> 0 | DP14: =+AD14+AG14+AJ14+AM14+AP14+AS14+AV14+AY14+BB14+BE14+BH14+BK14+BN14+BQ14+BT14+BW14+BZ14+CC14+CF14+CI14+CL14+CO14+CR14+CU14+CX14+DA14+DD14+DG14+DJ14+DM14 -> 0 | DQ14: =+AE14+AH14+AK14+AN14+AQ14+AT14+AW14+AZ14+BC14+BF14+BI14+BL14+BO14+BR14+BU14+BX14+CA14+CD14+CG14+CJ14+CM14+CP14+CS14+CV14+CY14+DB14+DE14+DH14+DK14+DN14 -> 0 | DR14: =K14+N14+Q14+T14+W14+Z14+AC14+DO14 -> 0 | DS14: =L14+O14+R14+U14+X14+AA14+AD14+DP14 -> 0 | DT14: =DR14+DS14 -> 0
B15: ERAF "Ūdenssaimniecības pakalpojumu attīstība Alūksnē, II kārta" SIA "Rūpe" pamatkapitāls | C15: 31.10.2011. | D15: 20.12.2032. | E15: A/2/1/11/661 | F15: P-411/2011 | G15: Valsts kase | H15: 4.467 | I15: mainīga | J15: EUR | K15: 29824 | L15: 8446 | M15: =K15+L15 -> 38270 | N15: 29823 | O15: 11713 | P15: =N15+O15 -> 41536 | Q15: 29823 | R15: 10481 | S15: =Q15+R15 -> 40304 | T15: 29824 | U15: 9140 | V15: =T15+U15 -> 38964 | W15: 29823 | X15: 7804 | Y15: =W15+X15 -> 37627 | Z15: 29823 | AA15: 6484 | AB15: =Z15+AA15 -> 36307 | AC15: 29823 | AD15: 5131 | AE15: =AC15+AD15 -> 34954 | AF15: 29823 | AG15: 3796 | AH15: =AF15+AG15 -> 33619 | AI15: 29824 | AJ15: 2462 | AK15: =AI15+AJ15 -> 32286 | AL15: 29823 | AM15: 1134 | AN15: =AL15+AM15 -> 30957 | AP15: 73 | AQ15: =AO15+AP15 -> 73 | AT15: =AR15+AS15 -> 0 | AW15: =AU15+AV15 -> 0 | AZ15: =AX15+AY15 -> 0 | BC15: =BA15+BB15 -> 0 | BF15: =BD15+BE15 -> 0 | BI15: =BG15+BH15 -> 0 | BL15: =BJ15+BK15 -> 0 | BO15: =BM15+BN15 -> 0 | DO15: =+AF15+AI15+AL15+AO15+AR15+AU15+AX15+BA15+BD15+BG15+BJ15+BM15+BP15+BS15+BV15+BY15+CB15+CE15+CH15+CK15+CN15+CQ15+CT15+CW15+CZ15+DC15+DF15+DI15+DL15 -> 89470 | DP15: =+AG15+AJ15+AM15+AP15+AS15+AV15+AY15+BB15+BE15+BH15+BK15+BN15+BQ15+BT15+BW15+BZ15+CC15+CF15+CI15+CL15+CO15+CR15+CU15+CX15+DA15+DD15+DG15+DJ15+DM15 -> 7465 | DQ15: =DO15+DP15 -> 96935 | DR15: =K15+N15+Q15+T15+W15+Z15+AC15+DO15 -> 298233 | DS15: =L15+O15+R15+U15+X15+AA15+AD15+DP15 -> 66664 | DT15: =DR15+DS15 -> 364897 | DU15: 443262
B16: KF projekts "Siltumtrašu rekonstrukcija un jaunu siltumtrašu izbūve Alūksnē" AS Simone pamatkapitāla palielināšana | C16: 22.10.2012. | D16: 20.06.2038. | E16: A/2/1/12/624 | F16: P-411/2012 | G16: Valsts kase | H16: 4.824 | I16: mainīga | J16: EUR | K16: 58884 | L16: 25773 | M16: =K16+L16 -> 84657 | N16: 58884 | O16: 37565 | P16: =N16+O16 -> 96449 | Q16: 58884 | R16: 35584 | S16: =Q16+R16 -> 94468 | T16: 58884 | U16: 32922 | V16: =T16+U16 -> 91806 | W16: 58884 | X16: 30254 | Y16: =W16+X16 -> 89138 | Z16: 58884 | AA16: 27656 | AB16: =Z16+AA16 -> 86540 | AC16: 58884 | AD16: 24913 | AE16: =AC16+AD16 -> 83797 | AF16: 58884 | AG16: 22246 | AH16: =AF16+AG16 -> 81130 | AI16: 58884 | AJ16: 19583 | AK16: =AI16+AJ16 -> 78467 | AL16: 58885 | AM16: 16969 | AN16: =AL16+AM16 -> 75854 | AO16: 58884 | AP16: 14247 | AQ16: =AO16+AP16 -> 73131 | AR16: 58884 | AS16: 11578 | AT16: =AR16+AS16 -> 70462 | AU16: 58884 | AV16: 8911 | AW16: =AU16+AV16 -> 67795 | AX16: 58884 | AY16: 6266 | AZ16: =AX16+AY16 -> 65150 | BA16: 58884 | BB16: 3587 | BC16: =BA16+BB16 -> 62471 | BD16: 29345 | BE16: 939 | BF16: =BD16+BE16 -> 30284 | BI16: =BG16+BH16 -> 0 | BL16: =BJ16+BK16 -> 0 | BO16: =BM16+BN16 -> 0 | DO16: =+AF16+AI16+AL16+AO16+AR16+AU16+AX16+BA16+BD16+BG16+BJ16+BM16+BP16+BS16+BV16+BY16+CB16+CE16+CH16+CK16+CN16+CQ16+CT16+CW16+CZ16+DC16+DF16+DI16+DL16 -> 500418 | DP16: =+AG16+AJ16+AM16+AP16+AS16+AV16+AY16+BB16+BE16+BH16+BK16+BN16+BQ16+BT16+BW16+BZ16+CC16+CF16+CI16+CL16+CO16+CR16+CU16+CX16+DA16+DD16+DG16+DJ16+DM16 -> 104326 | DQ16: =DO16+DP16 -> 604744 | DR16: =K16+N16+Q16+T16+W16+Z16+AC16+DO16 -> 912606 | DS16: =L16+O16+R16+U16+X16+AA16+AD16+DP16 -> 318993 | DT16: =DR16+DS16 -> 1231599 | DU16: 1184823
B17: KF "Katlu māju darbības optimizācija un nergoefektivitātes paaugstināšana Alūksnē" | C17: 13.11.2013. | D17: 20.12.2038. | E17: A2/1/13/832 | F17: P-410/2013 | G17: Valsts kase | H17: 4.409 | I17: mainīga | J17: EUR | K17: 35458 | L17: 16333 | M17: =K17+L17 -> 51791 | N17: 35458 | O17: 22818 | P17: =N17+O17 -> 58276 | Q17: 35458 | R17: 21944 | S17: =Q17+R17 -> 57402 | T17: 35458 | U17: 20362 | V17: =T17+U17 -> 55820 | W17: 35458 | X17: 18776 | Y17: =W17+X17 -> 54234 | Z17: 35458 | AA17: 17235 | AB17: =Z17+AA17 -> 52693 | AC17: 35458 | AD17: 15602 | AE17: =AC17+AD17 -> 51060 | AF17: 35458 | AG17: 14017 | AH17: =AF17+AG17 -> 49475 | AI17: 35458 | AJ17: 12434 | AK17: =AI17+AJ17 -> 47892 | AL17: 35458 | AM17: 10883 | AN17: =AL17+AM17 -> 46341 | AO17: 35458 | AP17: 9263 | AQ17: =AO17+AP17 -> 44721 | AR17: 35458 | AS17: 7677 | AT17: =AR17+AS17 -> 43135 | AU17: 35458 | AV17: 6091 | AW17: =AU17+AV17 -> 41549 | AX17: 35458 | AY17: 4522 | AZ17: =AX17+AY17 -> 39980 | BA17: 35458 | BB17: 2927 | BC17: =BA17+BB17 -> 38385 | BD17: 35457 | BE17: 1341 | BF17: =BD17+BE17 -> 36798 | BH17: 87 | BI17: =BG17+BH17 -> 87 | BL17: =BJ17+BK17 -> 0 | BO17: =BM17+BN17 -> 0 | DO17: =+AF17+AI17+AL17+AO17+AR17+AU17+AX17+BA17+BD17+BG17+BJ17+BM17+BP17+BS17+BV17+BY17+CB17+CE17+CH17+CK17+CN17+CQ17+CT17+CW17+CZ17+DC17+DF17+DI17+DL17 -> 319121 | DP17: =+AG17+AJ17+AM17+AP17+AS17+AV17+AY17+BB17+BE17+BH17+BK17+BN17+BQ17+BT17+BW17+BZ17+CC17+CF17+CI17+CL17+CO17+CR17+CU17+CX17+DA17+DD17+DG17+DJ17+DM17 -> 69242 | DQ17: =DO17+DP17 -> 388363 | DR17: =K17+N17+Q17+T17+W17+Z17+AC17+DO17 -> 567327 | DS17: =L17+O17+R17+U17+X17+AA17+AD17+DP17 -> 202312 | DT17: =DR17+DS17 -> 769639 | DU17: 716411
B18: KPFI projekts "Kompleksi risinājumi siltumnīcefekta gāzu emisiju samazināšanai Alūksnes novada vidusskolā un Liepnas vidusskolā" | C18: 13.12.2013. | D18: 20.12.2024. | E18: A2/1/13/1188; A2/1/13/1188-V/1 | F18: P-468/2013 | G18: Valsts kase | H18: 3.111 | I18: mainīga | J18: EUR | K18: 38968 | L18: 2163 | M18: =K18+L18 -> 41131 | N18: 38968 | O18: 1226 | P18: =N18+O18 -> 40194 | Q18: 0 | R18: 0 | S18: =Q18+R18 -> 0 | T18: 0 | U18: 0 | V18: =T18+U18 -> 0 | W18: 0 | X18: 0 | Y18: =W18+X18 -> 0 | Z18: 0 | AA18: 0 | AB18: =Z18+AA18 -> 0 | AC18: 0 | AD18: 0 | AE18: =AC18+AD18 -> 0 | AH18: =AF18+AG18 -> 0 | AK18: =AI18+AJ18 -> 0 | AN18: =AL18+AM18 -> 0 | AQ18: =AO18+AP18 -> 0 | AT18: =AR18+AS18 -> 0 | AW18: =AU18+AV18 -> 0 | AZ18: =AX18+AY18 -> 0 | BC18: =BA18+BB18 -> 0 | BF18: =BD18+BE18 -> 0 | BI18: =BG18+BH18 -> 0 | BL18: =BJ18+BK18 -> 0 | BO18: =BM18+BN18 -> 0 | DO18: =+AF18+AI18+AL18+AO18+AR18+AU18+AX18+BA18+BD18+BG18+BJ18+BM18+BP18+BS18+BV18+BY18+CB18+CE18+CH18+CK18+CN18+CQ18+CT18+CW18+CZ18+DC18+DF18+DI18+DL18 -> 0 | DP18: =+AG18+AJ18+AM18+AP18+AS18+AV18+AY18+BB18+BE18+BH18+BK18+BN18+BQ18+BT18+BW18+BZ18+CC18+CF18+CI18+CL18+CO18+CR18+CU18+CX18+DA18+DD18+DG18+DJ18+DM18 -> 0 | DQ18: =DO18+DP18 -> 0 | DR18: =K18+N18+Q18+T18+W18+Z18+AC18+DO18 -> 77936 | DS18: =L18+O18+R18+U18+X18+AA18+AD18+DP18 -> 3389 | DT18: =DR18+DS18 -> 81325 | DU18: 198432
B19: ERAF projekts "Tranzītceļa P43 maršruta rekonstrukcija Alūksnes pilsētā" Jāņkalna iela | C19: 19.06.2013.; 04.02.2014.; 26.01.2016. | D19: 20.09.2027. | E19: A2/1/13/259; A2/1/13/259-V/14/1; A2/1/13/259-1/16/2 | F19: P-173/2013 | G19: Valsts kase | H19: 4.194 | I19: mainīga | J19: EUR | K19: 66492 | L19: 6587 | M19: =K19+L19 -> 73079 | N19: 66492 | O19: 9646 | P19: =N19+O19 -> 76138 | Q19: 66492 | R19: 7077 | S19: =Q19+R19 -> 73569 | T19: 66492 | U19: 4355 | V19: =T19+U19 -> 70847 | W19: 49869 | X19: 1645 | Y19: =W19+X19 -> 51514 | Z19: 0 | AA19: 0 | AB19: =Z19+AA19 -> 0 | AC19: 0 | AD19: 0 | AE19: =AC19+AD19 -> 0 | AF19: 0 | AG19: 0 | AH19: =AF19+AG19 -> 0 | AI19: 0 | AJ19: 0 | AK19: =AI19+AJ19 -> 0 | AL19: 0 | AM19: 0 | AN19: =AL19+AM19 -> 0 | AO19: 0 | AP19: 0 | AQ19: =AO19+AP19 -> 0 | AR19: 0 | AS19: 0 | AT19: =AR19+AS19 -> 0 | AU19: 0 | AV19: 0 | AW19: =AU19+AV19 -> 0 | AX19: 0 | AY19: 0 | AZ19: =AX19+AY19 -> 0 | BA19: 0 | BB19: 0 | BC19: =BA19+BB19 -> 0 | BD19: 0 | BE19: 0 | BF19: =BD19+BE19 -> 0 | BG19: 0 | BH19: 0 | BI19: =BG19+BH19 -> 0 | BL19: =BJ19+BK19 -> 0 | BO19: =BM19+BN19 -> 0 | DO19: =+AF19+AI19+AL19+AO19+AR19+AU19+AX19+BA19+BD19+BG19+BJ19+BM19+BP19+BS19+BV19+BY19+CB19+CE19+CH19+CK19+CN19+CQ19+CT19+CW19+CZ19+DC19+DF19+DI19+DL19 -> 0 | DP19: =+AG19+AJ19+AM19+AP19+AS19+AV19+AY19+BB19+BE19+BH19+BK19+BN19+BQ19+BT19+BW19+BZ19+CC19+CF19+CI19+CL19+CO19+CR19+CU19+CX19+DA19+DD19+DG19+DJ19+DM19 -> 0 | DQ19: =DO19+DP19 -> 0 | DR19: =K19+N19+Q19+T19+W19+Z19+AC19+DO19 -> 315837 | DS19: =L19+O19+R19+U19+X19+AA19+AD19+DP19 -> 29310 | DT19: =DR19+DS19 -> 345147 | DU19: 527554
B20: aizņēmums "Uzņēmējdarbībai nozīmīgu ielu un Brūžā ēkas rekonstrukcija Alūksnes pilsētā" neattiecināmās izmaksas u.c. | C20: 13.03.2015. 09.12.2015 | D20: 20.12.2041. | E20: A2/1/15/87; A2/1/15/87-V/15/1 | F20: P-49/2015 | G20: Valsts kase | H20: 4.228 | I20: mainīga | J20: EUR | K20: 61588 | L20: 34702 | M20: =K20+L20 -> 96290 | N20: 61588 | O20: 47893 | P20: =N20+O20 -> 109481 | Q20: 61588 | R20: 45202 | S20: =Q20+R20 -> 106790 | T20: 61588 | U20: 42511 | V20: =T20+U20 -> 104099 | W20: 61588 | X20: 39820 | Y20: =W20+X20 -> 101408 | Z20: 61588 | AA20: 37130 | AB20: =Z20+AA20 -> 98718 | AC20: 61588 | AD20: 34439 | AE20: =AC20+AD20 -> 96027 | AF20: 61588 | AG20: 0 | AH20: =AF20+AG20 -> 61588 | AI20: 61588 | AJ20: 0 | AK20: =AI20+AJ20 -> 61588 | AL20: 61588 | AM20: 0 | AN20: =AL20+AM20 -> 61588 | AO20: 61588 | AP20: 0 | AQ20: =AO20+AP20 -> 61588 | AR20: 61588 | AS20: 0 | AT20: =AR20+AS20 -> 61588 | AU20: 61588 | AV20: 0 | AW20: =AU20+AV20 -> 61588 | AX20: 61588 | AY20: 0 | AZ20: =AX20+AY20 -> 61588 | BA20: 61588 | BB20: 0 | BC20: =BA20+BB20 -> 61588 | BD20: 61588 | BE20: 0 | BF20: =BD20+BE20 -> 61588 | BG20: 61588 | BH20: 0 | BI20: =BG20+BH20 -> 61588 | BJ20: 61588 | BK20: 0 | BL20: =BJ20+BK20 -> 61588 | BM20: 61588 | BN20: 0 | BO20: =BM20+BN20 -> 61588 | BP20: 0 | BQ20: 0 | BR20: =BP20+BQ20 -> 0 | BS20: 0 | BT20: 0 | BU20: =BS20+BT20 -> 0 | BV20: 0 | BW20: 0 | BX20: =BV20+BW20 -> 0 | BY20: 0 | BZ20: 0 | CA20: =BY20+BZ20 -> 0 | DO20: =+AF20+AI20+AL20+AO20+AR20+AU20+AX20+BA20+BD20+BG20+BJ20+BM20+BP20+BS20+BV20+BY20+CB20+CE20+CH20+CK20+CN20+CQ20+CT20+CW20+CZ20+DC20+DF20+DI20+DL20 -> 739056 | DP20: 203467 | DQ20: =DO20+DP20 -> 942523 | DR20: =K20+N20+Q20+T20+W20+Z20+AC20+DO20 -> 1170172 | DS20: =L20+O20+R20+U20+X20+AA20+AD20+DP20 -> 485164 | DT20: =DR20+DS20 -> 1655336 | DU20: 1453367
DO21: =+AF21+AI21+AL21+AO21+AR21+AU21+AX21+BA21+BD21+BG21+BJ21+BM21+BP21+BS21+BV21+BY21+CB21+CE21+CH21+CK21+CN21+CQ21+CT21+CW21+CZ21+DC21+DF21+DI21+DL21 -> 0 | DP21: =+AG21+AJ21+AM21+AP21+AS21+AV21+AY21+BB21+BE21+BH21+BK21+BN21+BQ21+BT21+BW21+BZ21+CC21+CF21+CI21+CL21+CO21+CR21+CU21+CX21+DA21+DD21+DG21+DJ21+DM21 -> 0 | DQ21: =DO21+DP21 -> 0 | DR21: =K21+N21+Q21+T21+W21+Z21+AC21+DO21 -> 0 | DS21: =L21+O21+R21+U21+X21+AA21+AD21+DP21 -> 0 | DT21: =DR21+DS21 -> 0
DO22: =+AF22+AI22+AL22+AO22+AR22+AU22+AX22+BA22+BD22+BG22+BJ22+BM22+BP22+BS22+BV22+BY22+CB22+CE22+CH22+CK22+CN22+CQ22+CT22+CW22+CZ22+DC22+DF22+DI22+DL22 -> 0 | DP22: =+AG22+AJ22+AM22+AP22+AS22+AV22+AY22+BB22+BE22+BH22+BK22+BN22+BQ22+BT22+BW22+BZ22+CC22+CF22+CI22+CL22+CO22+CR22+CU22+CX22+DA22+DD22+DG22+DJ22+DM22 -> 0 | DQ22: =DO22+DP22 -> 0 | DR22: =K22+N22+Q22+T22+W22+Z22+AC22+DO22 -> 0 | DS22: =L22+O22+R22+U22+X22+AA22+AD22+DP22 -> 0 | DT22: =DR22+DS22 -> 0
B23: izglītības iestāžu investīciju projekts "Alūknes PII "Sprīdītis" ēkas iekšējo inženiertīklu pārbūve" | C23: 01.08.2018. | D23: 20.12.2028. | E23: A2/1/18/510 | F23: P-433/2018 | G23: Valsts kase | H23: 4.364 | I23: mainīga | J23: EUR | K23: 27776 | L23: 3178 | M23: =K23+L23 -> 30954 | N23: 27776 | O23: 5969 | P23: =N23+O23 -> 33745 | Q23: 27776 | R23: 4725 | S23: =Q23+R23 -> 32501 | T23: 27776 | U23: 3498 | V23: =T23+U23 -> 31274 | W23: 27776 | X23: 2269 | Y23: =W23+X23 -> 30045 | Z23: 27776 | AA23: 1040 | AB23: =Z23+AA23 -> 28816 | AC23: 0 | AD23: 67 | AE23: =AC23+AD23 -> 67 | AF23: 0 | AG23: 0 | AH23: =AF23+AG23 -> 0 | AK23: =AI23+AJ23 -> 0 | AN23: =AL23+AM23 -> 0 | AQ23: =AO23+AP23 -> 0 | AT23: =AR23+AS23 -> 0 | AW23: =AU23+AV23 -> 0 | AZ23: =AX23+AY23 -> 0 | BC23: =BA23+BB23 -> 0 | BF23: =BD23+BE23 -> 0 | BI23: =BG23+BH23 -> 0 | BL23: =BJ23+BK23 -> 0 | BO23: =BM23+BN23 -> 0 | DO23: =+AF23+AI23+AL23+AO23+AR23+AU23+AX23+BA23+BD23+BG23+BJ23+BM23+BP23+BS23+BV23+BY23+CB23+CE23+CH23+CK23+CN23+CQ23+CT23+CW23+CZ23+DC23+DF23+DI23+DL23 -> 0 | DP23: =+AG23+AJ23+AM23+AP23+AS23+AV23+AY23+BB23+BE23+BH23+BK23+BN23+BQ23+BT23+BW23+BZ23+CC23+CF23+CI23+CL23+CO23+CR23+CU23+CX23+DA23+DD23+DG23+DJ23+DM23 -> 0 | DQ23: =DO23+DP23 -> 0 | DR23: =K23+N23+Q23+T23+W23+Z23+AC23+DO23 -> 166656 | DS23: =L23+O23+R23+U23+X23+AA23+AD23+DP23 -> 20746 | DT23: =DR23+DS23 -> 187402 | DU23: 253085
B24: ERAF projekts "Ūdenssaimniecības pakalpojumu attīstība Alūksnē, 3.kārta" (ieguldījums SIA "Rūpe" pamatkapitālā) | C24: 01.08.2018. | D24: 20.12.2039. | E24: A2/1/18/514 | F24: P-434/2018 | G24: Valsts kase | H24: 1.473 | I24: mainīga | J24: EUR | K24: 45528 | L24: 14165 | M24: =K24+L24 -> 59693 | N24: 45528 | O24: 26217 | P24: =N24+O24 -> 71745 | Q24: 45528 | R24: 24497 | S24: =Q24+R24 -> 70025 | T24: 45528 | U24: 22850 | V24: =T24+U24 -> 68378 | W24: 45528 | X24: 21199 | Y24: =W24+X24 -> 66727 | Z24: 45528 | AA24: 19598 | AB24: =Z24+AA24 -> 65126 | AC24: 45528 | AD24: 17894 | AE24: =AC24+AD24 -> 63422 | AF24: 45528 | AG24: 0 | AH24: =AF24+AG24 -> 45528 | AI24: 45528 | AJ24: 0 | AK24: =AI24+AJ24 -> 45528 | AL24: 45528 | AM24: 0 | AN24: =AL24+AM24 -> 45528 | AO24: 45528 | AP24: 0 | AQ24: =AO24+AP24 -> 45528 | AR24: 45528 | AS24: 0 | AT24: =AR24+AS24 -> 45528 | AU24: 45528 | AV24: 0 | AW24: =AU24+AV24 -> 45528 | AX24: 45528 | AY24: 0 | AZ24: =AX24+AY24 -> 45528 | BA24: 45528 | BB24: 0 | BC24: =BA24+BB24 -> 45528 | BD24: 45528 | BE24: 0 | BF24: =BD24+BE24 -> 45528 | BG24: 45528 | BH24: 0 | BI24: =BG24+BH24 -> 45528 | BK24: 0 | DO24: =+AF24+AI24+AL24+AO24+AR24+AU24+AX24+BA24+BD24+BG24+BJ24+BM24+BP24+BS24+BV24+BY24+CB24+CE24+CH24+CK24+CN24+CQ24+CT24+CW24+CZ24+DC24+DF24+DI24+DL24 -> 455280 | DP24: 88342 | DQ24: =DO24+DP24 -> 543622 | DR24: =K24+N24+Q24+T24+W24+Z24+AC24+DO24 -> 773976 | DS24: =L24+O24+R24+U24+X24+AA24+AD24+DP24 -> 234762 | DT24: =DR24+DS24 -> 1008738 | DU24: 934784
B25: aizņēmums ERAF projekts "Gaismas ceļs caur gadsimtiem" | C25: 05.12.2017. 05.01.2018. 11.04.2018. 14.01.2019. | D25: 22.09.2036. | E25: A2/1/17/870; A2/1/17/870-V/18/1; A2/1/17/870-V/18/2; A2/1/17/870-V/19/3 A2/1/18/870-ekase | F25: P-661/2017 | G25: Valsts kase | H25: 3.11 | I25: mainīga | J25: EUR | K25: 48860 | L25: 20368 | M25: =K25+L25 -> 69228 | N25: 48860 | O25: 21645 | P25: =N25+O25 -> 70505 | Q25: 48860 | R25: 20302 | S25: =Q25+R25 -> 69162 | T25: 48860 | U25: 18535 | V25: =T25+U25 -> 67395 | W25: 48860 | X25: 16763 | Y25: =W25+X25 -> 65623 | Z25: 48860 | AA25: 15029 | AB25: =Z25+AA25 -> 63889 | AC25: 48860 | AD25: 13216 | AE25: =AC25+AD25 -> 62076 | AF25: 48860 | AG25: 0 | AH25: =AF25+AG25 -> 48860 | AI25: 48860 | AJ25: 0 | AK25: =AI25+AJ25 -> 48860 | AL25: 48860 | AM25: 0 | AN25: =AL25+AM25 -> 48860 | AO25: 48860 | AP25: 0 | AQ25: =AO25+AP25 -> 48860 | AR25: 48860 | AS25: 0 | AT25: =AR25+AS25 -> 48860 | AU25: 48860 | AV25: 0 | AW25: =AU25+AV25 -> 48860 | AX25: 30262 | AY25: 0 | AZ25: =AX25+AY25 -> 30262 | BC25: =BA25+BB25 -> 0 | BF25: =BD25+BE25 -> 0 | BG25: 0 | BH25: 0 | BI25: =BG25+BH25 -> 0 | BJ25: 0 | BK25: 0 | BL25: =BJ25+BK25 -> 0 | BM25: 0 | BN25: 0 | BO25: =BM25+BN25 -> 0 | BP25: 0 | BQ25: 0 | BR25: =BP25+BQ25 -> 0 | BU25: =BS25+BT25 -> 0 | BX25: =BV25+BW25 -> 0 | CA25: =BY25+BZ25 -> 0 | CD25: =CB25+CC25 -> 0 | CG25: =CE25+CF25 -> 0 | CJ25: =CH25+CI25 -> 0 | CM25: =CK25+CL25 -> 0 | CP25: =CN25+CO25 -> 0 | CS25: =CQ25+CR25 -> 0 | CV25: =CT25+CU25 -> 0 | CY25: =CW25+CX25 -> 0 | DB25: =CZ25+DA25 -> 0 | DE25: =DC25+DD25 -> 0 | DO25: =+AF25+AI25+AL25+AO25+AR25+AU25+AX25+BA25+BD25+BG25+BJ25+BM25+BP25+BS25+BV25+BY25+CB25+CE25+CH25+CK25+CN25+CQ25+CT25+CW25+CZ25+DC25+DF25+DI25+DL25 -> 323422 | DP25: 42968 | DQ25: =DO25+DP25 -> 366390 | DR25: =K25+N25+Q25+T25+W25+Z25+AC25+DO25 -> 665442 | DS25: =L25+O25+R25+U25+X25+AA25+AD25+DP25 -> 168826 | DT25: =DR25+DS25 -> 834268 | DU25: 857581
B26: Aizņēmums Alūksnes novada pašvaldības ceļu infrastruktūras projekta īstenošanai (Lāčplēša, Rījukalna, Vējakalna, Torņa ielas Alūksnē) | C26: 15.12.2016. | D26: 20.12.2027. | E26: A2/1/16/510 | F26: P-373/2016 | G26: valsts kase | H26: 3.121 | I26: mainīga | J26: EUR | K26: 32144 | L26: 4773 | M26: =K26+L26 -> 36917 | N26: 32144 | O26: 4360 | P26: =N26+O26 -> 36504 | Q26: 32144 | R26: 3314 | S26: =Q26+R26 -> 35458 | T26: 32144 | U26: 2151 | V26: =T26+U26 -> 34295 | W26: 32144 | X26: 1049 | Y26: =W26+X26 -> 33193 | BR26: =BP26+BQ26 -> 0 | DO26: =+AF26+AI26+AL26+AO26+AR26+AU26+AX26+BA26+BD26+BG26+BJ26+BM26+BP26+BS26+BV26+BY26+CB26+CE26+CH26+CK26+CN26+CQ26+CT26+CW26+CZ26+DC26+DF26+DI26+DL26 -> 0 | DP26: =+AG26+AJ26+AM26+AP26+AS26+AV26+AY26+BB26+BE26+BH26+BK26+BN26+BQ26+BT26+BW26+BZ26+CC26+CF26+CI26+CL26+CO26+CR26+CU26+CX26+DA26+DD26+DG26+DJ26+DM26 -> 0 | DQ26: =DO26+DP26 -> 0 | DR26: =K26+N26+Q26+T26+W26+Z26+AC26+DO26 -> 160720 | DS26: =L26+O26+R26+U26+X26+AA26+AD26+DP26 -> 15647 | DT26: =DR26+DS26 -> 176367 | DU26: 260010
B27: ERAF SAM projekts "Alūksnes novada vispārējās izglītības iestāžu mācību vides uzlabošana" (Alūksnes novada vidusskola) | C27: 27.04.2018.; 09.10.2018. | D27: 20.03.2034. | E27: A2/1/18/191; A2/1/18/191-V/18/1 | F27: P-161/2018 | G27: valsts kase | H27: 4.075 | I27: mainīga | J27: EUR | K27: 24016 | L27: 5992 | M27: =K27+L27 -> 30008 | N27: 24016 | O27: 10162 | P27: =N27+O27 -> 34178 | Q27: 24016 | R27: 9151 | S27: =Q27+R27 -> 33167 | T27: 24016 | U27: 8140 | V27: =T27+U27 -> 32156 | W27: 24016 | X27: 7129 | Y27: =W27+X27 -> 31145 | Z27: 24016 | AA27: 6117 | AB27: =Z27+AA27 -> 30133 | AC27: 24016 | AD27: 5106 | AE27: =AC27+AD27 -> 29122 | AF27: 24016 | AG27: 4095 | AH27: =AF27+AG27 -> 28111 | AI27: 24016 | AJ27: 3083 | AK27: =AI27+AJ27 -> 27099 | AL27: 24016 | AM27: 2072 | AN27: =AL27+AM27 -> 26088 | AO27: 24016 | AP27: 1061 | AQ27: =AO27+AP27 -> 25077 | AR27: 6004 | AS27: 140 | AT27: =AR27+AS27 -> 6144 | DO27: =+AF27+AI27+AL27+AO27+AR27+AU27+AX27+BA27+BD27+BG27+BJ27+BM27+BP27+BS27+BV27+BY27+CB27+CE27+CH27+CK27+CN27+CQ27+CT27+CW27+CZ27+DC27+DF27+DI27+DL27 -> 102068 | DP27: =+AG27+AJ27+AM27+AP27+AS27+AV27+AY27+BB27+BE27+BH27+BK27+BN27+BQ27+BT27+BW27+BZ27+CC27+CF27+CI27+CL27+CO27+CR27+CU27+CX27+DA27+DD27+DG27+DJ27+DM27 -> 10451 | DQ27: =DO27+DP27 -> 112519 | DR27: =K27+N27+Q27+T27+W27+Z27+AC27+DO27 -> 270180 | DS27: =L27+O27+R27+U27+X27+AA27+AD27+DP27 -> 62248 | DT27: =DR27+DS27 -> 332428 | DU27: 348793
B28: aizņēmums SAM 3.3.1. ERAF projekts "Multifunkcionālas servisa ēkas izbūve Pilssalā" | C28: 02.03.2017.; 21.04.2018. | D28: 20.06.2029. | E28: A2/1/17/105; A2/1/17/105-V/18/1 | F28: P-37/2017 | G28: valsts kase | H28: 4.512 | I28: mainīga, tirgus nosa-cījumi | J28: EUR | K28: 51552 | L28: 10482 | M28: =K28+L28 -> 62034 | N28: 51552 | O28: 12737 | P28: =N28+O28 -> 64289 | Q28: 51552 | R28: 10333 | S28: =Q28+R28 -> 61885 | T28: 51552 | U28: 7929 | V28: =T28+U28 -> 59481 | W28: 51552 | X28: 5526 | Y28: =W28+X28 -> 57078 | Z28: 51552 | AA28: 3122 | AB28: =Z28+AA28 -> 54674 | AC28: 25776 | AD28: 753 | AE28: =AC28+AD28 -> 26529 | AF28: 0 | AG28: 0 | AH28: =AF28+AG28 -> 0 | AI28: 0 | AJ28: 0 | AK28: =AI28+AJ28 -> 0 | AL28: 0 | AM28: 0 | AN28: =AL28+AM28 -> 0 | AQ28: =AO28+AP28 -> 0 | AW28: =AU28+AV28 -> 0 | BO28: =BM28+BN28 -> 0 | BR28: =BP28+BQ28 -> 0 | DO28: =+AF28+AI28+AL28+AO28+AR28+AU28+AX28+BA28+BD28+BG28+BJ28+BM28+BP28+BS28+BV28+BY28+CB28+CE28+CH28+CK28+CN28+CQ28+CT28+CW28+CZ28+DC28+DF28+DI28+DL28 -> 0 | DP28: =+AG28+AJ28+AM28+AP28+AS28+AV28+AY28+BB28+BE28+BH28+BK28+BN28+BQ28+BT28+BW28+BZ28+CC28+CF28+CI28+CL28+CO28+CR28+CU28+CX28+DA28+DD28+DG28+DJ28+DM28 -> 0 | DQ28: =DO28+DP28 -> 0 | DR28: =K28+N28+Q28+T28+W28+Z28+AC28+DO28 -> 335088 | DS28: =L28+O28+R28+U28+X28+AA28+AD28+DP28 -> 50882 | DT28: =DR28+DS28 -> 385970 | DU28: 511481
B29: aizņēmums SAM 5.6.2. ERAF projekts "Alūksnes pilsētas rūpniecīskās apbūves teritorijas attīstība 1.kārta uz atvieglotiem nosacījumiem | C29: 26.05.2017.; 05.01.2018.; 21.04.2018. | D29: 20.12.2025. | E29: A2/1/17/317; A2/1/17/317-V/18/1; A2/1/17/317-V/18/2 | F29: P-210/2017 | G29: valsts kase | H29: 4.154 | I29: mainīga | J29: EUR | K29: 54728 | L29: 3682 | M29: =K29+L29 -> 58410 | N29: 54728 | O29: 4226 | P29: =N29+O29 -> 58954 | Q29: 54728 | R29: 1877 | S29: =Q29+R29 -> 56605 | T29: 0 | U29: 68 | V29: =T29+U29 -> 68 | W29: 0 | X29: 0 | Y29: =W29+X29 -> 0 | Z29: 0 | AA29: 0 | AB29: =Z29+AA29 -> 0 | AC29: 0 | AD29: 0 | AE29: =AC29+AD29 -> 0 | AF29: 0 | AG29: 0 | AH29: =AF29+AG29 -> 0 | DO29: =+AF29+AI29+AL29+AO29+AR29+AU29+AX29+BA29+BD29+BG29+BJ29+BM29+BP29+BS29+BV29+BY29+CB29+CE29+CH29+CK29+CN29+CQ29+CT29+CW29+CZ29+DC29+DF29+DI29+DL29 -> 0 | DP29: =+AG29+AJ29+AM29+AP29+AS29+AV29+AY29+BB29+BE29+BH29+BK29+BN29+BQ29+BT29+BW29+BZ29+CC29+CF29+CI29+CL29+CO29+CR29+CU29+CX29+DA29+DD29+DG29+DJ29+DM29 -> 0 | DQ29: =DO29+DP29 -> 0 | DR29: =K29+N29+Q29+T29+W29+Z29+AC29+DO29 -> 164184 | DS29: =L29+O29+R29+U29+X29+AA29+AD29+DP29 -> 9853 | DT29: =DR29+DS29 -> 174037 | DU29: 331171
B30: Aiznēmums ERAF projekta "Energoefektivitātes uzlabošana Alūksnes novada pašvaldības administratīvajā ēkā" | C30: 04.12.2018. | D30: 54231 | E30: A2/1/18/869; A2/1/18/869-ekase | F30: P-720/2018 | G30: valsts kase | H30: 3.11 | I30: mainīga | J30: EUR | K30: 71836 | L30: 56051 | M30: =K30+L30 -> 127887 | N30: 71836 | O30: 62034 | P30: =N30+O30 -> 133870 | Q30: 71836 | R30: 60610 | S30: =Q30+R30 -> 132446 | T30: 71836 | U30: 58012 | V30: =T30+U30 -> 129848 | W30: 71836 | X30: 55406 | Y30: =W30+X30 -> 127242 | Z30: 71836 | AA30: 52941 | AB30: =Z30+AA30 -> 124777 | AC30: 71836 | AD30: 50191 | AE30: =AC30+AD30 -> 122027 | AF30: 71836 | AG30: 0 | AH30: =AF30+AG30 -> 71836 | AI30: 71836 | AJ30: 0 | AK30: =AI30+AJ30 -> 71836 | AL30: 71836 | AM30: 0 | AN30: =AL30+AM30 -> 71836 | AO30: 71836 | AP30: 0 | AQ30: =AO30+AP30 -> 71836 | AR30: 71836 | AS30: 0 | AT30: =AR30+AS30 -> 71836 | AU30: 71836 | AV30: 0 | AW30: =AU30+AV30 -> 71836 | AX30: 71836 | AY30: 0 | AZ30: =AX30+AY30 -> 71836 | BA30: 71836 | BB30: 0 | BC30: =BA30+BB30 -> 71836 | BD30: 71836 | BE30: 0 | BF30: =BD30+BE30 -> 71836 | BG30: 71836 | BH30: 0 | BI30: =BG30+BH30 -> 71836 | BJ30: 71836 | BK30: 0 | BL30: =BJ30+BK30 -> 71836 | BM30: 71836 | BN30: 0 | BO30: =BM30+BN30 -> 71836 | BP30: 71836 | BQ30: 0 | BR30: =BP30+BQ30 -> 71836 | BS30: 71836 | BT30: 0 | BU30: =BS30+BT30 -> 71836 | BV30: 71836 | BW30: 0 | BX30: =BV30+BW30 -> 71836 | BY30: 71836 | BZ30: 0 | CA30: =BY30+BZ30 -> 71836 | CB30: 71836 | CC30: 0 | CD30: =CB30+CC30 -> 71836 | CE30: 71836 | CF30: 0 | CG30: =CE30+CF30 -> 71836 | CH30: 31108 | CI30: 0 | CJ30: =CH30+CI30 -> 31108 | CK30: 0 | CL30: 0 | CM30: =CK30+CL30 -> 0 | CN30: 0 | CO30: 0 | CP30: =CN30+CO30 -> 0 | DO30: =+AF30+AI30+AL30+AO30+AR30+AU30+AX30+BA30+BD30+BG30+BJ30+BM30+BP30+BS30+BV30+BY30+CB30+CE30+CH30+CK30+CN30+CQ30+CT30+CW30+CZ30+DC30+DF30+DI30+DL30 -> 1324156 | DP30: 459338 | DQ30: =DO30+DP30 -> 1783494 | DR30: =K30+N30+Q30+T30+W30+Z30+AC30+DO30 -> 1827008 | DS30: =L30+O30+R30+U30+X30+AA30+AD30+DP30 -> 854583 | DT30: =DR30+DS30 -> 2681591 | DU30: 2090839
B31: Aiznēmums ERAF projekta "Energoefektivitātes uzlabošana Alūksnes novada pašvaldības administratīvajā ēkā" | C31: 10.12.2019. | D31: 20.11.2049. | E31: A2/1/19/459 | F31: P-293/2019 | G31: valsts kase | H31: 3.114 | I31: mainīga | J31: EUR | K31: 11744 | L31: 9745 | M31: =K31+L31 -> 21489 | N31: 11744 | O31: 10751 | P31: =N31+O31 -> 22495 | Q31: 11744 | R31: 10576 | S31: =Q31+R31 -> 22320 | T31: 11744 | U31: 10151 | V31: =T31+U31 -> 21895 | W31: 11744 | X31: 9725 | Y31: =W31+X31 -> 21469 | Z31: 11744 | AA31: 9324 | AB31: =Z31+AA31 -> 21068 | AC31: 11744 | AD31: 8872 | AE31: =AC31+AD31 -> 20616 | AF31: 11744 | AG31: 0 | AH31: =AF31+AG31 -> 11744 | AI31: 11744 | AJ31: 0 | AK31: =AI31+AJ31 -> 11744 | AL31: 11744 | AM31: 0 | AN31: =AL31+AM31 -> 11744 | AO31: 11744 | AP31: 0 | AQ31: =AO31+AP31 -> 11744 | AR31: 11744 | AS31: 0 | AT31: =AR31+AS31 -> 11744 | AU31: 11744 | AV31: 0 | AW31: =AU31+AV31 -> 11744 | AX31: 11744 | AY31: 0 | AZ31: =AX31+AY31 -> 11744 | BA31: 11744 | BB31: 0 | BC31: =BA31+BB31 -> 11744 | BD31: 11744 | BE31: 0 | BF31: =BD31+BE31 -> 11744 | BG31: 11744 | BH31: 0 | BI31: =BG31+BH31 -> 11744 | BJ31: 11744 | BK31: 0 | BL31: =BJ31+BK31 -> 11744 | BM31: 11744 | BN31: 0 | BO31: =BM31+BN31 -> 11744 | BP31: 11744 | BQ31: 0 | BR31: =BP31+BQ31 -> 11744 | BS31: 11744 | BT31: 0 | BU31: =BS31+BT31 -> 11744 | BV31: 11744 | BW31: 0 | BX31: =BV31+BW31 -> 11744 | BY31: 11744 | BZ31: 0 | CA31: =BY31+BZ31 -> 11744 | CB31: 11744 | CC31: 0 | CD31: =CB31+CC31 -> 11744 | CE31: 11744 | CF31: 0 | CG31: =CE31+CF31 -> 11744 | CH31: 11744 | CI31: 0 | CJ31: =CH31+CI31 -> 11744 | CK31: 11744 | CL31: 0 | CM31: =CK31+CL31 -> 11744 | DO31: =+AF31+AI31+AL31+AO31+AR31+AU31+AX31+BA31+BD31+BG31+BJ31+BM31+BP31+BS31+BV31+BY31+CB31+CE31+CH31+CK31+CN31+CQ31+CT31+CW31+CZ31+DC31+DF31+DI31+DL31 -> 234880 | DP31: 88141 | DQ31: =DO31+DP31 -> 323021 | DR31: =K31+N31+Q31+T31+W31+Z31+AC31+DO31 -> 317088 | DS31: =L31+O31+R31+U31+X31+AA31+AD31+DP31 -> 157285 | DT31: =DR31+DS31 -> 474373 | DU31: 354323
B32: Aizņēmums valsts mērķdotācijas līdzfinansējuma - sporta būves Pilssalā, ar sadārdzinājumu | C32: 26.05.2017.; 03.08.2017. | D32: 12.2027. | E32: A2/1/17/315; A2/1/17/315-V/17/1 | F32: P-212/2017 | G32: valsts kase | H32: 4.154 | I32: mainīga | J32: EUR | K32: 23972 | L32: 2829 | M32: =K32+L32 -> 26801 | N32: 23972 | O32: 3909 | P32: =N32+O32 -> 27881 | Q32: 23972 | R32: 2880 | S32: =Q32+R32 -> 26852 | T32: 23972 | U32: 1851 | V32: =T32+U32 -> 25823 | W32: 23972 | X32: 822 | Y32: =W32+X32 -> 24794 | AA32: 30 | AB32: =Z32+AA32 -> 30 | AE32: =AC32+AD32 -> 0 | AH32: =AF32+AG32 -> 0 | AQ32: =AO32+AP32 -> 0 | AT32: =AR32+AS32 -> 0 | AW32: =AU32+AV32 -> 0 | AZ32: =AX32+AY32 -> 0 | BC32: =BA32+BB32 -> 0 | BF32: =BD32+BE32 -> 0 | BI32: =BG32+BH32 -> 0 | BL32: =BJ32+BK32 -> 0 | BO32: =BM32+BN32 -> 0 | BR32: =BP32+BQ32 -> 0 | DO32: =+AF32+AI32+AL32+AO32+AR32+AU32+AX32+BA32+BD32+BG32+BJ32+BM32+BP32+BS32+BV32+BY32+CB32+CE32+CH32+CK32+CN32+CQ32+CT32+CW32+CZ32+DC32+DF32+DI32+DL32 -> 0 | DP32: =+AG32+AJ32+AM32+AP32+AS32+AV32+AY32+BB32+BE32+BH32+BK32+BN32+BQ32+BT32+BW32+BZ32+CC32+CF32+CI32+CL32+CO32+CR32+CU32+CX32+DA32+DD32+DG32+DJ32+DM32 -> 0 | DQ32: =DO32+DP32 -> 0 | DR32: =K32+N32+Q32+T32+W32+Z32+AC32+DO32 -> 119860 | DS32: =L32+O32+R32+U32+X32+AA32+AD32+DP32 -> 12321 | DT32: =DR32+DS32 -> 132181 | DU32: 193908
B33: ERAF projekts Nr.8.1.2.0/18/I/002 "Alūksnes novada vispārējās izglītības iestāžu mācību vides uzlabošana" (E.Glika Alūksnes Valsts ģimnāzija) | C33: 06.02.2020. ; 05.01.2021.; 12.01.2022. | D33: 20.12.2036. | E33: A2/1/20/33; A2/1/20/33-V/21/1; A2/1/20/33-V/22/2 | F33: P-21/2020 | G33: valsts kase | H33: 0.319 | I33: mainīga | J33: EUR | K33: 112195 | L33: 6483 | M33: =K33+L33 -> 118678 | N33: 112216 | O33: 4734 | P33: =N33+O33 -> 116950 | Q33: 112216 | R33: 4364 | S33: =Q33+R33 -> 116580 | T33: 112216 | U33: 3995 | V33: =T33+U33 -> 116211 | W33: 112216 | X33: 3625 | Y33: =W33+X33 -> 115841 | Z33: 112216 | AA33: 3255 | AB33: =Z33+AA33 -> 115471 | AC33: 112216 | AD33: 2885 | AE33: =AC33+AD33 -> 115101 | AF33: 112216 | AG33: 0 | AH33: =AF33+AG33 -> 112216 | AI33: 112216 | AJ33: 0 | AK33: =AI33+AJ33 -> 112216 | AL33: 112216 | AM33: 0 | AN33: =AL33+AM33 -> 112216 | AO33: 112216 | AP33: 0 | AQ33: =AO33+AP33 -> 112216 | AR33: 112216 | AS33: 0 | AT33: =AR33+AS33 -> 112216 | AU33: 112216 | AV33: 0 | AW33: =AU33+AV33 -> 112216 | AX33: 112216 | AY33: 0 | AZ33: =AX33+AY33 -> 112216 | BA33: 0 | BB33: 0 | BC33: =BA33+BB33 -> 0 | BD33: 0 | BE33: 0 | BF33: =BD33+BE33 -> 0 | BG33: 0 | BH33: 0 | BI33: =BG33+BH33 -> 0 | BJ33: 0 | BK33: 0 | BL33: =BJ33+BK33 -> 0 | BM33: 0 | BN33: 0 | BO33: =BM33+BN33 -> 0 | BP33: 0 | BQ33: 0 | BR33: =BP33+BQ33 -> 0 | BS33: 0 | BT33: 0 | BU33: =BS33+BT33 -> 0 | BV33: 0 | BW33: 0 | BX33: =BV33+BW33 -> 0 | BY33: 0 | BZ33: 0 | CA33: =BY33+BZ33 -> 0 | CB33: 0 | CC33: 0 | CD33: =CB33+CC33 -> 0 | CE33: 0 | CF33: 0 | CG33: =CE33+CF33 -> 0 | CH33: 0 | CI33: 0 | CJ33: =CH33+CI33 -> 0 | CK33: 0 | CL33: 0 | CM33: =CK33+CL33 -> 0 | CN33: 0 | CO33: 0 | CP33: =CN33+CO33 -> 0 | CQ33: 0 | CR33: 0 | CS33: =CQ33+CR33 -> 0 | DO33: =+AF33+AI33+AL33+AO33+AR33+AU33+AX33+BA33+BD33+BG33+BJ33+BM33+BP33+BS33+BV33+BY33+CB33+CE33+CH33+CK33+CN33+CQ33+CT33+CW33+CZ33+DC33+DF33+DI33+DL33 -> 785512 | DP33: 9847 | DQ33: =DO33+DP33 -> 795359 | DR33: =K33+N33+Q33+T33+W33+Z33+AC33+DO33 -> 1571003 | DS33: =L33+O33+R33+U33+X33+AA33+AD33+DP33 -> 39188 | DT33: =DR33+DS33 -> 1610191 | DU33: 1666951
B34: aizņēmums ceļu un to kompleksa investīciju projekta "Pleskavas ielas pārbūve Alūksnē, Alūksnes novadā (2.un 3.kārta) " īstenošanai | C34: 30.11.2018. | D34: 20.12.2028. | E34: A2/1/18/864 | F34: P-717/2018 | G34: valsts kase | H34: 3.11 | I34: mainīga | J34: EUR | K34: 36488 | L34: 6528 | M34: =K34+L34 -> 43016 | N34: 36488 | O34: 6277 | P34: =N34+O34 -> 42765 | Q34: 36488 | R34: 5085 | S34: =Q34+R34 -> 41573 | T34: 36488 | U34: 3765 | V34: =T34+U34 -> 40253 | W34: 36488 | X34: 2441 | Y34: =W34+X34 -> 38929 | Z34: 36488 | AA34: 1191 | AB34: =Z34+AA34 -> 37679 | AC34: 0 | AD34: 0 | AE34: =AC34+AD34 -> 0 | AF34: 0 | AG34: 0 | AH34: =AF34+AG34 -> 0 | AI34: 0 | AJ34: 0 | AK34: =AI34+AJ34 -> 0 | AL34: 0 | AM34: 0 | AN34: =AL34+AM34 -> 0 | AO34: 0 | AP34: 0 | AQ34: =AO34+AP34 -> 0 | AR34: 0 | AS34: 0 | AT34: =AR34+AS34 -> 0 | AU34: 0 | AV34: 0 | AW34: =AU34+AV34 -> 0 | AX34: 0 | AY34: 0 | AZ34: =AX34+AY34 -> 0 | BA34: 0 | BB34: 0 | BC34: =BA34+BB34 -> 0 | BD34: 0 | BE34: 0 | BF34: =BD34+BE34 -> 0 | BG34: 0 | BH34: 0 | BI34: =BG34+BH34 -> 0 | BJ34: 0 | BK34: 0 | BL34: =BJ34+BK34 -> 0 | BM34: 0 | BN34: 0 | BO34: =BM34+BN34 -> 0 | BP34: 0 | BQ34: 0 | BR34: =BP34+BQ34 -> 0 | BS34: 0 | BT34: 0 | BU34: =BS34+BT34 -> 0 | DO34: =+AF34+AI34+AL34+AO34+AR34+AU34+AX34+BA34+BD34+BG34+BJ34+BM34+BP34+BS34+BV34+BY34+CB34+CE34+CH34+CK34+CN34+CQ34+CT34+CW34+CZ34+DC34+DF34+DI34+DL34 -> 0 | DP34: =+AG34+AJ34+AM34+AP34+AS34+AV34+AY34+BB34+BE34+BH34+BK34+BN34+BQ34+BT34+BW34+BZ34+CC34+CF34+CI34+CL34+CO34+CR34+CU34+CX34+DA34+DD34+DG34+DJ34+DM34 -> 0 | DQ34: =DO34+DP34 -> 0 | DR34: =K34+N34+Q34+T34+W34+Z34+AC34+DO34 -> 218928 | DS34: =L34+O34+R34+U34+X34+AA34+AD34+DP34 -> 25287 | DT34: =DR34+DS34 -> 244215 | DU34: 332466
B35: Aizņēmums valsts mērķdotācijas līdzfinansējuma Pleskavas ielas pārbūve1.kārta | C35: 20.05.2019. | D35: 20.12.2029. | E35: A2/1/19/160 | F35: P-111/2019 | G35: valsts kase | H35: 4.058 | I35: mainīga | J35: EUR | K35: 44292 | L35: 6478 | M35: =K35+L35 -> 50770 | N35: 44292 | O35: 10770 | P35: =N35+O35 -> 55062 | Q35: 44292 | R35: 8913 | S35: =Q35+R35 -> 53205 | T35: 44292 | U35: 7056 | V35: =T35+U35 -> 51348 | W35: 44292 | X35: 5199 | Y35: =W35+X35 -> 49491 | Z35: 44292 | AA35: 3341 | AB35: =Z35+AA35 -> 47633 | AC35: 44292 | AD35: 1484 | AE35: =AC35+AD35 -> 45776 | AF35: 0 | AG35: 54 | AH35: =AF35+AG35 -> 54 | AI35: 0 | AJ35: 0 | AK35: =AI35+AJ35 -> 0 | AL35: 0 | AM35: 0 | AN35: =AL35+AM35 -> 0 | AO35: 0 | AP35: 0 | AQ35: =AO35+AP35 -> 0 | AR35: 0 | AS35: 0 | AT35: =AR35+AS35 -> 0 | AU35: 0 | AV35: 0 | AW35: =AU35+AV35 -> 0 | AX35: 0 | AY35: 0 | AZ35: =AX35+AY35 -> 0 | BA35: 0 | BB35: 0 | BC35: =BA35+BB35 -> 0 | BD35: 0 | BE35: 0 | BF35: =BD35+BE35 -> 0 | BG35: 0 | BH35: 0 | BI35: =BG35+BH35 -> 0 | BJ35: 0 | BK35: 0 | BL35: =BJ35+BK35 -> 0 | BM35: 0 | BN35: 0 | BO35: =BM35+BN35 -> 0 | BP35: 0 | BQ35: 0 | BR35: =BP35+BQ35 -> 0 | BS35: 0 | BT35: 0 | BU35: =BS35+BT35 -> 0 | DO35: =+AF35+AI35+AL35+AO35+AR35+AU35+AX35+BA35+BD35+BG35+BJ35+BM35+BP35+BS35+BV35+BY35+CB35+CE35+CH35+CK35+CN35+CQ35+CT35+CW35+CZ35+DC35+DF35+DI35+DL35 -> 0 | DP35: =+AG35+AJ35+AM35+AP35+AS35+AV35+AY35+BB35+BE35+BH35+BK35+BN35+BQ35+BT35+BW35+BZ35+CC35+CF35+CI35+CL35+CO35+CR35+CU35+CX35+DA35+DD35+DG35+DJ35+DM35 -> 54 | DQ35: =DO35+DP35 -> 54 | DR35: =K35+N35+Q35+T35+W35+Z35+AC35+DO35 -> 310044 | DS35: =L35+O35+R35+U35+X35+AA35+AD35+DP35 -> 43295 | DT35: =DR35+DS35 -> 353339 | DU35: 448984
B36: aizņēmums Alūksnes Muižas parka vēsturisko objektu restaurācijai un atjaunošanai | C36: 03.08.2017.; 20.12.2017.; 18.02.2019. | D36: 20.12.2027. | E36: A2/1/17/566 A2/1/17/566-V/17/1; A2/1/17/566-V/19/2 | F36: P-425/2017 | G36: valsts kase | H36: 4.364 | I36: mainīga | J36: EUR | K36: 24904 | L36: 2231 | M36: =K36+L36 -> 27135 | N36: 24904 | O36: 4248 | P36: =N36+O36 -> 29152 | Q36: 24904 | R36: 3138 | S36: =Q36+R36 -> 28042 | T36: 24904 | U36: 2037 | V36: =T36+U36 -> 26941 | W36: 24904 | X36: 933 | Y36: =W36+X36 -> 25837 | AA36: 60 | AB36: =Z36+AA36 -> 60 | DO36: =+AF36+AI36+AL36+AO36+AR36+AU36+AX36+BA36+BD36+BG36+BJ36+BM36+BP36+BS36+BV36+BY36+CB36+CE36+CH36+CK36+CN36+CQ36+CT36+CW36+CZ36+DC36+DF36+DI36+DL36 -> 0 | DP36: =+AG36+AJ36+AM36+AP36+AS36+AV36+AY36+BB36+BE36+BH36+BK36+BN36+BQ36+BT36+BW36+BZ36+CC36+CF36+CI36+CL36+CO36+CR36+CU36+CX36+DA36+DD36+DG36+DJ36+DM36 -> 0 | DQ36: =DO36+DP36 -> 0 | DR36: =K36+N36+Q36+T36+W36+Z36+AC36+DO36 -> 124520 | DS36: =L36+O36+R36+U36+X36+AA36+AD36+DP36 -> 12647 | DT36: =DR36+DS36 -> 137167 | DU36: 201446
B37: aizņēmums "Multifunkcionālās komunālās mašīnas un tā aprīkojuma iegādei" (PA "Spodra") | C37: 07.09.2017. | D37: 20.12.2024. | E37: A2/1/17/656 | F37: P-509/2017 | G37: valsts kase | H37: 2,146/x | I37: mainīga | J37: EUR | K37: 36684 | L37: 1548 | M37: =K37+L37 -> 38232 | N37: 36684 | O37: 1361 | P37: =N37+O37 -> 38045 | R37: 89 | DO37: =+AF37+AI37+AL37+AO37+AR37+AU37+AX37+BA37+BD37+BG37+BJ37+BM37+BP37+BS37+BV37+BY37+CB37+CE37+CH37+CK37+CN37+CQ37+CT37+CW37+CZ37+DC37+DF37+DI37+DL37 -> 0 | DP37: =+AG37+AJ37+AM37+AP37+AS37+AV37+AY37+BB37+BE37+BH37+BK37+BN37+BQ37+BT37+BW37+BZ37+CC37+CF37+CI37+CL37+CO37+CR37+CU37+CX37+DA37+DD37+DG37+DJ37+DM37 -> 0 | DQ37: =DO37+DP37 -> 0 | DR37: =K37+N37+Q37+T37+W37+Z37+AC37+DO37 -> 73368 | DS37: =L37+O37+R37+U37+X37+AA37+AD37+DP37 -> 2998 | DT37: =DR37+DS37 -> 76366 | DU37: 185292
B38: Aizņēmums Alūksnes Pilssalas infrastruktūras izbūvei | C38: 06.10.2017.; 20.12.2017.; 01.06.2018.; 18.02.2019. | D38: 20.12.2028. | E38: A2/1/17/720; A2/1/17/720-V/17/1; A2/1/17/720-V/18/2; A2/1/17/720-V/19/3 | F38: P-572/2017 | G38: valsts kase | H38: 2,75+x | I38: mainīga | J38: EUR | K38: 60620 | L38: 9771 | M38: =K38+L38 -> 70391 | N38: 60620 | O38: 13224 | P38: =N38+O38 -> 73844 | Q38: 60620 | R38: 10534 | S38: =Q38+R38 -> 71154 | T38: 60620 | U38: 7800 | V38: =T38+U38 -> 68420 | W38: 60620 | X38: 5058 | Y38: =W38+X38 -> 65678 | Z38: 60620 | AA38: 2317 | AB38: =Z38+AA38 -> 62937 | AD38: 150 | AE38: =AC38+AD38 -> 150 | DO38: =+AF38+AI38+AL38+AO38+AR38+AU38+AX38+BA38+BD38+BG38+BJ38+BM38+BP38+BS38+BV38+BY38+CB38+CE38+CH38+CK38+CN38+CQ38+CT38+CW38+CZ38+DC38+DF38+DI38+DL38 -> 0 | DP38: =+AG38+AJ38+AM38+AP38+AS38+AV38+AY38+BB38+BE38+BH38+BK38+BN38+BQ38+BT38+BW38+BZ38+CC38+CF38+CI38+CL38+CO38+CR38+CU38+CX38+DA38+DD38+DG38+DJ38+DM38 -> 0 | DQ38: =DO38+DP38 -> 0 | DR38: =K38+N38+Q38+T38+W38+Z38+AC38+DO38 -> 363720 | DS38: =L38+O38+R38+U38+X38+AA38+AD38+DP38 -> 48854 | DT38: =DR38+DS38 -> 412574 | DU38: 552349
B39: aizņēmums ERAF projekta Nr.5.6.2.0/18I/012 "Alūksnes pilsētas rūpnieciskās apbūves teritorijas attīstības 2.kārta" | C39: 30.11.2018. 27.12.2018. 14.01.2019. 17.05.2019. | D39: 52220 | E39: A2/1/18/865; A2/1/18/865-V/18/1; A2/1/18/865-V19/2; A2/1/18/865-V/19/3; A2/1/18/865-ekase | F39: P-718/2018 | G39: Valsts kase | H39: 3.11 | I39: mainīga | J39: EUR | K39: 90320 | L39: 35422 | M39: =K39+L39 -> 125742 | N39: 90320 | O39: 37689 | P39: =N39+O39 -> 128009 | Q39: 90320 | R39: 35148 | S39: =Q39+R39 -> 125468 | T39: 90320 | U39: 31881 | V39: =T39+U39 -> 122201 | W39: 90320 | X39: 28605 | Y39: =W39+X39 -> 118925 | Z39: 90320 | AA39: 25393 | AB39: =Z39+AA39 -> 115713 | AC39: 90320 | AD39: 22048 | AE39: =AC39+AD39 -> 112368 | AF39: 90320 | AG39: 0 | AH39: =AF39+AG39 -> 90320 | AI39: 90320 | AJ39: 0 | AK39: =AI39+AJ39 -> 90320 | AL39: 90320 | AM39: 0 | AN39: =AL39+AM39 -> 90320 | AO39: 90320 | AP39: 0 | AQ39: =AO39+AP39 -> 90320 | AR39: 90320 | AS39: 0 | AT39: =AR39+AS39 -> 90320 | AU39: 80537 | AV39: 0 | AW39: =AU39+AV39 -> 80537 | AX39: 0 | AY39: 0 | AZ39: =AX39+AY39 -> 0 | BA39: 0 | BB39: 0 | BC39: =BA39+BB39 -> 0 | BD39: 0 | BE39: 0 | BF39: =BD39+BE39 -> 0 | BG39: 0 | BH39: 0 | BI39: =BG39+BH39 -> 0 | BJ39: 0 | BK39: 0 | BL39: =BJ39+BK39 -> 0 | BM39: 0 | BN39: 0 | BO39: =BM39+BN39 -> 0 | BP39: 0 | BQ39: 0 | BR39: =BP39+BQ39 -> 0 | BS39: 0 | BT39: 0 | BU39: =BS39+BT39 -> 0 | BV39: 0 | BW39: 0 | BX39: =BV39+BW39 -> 0 | BY39: 0 | BZ39: 0 | CA39: =BY39+BZ39 -> 0 | CB39: 0 | CC39: 0 | CD39: =CB39+CC39 -> 0 | CE39: 0 | CF39: 0 | CG39: =CE39+CF39 -> 0 | CH39: 0 | CI39: 0 | CJ39: =CH39+CI39 -> 0 | CK39: 0 | CL39: 0 | CM39: =CK39+CL39 -> 0 | CN39: 0 | CO39: 0 | CP39: =CN39+CO39 -> 0 | DO39: =+AF39+AI39+AL39+AO39+AR39+AU39+AX39+BA39+BD39+BG39+BJ39+BM39+BP39+BS39+BV39+BY39+CB39+CE39+CH39+CK39+CN39+CQ39+CT39+CW39+CZ39+DC39+DF39+DI39+DL39 -> 532137 | DP39: 63696 | DQ39: =DO39+DP39 -> 595833 | DR39: =K39+N39+Q39+T39+W39+Z39+AC39+DO39 -> 1164377 | DS39: =L39+O39+R39+U39+X39+AA39+AD39+DP39 -> 279882 | DT39: =DR39+DS39 -> 1444259 | DU39: 1466883
B40: aizņēmums projekta "Ernsta Glika Alūksnes Valsts ģimnāzijas mācību vides uzlabošanas būvprojekta izstrāde" īstenošanai | C40: 31.01.2018. | D40: 20.12.2023. | E40: A2/1/18/27 | F40: P-20/2018 | G40: valsts kase | H40: 3.613 | I40: mainīga | J40: EUR | K40: 24900 | L40: 496 | M40: =K40+L40 -> 25396 | P40: =N40+O40 -> 0 | S40: =Q40+R40 -> 0 | V40: =T40+U40 -> 0 | Y40: =W40+X40 -> 0 | AB40: =Z40+AA40 -> 0 | AE40: =AC40+AD40 -> 0 | AH40: =AF40+AG40 -> 0 | AK40: =AI40+AJ40 -> 0 | AN40: =AL40+AM40 -> 0 | AQ40: =AO40+AP40 -> 0 | AT40: =AR40+AS40 -> 0 | AW40: =AU40+AV40 -> 0 | AZ40: =AX40+AY40 -> 0 | DO40: =+AF40+AI40+AL40+AO40+AR40+AU40+AX40+BA40+BD40+BG40+BJ40+BM40+BP40+BS40+BV40+BY40+CB40+CE40+CH40+CK40+CN40+CQ40+CT40+CW40+CZ40+DC40+DF40+DI40+DL40 -> 0 | DP40: =+AG40+AJ40+AM40+AP40+AS40+AV40+AY40+BB40+BE40+BH40+BK40+BN40+BQ40+BT40+BW40+BZ40+CC40+CF40+CI40+CL40+CO40+CR40+CU40+CX40+DA40+DD40+DG40+DJ40+DM40 -> 0 | DQ40: =DO40+DP40 -> 0 | DR40: =K40+N40+Q40+T40+W40+Z40+AC40+DO40 -> 24900 | DS40: =L40+O40+R40+U40+X40+AA40+AD40+DP40 -> 496 | DT40: =DR40+DS40 -> 25396 | DU40: 100193
B41: aizņēmums projekta "Ernsta Glika Alūksnes Valsts ģimnāzijas mācību vides uzlabošanas būvprojekta izstrāde" īstenošanai papildu | C41: 22.06.2021. 12.01.2022. | D41: 22.12.2036. | E41: A2/1/21/321; A2/1/21/321-V/22/1 | F41: P-210/2021 | G41: valsts kase | H41: 4.551 | I41: mainīga | J41: EUR | K41: 27530 | L41: 6163 | M41: =K41+L41 -> 33693 | N41: 2346 | O41: 120 | P41: =N41+O41 -> 2466 | Q41: 0 | R41: 0 | S41: =Q41+R41 -> 0 | T41: 0 | U41: 0 | V41: =T41+U41 -> 0 | W41: 0 | X41: 0 | Y41: =W41+X41 -> 0 | Z41: 0 | AA41: 0 | AB41: =Z41+AA41 -> 0 | AC41: 0 | AD41: 0 | AE41: =AC41+AD41 -> 0 | AF41: 0 | AG41: 0 | AH41: =AF41+AG41 -> 0 | AI41: 0 | AJ41: 0 | AK41: =AI41+AJ41 -> 0 | AL41: 0 | AM41: 0 | AN41: =AL41+AM41 -> 0 | AO41: 0 | AP41: 0 | AQ41: =AO41+AP41 -> 0 | AR41: 0 | AS41: 0 | AT41: =AR41+AS41 -> 0 | AU41: 0 | AV41: 0 | AW41: =AU41+AV41 -> 0 | AX41: 0 | AY41: 0 | AZ41: =AX41+AY41 -> 0 | BB41: 0 | DO41: =+AF41+AI41+AL41+AO41+AR41+AU41+AX41+BA41+BD41+BG41+BJ41+BM41+BP41+BS41+BV41+BY41+CB41+CE41+CH41+CK41+CN41+CQ41+CT41+CW41+CZ41+DC41+DF41+DI41+DL41 -> 0 | DP41: =+AG41+AJ41+AM41+AP41+AS41+AV41+AY41+BB41+BE41+BH41+BK41+BN41+BQ41+BT41+BW41+BZ41+CC41+CF41+CI41+CL41+CO41+CR41+CU41+CX41+DA41+DD41+DG41+DJ41+DM41 -> 0 | DQ41: =DO41+DP41 -> 0 | DR41: =K41+N41+Q41+T41+W41+Z41+AC41+DO41 -> 29876 | DS41: =L41+O41+R41+U41+X41+AA41+AD41+DP41 -> 6283 | DT41: =DR41+DS41 -> 36159
B42: ERAF projekta "Ernsta Glika Alūksnes Valsts ģimnāzijas mācību vides uzlabošanas būvprojekta izstrāde" īstenošanai papildu 2.aizdevums | C42: 28.01.2022. | D42: 20.01.2037. | E42: A2/1/22/12 | F42: P-3/2022 | G42: valsts kase | H42: 3.844 | I42: mainīga | J42: EUR | K42: 70810 | L42: 30075 | M42: =K42+L42 -> 100885 | N42: 70884 | O42: 35869 | P42: =N42+O42 -> 106753 | Q42: 70884 | R42: 33053 | S42: =Q42+R42 -> 103937 | T42: 70884 | U42: 30237 | V42: =T42+U42 -> 101121 | W42: 70884 | X42: 27422 | Y42: =W42+X42 -> 98306 | Z42: 70884 | AA42: 24606 | AB42: =Z42+AA42 -> 95490 | AC42: 70884 | AD42: 21791 | AE42: =AC42+AD42 -> 92675 | AF42: 70884 | AG42: 0 | AH42: =AF42+AG42 -> 70884 | AI42: 70884 | AJ42: 0 | AK42: =AI42+AJ42 -> 70884 | AL42: 70884 | AM42: 0 | AN42: =AL42+AM42 -> 70884 | AO42: 65716 | AP42: 0 | AQ42: =AO42+AP42 -> 65716 | AR42: 65716 | AS42: 0 | AT42: =AR42+AS42 -> 65716 | AU42: 65716 | AV42: 0 | AW42: =AU42+AV42 -> 65716 | AX42: 65716 | AY42: 0 | AZ42: =AX42+AY42 -> 65716 | BA42: 16429 | BB42: 0 | BC42: =BA42+BB42 -> 16429 | DO42: =+AF42+AI42+AL42+AO42+AR42+AU42+AX42+BA42+BD42+BG42+BJ42+BM42+BP42+BS42+BV42+BY42+CB42+CE42+CH42+CK42+CN42+CQ42+CT42+CW42+CZ42+DC42+DF42+DI42+DL42 -> 491945 | DP42: 75461 | DQ42: =DO42+DP42 -> 567406 | DR42: =K42+N42+Q42+T42+W42+Z42+AC42+DO42 -> 988059 | DS42: =L42+O42+R42+U42+X42+AA42+AD42+DP42 -> 278514 | DT42: =DR42+DS42 -> 1266573
B43: aizņēmums projekta "Lietus kanalizācijas sistēmas izbūve un ielu seguma atjaunošana" īstenošanai ( O.Vācieša un Dārza ielu rekonstrukcijai) | C43: 29.10.2018.; 30.11.2018. | D43: 20.12.2028. | E43: A2/1/18/751; A2/1/18/751-V/18/1 | F43: P-628/2018 | G43: Valsts kase | H43: 4.354 | I43: mainīga | J43: EUR | K43: 17772 | L43: 2974 | M43: =K43+L43 -> 20746 | N43: 17772 | O43: 3816 | P43: =N43+O43 -> 21588 | Q43: 17772 | R43: 3061 | S43: =Q43+R43 -> 20833 | T43: 17772 | U43: 2265 | V43: =T43+U43 -> 20037 | W43: 17772 | X43: 1469 | Y43: =W43+X43 -> 19241 | Z43: 17772 | AA43: 673 | AB43: =Z43+AA43 -> 18445 | AD43: 43 | AE43: =AC43+AD43 -> 43 | DO43: =+AF43+AI43+AL43+AO43+AR43+AU43+AX43+BA43+BD43+BG43+BJ43+BM43+BP43+BS43+BV43+BY43+CB43+CE43+CH43+CK43+CN43+CQ43+CT43+CW43+CZ43+DC43+DF43+DI43+DL43 -> 0 | DP43: =+AG43+AJ43+AM43+AP43+AS43+AV43+AY43+BB43+BE43+BH43+BK43+BN43+BQ43+BT43+BW43+BZ43+CC43+CF43+CI43+CL43+CO43+CR43+CU43+CX43+DA43+DD43+DG43+DJ43+DM43 -> 0 | DQ43: =DO43+DP43 -> 0 | DR43: =K43+N43+Q43+T43+W43+Z43+AC43+DO43 -> 106632 | DS43: =L43+O43+R43+U43+X43+AA43+AD43+DP43 -> 14301 | DT43: =DR43+DS43 -> 120933 | DU43: 161932
B44: aizņēmums prioritāro invesīciju projekta "Nekustamā īpašuma Uzvaras iela 1, Alūksnē, Alūksnes novadā" īstenošanai | C44: 15.11.2018. | D44: 20.12.2028. | E44: A2/1/18/795 | F44: P-667/2018 | G44: Valsts kase | H44: 4.409 | I44: mainīga | J44: EUR | K44: 13000 | L44: 2196 | M44: =K44+L44 -> 15196 | N44: 13000 | O44: 2725 | P44: =N44+O44 -> 15725 | Q44: 13000 | R44: 2234 | S44: =Q44+R44 -> 15234 | T44: 13000 | U44: 1654 | V44: =T44+U44 -> 14654 | W44: 13000 | X44: 1073 | Y44: =W44+X44 -> 14073 | Z44: 13000 | AA44: 492 | AB44: =Z44+AA44 -> 13492 | AD44: 32 | AE44: =AC44+AD44 -> 32 | AH44: =AF44+AG44 -> 0 | DO44: =+AF44+AI44+AL44+AO44+AR44+AU44+AX44+BA44+BD44+BG44+BJ44+BM44+BP44+BS44+BV44+BY44+CB44+CE44+CH44+CK44+CN44+CQ44+CT44+CW44+CZ44+DC44+DF44+DI44+DL44 -> 0 | DP44: =+AG44+AJ44+AM44+AP44+AS44+AV44+AY44+BB44+BE44+BH44+BK44+BN44+BQ44+BT44+BW44+BZ44+CC44+CF44+CI44+CL44+CO44+CR44+CU44+CX44+DA44+DD44+DG44+DJ44+DM44 -> 0 | DQ44: =DO44+DP44 -> 0 | DR44: =K44+N44+Q44+T44+W44+Z44+AC44+DO44 -> 78000 | DS44: =L44+O44+R44+U44+X44+AA44+AD44+DP44 -> 10406 | DT44: =DR44+DS44 -> 88406 | DU44: 118451
B45: aiņēmums ERAF projektam "Infrastruktūras risinājumi deinstitucionālizācijas īstenošanai Alūksnes novadā" Nr.9.3.1.1/19/I/048 (ēkas Uzvaras iela 1 pārbūve) | C45: 01.06.2020. | D45: 20.12.2031. | E45: A2/1/20/254 | F45: P-139/2020 | G45: Valsts kase | H45: 5.104 | I45: mainīga | J45: EUR | K45: 14048 | L45: 3774 | M45: =K45+L45 -> 17822 | N45: 14048 | O45: 5778 | P45: =N45+O45 -> 19826 | Q45: 14048 | R45: 5037 | S45: =Q45+R45 -> 19085 | T45: 14048 | U45: 4297 | V45: =T45+U45 -> 18345 | W45: 14048 | X45: 3556 | Y45: =W45+X45 -> 17604 | Z45: 14048 | AA45: 2815 | AB45: =Z45+AA45 -> 16863 | AC45: 14048 | AD45: 2074 | AE45: =AC45+AD45 -> 16122 | AF45: 14048 | AG45: 1333 | AH45: =AF45+AG45 -> 15381 | AI45: 14048 | AJ45: 592 | AK45: =AI45+AJ45 -> 14640 | AM45: 21 | AN45: =AL45+AM45 -> 21 | DO45: =+AF45+AI45+AL45+AO45+AR45+AU45+AX45+BA45+BD45+BG45+BJ45+BM45+BP45+BS45+BV45+BY45+CB45+CE45+CH45+CK45+CN45+CQ45+CT45+CW45+CZ45+DC45+DF45+DI45+DL45 -> 28096 | DP45: =+AG45+AJ45+AM45+AP45+AS45+AV45+AY45+BB45+BE45+BH45+BK45+BN45+BQ45+BT45+BW45+BZ45+CC45+CF45+CI45+CL45+CO45+CR45+CU45+CX45+DA45+DD45+DG45+DJ45+DM45 -> 1946 | DQ45: =DO45+DP45 -> 30042 | DR45: =K45+N45+Q45+T45+W45+Z45+AC45+DO45 -> 126432 | DS45: =L45+O45+R45+U45+X45+AA45+AD45+DP45 -> 29277 | DT45: =DR45+DS45 -> 155709 | DU45: 151364
B46: aizņēmums LAT-RUS projektam "630 verstis pilnas sajūtām" | C46: 29.11.2019. | D46: 20.12.2030. | E46: A2/1/19/436 | F46: P-274/2019 | G46: Valsts kase | H46: 3.129 | I46: mainīga | J46: EUR | K46: 21480 | L46: 4537 | M46: =K46+L46 -> 26017 | N46: 21480 | O46: 5233 | P46: =N46+O46 -> 26713 | Q46: 21480 | R46: 4550 | S46: =Q46+R46 -> 26030 | T46: 21480 | U46: 3773 | V46: =T46+U46 -> 25253 | W46: 21480 | X46: 2994 | Y46: =W46+X46 -> 24474 | Z46: 21480 | AA46: 2220 | AB46: =Z46+AA46 -> 23700 | AC46: 21480 | AD46: 1435 | AE46: =AC46+AD46 -> 22915 | AF46: 21480 | AG46: 0 | AH46: =AF46+AG46 -> 21480 | DO46: =+AF46+AI46+AL46+AO46+AR46+AU46+AX46+BA46+BD46+BG46+BJ46+BM46+BP46+BS46+BV46+BY46+CB46+CE46+CH46+CK46+CN46+CQ46+CT46+CW46+CZ46+DC46+DF46+DI46+DL46 -> 21480 | DP46: 699 | DQ46: =DO46+DP46 -> 22179 | DR46: =K46+N46+Q46+T46+W46+Z46+AC46+DO46 -> 171840 | DS46: =L46+O46+R46+U46+X46+AA46+AD46+DP46 -> 25441 | DT46: =DR46+DS46 -> 197281 | DU46: 218155
B47: aizņēmums LAT-RUS projektam "630 verstis pilnas sajūtām" papildus | C47: 06.10.2020. | D47: 20.12.2030. | E47: A2/1/20/704 | F47: P-371/2020 | G47: Valsts kase | H47: 2.883 | I47: mainīga | J47: EUR | K47: 5768 | L47: 1305 | M47: =K47+L47 -> 7073 | N47: 5768 | O47: 1888 | P47: =N47+O47 -> 7656 | Q47: 5768 | R47: 1618 | S47: =Q47+R47 -> 7386 | T47: 5768 | U47: 1341 | V47: =T47+U47 -> 7109 | W47: 5768 | X47: 1064 | Y47: =W47+X47 -> 6832 | Z47: 5768 | AA47: 789 | AB47: =Z47+AA47 -> 6557 | AC47: 5768 | AD47: 510 | AE47: =AC47+AD47 -> 6278 | AF47: 5768 | AG47: 234 | AH47: =AF47+AG47 -> 6002 | AJ47: 15 | AK47: =AI47+AJ47 -> 15 | DO47: =+AF47+AI47+AL47+AO47+AR47+AU47+AX47+BA47+BD47+BG47+BJ47+BM47+BP47+BS47+BV47+BY47+CB47+CE47+CH47+CK47+CN47+CQ47+CT47+CW47+CZ47+DC47+DF47+DI47+DL47 -> 5768 | DP47: =+AG47+AJ47+AM47+AP47+AS47+AV47+AY47+BB47+BE47+BH47+BK47+BN47+BQ47+BT47+BW47+BZ47+CC47+CF47+CI47+CL47+CO47+CR47+CU47+CX47+DA47+DD47+DG47+DJ47+DM47 -> 249 | DQ47: =DO47+DP47 -> 6017 | DR47: =K47+N47+Q47+T47+W47+Z47+AC47+DO47 -> 46144 | DS47: =L47+O47+R47+U47+X47+AA47+AD47+DP47 -> 8764 | DT47: =DR47+DS47 -> 54908 | DU47: 53444
B48: aizņēmums ERAF projektam "Uzņēmējdarbībai nozīmīgas infrastruktūras attīstība Alūksnes pilsētā" | C48: 31.08.2020. | D48: 20.12.2031. | E48: A2/1/20/604 | F48: P-274/2020 | G48: Valsts kase | H48: 5.18 | I48: mainīga | J48: EUR | K48: 11520 | L48: 3074 | M48: =K48+L48 -> 14594 | N48: 11520 | O48: 4613 | P48: =N48+O48 -> 16133 | Q48: 11520 | R48: 3996 | S48: =Q48+R48 -> 15516 | T48: 11520 | U48: 3392 | V48: =T48+U48 -> 14912 | W48: 11520 | X48: 2787 | Y48: =W48+X48 -> 14307 | Z48: 11520 | AA48: 2186 | AB48: =Z48+AA48 -> 13706 | AC48: 11520 | AD48: 1575 | AE48: =AC48+AD48 -> 13095 | AF48: 11520 | AG48: 970 | AH48: =AF48+AG48 -> 12490 | AI48: 8758 | AJ48: 366 | AK48: =AI48+AJ48 -> 9124 | AM48: 2 | AN48: =AL48+AM48 -> 2 | AQ48: =AO48+AP48 -> 0 | AT48: =AR48+AS48 -> 0 | AW48: =AU48+AV48 -> 0 | AZ48: =AX48+AY48 -> 0 | BC48: =BA48+BB48 -> 0 | BF48: =BD48+BE48 -> 0 | BI48: =BG48+BH48 -> 0 | BL48: =BJ48+BK48 -> 0 | BO48: =BM48+BN48 -> 0 | BR48: =BP48+BQ48 -> 0 | DO48: =+AF48+AI48+AL48+AO48+AR48+AU48+AX48+BA48+BD48+BG48+BJ48+BM48+BP48+BS48+BV48+BY48+CB48+CE48+CH48+CK48+CN48+CQ48+CT48+CW48+CZ48+DC48+DF48+DI48+DL48 -> 20278 | DP48: =+AG48+AJ48+AM48+AP48+AS48+AV48+AY48+BB48+BE48+BH48+BK48+BN48+BQ48+BT48+BW48+BZ48+CC48+CF48+CI48+CL48+CO48+CR48+CU48+CX48+DA48+DD48+DG48+DJ48+DM48 -> 1338 | DQ48: =DO48+DP48 -> 21616 | DR48: =K48+N48+Q48+T48+W48+Z48+AC48+DO48 -> 100918 | DS48: =L48+O48+R48+U48+X48+AA48+AD48+DP48 -> 22961 | DT48: =DR48+DS48 -> 123879 | DU48: 123255
B49: aizņēmums ERAF projektam "Uzņēmējdarbībai nozīmīgas infrastruktūras attīstība Alūksnes pilsētā" | C49: 31.08.2020. | D49: 20.12.2031. | E49: A2/1/20/603 | F49: P-275/2020 | G49: Valsts kase | H49: 4.58 | I49: mainīgā | J49: EUR | K49: 3428 | L49: 321 | M49: =K49+L49 -> 3749 | N49: 3428 | O49: 443 | P49: =N49+O49 -> 3871 | Q49: 3428 | R49: 283 | S49: =Q49+R49 -> 3711 | T49: 3195 | U49: 124 | V49: =T49+U49 -> 3319 | W49: 0 | X49: 6 | Y49: =W49+X49 -> 6 | Z49: 0 | AA49: 0 | AB49: =Z49+AA49 -> 0 | AC49: 0 | AD49: 0 | AE49: =AC49+AD49 -> 0 | AF49: 0 | AG49: 0 | AH49: =AF49+AG49 -> 0 | AI49: 0 | AJ49: 0 | AK49: =AI49+AJ49 -> 0 | DO49: =+AF49+AI49+AL49+AO49+AR49+AU49+AX49+BA49+BD49+BG49+BJ49+BM49+BP49+BS49+BV49+BY49+CB49+CE49+CH49+CK49+CN49+CQ49+CT49+CW49+CZ49+DC49+DF49+DI49+DL49 -> 0 | DP49: =+AG49+AJ49+AM49+AP49+AS49+AV49+AY49+BB49+BE49+BH49+BK49+BN49+BQ49+BT49+BW49+BZ49+CC49+CF49+CI49+CL49+CO49+CR49+CU49+CX49+DA49+DD49+DG49+DJ49+DM49 -> 0 | DQ49: =DO49+DP49 -> 0 | DR49: =K49+N49+Q49+T49+W49+Z49+AC49+DO49 -> 13479 | DS49: =L49+O49+R49+U49+X49+AA49+AD49+DP49 -> 1177 | DT49: =DR49+DS49 -> 14656 | DU49: 35350
B50: aizņēmums pašvaldības transporta infrastruktūras attīstības projekts "Baložu bulvāra pārbūve Alūksnē, Alūksnes novadā" | C50: 31.08.2020. | D50: 20.12.2031. | E50: A2/1/20/601 | F50: P-277/2020 | G50: Valsts kase | H50: 4.58 | I50: mainīga | J50: EUR | K50: 12664 | L50: 2792 | M50: =K50+L50 -> 15456 | N50: 12664 | O50: 4625 | P50: =N50+O50 -> 17289 | Q50: 12664 | R50: 4025 | S50: =Q50+R50 -> 16689 | T50: 12664 | U50: 3438 | V50: =T50+U50 -> 16102 | W50: 12664 | X50: 2850 | Y50: =W50+X50 -> 15514 | Z50: 12664 | AA50: 2266 | AB50: =Z50+AA50 -> 14930 | AC50: 12664 | AD50: 1672 | AE50: =AC50+AD50 -> 14336 | AF50: 12664 | AG50: 1084 | AH50: =AF50+AG50 -> 13748 | AI50: 12664 | AJ50: 497 | AK50: =AI50+AJ50 -> 13161 | AM50: 33 | AN50: =AL50+AM50 -> 33 | AQ50: =AO50+AP50 -> 0 | AT50: =AR50+AS50 -> 0 | AW50: =AU50+AV50 -> 0 | AZ50: =AX50+AY50 -> 0 | BC50: =BA50+BB50 -> 0 | BF50: =BD50+BE50 -> 0 | BI50: =BG50+BH50 -> 0 | BL50: =BJ50+BK50 -> 0 | BO50: =BM50+BN50 -> 0 | BR50: =BP50+BQ50 -> 0 | DO50: =+AF50+AI50+AL50+AO50+AR50+AU50+AX50+BA50+BD50+BG50+BJ50+BM50+BP50+BS50+BV50+BY50+CB50+CE50+CH50+CK50+CN50+CQ50+CT50+CW50+CZ50+DC50+DF50+DI50+DL50 -> 25328 | DP50: =+AG50+AJ50+AM50+AP50+AS50+AV50+AY50+BB50+BE50+BH50+BK50+BN50+BQ50+BT50+BW50+BZ50+CC50+CF50+CI50+CL50+CO50+CR50+CU50+CX50+DA50+DD50+DG50+DJ50+DM50 -> 1614 | DQ50: =DO50+DP50 -> 26942 | DR50: =K50+N50+Q50+T50+W50+Z50+AC50+DO50 -> 113976 | DS50: =L50+O50+R50+U50+X50+AA50+AD50+DP50 -> 23282 | DT50: =DR50+DS50 -> 137258 | DU50: 130661
B51: Aizņēmums KF projektam "Zāļo un dārza atkritumu kompostēšanas laukuma izveide Alūksnes novadā" | C51: 24.02.2021. 28.10.2021. | D51: 20.12.2032. | E51: A2/1/21/37; A2/1/21/37-V/21/1; A2/1/21/37-V/21/2 | F51: P-9/2021 | G51: Valsts kase | H51: 0.85 | I51: mainīga | J51: EUR | K51: 16724 | L51: 1092 | M51: =K51+L51 -> 17816 | N51: 16724 | O51: 910 | P51: =N51+O51 -> 17634 | Q51: 16724 | R51: 763 | S51: =Q51+R51 -> 17487 | T51: 16724 | U51: 616 | V51: =T51+U51 -> 17340 | W51: 16724 | X51: 469 | Y51: =W51+X51 -> 17193 | Z51: 16724 | AA51: 323 | AB51: =Z51+AA51 -> 17047 | AC51: 16724 | AD51: 176 | AE51: =AC51+AD51 -> 16900 | AF51: 6619 | AG51: 0 | AH51: =AF51+AG51 -> 6619 | AI51: 0 | AJ51: 0 | AK51: =AI51+AJ51 -> 0 | DO51: =+AF51+AI51+AL51+AO51+AR51+AU51+AX51+BA51+BD51+BG51+BJ51+BM51+BP51+BS51+BV51+BY51+CB51+CE51+CH51+CK51+CN51+CQ51+CT51+CW51+CZ51+DC51+DF51+DI51+DL51 -> 6619 | DP51: 35 | DQ51: =DO51+DP51 -> 6654 | DR51: =K51+N51+Q51+T51+W51+Z51+AC51+DO51 -> 123687 | DS51: =L51+O51+R51+U51+X51+AA51+AD51+DP51 -> 4384 | DT51: =DR51+DS51 -> 128071
B52: aizņēmums Izglītības un sporta centra izveidei Alūksnes pilsētā | C52: 28.07.2021. | D52: 20.12.2050. | E52: A2/1/21/435 | F52: P-315/2021 | G52: Valsts kase | H52: 1.864 | I52: mainīga | J52: EUR | K52: 206153 | L52: 128999 | M52: =K52+L52 -> 335152 | N52: 206224 | O52: 279151 | P52: =N52+O52 -> 485375 | Q52: 206224 | R52: 268028 | S52: =Q52+R52 -> 474252 | T52: 206224 | U52: 257678 | V52: =T52+U52 -> 463902 | W52: 206224 | X52: 247300 | Y52: =W52+X52 -> 453524 | Z52: 206224 | AA52: 237555 | AB52: =Z52+AA52 -> 443779 | AC52: 206224 | AD52: 226530 | AE52: =AC52+AD52 -> 432754 | AF52: 206224 | AG52: 216160 | AH52: =AF52+AG52 -> 422384 | AI52: 206224 | AJ52: 205803 | AK52: =AI52+AJ52 -> 412027 | AL52: 206224 | AM52: 195993 | AN52: =AL52+AM52 -> 402217 | AO52: 206224 | AP52: 185054 | AQ52: =AO52+AP52 -> 391278 | AR52: 206224 | AS52: 174677 | AT52: =AR52+AS52 -> 380901 | AU52: 206224 | AV52: 164306 | AW52: =AU52+AV52 -> 370530 | AX52: 206224 | AY52: 154375 | AZ52: =AX52+AY52 -> 360599 | BA52: 206224 | BB52: 143600 | BC52: =BA52+BB52 -> 349824 | BD52: 206224 | BE52: 133222 | BF52: =BD52+BE52 -> 339446 | BG52: 206224 | BH52: 122830 | BI52: =BG52+BH52 -> 329054 | BJ52: 206224 | BK52: 112765 | BL52: =BJ52+BK52 -> 318989 | BM52: 206224 | BN52: 102081 | BO52: =BM52+BN52 -> 308305 | BP52: 206224 | BQ52: 91725 | BR52: =BP52+BQ52 -> 297949 | BS52: 206224 | BT52: 81375 | BU52: =BS52+BT52 -> 287599 | BV52: 206224 | BW52: 71182 | BX52: =BV52+BW52 -> 277406 | BY52: 206224 | BZ52: 60598 | CA52: =BY52+BZ52 -> 266822 | CB52: 206224 | CC52: 50227 | CD52: =CB52+CC52 -> 256451 | CE52: 206224 | CF52: 39857 | CG52: =CE52+CF52 -> 246081 | CH52: 206224 | CI52: 29592 | CJ52: =CH52+CI52 -> 235816 | CK52: 206224 | CL52: 19143 | CM52: =CK52+CL52 -> 225367 | CN52: 206224 | CO52: 8751 | CP52: =CN52+CO52 -> 214975 | CQ52: 0 | CR52: 568 | CS52: =CQ52+CR52 -> 568 | CT52: 0 | CU52: 0 | CV52: =CT52+CU52 -> 0 | CW52: 0 | CX52: 0 | CY52: =CW52+CX52 -> 0 | CZ52: 0 | DA52: 0 | DB52: =CZ52+DA52 -> 0 | DC52: 0 | DD52: 0 | DE52: =DC52+DD52 -> 0 | DF52: 0 | DG52: 0 | DH52: =DF52+DG52 -> 0 | DI52: 0 | DJ52: 0 | DK52: =DI52+DJ52 -> 0 | DO52: =+AF52+AI52+AL52+AO52+AR52+AU52+AX52+BA52+BD52+BG52+BJ52+BM52+BP52+BS52+BV52+BY52+CB52+CE52+CH52+CK52+CN52+CQ52+CT52+CW52+CZ52+DC52+DF52+DI52+DL52 -> 4330704 | DP52: =+AG52+AJ52+AM52+AP52+AS52+AV52+AY52+BB52+BE52+BH52+BK52+BN52+BQ52+BT52+BW52+BZ52+CC52+CF52+CI52+CL52+CO52+CR52+CU52+CX52+DA52+DD52+DG52+DJ52+DM52 -> 2363884 | DQ52: =DO52+DP52 -> 6694588 | DR52: =K52+N52+Q52+T52+W52+Z52+AC52+DO52 -> 5774201 | DS52: =L52+O52+R52+U52+X52+AA52+AD52+DP52 -> 4009125 | DT52: =DR52+DS52 -> 9783326
B53: projekta "Izglītības un sporta centra izveide Alūksnes pilsētā" investīciju īstenošana (papildus) | C53: 05.10.2022. | D53: 20.09.2051. | E53: A2/1/22/411 | F53: P-283/2022 | G53: Valsts kase | H53: 6.122 | I53: mainīga | J53: EUR | K53: 14617 | L53: 15401 | M53: =K53+L53 -> 30018 | N53: 14724 | O53: 25205 | P53: =N53+O53 -> 39929 | Q53: 14724 | R53: 24305 | S53: =Q53+R53 -> 39029 | T53: 14724 | U53: 23393 | V53: =T53+U53 -> 38117 | W53: 14724 | X53: 22479 | Y53: =W53+X53 -> 37203 | Z53: 14724 | AA53: 21622 | AB53: =Z53+AA53 -> 36346 | AC53: 14724 | AD53: 20648 | AE53: =AC53+AD53 -> 35372 | AF53: 14724 | AG53: 19734 | AH53: =AF53+AG53 -> 34458 | AI53: 14724 | AJ53: 18822 | AK53: =AI53+AJ53 -> 33546 | AL53: 14724 | AM53: 17959 | AN53: =AL53+AM53 -> 32683 | AO53: 14724 | AP53: 16993 | AQ53: =AO53+AP53 -> 31717 | AR53: 14724 | AS53: 16079 | AT53: =AR53+AS53 -> 30803 | AU53: 14724 | AV53: 15165 | AW53: =AU53+AV53 -> 29889 | AX53: 14724 | AY53: 14292 | AZ53: =AX53+AY53 -> 29016 | BA53: 14724 | BB53: 13340 | BC53: =BA53+BB53 -> 28064 | BD53: 14724 | BE53: 12426 | BF53: =BD53+BE53 -> 27150 | BG53: 14724 | BH53: 11510 | BI53: =BG53+BH53 -> 26234 | BJ53: 14724 | BK53: 10625 | BL53: =BJ53+BK53 -> 25349 | BM53: 14724 | BN53: 9681 | BO53: =BM53+BN53 -> 24405 | BP53: 14724 | BQ53: 8769 | BR53: =BP53+BQ53 -> 23493 | BS53: 14724 | BT53: 7857 | BU53: =BS53+BT53 -> 22581 | BV53: 14724 | BW53: 6960 | BX53: =BV53+BW53 -> 21684 | BY53: 14724 | BZ53: 6026 | CA53: =BY53+BZ53 -> 20750 | CB53: 14724 | CC53: 5112 | CD53: =CB53+CC53 -> 19836 | CE53: 14724 | CF53: 4198 | CG53: =CE53+CF53 -> 18922 | CH53: 14724 | CI53: 3295 | CJ53: =CH53+CI53 -> 18019 | CK53: 14724 | CL53: 2372 | CM53: =CK53+CL53 -> 17096 | CN53: 14724 | CO53: 1456 | CP53: =CN53+CO53 -> 16180 | CQ53: 11043 | CR53: 542 | CS53: =CQ53+CR53 -> 11585 | CU53: 0 | CV53: =CT53+CU53 -> 0 | CY53: =CW53+CX53 -> 0 | DB53: =CZ53+DA53 -> 0 | DE53: =DC53+DD53 -> 0 | DH53: =DF53+DG53 -> 0 | DK53: =DI53+DJ53 -> 0 | DN53: =DL53+DM53 -> 0 | DO53: =+AF53+AI53+AL53+AO53+AR53+AU53+AX53+BA53+BD53+BG53+BJ53+BM53+BP53+BS53+BV53+BY53+CB53+CE53+CH53+CK53+CN53+CQ53+CT53+CW53+CZ53+DC53+DF53+DI53+DL53 -> 320247 | DP53: =+AG53+AJ53+AM53+AP53+AS53+AV53+AY53+BB53+BE53+BH53+BK53+BN53+BQ53+BT53+BW53+BZ53+CC53+CF53+CI53+CL53+CO53+CR53+CU53+CX53+DA53+DD53+DG53+DJ53+DM53 -> 223213 | DQ53: =DO53+DP53 -> 543460 | DR53: =K53+N53+Q53+T53+W53+Z53+AC53+DO53 -> 423208 | DS53: =L53+O53+R53+U53+X53+AA53+AD53+DP53 -> 376266 | DT53: =DR53+DS53 -> 799474
B54: aizņēmums LAT_RUS projektam "630 verstis pilnas sajūtām" (multimediju projekcija) | C54: 27.05.2021. | D54: 20.12.2030. | E54: A2/1/21/243 | F54: P-155/2021 | G54: Valsts kase | H54: 4.265 | I54: mainīga | J54: EUR | K54: 2000 | L54: 372 | M54: =K54+L54 -> 2372 | N54: 2000 | O54: 599 | P54: =N54+O54 -> 2599 | Q54: 2000 | R54: 511 | S54: =Q54+R54 -> 2511 | T54: 2000 | U54: 423 | V54: =T54+U54 -> 2423 | W54: 2000 | X54: 335 | Y54: =W54+X54 -> 2335 | Z54: 2000 | AA54: 247 | AB54: =Z54+AA54 -> 2247 | AC54: 2000 | AD54: 159 | AE54: =AC54+AD54 -> 2159 | AF54: 2000 | AG54: 70 | AH54: =AF54+AG54 -> 2070 | AJ54: 3 | AK54: =AI54+AJ54 -> 3 | AQ54: =AO54+AP54 -> 0 | BX54: =BV54+BW54 -> 0 | CA54: =BY54+BZ54 -> 0 | CD54: =CB54+CC54 -> 0 | CG54: =CE54+CF54 -> 0 | CJ54: =CH54+CI54 -> 0 | CM54: =CK54+CL54 -> 0 | CP54: =CN54+CO54 -> 0 | CQ54: 0 | CR54: 0 | CS54: =CQ54+CR54 -> 0 | CT54: 0 | CU54: 0 | CV54: =CT54+CU54 -> 0 | CW54: 0 | CX54: 0 | CY54: =CW54+CX54 -> 0 | CZ54: 0 | DA54: 0 | DB54: =CZ54+DA54 -> 0 | DC54: 0 | DD54: 0 | DE54: =DC54+DD54 -> 0 | DF54: 0 | DG54: 0 | DH54: =DF54+DG54 -> 0 | DI54: 0 | DJ54: 0 | DK54: =DI54+DJ54 -> 0 | DO54: =+AF54+AI54+AL54+AO54+AR54+AU54+AX54+BA54+BD54+BG54+BJ54+BM54+BP54+BS54+BV54+BY54+CB54+CE54+CH54+CK54+CN54+CQ54+CT54+CW54+CZ54+DC54+DF54+DI54+DL54 -> 2000 | DP54: =+AG54+AJ54+AM54+AP54+AS54+AV54+AY54+BB54+BE54+BH54+BK54+BN54+BQ54+BT54+BW54+BZ54+CC54+CF54+CI54+CL54+CO54+CR54+CU54+CX54+DA54+DD54+DG54+DJ54+DM54 -> 73 | DQ54: =DO54+DP54 -> 2073 | DR54: =K54+N54+Q54+T54+W54+Z54+AC54+DO54 -> 16000 | DS54: =L54+O54+R54+U54+X54+AA54+AD54+DP54 -> 2719 | DT54: =DR54+DS54 -> 18719
B55: Prioritārais investīciju projekts "Alūksnes izziņas un pakalpojumu centrs" (atviegl.) | C55: 05.07.2022. | D55: 20.12.2032. | E55: A2/1/22/189 | F55: P-114/2022 PRIO | G55: Valsts kase | H55: 5.4 | I55: mainīga | J55: EUR | K55: 62793 | L55: 15706 | M55: =K55+L55 -> 78499 | N55: 62816 | O55: 30176 | P55: =N55+O55 -> 92992 | Q55: 62816 | R55: 26659 | S55: =Q55+R55 -> 89475 | T55: 62816 | U55: 23268 | V55: =T55+U55 -> 86084 | W55: 62816 | X55: 19867 | Y55: =W55+X55 -> 82683 | Z55: 62816 | AA55: 16506 | AB55: =Z55+AA55 -> 79322 | AC55: 62816 | AD55: 13060 | AE55: =AC55+AD55 -> 75876 | AF55: 62816 | AG55: 9662 | AH55: =AF55+AG55 -> 72478 | AI55: 62816 | AJ55: 6268 | AK55: =AI55+AJ55 -> 69084 | AL55: 62816 | AM55: 2886 | AN55: =AL55+AM55 -> 65702 | AP55: 186.21 | AQ55: =AO55+AP55 -> 186.21 | BX55: =BV55+BW55 -> 0 | CA55: =BY55+BZ55 -> 0 | CD55: =CB55+CC55 -> 0 | CG55: =CE55+CF55 -> 0 | CJ55: =CH55+CI55 -> 0 | CM55: =CK55+CL55 -> 0 | CP55: =CN55+CO55 -> 0 | CQ55: 0 | CR55: 0 | CS55: =CQ55+CR55 -> 0 | CT55: 0 | CU55: 0 | CV55: =CT55+CU55 -> 0 | CW55: 0 | CX55: 0 | CY55: =CW55+CX55 -> 0 | CZ55: 0 | DA55: 0 | DB55: =CZ55+DA55 -> 0 | DC55: 0 | DD55: 0 | DE55: =DC55+DD55 -> 0 | DF55: 0 | DG55: 0 | DH55: =DF55+DG55 -> 0 | DI55: 0 | DJ55: 0 | DK55: =DI55+DJ55 -> 0 | DO55: =+AF55+AI55+AL55+AO55+AR55+AU55+AX55+BA55+BD55+BG55+BJ55+BM55+BP55+BS55+BV55+BY55+CB55+CE55+CH55+CK55+CN55+CQ55+CT55+CW55+CZ55+DC55+DF55+DI55+DL55 -> 188448 | DP55: =+AG55+AJ55+AM55+AP55+AS55+AV55+AY55+BB55+BE55+BH55+BK55+BN55+BQ55+BT55+BW55+BZ55+CC55+CF55+CI55+CL55+CO55+CR55+CU55+CX55+DA55+DD55+DG55+DJ55+DM55 -> 19002.21 | DQ55: =DO55+DP55 -> 207450.21 | DR55: =K55+N55+Q55+T55+W55+Z55+AC55+DO55 -> 628137 | DS55: =L55+O55+R55+U55+X55+AA55+AD55+DP55 -> 164244.21 | DT55: =DR55+DS55 -> 792381.21
B56: Prioritārais investīciju projekts "Alūksnes izziņas un pakalpojumu centrs" (tirgus nosac.) | C56: 06.07.2022. | D56: 20.12.2032. | E56: A2/1/22/194 | F56: P-108/2022 PRIO | G56: Valsts kase | H56: 6 | I56: mainīga | J56: EUR | K56: 23134 | L56: 6995 | M56: =K56+L56 -> 30129 | N56: 23156 | O56: 12374 | P56: =N56+O56 -> 35530 | Q56: 23156 | R56: 10935 | S56: =Q56+R56 -> 34091 | T56: 23156 | U56: 9542 | V56: =T56+U56 -> 32698 | W56: 23156 | X56: 8147 | Y56: =W56+X56 -> 31303 | Z56: 23156 | AA56: 6768 | AB56: =Z56+AA56 -> 29924 | AC56: 23156 | AD56: 5356 | AE56: =AC56+AD56 -> 28512 | AF56: 23156 | AG56: 3962 | AH56: =AF56+AG56 -> 27118 | AI56: 23156 | AJ56: 2570 | AK56: =AI56+AJ56 -> 25726 | AL56: 23156 | AM56: 1184 | AN56: =AL56+AM56 -> 24340 | AP56: 76 | AQ56: =AO56+AP56 -> 76 | AT56: =AR56+AS56 -> 0 | BX56: =BV56+BW56 -> 0 | CA56: =BY56+BZ56 -> 0 | CD56: =CB56+CC56 -> 0 | CG56: =CE56+CF56 -> 0 | CJ56: =CH56+CI56 -> 0 | CM56: =CK56+CL56 -> 0 | CP56: =CN56+CO56 -> 0 | CQ56: 0 | CR56: 0 | CS56: =CQ56+CR56 -> 0 | CT56: 0 | CU56: 0 | CV56: =CT56+CU56 -> 0 | CW56: 0 | CX56: 0 | CY56: =CW56+CX56 -> 0 | CZ56: 0 | DA56: 0 | DB56: =CZ56+DA56 -> 0 | DC56: 0 | DD56: 0 | DE56: =DC56+DD56 -> 0 | DF56: 0 | DG56: 0 | DH56: =DF56+DG56 -> 0 | DI56: 0 | DJ56: 0 | DK56: =DI56+DJ56 -> 0 | DO56: =+AF56+AI56+AL56+AO56+AR56+AU56+AX56+BA56+BD56+BG56+BJ56+BM56+BP56+BS56+BV56+BY56+CB56+CE56+CH56+CK56+CN56+CQ56+CT56+CW56+CZ56+DC56+DF56+DI56+DL56 -> 69468 | DP56: =+AG56+AJ56+AM56+AP56+AS56+AV56+AY56+BB56+BE56+BH56+BK56+BN56+BQ56+BT56+BW56+BZ56+CC56+CF56+CI56+CL56+CO56+CR56+CU56+CX56+DA56+DD56+DG56+DJ56+DM56 -> 7792 | DQ56: =DO56+DP56 -> 77260 | DR56: =K56+N56+Q56+T56+W56+Z56+AC56+DO56 -> 231538 | DS56: =L56+O56+R56+U56+X56+AA56+AD56+DP56 -> 67909 | DT56: =DR56+DS56 -> 299447
B57: ERAF projekta (Nr.5.6.2.0/21/I/010) "Uzņēmējdarbībai nozīmīgas infrastruktūras attīstība Alūksnes novadā" īstenošanai (tirgus nosacījumi) | C57: 14.09.2022. | D57: 20.08.2052. | E57: A2/1/22/385 | F57: P-267/2022 | G57: Valsts kase | H57: 6.512 | I57: mainīga | J57: EUR | K57: 0 | L57: 49543 | M57: =K57+L57 -> 49543 | N57: 43836 | O57: 82825 | P57: =N57+O57 -> 126661 | Q57: 43836 | R57: 79865 | S57: =Q57+R57 -> 123701 | T57: 43836 | U57: 76977 | V57: =T57+U57 -> 120813 | W57: 43836 | X57: 74081 | Y57: =W57+X57 -> 117917 | Z57: 43836 | AA57: 71375 | AB57: =Z57+AA57 -> 115211 | AC57: 43836 | AD57: 68285 | AE57: =AC57+AD57 -> 112121 | AF57: 43836 | AG57: 65390 | AH57: =AF57+AG57 -> 109226 | AI57: 43836 | AJ57: 62500 | AK57: =AI57+AJ57 -> 106336 | AL57: 43836 | AM57: 59776 | AN57: =AL57+AM57 -> 103612 | AO57: 43836 | AP57: 56710 | AQ57: =AO57+AP57 -> 100546 | AR57: 43836 | AS57: 53813 | AT57: =AR57+AS57 -> 97649 | AU57: 43836 | AV57: 50919 | AW57: =AU57+AV57 -> 94755 | AX57: 43836 | AY57: 48162 | AZ57: =AX57+AY57 -> 91998 | BA57: 43836 | BB57: 45140 | BC57: =BA57+BB57 -> 88976 | BD57: 43836 | BE57: 42244 | BF57: =BD57+BE57 -> 86080 | BG57: 43836 | BH57: 39344 | BI57: =BG57+BH57 -> 83180 | BJ57: 43836 | BK57: 36549 | BL57: =BJ57+BK57 -> 80385 | BM57: 43836 | BN57: 33554 | BO57: =BM57+BN57 -> 77390 | BP57: 43836 | BQ57: 30663 | BR57: =BP57+BQ57 -> 74499 | BS57: 43836 | BT57: 27775 | BU57: =BS57+BT57 -> 71611 | BV57: 43836 | BW57: 24944 | BX57: =BV57+BW57 -> 68780 | BY57: 43836 | BZ57: 21977 | CA57: =BY57+BZ57 -> 65813 | CB57: 43836 | CC57: 19082 | CD57: =CB57+CC57 -> 62918 | CE57: 43836 | CF57: 16188 | CG57: =CE57+CF57 -> 60024 | CH57: 43836 | CI57: 13337 | CJ57: =CH57+CI57 -> 57173 | CK57: 43836 | CL57: 10407 | CM57: =CK57+CL57 -> 54243 | CN57: 43836 | CO57: 7507 | CP57: =CN57+CO57 -> 51343 | CQ57: 43836 | CR57: 4611 | CS57: =CQ57+CR57 -> 48447 | CT57: 32877 | CU57: 1661 | CV57: =CT57+CU57 -> 34538 | CW57: 0 | CX57: 0 | CY57: =CW57+CX57 -> 0 | CZ57: 0 | DA57: 0 | DB57: =CZ57+DA57 -> 0 | DC57: 0 | DD57: 0 | DE57: =DC57+DD57 -> 0 | DF57: 0 | DG57: 0 | DH57: =DF57+DG57 -> 0 | DI57: 0 | DJ57: 0 | DK57: =DI57+DJ57 -> 0 | DO57: =+AF57+AI57+AL57+AO57+AR57+AU57+AX57+BA57+BD57+BG57+BJ57+BM57+BP57+BS57+BV57+BY57+CB57+CE57+CH57+CK57+CN57+CQ57+CT57+CW57+CZ57+DC57+DF57+DI57+DL57 -> 997269 | DP57: =+AG57+AJ57+AM57+AP57+AS57+AV57+AY57+BB57+BE57+BH57+BK57+BN57+BQ57+BT57+BW57+BZ57+CC57+CF57+CI57+CL57+CO57+CR57+CU57+CX57+DA57+DD57+DG57+DJ57+DM57 -> 772253 | DQ57: =DO57+DP57 -> 1769522 | DR57: =K57+N57+Q57+T57+W57+Z57+AC57+DO57 -> 1260285 | DS57: =L57+O57+R57+U57+X57+AA57+AD57+DP57 -> 1275204 | DT57: =DR57+DS57 -> 2535489
B58: ERAF projekta (Nr.5.6.2.0/21/I/010) "Uzņēmējdarbībai nozīmīgas infrastruktūras attīstība Alūksnes novadā" īstenošanai | C58: 14.09.2022. | D58: 20.08.2052. | E58: A2/1/22/386 | F58: P-266/2022 | G58: Valsts kase | H58: 3.902 | I58: mainīga | J58: EUR | K58: 12677 | L58: 26091 | M58: =K58+L58 -> 38768 | N58: 25416 | O58: 43681 | P58: =N58+O58 -> 69097 | Q58: 25416 | R58: 42039 | S58: =Q58+R58 -> 67455 | T58: 25416 | U58: 40519 | V58: =T58+U58 -> 65935 | W58: 25416 | X58: 38994 | Y58: =W58+X58 -> 64410 | Z58: 25416 | AA58: 37570 | AB58: =Z58+AA58 -> 62986 | AC58: 25416 | AD58: 35943 | AE58: =AC58+AD58 -> 61359 | AF58: 25416 | AG58: 34420 | AH58: =AF58+AG58 -> 59836 | AI58: 25416 | AJ58: 32898 | AK58: =AI58+AJ58 -> 58314 | AL58: 25416 | AM58: 31465 | AN58: =AL58+AM58 -> 56881 | AO58: 25416 | AP58: 29851 | AQ58: =AO58+AP58 -> 55267 | AR58: 25416 | AS58: 28326 | AT58: =AR58+AS58 -> 53742 | AU58: 25416 | AV58: 26803 | AW58: =AU58+AV58 -> 52219 | AX58: 25416 | AY58: 25351 | AZ58: =AX58+AY58 -> 50767 | BA58: 25416 | BB58: 23761 | BC58: =BA58+BB58 -> 49177 | BD58: 25416 | BE58: 22236 | BF58: =BD58+BE58 -> 47652 | BG58: 25416 | BH58: 20710 | BI58: =BG58+BH58 -> 46126 | BJ58: 25416 | BK58: 19238 | BL58: =BJ58+BK58 -> 44654 | BM58: 25416 | BN58: 17662 | BO58: =BM58+BN58 -> 43078 | BP58: 25416 | BQ58: 16140 | BR58: =BP58+BQ58 -> 41556 | BS58: 25416 | BT58: 14620 | BU58: =BS58+BT58 -> 40036 | BV58: 25416 | BW58: 13129 | BX58: =BV58+BW58 -> 38545 | BY58: 25416 | BZ58: 11568 | CA58: =BY58+BZ58 -> 36984 | CB58: 25416 | CC58: 10045 | CD58: =CB58+CC58 -> 35461 | CE58: 25416 | CF58: 8521 | CG58: =CE58+CF58 -> 33937 | CH58: 25416 | CI58: 7020 | CJ58: =CH58+CI58 -> 32436 | CK58: 25416 | CL58: 5478 | CM58: =CK58+CL58 -> 30894 | CN58: 25416 | CO58: 3952 | CP58: =CN58+CO58 -> 29368 | CQ58: 25416 | CR58: 2427 | CS58: =CQ58+CR58 -> 27843 | CT58: 19062 | CU58: 875 | CV58: =CT58+CU58 -> 19937 | CW58: 0 | CX58: 0 | CY58: =CW58+CX58 -> 0 | CZ58: 0 | DA58: 0 | DB58: =CZ58+DA58 -> 0 | DC58: 0 | DD58: 0 | DE58: =DC58+DD58 -> 0 | DF58: 0 | DG58: 0 | DH58: =DF58+DG58 -> 0 | DI58: 0 | DJ58: 0 | DK58: =DI58+DJ58 -> 0 | DO58: =+AF58+AI58+AL58+AO58+AR58+AU58+AX58+BA58+BD58+BG58+BJ58+BM58+BP58+BS58+BV58+BY58+CB58+CE58+CH58+CK58+CN58+CQ58+CT58+CW58+CZ58+DC58+DF58+DI58+DL58 -> 578214 | DP58: =+AG58+AJ58+AM58+AP58+AS58+AV58+AY58+BB58+BE58+BH58+BK58+BN58+BQ58+BT58+BW58+BZ58+CC58+CF58+CI58+CL58+CO58+CR58+CU58+CX58+DA58+DD58+DG58+DJ58+DM58 -> 406496 | DQ58: =DO58+DP58 -> 984710 | DR58: =K58+N58+Q58+T58+W58+Z58+AC58+DO58 -> 743387 | DS58: =L58+O58+R58+U58+X58+AA58+AD58+DP58 -> 671333 | DT58: =DR58+DS58 -> 1414720
B59: projekts "Ernsta Glika Alūksnes Valsts ģimnāzijas ēku pārbūve, 2.kārta" | C59: 03.11.2022. | D59: 20.12.2044. | E59: A2/1/22/475 | F59: P-341/2022 COVID VARAM | G59: Valsts kase | H59: 6.227 | I59: mainīga | J59: EUR | K59: 0 | L59: 54849 | M59: =K59+L59 -> 54849 | N59: 108710 | O59: 116438 | P59: =N59+O59 -> 225148 | Q59: 108728 | R59: 112026 | S59: =Q59+R59 -> 220754 | T59: 108728 | U59: 105171 | V59: =T59+U59 -> 213899 | W59: 108728 | X59: 98310 | Y59: =W59+X59 -> 207038 | Z59: 108728 | AA59: 91689 | AB59: =Z59+AA59 -> 200417 | AC59: 108728 | AD59: 84580 | AE59: =AC59+AD59 -> 193308 | AF59: 108728 | AG59: 77724 | AH59: =AF59+AG59 -> 186452 | AI59: 108728 | AJ59: 70878 | AK59: =AI59+AJ59 -> 179606 | AL59: 108728 | AM59: 64215 | AN59: =AL59+AM59 -> 172943 | AO59: 108728 | AP59: 57162 | AQ59: =AO59+AP59 -> 165890 | AR59: 108728 | AS59: 50302 | AT59: =AR59+AS59 -> 159030 | AU59: 108728 | AV59: 43446 | AW59: =AU59+AV59 -> 152174 | AX59: 108728 | AY59: 36702 | AZ59: =AX59+AY59 -> 145430 | BA59: 108728 | BB59: 29758 | BC59: =BA59+BB59 -> 138486 | BD59: 108728 | BE59: 22898 | BF59: =BD59+BE59 -> 131626 | BG59: 108728 | BH59: 16028 | BI59: =BG59+BH59 -> 124756 | BJ59: 108728 | BK59: 9195 | BL59: =BJ59+BK59 -> 117923 | BM59: 53715 | BN59: 2375 | BO59: =BM59+BN59 -> 56090 | BQ59: 0 | BR59: =BP59+BQ59 -> 0 | BT59: 0 | BU59: =BS59+BT59 -> 0 | BW59: 0 | BX59: =BV59+BW59 -> 0 | CA59: =BY59+BZ59 -> 0 | CD59: =CB59+CC59 -> 0 | CG59: =CE59+CF59 -> 0 | CJ59: =CH59+CI59 -> 0 | CM59: =CK59+CL59 -> 0 | CP59: =CN59+CO59 -> 0 | CS59: =CQ59+CR59 -> 0 | CV59: =CT59+CU59 -> 0 | CY59: =CW59+CX59 -> 0 | DB59: =CZ59+DA59 -> 0 | DE59: =DC59+DD59 -> 0 | DH59: =DF59+DG59 -> 0 | DK59: =DI59+DJ59 -> 0 | DN59: =DL59+DM59 -> 0 | DO59: =+AF59+AI59+AL59+AO59+AR59+AU59+AX59+BA59+BD59+BG59+BJ59+BM59+BP59+BS59+BV59+BY59+CB59+CE59+CH59+CK59+CN59+CQ59+CT59+CW59+CZ59+DC59+DF59+DI59+DL59 -> 1249723 | DP59: =+AG59+AJ59+AM59+AP59+AS59+AV59+AY59+BB59+BE59+BH59+BK59+BN59+BQ59+BT59+BW59+BZ59+CC59+CF59+CI59+CL59+CO59+CR59+CU59+CX59+DA59+DD59+DG59+DJ59+DM59 -> 480683 | DQ59: =DO59+DP59 -> 1730406 | DR59: =K59+N59+Q59+T59+W59+Z59+AC59+DO59 -> 1902073 | DS59: =L59+O59+R59+U59+X59+AA59+AD59+DP59 -> 1143746 | DT59: =DR59+DS59 -> 3045819
A60: Annas pagasts | B60: ERAF projekts "Energoefektivitātes paaugstināšana Alūksnes novada pašvaldības ēkā" | C60: 06.07.2022. | D60: 21.12.2026. | E60: A2/1/22/195 | F60: P-107/2022 | G60: Valsts kase | H60: 1.839 | I60: mainīga | J60: EUR | K60: 0 | L60: 489 | M60: =K60+L60 -> 489 | N60: 8578 | O60: 822 | P60: =N60+O60 -> 9400 | Q60: 8580 | R60: 404 | S60: =Q60+R60 -> 8984 | T60: 625 | U60: 40 | V60: =T60+U60 -> 665 | Y60: =W60+X60 -> 0 | AB60: =Z60+AA60 -> 0 | AE60: =AC60+AD60 -> 0 | AH60: =AF60+AG60 -> 0 | AK60: =AI60+AJ60 -> 0 | AN60: =AL60+AM60 -> 0 | AQ60: =AO60+AP60 -> 0 | AT60: =AR60+AS60 -> 0 | AW60: =AU60+AV60 -> 0 | AZ60: =AX60+AY60 -> 0 | BC60: =BA60+BB60 -> 0 | BF60: =BD60+BE60 -> 0 | BI60: =BG60+BH60 -> 0 | BL60: =BJ60+BK60 -> 0 | BO60: =BM60+BN60 -> 0 | BR60: =BP60+BQ60 -> 0 | CD60: =CB60+CC60 -> 0 | DO60: =+AF60+AI60+AL60+AO60+AR60+AU60+AX60+BA60+BD60+BG60+BJ60+BM60+BP60+BS60+BV60+BY60+CB60+CE60+CH60+CK60+CN60+CQ60+CT60+CW60+CZ60+DC60+DF60+DI60+DL60 -> 0 | DP60: =+AG60+AJ60+AM60+AP60+AS60+AV60+AY60+BB60+BE60+BH60+BK60+BN60+BQ60+BT60+BW60+BZ60+CC60+CF60+CI60+CL60+CO60+CR60+CU60+CX60+DA60+DD60+DG60+DJ60+DM60 -> 0 | DQ60: =DO60+DP60 -> 0 | DR60: =K60+N60+Q60+T60+W60+Z60+AC60+DO60 -> 17783 | DS60: =L60+O60+R60+U60+X60+AA60+AD60+DP60 -> 1755 | DT60: =DR60+DS60 -> 19538
A61: Ilzenes pagasts | B61: Sporta, interešu izglītības un mūžizglītības centra "Dailes" rekonstrukcijas daļējai pabeigšanai | C61: 19.11.2008; 12.10.2009.; 13.05.2013.; 06.07.2016. | D61: 47442 | E61: A2/1/08/912; A2/1/09/556; A2/1/09/556-V/13/1; A2/1/09/556-V/16/2 | F61: P-388/2008; PE-7/2009 | G61: Valsts kase | H61: 4.415 | I61: mainīga | J61: EUR | K61: 8996 | L61: 1328 | M61: =K61+L61 -> 10324 | N61: 8996 | O61: 2363 | P61: =N61+O61 -> 11359 | Q61: 8996 | R61: 1968 | S61: =Q61+R61 -> 10964 | T61: 8996 | U61: 1562 | V61: =T61+U61 -> 10558 | W61: 8996 | X61: 1155 | Y61: =W61+X61 -> 10151 | Z61: 8996 | AA61: 750 | AB61: =Z61+AA61 -> 9746 | AC61: 8955 | AD61: 341 | AE61: =AC61+AD61 -> 9296 | AG61: 14 | AH61: =AF61+AG61 -> 14 | AK61: =AI61+AJ61 -> 0 | AN61: =AL61+AM61 -> 0 | AQ61: =AO61+AP61 -> 0 | AT61: =AR61+AS61 -> 0 | AW61: =AU61+AV61 -> 0 | AZ61: =AX61+AY61 -> 0 | BC61: =BA61+BB61 -> 0 | BF61: =BD61+BE61 -> 0 | BI61: =BG61+BH61 -> 0 | BL61: =BJ61+BK61 -> 0 | BO61: =BM61+BN61 -> 0 | BR61: =BP61+BQ61 -> 0 | CD61: =CB61+CC61 -> 0 | DO61: =+AF61+AI61+AL61+AO61+AR61+AU61+AX61+BA61+BD61+BG61+BJ61+BM61+BP61+BS61+BV61+BY61+CB61+CE61+CH61+CK61+CN61+CQ61+CT61+CW61+CZ61+DC61+DF61+DI61+DL61 -> 0 | DP61: =+AG61+AJ61+AM61+AP61+AS61+AV61+AY61+BB61+BE61+BH61+BK61+BN61+BQ61+BT61+BW61+BZ61+CC61+CF61+CI61+CL61+CO61+CR61+CU61+CX61+DA61+DD61+DG61+DJ61+DM61 -> 14 | DQ61: =DO61+DP61 -> 14 | DR61: =K61+N61+Q61+T61+W61+Z61+AC61+DO61 -> 62931 | DS61: =L61+O61+R61+U61+X61+AA61+AD61+DP61 -> 9481 | DT61: =DR61+DS61 -> 72412 | DU61: 91151
B62: Sporta, interešu izglītības un mūžizglītības centra "Dailes" rekonstrukcijas pabeigšanai | C62: 28.04.2009., 20.11.2009., 13.05.2013.; 06.07.2016. | D62: 20.12.2030. | E62: A2/1/09/119; A2/1/09/119-V/09/1; A2/1/09/119-V/13/2; A2/1/09/119-V/16/3 | F62: P-37/2009 | G62: Valsts kase | H62: 1,475/x | I62: mainīga | J62: EUR | K62: 2644 | L62: 434 | M62: =K62+L62 -> 3078 | N62: 2644 | O62: 754 | P62: =N62+O62 -> 3398 | Q62: 2644 | R62: 642 | S62: =Q62+R62 -> 3286 | T62: 2644 | U62: 532 | V62: =T62+U62 -> 3176 | W62: 2644 | X62: 422 | Y62: =W62+X62 -> 3066 | Z62: 2644 | AA62: 313 | AB62: =Z62+AA62 -> 2957 | AC62: 2644 | AD62: 202 | AE62: =AC62+AD62 -> 2846 | AF62: 2612 | AG62: 92 | AH62: =AF62+AG62 -> 2704 | AI62: 0 | AJ62: 6 | AK62: =AI62+AJ62 -> 6 | AN62: =AL62+AM62 -> 0 | AQ62: =AO62+AP62 -> 0 | AT62: =AR62+AS62 -> 0 | AW62: =AU62+AV62 -> 0 | AZ62: =AX62+AY62 -> 0 | BC62: =BA62+BB62 -> 0 | BF62: =BD62+BE62 -> 0 | BI62: =BG62+BH62 -> 0 | BL62: =BJ62+BK62 -> 0 | BO62: =BM62+BN62 -> 0 | BR62: =BP62+BQ62 -> 0 | CD62: =CB62+CC62 -> 0 | DO62: =+AF62+AI62+AL62+AO62+AR62+AU62+AX62+BA62+BD62+BG62+BJ62+BM62+BP62+BS62+BV62+BY62+CB62+CE62+CH62+CK62+CN62+CQ62+CT62+CW62+CZ62+DC62+DF62+DI62+DL62 -> 2612 | DP62: =+AG62+AJ62+AM62+AP62+AS62+AV62+AY62+BB62+BE62+BH62+BK62+BN62+BQ62+BT62+BW62+BZ62+CC62+CF62+CI62+CL62+CO62+CR62+CU62+CX62+DA62+DD62+DG62+DJ62+DM62 -> 98 | DQ62: =DO62+DP62 -> 2710 | DR62: =K62+N62+Q62+T62+W62+Z62+AC62+DO62 -> 21120 | DS62: =L62+O62+R62+U62+X62+AA62+AD62+DP62 -> 3397 | DT62: =DR62+DS62 -> 24517 | DU62: 29487
B63: ERAF projekts "Ūdenssaimniecības attīstība Alūksnes novada Ilzenes pagasta Jaunzemu ciemā" (SIA Rūpe pamatkapitāls) | C63: 18.03.2015. | D63: 20.12.2025. | E63: A2/1/15/111 | F63: P-70/2015 | G63: Valsts kase | H63: 3.912 | I63: mainīga | J63: EUR | K63: 7392 | L63: 499 | M63: =K63+L63 -> 7891 | N63: 7392 | O63: 538 | P63: =N63+O63 -> 7930 | Q63: 7392 | R63: 247 | S63: =Q63+R63 -> 7639 | V63: =T63+U63 -> 0 | Y63: =W63+X63 -> 0 | AB63: =Z63+AA63 -> 0 | AE63: =AC63+AD63 -> 0 | AH63: =AF63+AG63 -> 0 | AK63: =AI63+AJ63 -> 0 | AN63: =AL63+AM63 -> 0 | AQ63: =AO63+AP63 -> 0 | AT63: =AR63+AS63 -> 0 | AW63: =AU63+AV63 -> 0 | AZ63: =AX63+AY63 -> 0 | BC63: =BA63+BB63 -> 0 | BF63: =BD63+BE63 -> 0 | BI63: =BG63+BH63 -> 0 | BL63: =BJ63+BK63 -> 0 | BO63: =BM63+BN63 -> 0 | CD63: =CB63+CC63 -> 0 | DO63: =+AF63+AI63+AL63+AO63+AR63+AU63+AX63+BA63+BD63+BG63+BJ63+BM63+BP63+BS63+BV63+BY63+CB63+CE63+CH63+CK63+CN63+CQ63+CT63+CW63+CZ63+DC63+DF63+DI63+DL63 -> 0 | DP63: =+AG63+AJ63+AM63+AP63+AS63+AV63+AY63+BB63+BE63+BH63+BK63+BN63+BQ63+BT63+BW63+BZ63+CC63+CF63+CI63+CL63+CO63+CR63+CU63+CX63+DA63+DD63+DG63+DJ63+DM63 -> 0 | DQ63: =DO63+DP63 -> 0 | DR63: =K63+N63+Q63+T63+W63+Z63+AC63+DO63 -> 22176 | DS63: =L63+O63+R63+U63+X63+AA63+AD63+DP63 -> 1284 | DT63: =DR63+DS63 -> 23460 | DU63: 45294
A64: Jaunannas pagasts | B64: ELFLA projekts "Jaunannas pagasta tautas nama II kārtas rekonstrukcijas un pamatlīdzekļu iegāde" | C64: 25.08.2009.; 18.04.2013. 10.05.2017. | D64: 20.12.2028. | E64: A2/1/09/434 A2/1/09/434-V/13/1 A2/1/09/434-V/17/2 | F64: P-167/2009 | G64: Valsts kase | H64: 4.108 | I64: mainīga | J64: EUR | K64: 5208 | L64: 590 | M64: =K64+L64 -> 5798 | N64: 5208 | O64: 1078 | P64: =N64+O64 -> 6286 | Q64: 5208 | R64: 887 | S64: =Q64+R64 -> 6095 | T64: 5208 | U64: 657 | V64: =T64+U64 -> 5865 | W64: 5208 | X64: 426 | Y64: =W64+X64 -> 5634 | Z64: 5208 | AA64: 195 | AB64: =Z64+AA64 -> 5403 | AD64: 13 | AE64: =AC64+AD64 -> 13 | AH64: =AF64+AG64 -> 0 | AK64: =AI64+AJ64 -> 0 | AN64: =AL64+AM64 -> 0 | AQ64: =AO64+AP64 -> 0 | AT64: =AR64+AS64 -> 0 | AW64: =AU64+AV64 -> 0 | AZ64: =AX64+AY64 -> 0 | BC64: =BA64+BB64 -> 0 | BF64: =BD64+BE64 -> 0 | BI64: =BG64+BH64 -> 0 | BL64: =BJ64+BK64 -> 0 | BO64: =BM64+BN64 -> 0 | CD64: =CB64+CC64 -> 0 | DO64: =+AF64+AI64+AL64+AO64+AR64+AU64+AX64+BA64+BD64+BG64+BJ64+BM64+BP64+BS64+BV64+BY64+CB64+CE64+CH64+CK64+CN64+CQ64+CT64+CW64+CZ64+DC64+DF64+DI64+DL64 -> 0 | DP64: =+AG64+AJ64+AM64+AP64+AS64+AV64+AY64+BB64+BE64+BH64+BK64+BN64+BQ64+BT64+BW64+BZ64+CC64+CF64+CI64+CL64+CO64+CR64+CU64+CX64+DA64+DD64+DG64+DJ64+DM64 -> 0 | DQ64: =DO64+DP64 -> 0 | DR64: =K64+N64+Q64+T64+W64+Z64+AC64+DO64 -> 31248 | DS64: =L64+O64+R64+U64+X64+AA64+AD64+DP64 -> 3846 | DT64: =DR64+DS64 -> 35094 | DU64: 56356
B65: ERAF projekts "Ūdenssaimniecības attīstība Alūksnes novada Jaunannas pagasta Jaunannā" (SIA "Ievedne" pamatkapitāls) | C65: 18.04.2013. | D65: 20.12.2023. | E65: A2/1/13/145 | F65: P-88/2013 | G65: valsts kase | H65: 3.832 | I65: mainīga | J65: EUR | K65: 5987 | L65: 71 | M65: =K65+L65 -> 6058 | N65: 0 | O65: 13 | P65: =N65+O65 -> 13 | S65: =Q65+R65 -> 0 | V65: =T65+U65 -> 0 | Y65: =W65+X65 -> 0 | AB65: =Z65+AA65 -> 0 | AE65: =AC65+AD65 -> 0 | AH65: =AF65+AG65 -> 0 | AK65: =AI65+AJ65 -> 0 | AN65: =AL65+AM65 -> 0 | AQ65: =AO65+AP65 -> 0 | AT65: =AR65+AS65 -> 0 | AW65: =AU65+AV65 -> 0 | AZ65: =AX65+AY65 -> 0 | BC65: =BA65+BB65 -> 0 | BF65: =BD65+BE65 -> 0 | BI65: =BG65+BH65 -> 0 | BL65: =BJ65+BK65 -> 0 | BO65: =BM65+BN65 -> 0 | CD65: =CB65+CC65 -> 0 | DO65: =+AF65+AI65+AL65+AO65+AR65+AU65+AX65+BA65+BD65+BG65+BJ65+BM65+BP65+BS65+BV65+BY65+CB65+CE65+CH65+CK65+CN65+CQ65+CT65+CW65+CZ65+DC65+DF65+DI65+DL65 -> 0 | DP65: =+AG65+AJ65+AM65+AP65+AS65+AV65+AY65+BB65+BE65+BH65+BK65+BN65+BQ65+BT65+BW65+BZ65+CC65+CF65+CI65+CL65+CO65+CR65+CU65+CX65+DA65+DD65+DG65+DJ65+DM65 -> 0 | DQ65: =DO65+DP65 -> 0 | DR65: =K65+N65+Q65+T65+W65+Z65+AC65+DO65 -> 5987 | DS65: =L65+O65+R65+U65+X65+AA65+AD65+DP65 -> 84 | DT65: =DR65+DS65 -> 6071 | DU65: 24297
B66: ERAF projekts "Ūdenssaimniecības attīstība Alūksnes novada Jaunannas pagasta Jaunannā" (SIA "Ievedne" pamatkapitāls) | C66: 02.09.2013. | D66: 20.12.2023. | E66: A2/1/13/449 | F66: P-323/2013 | G66: valsts kase | H66: 1.733 | I66: mainīga | J66: EUR | K66: 2054 | L66: 33 | M66: =K66+L66 -> 2087 | O66: 5 | P66: =N66+O66 -> 5 | CD66: =CB66+CC66 -> 0 | DO66: =+AF66+AI66+AL66+AO66+AR66+AU66+AX66+BA66+BD66+BG66+BJ66+BM66+BP66+BS66+BV66+BY66+CB66+CE66+CH66+CK66+CN66+CQ66+CT66+CW66+CZ66+DC66+DF66+DI66+DL66 -> 0 | DP66: =+AG66+AJ66+AM66+AP66+AS66+AV66+AY66+BB66+BE66+BH66+BK66+BN66+BQ66+BT66+BW66+BZ66+CC66+CF66+CI66+CL66+CO66+CR66+CU66+CX66+DA66+DD66+DG66+DJ66+DM66 -> 0 | DQ66: =DO66+DP66 -> 0 | DR66: =K66+N66+Q66+T66+W66+Z66+AC66+DO66 -> 2054 | DS66: =L66+O66+R66+U66+X66+AA66+AD66+DP66 -> 38 | DT66: =DR66+DS66 -> 2092 | DU66: 8326
A67: Jaunlaicenes pagasts | B67: ERAF "Ūdenssaimniecības pakalpojumu attīstība Jaunlaicenē" SIA "Rūpe" pamatkapitāls | C67: 19.11.2014. | D67: 20.12.2024. | E67: A2/1/14/877 | F67: P-568/2014 | G67: Valsts kase | H67: 4.309 | I67: mainīga | J67: EUR | K67: 4880 | L67: 240 | M67: =K67+L67 -> 5120 | N67: 4880 | O67: 174 | P67: =N67+O67 -> 5054 | R67: 12 | S67: =Q67+R67 -> 12 | CD67: =CB67+CC67 -> 0 | DO67: =+AF67+AI67+AL67+AO67+AR67+AU67+AX67+BA67+BD67+BG67+BJ67+BM67+BP67+BS67+BV67+BY67+CB67+CE67+CH67+CK67+CN67+CQ67+CT67+CW67+CZ67+DC67+DF67+DI67+DL67 -> 0 | DP67: =+AG67+AJ67+AM67+AP67+AS67+AV67+AY67+BB67+BE67+BH67+BK67+BN67+BQ67+BT67+BW67+BZ67+CC67+CF67+CI67+CL67+CO67+CR67+CU67+CX67+DA67+DD67+DG67+DJ67+DM67 -> 0 | DQ67: =DO67+DP67 -> 0 | DR67: =K67+N67+Q67+T67+W67+Z67+AC67+DO67 -> 9760 | DS67: =L67+O67+R67+U67+X67+AA67+AD67+DP67 -> 426 | DT67: =DR67+DS67 -> 10186 | DU67: 24626
B68: ERAF "Ūdenssaimniecības pakalpojumu attīstība Jaunlaicenē" SIA "Rūpe" pamatkapitāls sadardzinājums | C68: 18.03.2015. | D68: 20.12.2024. | E68: A2/1/15/109 | F68: P-68/2015 | G68: Valsts kase | H68: 3.912 | I68: mainīga | J68: EUR | K68: 2536 | L68: 106 | M68: =K68+L68 -> 2642 | N68: 2536 | O68: 85 | P68: =N68+O68 -> 2621 | CD68: =CB68+CC68 -> 0 | DO68: =+AF68+AI68+AL68+AO68+AR68+AU68+AX68+BA68+BD68+BG68+BJ68+BM68+BP68+BS68+BV68+BY68+CB68+CE68+CH68+CK68+CN68+CQ68+CT68+CW68+CZ68+DC68+DF68+DI68+DL68 -> 0 | DP68: =+AG68+AJ68+AM68+AP68+AS68+AV68+AY68+BB68+BE68+BH68+BK68+BN68+BQ68+BT68+BW68+BZ68+CC68+CF68+CI68+CL68+CO68+CR68+CU68+CX68+DA68+DD68+DG68+DJ68+DM68 -> 0 | DQ68: =DO68+DP68 -> 0 | DR68: =K68+N68+Q68+T68+W68+Z68+AC68+DO68 -> 5072 | DS68: =L68+O68+R68+U68+X68+AA68+AD68+DP68 -> 191 | DT68: =DR68+DS68 -> 5263 | DU68: 12908
B69: aizņēmums ERAF projektam "Infrastruktūras uzlabošana industriālās teritorijas attīstībai Alūksnes novada Jaunlaicenes ciemā" ar sadardzinājumu un papildinājumu | C69: 26.05.2017.; 03.08.2017.; 05.07.2018.; 10.07.2018.; 18.02.2019.; 21.03.2019. | D69: 20.12.2026. | E69: A2/1/17/316; A2/1/17/316-V/17/1; A2/1/17/316-V/18/2; A2/1/17/316-V/18/3; A2/1/17/316-V/19/4; A2/1/17/316-V/19/5 | F69: P-211/2017 | G69: Valsts kase | H69: 4.754 | I69: mainīga | J69: EUR | K69: 17844 | L69: 2073 | M69: =K69+L69 -> 19917 | N69: 17844 | O69: 2454 | P69: =N69+O69 -> 20298 | Q69: 17844 | R69: 1577 | S69: =Q69+R69 -> 19421 | T69: 17844 | U69: 701 | V69: =T69+U69 -> 18545 | W69: 0 | X69: 25 | Y69: =W69+X69 -> 25 | Z69: 0 | AA69: 0 | AB69: =Z69+AA69 -> 0 | AC69: 0 | AD69: 0 | AE69: =AC69+AD69 -> 0 | AF69: 0 | AG69: 0 | AH69: =AF69+AG69 -> 0 | AI69: 0 | AJ69: 0 | AK69: =AI69+AJ69 -> 0 | AL69: 0 | AM69: 0 | AN69: =AL69+AM69 -> 0 | AQ69: =AO69+AP69 -> 0 | AT69: =AR69+AS69 -> 0 | AW69: =AU69+AV69 -> 0 | AZ69: =AX69+AY69 -> 0 | BC69: =BA69+BB69 -> 0 | BF69: =BD69+BE69 -> 0 | BI69: =BG69+BH69 -> 0 | BL69: =BJ69+BK69 -> 0 | BO69: =BM69+BN69 -> 0 | CD69: =CB69+CC69 -> 0 | DO69: =+AF69+AI69+AL69+AO69+AR69+AU69+AX69+BA69+BD69+BG69+BJ69+BM69+BP69+BS69+BV69+BY69+CB69+CE69+CH69+CK69+CN69+CQ69+CT69+CW69+CZ69+DC69+DF69+DI69+DL69 -> 0 | DP69: =+AG69+AJ69+AM69+AP69+AS69+AV69+AY69+BB69+BE69+BH69+BK69+BN69+BQ69+BT69+BW69+BZ69+CC69+CF69+CI69+CL69+CO69+CR69+CU69+CX69+DA69+DD69+DG69+DJ69+DM69 -> 0 | DQ69: =DO69+DP69 -> 0 | DR69: =K69+N69+Q69+T69+W69+Z69+AC69+DO69 -> 71376 | DS69: =L69+O69+R69+U69+X69+AA69+AD69+DP69 -> 6830 | DT69: =DR69+DS69 -> 78206 | DU69: 129107
A70: Kalncempju pagasts | B70: ELFLA projekts "Pašvaldības autoceļa "Lūkuži - Gotlupi - Nāzupi" pārbūves 1.kārta Kalncempju pagastā, Alūksnes novadā" | C70: 01.06.2018.; 14.01.2019.; 25.02.2020. | D70: 20.06.2027. | E70: A2/1/18/298; A2/1/18/298-V/19/1; A2/1/18/298-V/20/2 | F70: P-258/2018 | G70: Valsts kase | H70: 4.154 | I70: mainīga | J70: EUR | K70: 7984 | L70: 840 | M70: =K70+L70 -> 8824 | N70: 7984 | O70: 1131 | P70: =N70+O70 -> 9115 | Q70: 7984 | R70: 788 | S70: =Q70+R70 -> 8772 | T70: 7984 | U70: 445 | V70: =T70+U70 -> 8429 | W70: 3992 | X70: 107 | Y70: =W70+X70 -> 4099 | CD70: =CB70+CC70 -> 0 | DO70: =+AF70+AI70+AL70+AO70+AR70+AU70+AX70+BA70+BD70+BG70+BJ70+BM70+BP70+BS70+BV70+BY70+CB70+CE70+CH70+CK70+CN70+CQ70+CT70+CW70+CZ70+DC70+DF70+DI70+DL70 -> 0 | DP70: =+AG70+AJ70+AM70+AP70+AS70+AV70+AY70+BB70+BE70+BH70+BK70+BN70+BQ70+BT70+BW70+BZ70+CC70+CF70+CI70+CL70+CO70+CR70+CU70+CX70+DA70+DD70+DG70+DJ70+DM70 -> 0 | DQ70: =DO70+DP70 -> 0 | DR70: =K70+N70+Q70+T70+W70+Z70+AC70+DO70 -> 35928 | DS70: =L70+O70+R70+U70+X70+AA70+AD70+DP70 -> 3311 | DT70: =DR70+DS70 -> 39239 | DU70: 60536
A71: Mālupes pagasts | B71: Mālupes Saeita nama rekonstrukcija 1.kārta | C71: 28.04.2009.; 10.03.2010.; 13.05.2013.; 06.07.2016. | D71: 20.05.2030. | E71: A2/1/09/120; A2/1/09/120-V/10/1; A2/1/09/120-V/13/2; A2/1/09/120-V/16/3 | F71: P-39/2009 | G71: Valsts kase | H71: 1,475/x | I71: mainīga | J71: EUR | K71: 13044 | L71: 1936 | M71: =K71+L71 -> 14980 | N71: 13044 | O71: 3321 | P71: =N71+O71 -> 16365 | Q71: 13044 | R71: 2769 | S71: =Q71+R71 -> 15813 | T71: 13044 | U71: 2227 | V71: =T71+U71 -> 15271 | W71: 13044 | X71: 1684 | Y71: =W71+X71 -> 14728 | Z71: 13044 | AA71: 1142 | AB71: =Z71+AA71 -> 14186 | AC71: 13044 | AD71: 595 | AE71: =AC71+AD71 -> 13639 | AF71: 3299 | AG71: 72 | AH71: =AF71+AG71 -> 3371 | AK71: =AI71+AJ71 -> 0 | AN71: =AL71+AM71 -> 0 | AQ71: =AO71+AP71 -> 0 | AT71: =AR71+AS71 -> 0 | AW71: =AU71+AV71 -> 0 | AZ71: =AX71+AY71 -> 0 | BC71: =BA71+BB71 -> 0 | BF71: =BD71+BE71 -> 0 | BI71: =BG71+BH71 -> 0 | BL71: =BJ71+BK71 -> 0 | BO71: =BM71+BN71 -> 0 | CD71: =CB71+CC71 -> 0 | DO71: =+AF71+AI71+AL71+AO71+AR71+AU71+AX71+BA71+BD71+BG71+BJ71+BM71+BP71+BS71+BV71+BY71+CB71+CE71+CH71+CK71+CN71+CQ71+CT71+CW71+CZ71+DC71+DF71+DI71+DL71 -> 3299 | DP71: =+AG71+AJ71+AM71+AP71+AS71+AV71+AY71+BB71+BE71+BH71+BK71+BN71+BQ71+BT71+BW71+BZ71+CC71+CF71+CI71+CL71+CO71+CR71+CU71+CX71+DA71+DD71+DG71+DJ71+DM71 -> 72 | DQ71: =DO71+DP71 -> 3371 | DR71: =K71+N71+Q71+T71+W71+Z71+AC71+DO71 -> 94607 | DS71: =L71+O71+R71+U71+X71+AA71+AD71+DP71 -> 13746 | DT71: =DR71+DS71 -> 108353 | DU71: 135614
B72: aizņēmums sociālo iestāžu investīciju projektam "Sociālās apūpes centra "Alūksne" filiāles "Pīlādži" izveide | C72: 11.04.2018.; 18.02.2019. | D72: 12.2038. | E72: A2/1/18/164; A2/1/18/164-V/19/1 | F72: P-138/2018 | G72: Valsts kase | H72: 0,311/x | I72: mainīga | J72: EUR | K72: 39828 | L72: 12722 | M72: =K72+L72 -> 52550 | N72: 39828 | O72: 23369 | P72: =N72+O72 -> 63197 | Q72: 39828 | R72: 21736 | S72: =Q72+R72 -> 61564 | T72: 39828 | U72: 20169 | V72: =T72+U72 -> 59997 | W72: 39828 | X72: 18598 | Y72: =W72+X72 -> 58426 | Z72: 39828 | AA72: 17071 | AB72: =Z72+AA72 -> 56899 | AC72: 39828 | AD72: 15454 | AE72: =AC72+AD72 -> 55282 | AF72: 39828 | AG72: 13884 | AH72: =AF72+AG72 -> 53712 | AI72: 39828 | AJ72: 12316 | AK72: =AI72+AJ72 -> 52144 | AL72: 39828 | AM72: 10779 | AN72: =AL72+AM72 -> 50607 | AO72: 39828 | AP72: 9175 | AQ72: =AO72+AP72 -> 49003 | AR72: 39828 | AS72: 7604 | AT72: =AR72+AS72 -> 47432 | AU72: 39828 | AV72: 6034 | AW72: =AU72+AV72 -> 45862 | AX72: 39828 | AY72: 4479 | AZ72: =AX72+AY72 -> 44307 | BA72: 39828 | BB72: 2899 | BC72: =BA72+BB72 -> 42727 | BD72: 39828 | BE72: 1327 | BF72: =BD72+BE72 -> 41155 | BG72: 0 | BH72: 88 | BI72: =BG72+BH72 -> 88 | CD72: =CB72+CC72 -> 0 | DO72: =+AF72+AI72+AL72+AO72+AR72+AU72+AX72+BA72+BD72+BG72+BJ72+BM72+BP72+BS72+BV72+BY72+CB72+CE72+CH72+CK72+CN72+CQ72+CT72+CW72+CZ72+DC72+DF72+DI72+DL72 -> 358452 | DP72: =+AG72+AJ72+AM72+AP72+AS72+AV72+AY72+BB72+BE72+BH72+BK72+BN72+BQ72+BT72+BW72+BZ72+CC72+CF72+CI72+CL72+CO72+CR72+CU72+CX72+DA72+DD72+DG72+DJ72+DM72 -> 68585 | DQ72: =DO72+DP72 -> 427037 | DR72: =K72+N72+Q72+T72+W72+Z72+AC72+DO72 -> 637248 | DS72: =L72+O72+R72+U72+X72+AA72+AD72+DP72 -> 197704 | DT72: =DR72+DS72 -> 834952 | DU72: 804554
B73: aizņēmums pašvaldības transporta infrastruktūras attīstības projektam "Autoceļa "Mālupe - Priednieki" transporta infrastruktūras atjaunošana" | C73: 31.08.2020. | D73: 20.12.2031. | E73: A2/1/20/600 | F73: P-278/2020 | G73: Valsts kase | H73: 4.58 | I73: mainīga | J73: EUR | K73: 7260 | L73: 1601 | M73: =K73+L73 -> 8861 | N73: 7260 | O73: 2652 | P73: =N73+O73 -> 9912 | Q73: 7260 | R73: 2307 | S73: =Q73+R73 -> 9567 | T73: 7260 | U73: 1971 | V73: =T73+U73 -> 9231 | W73: 7260 | X73: 1634 | Y73: =W73+X73 -> 8894 | Z73: 7260 | AA73: 1299 | AB73: =Z73+AA73 -> 8559 | AC73: 7260 | AD73: 959 | AE73: =AC73+AD73 -> 8219 | AF73: 7260 | AG73: 621 | AH73: =AF73+AG73 -> 7881 | AI73: 7260 | AJ73: 285 | AK73: =AI73+AJ73 -> 7545 | AM73: 19 | AN73: =AL73+AM73 -> 19 | CD73: =CB73+CC73 -> 0 | DO73: =+AF73+AI73+AL73+AO73+AR73+AU73+AX73+BA73+BD73+BG73+BJ73+BM73+BP73+BS73+BV73+BY73+CB73+CE73+CH73+CK73+CN73+CQ73+CT73+CW73+CZ73+DC73+DF73+DI73+DL73 -> 14520 | DP73: =+AG73+AJ73+AM73+AP73+AS73+AV73+AY73+BB73+BE73+BH73+BK73+BN73+BQ73+BT73+BW73+BZ73+CC73+CF73+CI73+CL73+CO73+CR73+CU73+CX73+DA73+DD73+DG73+DJ73+DM73 -> 925 | DQ73: =DO73+DP73 -> 15445 | DR73: =K73+N73+Q73+T73+W73+Z73+AC73+DO73 -> 65340 | DS73: =L73+O73+R73+U73+X73+AA73+AD73+DP73 -> 13348 | DT73: =DR73+DS73 -> 78688 | DU73: 74881
A74: Veclaicenes pagasts | B74: aizņēmums ERAF projekta "Aizsargājamo ainavu apvidus "Veclaicene"infrastruktūras uzlabošana antropogēnās slodzes mazināšanai un pieejamības nodrošināšanai" īstenošanai | C74: 05.12.2017.; 30.08.2018. | D74: 12.2036. | E74: A2/1/17/869; A2/1/17/869-V/18/1 | F74: P-662/2017 | G74: valsts kase | H74: 3.11 | I74: mainīga | J74: EUR | K74: 40960 | L74: 15097 | M74: =K74+L74 -> 56057 | N74: 40960 | O74: 18700 | P74: =N74+O74 -> 59660 | Q74: 40960 | R74: 17585 | S74: =Q74+R74 -> 58545 | T74: 40960 | U74: 16103 | V74: =T74+U74 -> 57063 | W74: 40960 | X74: 14618 | Y74: =W74+X74 -> 55578 | Z74: 40960 | AA74: 13166 | AB74: =Z74+AA74 -> 54126 | AC74: 40960 | AD74: 11644 | AE74: =AC74+AD74 -> 52604 | AF74: 40960 | AG74: 0 | AH74: =AF74+AG74 -> 40960 | AI74: 40960 | AJ74: 0 | AK74: =AI74+AJ74 -> 40960 | AL74: 40960 | AM74: 0 | AN74: =AL74+AM74 -> 40960 | AO74: 40960 | AP74: 0 | AQ74: =AO74+AP74 -> 40960 | AR74: 40960 | AS74: 0 | AT74: =AR74+AS74 -> 40960 | AU74: 40960 | AV74: 0 | AW74: =AU74+AV74 -> 40960 | AX74: 40960 | AY74: 0 | AZ74: =AX74+AY74 -> 40960 | BA74: 0 | BB74: 0 | BC74: =BA74+BB74 -> 0 | BD74: 0 | BE74: 0 | BF74: =BD74+BE74 -> 0 | CD74: =CB74+CC74 -> 0 | DO74: =+AF74+AI74+AL74+AO74+AR74+AU74+AX74+BA74+BD74+BG74+BJ74+BM74+BP74+BS74+BV74+BY74+CB74+CE74+CH74+CK74+CN74+CQ74+CT74+CW74+CZ74+DC74+DF74+DI74+DL74 -> 286720 | DP74: 40058 | DQ74: =DO74+DP74 -> 326778 | DR74: =K74+N74+Q74+T74+W74+Z74+AC74+DO74 -> 573440 | DS74: =L74+O74+R74+U74+X74+AA74+AD74+DP74 -> 146971 | DT74: =DR74+DS74 -> 720411 | DU74: 863296
A75: Zeltiņu pagasts | B75: ERAF projekts "Ūdenssaimniecības attīstība Alūksnes novada Zeltiņu pagasta Zeltiņu ciemā" SIA "Rūpe" pamatkapitāls | C75: 18.03.2015. | D75: 20.12.2025. | E75: A2/1/15/113 | F75: P-72/2015 | G75: valsts kase | H75: 3.912 | I75: mainīga | J75: EUR | K75: 6396 | L75: 432 | M75: =K75+L75 -> 6828 | N75: 6396 | O75: 465 | P75: =N75+O75 -> 6861 | Q75: 6396 | R75: 214 | S75: =Q75+R75 -> 6610 | V75: =T75+U75 -> 0 | Y75: =W75+X75 -> 0 | AB75: =Z75+AA75 -> 0 | AE75: =AC75+AD75 -> 0 | AH75: =AF75+AG75 -> 0 | AK75: =AI75+AJ75 -> 0 | AN75: =AL75+AM75 -> 0 | AQ75: =AO75+AP75 -> 0 | AT75: =AR75+AS75 -> 0 | AW75: =AU75+AV75 -> 0 | AZ75: =AX75+AY75 -> 0 | BC75: =BA75+BB75 -> 0 | BF75: =BD75+BE75 -> 0 | BI75: =BG75+BH75 -> 0 | BL75: =BJ75+BK75 -> 0 | BO75: =BM75+BN75 -> 0 | CD75: =CB75+CC75 -> 0 | DO75: =+AF75+AI75+AL75+AO75+AR75+AU75+AX75+BA75+BD75+BG75+BJ75+BM75+BP75+BS75+BV75+BY75+CB75+CE75+CH75+CK75+CN75+CQ75+CT75+CW75+CZ75+DC75+DF75+DI75+DL75 -> 0 | DP75: =+AG75+AJ75+AM75+AP75+AS75+AV75+AY75+BB75+BE75+BH75+BK75+BN75+BQ75+BT75+BW75+BZ75+CC75+CF75+CI75+CL75+CO75+CR75+CU75+CX75+DA75+DD75+DG75+DJ75+DM75 -> 0 | DQ75: =DO75+DP75 -> 0 | DR75: =K75+N75+Q75+T75+W75+Z75+AC75+DO75 -> 19188 | DS75: =L75+O75+R75+U75+X75+AA75+AD75+DP75 -> 1111 | DT75: =DR75+DS75 -> 20299 | DU75: 39190
A76: Alūsknes novads | B76: aizņemums četru ELFLA projektu īstenošanai* | C76: 11.04.2018.; 14.01.2019. | D76: 20.06.2027. | E76: A2/1/18/166; A2/1/18/166-V/19/1 | F76: P-136/2018 | G76: Valsts kase | H76: 0,311/x | I76: mainīga | J76: EUR | K76: 47340 | L76: 3993 | M76: =K76+L76 -> 51333 | N76: 47340 | O76: 6257 | P76: =N76+O76 -> 53597 | Q76: 47340 | R76: 4375 | S76: =Q76+R76 -> 51715 | T76: 47340 | U76: 2513 | V76: =T76+U76 -> 49853 | W76: 23670 | X76: 660 | Y76: =W76+X76 -> 24330 | AB76: =Z76+AA76 -> 0 | AE76: =AC76+AD76 -> 0 | AH76: =AF76+AG76 -> 0 | AK76: =AI76+AJ76 -> 0 | AN76: =AL76+AM76 -> 0 | AQ76: =AO76+AP76 -> 0 | AT76: =AR76+AS76 -> 0 | AW76: =AU76+AV76 -> 0 | AZ76: =AX76+AY76 -> 0 | BC76: =BA76+BB76 -> 0 | BF76: =BD76+BE76 -> 0 | BI76: =BG76+BH76 -> 0 | BL76: =BJ76+BK76 -> 0 | BO76: =BM76+BN76 -> 0 | CD76: =CB76+CC76 -> 0 | DO76: =+AF76+AI76+AL76+AO76+AR76+AU76+AX76+BA76+BD76+BG76+BJ76+BM76+BP76+BS76+BV76+BY76+CB76+CE76+CH76+CK76+CN76+CQ76+CT76+CW76+CZ76+DC76+DF76+DI76+DL76 -> 0 | DP76: =+AG76+AJ76+AM76+AP76+AS76+AV76+AY76+BB76+BE76+BH76+BK76+BN76+BQ76+BT76+BW76+BZ76+CC76+CF76+CI76+CL76+CO76+CR76+CU76+CX76+DA76+DD76+DG76+DJ76+DM76 -> 0 | DQ76: =DO76+DP76 -> 0 | DR76: =K76+N76+Q76+T76+W76+Z76+AC76+DO76 -> 213030 | DS76: =L76+O76+R76+U76+X76+AA76+AD76+DP76 -> 17798 | DT76: =DR76+DS76 -> 230828 | DU76: 358866
A77: Alūsknes novads | B77: aizņēmums desmit ELFLA projektu īstenošanai (pašvaldības koplietošanas novadgrāvju meliorācijas atjaunošana) 10 projekti | C77: 27.02.2020. | D77: 20.12.2024. | E77: A2/1/20/47; A2/1/20/47-ekase/1 A2/1/20/47-ekase/2 | F77: P-37/2020 | G77: Valsts kase | H77: 0.26 | I77: mainīga | J77: EUR | K77: 103 | L77: 5 | M77: =K77+L77 -> 108 | N77: 0 | O77: 0 | P77: =N77+O77 -> 0 | Q77: 0 | R77: 0 | S77: =Q77+R77 -> 0 | T77: 0 | U77: 0 | V77: =T77+U77 -> 0 | W77: 0 | X77: 0 | Y77: =W77+X77 -> 0 | Z77: 0 | AA77: 0 | AB77: =Z77+AA77 -> 0 | AC77: 0 | AD77: 0 | AE77: =AC77+AD77 -> 0 | AF77: 0 | AG77: 0 | AH77: =AF77+AG77 -> 0 | AK77: =AI77+AJ77 -> 0 | AN77: =AL77+AM77 -> 0 | AQ77: =AO77+AP77 -> 0 | AT77: =AR77+AS77 -> 0 | AW77: =AU77+AV77 -> 0 | AZ77: =AX77+AY77 -> 0 | BC77: =BA77+BB77 -> 0 | BF77: =BD77+BE77 -> 0 | BI77: =BG77+BH77 -> 0 | BL77: =BJ77+BK77 -> 0 | BO77: =BM77+BN77 -> 0 | BR77: =BP77+BQ77 -> 0 | BU77: =BS77+BT77 -> 0 | BX77: =BV77+BW77 -> 0 | CA77: =BY77+BZ77 -> 0 | CD77: =CB77+CC77 -> 0 | CG77: =CE77+CF77 -> 0 | CJ77: =CH77+CI77 -> 0 | CM77: =CK77+CL77 -> 0 | CP77: =CN77+CO77 -> 0 | CS77: =CQ77+CR77 -> 0 | CV77: =CT77+CU77 -> 0 | CY77: =CW77+CX77 -> 0 | DB77: =CZ77+DA77 -> 0 | DO77: =+AF77+AI77+AL77+AO77+AR77+AU77+AX77+BA77+BD77+BG77+BJ77+BM77+BP77+BS77+BV77+BY77+CB77+CE77+CH77+CK77+CN77+CQ77+CT77+CW77+CZ77+DC77+DF77+DI77+DL77 -> 0 | DP77: =+AG77+AJ77+AM77+AP77+AS77+AV77+AY77+BB77+BE77+BH77+BK77+BN77+BQ77+BT77+BW77+BZ77+CC77+CF77+CI77+CL77+CO77+CR77+CU77+CX77+DA77+DD77+DG77+DJ77+DM77 -> 0 | DQ77: =DO77+DP77 -> 0 | DR77: =K77+N77+Q77+T77+W77+Z77+AC77+DO77 -> 103 | DS77: =L77+O77+R77+U77+X77+AA77+AD77+DP77 -> 5 | DT77: =DR77+DS77 -> 108 | DU77: 105231
A78: Alūsknes novads | B78: aizņēmums pašvaldības investīciju projektam "Bezkontakta, attalinātās pārvaldīšanas sistēmas ieviešana" | C78: 12.2020. | D78: 20.12.2024. | E78: A2/1/20/839 | F78: P-464/2020 | G78: Valsts kase | H78: 0.341 | I78: mainīga | J78: EUR | K78: 17924 | L78: 84 | M78: =K78+L78 -> 18008 | N78: 17924 | O78: 41 | P78: =N78+O78 -> 17965 | Y78: =W78+X78 -> 0 | AB78: =Z78+AA78 -> 0 | AE78: =AC78+AD78 -> 0 | AH78: =AF78+AG78 -> 0 | AK78: =AI78+AJ78 -> 0 | AN78: =AL78+AM78 -> 0 | AQ78: =AO78+AP78 -> 0 | AT78: =AR78+AS78 -> 0 | AW78: =AU78+AV78 -> 0 | AZ78: =AX78+AY78 -> 0 | BC78: =BA78+BB78 -> 0 | BF78: =BD78+BE78 -> 0 | BI78: =BG78+BH78 -> 0 | BL78: =BJ78+BK78 -> 0 | BO78: =BM78+BN78 -> 0 | BR78: =BP78+BQ78 -> 0 | BU78: =BS78+BT78 -> 0 | BX78: =BV78+BW78 -> 0 | CA78: =BY78+BZ78 -> 0 | CD78: =CB78+CC78 -> 0 | CG78: =CE78+CF78 -> 0 | CJ78: =CH78+CI78 -> 0 | CM78: =CK78+CL78 -> 0 | CP78: =CN78+CO78 -> 0 | CS78: =CQ78+CR78 -> 0 | CV78: =CT78+CU78 -> 0 | CY78: =CW78+CX78 -> 0 | DB78: =CZ78+DA78 -> 0 | DO78: =+AF78+AI78+AL78+AO78+AR78+AU78+AX78+BA78+BD78+BG78+BJ78+BM78+BP78+BS78+BV78+BY78+CB78+CE78+CH78+CK78+CN78+CQ78+CT78+CW78+CZ78+DC78+DF78+DI78+DL78 -> 0 | DP78: =+AG78+AJ78+AM78+AP78+AS78+AV78+AY78+BB78+BE78+BH78+BK78+BN78+BQ78+BT78+BW78+BZ78+CC78+CF78+CI78+CL78+CO78+CR78+CU78+CX78+DA78+DD78+DG78+DJ78+DM78 -> 0 | DQ78: =DO78+DP78 -> 0 | DR78: =K78+N78+Q78+T78+W78+Z78+AC78+DO78 -> 35848 | DS78: =L78+O78+R78+U78+X78+AA78+AD78+DP78 -> 125 | DT78: =DR78+DS78 -> 35973
A79: Kopā | K79: =SUM(K7:K78) -> 1953933 | L79: =SUM(L7:L78) -> 700359 | M79: =K79+L79 -> 2654292 | N79: =SUM(N7:N78) -> 2069882 | O79: =SUM(O7:O78) -> 1102137 | P79: =N79+O79 -> 3172019 | Q79: =SUM(Q7:Q78) -> 1966564 | R79: =SUM(R7:R78) -> 1021922 | S79: =Q79+R79 -> 2988486 | T79: =SUM(T7:T77) -> 1874862 | U79: =SUM(U7:U77) -> 938876 | V79: =T79+U79 -> 2813738 | W79: =SUM(W7:W77) -> 1796866 | X79: =SUM(X7:X77) -> 859166 | Y79: =W79+X79 -> 2656032 | Z79: =SUM(Z7:Z78) -> 1626291 | AA79: =SUM(AA7:AA78) -> 785913 | AB79: =SUM(AB7:AB78) -> 2412204 | AC79: =SUM(AC7:AC78) -> 1413020 | AD79: =SUM(AD7:AD78) -> 715894 | AE79: =SUM(AE7:AE78) -> 2128914 | AF79: =SUM(AF7:AF78) -> 1314115 | AG79: =SUM(AG7:AG78) -> 489634 | ... DN79: =SUM(DN7:DN78) -> 0 | DO79: =DO7+DO8+DO9+DO10+DO11+DO15+DO16+DO17+DO18+DO19+DO20+DO23+DO24+DO25+DO26+DO27+DO28+DO29+DO30+DO31+DO32+DO33+DO34+DO35+DO36+DO37+DO38+DO39+DO40+DO41+DO42+DO43+DO44+DO45+DO46+DO47+DO48+DO49+DO50+DO51+DO52+DO53+DO54+DO55+DO56+DO57+DO58+DO59+DO60+DO61+DO62+DO63+DO64+DO65+DO66+DO67+DO68+DO69+DO70+DO71+DO72+DO73+DO74+DO75+DO76+DO77+DO78 -> 14406710 | DP79: =DP7+DP8+DP9+DP10+DP11+DP15+DP16+DP17+DP18+DP19+DP20+DP23+DP24+DP25+DP26+DP27+DP28+DP29+DP30+DP31+DP32+DP33+DP34+DP35+DP36+DP37+DP38+DP39+DP40+DP41+DP42+DP43+DP44+DP45+DP46+DP47+DP48+DP49+DP50+DP51+DP52+DP53+DP54+DP55+DP56+DP57+DP58+DP59+DP60+DP61+DP62+DP63+DP64+DP65+DP66+DP67+DP68+DP69+DP70+DP71+DP72+DP73+DP74+DP75+DP76+DP77+DP78 -> 5611827.2 | DQ79: =DO79+DP79 -> 20018537 | DR79: =K79+N79+Q79+T79+W79+Z79+AC79+DO79 -> 27108128 | DS79: =L79+O79+R79+U79+X79+AA79+AD79+DP79 -> 11736094 | DT79: =DR79+DS79 -> 38844222
A80: Galvojumi | K80: ='GALVOJUMI (paredzamie)'!M17 -> 155499 | L80: ='GALVOJUMI (paredzamie)'!N17 -> 0 | M80: ='GALVOJUMI (paredzamie)'!O17 -> 155499 | N80: ='GALVOJUMI (paredzamie)'!P17 -> 141182 | O80: ='GALVOJUMI (paredzamie)'!Q17 -> 0 | P80: ='GALVOJUMI (paredzamie)'!R17 -> 141182 | Q80: ='GALVOJUMI (paredzamie)'!S17 -> 131164 | R80: ='GALVOJUMI (paredzamie)'!T17 -> 0 | ... AQ80: ='GALVOJUMI (paredzamie)'!AS17 -> 0 | AR80: 0 | AS80: 0 | AT80: 0 | AU80: 0 | AV80: 0 | AW80: 0 | AX80: 0 | AY80: 0 | AZ80: 0 | BA80: 0 | BB80: 0 | BC80: 0 | BD80: 0 | BE80: 0 | BF80: 0 | BG80: 0 | BH80: 0 | BI80: 0 | BJ80: 0 | BK80: 0 | BL80: 0 | BM80: 0 | BN80: 0 | BO80: 0 | BP80: 0 | BQ80: 0 | BR80: 0 | BS80: 0 | BT80: 0 | BU80: 0 | BV80: 0 | BW80: 0 | BX80: 0 | BY80: 0 | BZ80: 0 | CA80: 0 | CB80: 0 | CC80: 0 | CD80: 0 | CE80: 0 | CF80: 0 | CG80: 0 | CH80: 0 | CI80: 0 | CJ80: 0 | CK80: 0 | CL80: 0 | CM80: 0 | CN80: 0 | CO80: 0 | CP80: 0 | CQ80: 0 | CR80: 0 | CS80: 0 | CT80: 0 | CU80: 0 | CV80: 0 | CW80: 0 | CX80: 0 | CY80: 0 | CZ80: 0 | DA80: 0 | DB80: 0 | DC80: 0 | DD80: 0 | DE80: 0 | DO80: 0 | DP80: 0 | DQ80: 0 | DR80: =K80+N80+Q80+T80+W80+Z80+AC80+DO80 -> 748941 | DS80: =L80+O80+R80+U80+X80+AA80+AD80+DP80 -> 0 | DT80: =DR80+DS80 -> 748941
A81: Kopā aizņēmumi un galvojumi | K81: =K79+K80 -> 2109432 | L81: =L79+L80 -> 700359 | M81: =M79+M80 -> 2809791 | N81: =N79+N80 -> 2211064 | O81: =O79+O80 -> 1102137 | P81: =P79+P80 -> 3313201 | Q81: =Q79+Q80 -> 2097728 | R81: =R79+R80 -> 1021922 | ... DP81: =DP79+DP80 -> 5611827.2 | DQ81: =DO81+DP81 -> 20018537 | DR81: =K81+N81+Q81+T81+W81+Z81+AC81+DO81 -> 27857069 | DS81: =L81+O81+R81+U81+X81+AA81+AD81+DP81 -> 11736094 | DT81: =DR81+DS81 -> 39593163
A82: % pret budžetu | M82: =M81/$E$84% -> 17.500298 | P82: =P81/$E$84% -> 20.6357 | S82: =S81/$E$84% -> 19.430201 | V82: =V81/$E$84% -> 18.277693 | Y82: =Y81/$E$84% -> 17.260944 | AB82: =AB81/$E$84% -> 15.487845 | AE82: =AE81/$E$84% -> 13.324497 | AH82: =AH81/$E$84% -> 11.234339 | AK82: =AK81/$E$84% -> 10.718684 | AN82: =AN81/$E$84% -> 10.228383 | AQ82: =AQ81/$E$84% -> 9.2536328 | AT82: =AT81/$E$84% -> 8.9567458 | AW82: =AW81/$E$84% -> 8.6807811 | AZ82: =AZ81/$E$84% -> 7.8918949 | BC82: =BC81/$E$84% -> 6.2609327 | BF82: =BF81/$E$84% -> 5.797869 | BI82: =BI81/$E$84% -> 4.9840384 | BL82: =BL81/$E$84% -> 4.5620505 | BO82: =BO81/$E$84% -> 4.0760416 | BR82: =BR81/$E$84% -> 3.2454381 | BU82: =BU81/$E$84% -> 3.1478402 | BX82: =BX81/$E$84% -> 3.0518493 | CA82: =CA81/$E$84% -> 2.9519095 | CD82: =CD81/$E$84% -> 2.8541061 | CG82: =CG81/$E$84% -> 2.7563089 | CJ82: =CJ81/$E$84% -> 2.4059779 | CM82: =CM81/$E$84% -> 2.1135455 | CP82: =CP81/$E$84% -> 1.9424035 | CS82: =CS81/$E$84% -> 0.55085196 | CV82: =CV81/$E$84% -> 0.33928813 | CY82: =CY81/$E$84% -> 0 | DB82: =DB81/$E$84% -> 0 | DE82: =DE81/$E$84% -> 0 | DH82: =DH81/$E$84% -> 0 | DK82: =DK81/$E$84% -> 0 | DN82: =DN81/$E$84% -> 0
A84: Pasvaldības budžets bez mērķdotācijām un iemaksām PFIF | E84: 16055675 | DR84: =K81+N81+Q81+T81+W81+Z81+AC81+DO81 -> 27857069 | DS84: =L81+O81+R81+U81+X81+AA81+AD81+DP81 -> 11736094 | DT84: =M81+P81+S81+V81+Y81+AB81+AE81+DQ81 -> 39593163
E85: 13085672 | DO85: =SUM(DO7:DO77) -> 14406710 | DR85: =K79+N79+Q79+T79+W79+Z79+AC79+DO79 -> 27108128
A87: * | B87: ELFLA projekts "Pašvaldības autoceļu "Tomsona pagrieziens - Sebežnieki", "Brenci - Sakvārne" un "P41-Cūku komplekss"" pārbūve, Malienas pagastā, Alūksnes novadā" | DT87: =SUM(DT7:DT78) -> 38844222 | DU87: =SUM(DU7:DU77) -> 20023378
B88: ELFLA projekts "Alūksnes novada pašvaldības autoceļa "Mālupe - Purmala" pārbvūve" | DT88: =DT87-DT79 -> 0
B89: ELFLA projekts "Pašvaldības autoceļa "Dzintari - Cīņa" pārbūve Veclaicenes pagastā, Alūksnes novadā" | DT89: =+M79+P79+S79+V79+DQ79+Y79 -> 34303104
B90: ELFLA projekts "Pašvaldības autoceļa "Indrāni- Blūmji - Gailīši", "Rijukalns - Vengerski" un "Ziemeri - Murati" pārbūve Ziemera pagastā, Alūksnes novadā"
DT91: =DR93+M79+DQ79+P79+S79+V79+Y79 -> 34303104
A92: Domes priekšsēdētājs | F92: Dz.ADLERS
B93: Alūksnes novada pašvaldības domes priekšsēdētājs Dz. Adlers
B94: esošie | M94: =#REF!+M7+M8+#REF!+#REF!+#REF!+#REF!+M9+#REF!+M10+#REF!+M11+M14+#REF!+M15+#REF!+M16+M17+M18+M19+M20+#REF!+M25+M26+#REF!+#REF!+M28+M29+#REF!+#REF!+M32+#REF!+M36+M37+M38+M40+#REF!+M48+M50+M61+M62+M63+#REF!+#REF!++#REF!+M64+M65+M66+#REF!+#REF!+M67+M68+M69+#REF!+#REF!+#REF!+#REF!+#REF!+#REF!+M71+#REF!+#REF!+#REF!+#REF!+M75+#REF!+#REF!+#REF!++M74 -> #REF! | P94: =#REF!+P7+P8+#REF!+#REF!+#REF!+#REF!+P9+#REF!+P10+#REF!+P11+P14+#REF!+P15+#REF!+P16+P17+P18+P19+P20+#REF!+P25+P26+#REF!+#REF!+P28+P29+#REF!+#REF!+P32+#REF!+P36+P37+P38+P40+#REF!+P48+P50+P61+P62+P63+#REF!+#REF!++#REF!+P64+P65+P66+#REF!+#REF!+P67+P68+P69+#REF!+#REF!+#REF!+#REF!+#REF!+#REF!+P71+#REF!+#REF!+#REF!+#REF!+P75+#REF!+#REF!+#REF!++P74 -> #REF! | S94: =#REF!+S7+S8+#REF!+#REF!+#REF!+#REF!+S9+#REF!+S10+#REF!+S11+S14+#REF!+S15+#REF!+S16+S17+S18+S19+S20+#REF!+S25+S26+#REF!+#REF!+S28+S29+#REF!+#REF!+S32+#REF!+S36+S37+S38+S40+#REF!+S48+S50+S61+S62+S63+#REF!+#REF!++#REF!+S64+S65+S66+#REF!+#REF!+S67+S68+S69+#REF!+#REF!+#REF!+#REF!+#REF!+#REF!+S71+#REF!+#REF!+#REF!+#REF!+S75+#REF!+#REF!+#REF!++S74 -> #REF! | V94: =#REF!+V7+V8+#REF!+#REF!+#REF!+#REF!+V9+#REF!+V10+#REF!+V11+V14+#REF!+V15+#REF!+V16+V17+V18+V19+V20+#REF!+V25+V26+#REF!+#REF!+V28+V29+#REF!+#REF!+V32+#REF!+V36+V37+V38+V40+#REF!+V48+V50+V61+V62+V63+#REF!+#REF!++#REF!+V64+V65+V66+#REF!+#REF!+V67+V68+V69+#REF!+#REF!+#REF!+#REF!+#REF!+#REF!+V71+#REF!+#REF!+#REF!+#REF!+V75+#REF!+#REF!+#REF!++V74 -> #REF! | Y94: =#REF!+Y7+Y8+#REF!+#REF!+#REF!+#REF!+Y9+#REF!+Y10+#REF!+Y11+Y14+#REF!+Y15+#REF!+Y16+Y17+Y18+Y19+Y20+#REF!+Y25+Y26+#REF!+#REF!+Y28+Y29+#REF!+#REF!+Y32+#REF!+Y36+Y37+Y38+Y40+#REF!+Y48+Y50+Y61+Y62+Y63+#REF!+#REF!++#REF!+Y64+Y65+Y66+#REF!+#REF!+Y67+Y68+Y69+#REF!+#REF!+#REF!+#REF!+#REF!+#REF!+Y71+#REF!+#REF!+#REF!+#REF!+Y75+#REF!+#REF!+#REF!++Y74 -> #REF! | AB94: =#REF!+AB7+AB8+#REF!+#REF!+#REF!+#REF!+AB9+#REF!+AB10+#REF!+AB11+AB14+#REF!+AB15+#REF!+AB16+AB17+AB18+AB19+AB20+#REF!+AB25+AB26+#REF!+#REF!+AB28+AB29+#REF!+#REF!+AB32+#REF!+AB36+AB37+AB38+AB40+#REF!+AB48+AB50+AB61+AB62+AB63+#REF!+#REF!++#REF!+AB64+AB65+AB66+#REF!+#REF!+AB67+AB68+AB69+#REF!+#REF!+#REF!+#REF!+#REF!+#REF!+AB71+#REF!+#REF!+#REF!+#REF!+AB75+#REF!+#REF!+#REF!++AB74 -> #REF! | AE94: =#REF!+AE7+AE8+#REF!+#REF!+#REF!+#REF!+AE9+#REF!+AE10+#REF!+AE11+AE14+#REF!+AE15+#REF!+AE16+AE17+AE18+AE19+AE20+#REF!+AE25+AE26+#REF!+#REF!+AE28+AE29+#REF!+#REF!+AE32+#REF!+AE36+AE37+AE38+AE40+#REF!+AE48+AE50+AE61+AE62+AE63+#REF!+#REF!++#REF!+AE64+AE65+AE66+#REF!+#REF!+AE67+AE68+AE69+#REF!+#REF!+#REF!+#REF!+#REF!+#REF!+AE71+#REF!+#REF!+#REF!+#REF!+AE75+#REF!+#REF!+#REF!++AE74 -> #REF! | AH94: =#REF!+AH7+AH8+#REF!+#REF!+#REF!+#REF!+AH9+#REF!+AH10+#REF!+AH11+AH14+#REF!+AH15+#REF!+AH16+AH17+AH18+AH19+AH20+#REF!+AH25+AH26+#REF!+#REF!+AH28+AH29+#REF!+#REF!+AH32+#REF!+AH36+AH37+AH38+AH40+#REF!+AH48+AH50+AH61+AH62+AH63+#REF!+#REF!++#REF!+AH64+AH65+AH66+#REF!+#REF!+AH67+AH68+AH69+#REF!+#REF!+#REF!+#REF!+#REF!+#REF!+AH71+#REF!+#REF!+#REF!+#REF!+AH75+#REF!+#REF!+#REF!++AH74 -> #REF! | AK94: =#REF!+AK7+AK8+#REF!+#REF!+#REF!+#REF!+AK9+#REF!+AK10+#REF!+AK11+AK14+#REF!+AK15+#REF!+AK16+AK17+AK18+AK19+AK20+#REF!+AK25+AK26+#REF!+#REF!+AK28+AK29+#REF!+#REF!+AK32+#REF!+AK36+AK37+AK38+AK40+#REF!+AK48+AK50+AK61+AK62+AK63+#REF!+#REF!++#REF!+AK64+AK65+AK66+#REF!+#REF!+AK67+AK68+AK69+#REF!+#REF!+#REF!+#REF!+#REF!+#REF!+AK71+#REF!+#REF!+#REF!+#REF!+AK75+#REF!+#REF!+#REF!++AK74 -> #REF! | AN94: =#REF!+AN7+AN8+#REF!+#REF!+#REF!+#REF!+AN9+#REF!+AN10+#REF!+AN11+AN14+#REF!+AN15+#REF!+AN16+AN17+AN18+AN19+AN20+#REF!+AN25+AN26+#REF!+#REF!+AN28+AN29+#REF!+#REF!+AN32+#REF!+AN36+AN37+AN38+AN40+#REF!+AN48+AN50+AN61+AN62+AN63+#REF!+#REF!++#REF!+AN64+AN65+AN66+#REF!+#REF!+AN67+AN68+AN69+#REF!+#REF!+#REF!+#REF!+#REF!+#REF!+AN71+#REF!+#REF!+#REF!+#REF!+AN75+#REF!+#REF!+#REF!++AN74 -> #REF! | AQ94: =#REF!+AQ7+AQ8+#REF!+#REF!+#REF!+#REF!+AQ9+#REF!+AQ10+#REF!+AQ11+AQ14+#REF!+AQ15+#REF!+AQ16+AQ17+AQ18+AQ19+AQ20+#REF!+AQ25+AQ26+#REF!+#REF!+AQ28+AQ29+#REF!+#REF!+AQ32+#REF!+AQ36+AQ37+AQ38+AQ40+#REF!+AQ48+AQ50+AQ61+AQ62+AQ63+#REF!+#REF!++#REF!+AQ64+AQ65+AQ66+#REF!+#REF!+AQ67+AQ68+AQ69+#REF!+#REF!+#REF!+#REF!+#REF!+#REF!+AQ71+#REF!+#REF!+#REF!+#REF!+AQ75+#REF!+#REF!+#REF!++AQ74 -> #REF! | AT94: =#REF!+AT7+AT8+#REF!+#REF!+#REF!+#REF!+AT9+#REF!+AT10+#REF!+AT11+AT14+#REF!+AT15+#REF!+AT16+AT17+AT18+AT19+AT20+#REF!+AT25+AT26+#REF!+#REF!+AT28+AT29+#REF!+#REF!+AT32+#REF!+AT36+AT37+AT38+AT40+#REF!+AT48+AT50+AT61+AT62+AT63+#REF!+#REF!++#REF!+AT64+AT65+AT66+#REF!+#REF!+AT67+AT68+AT69+#REF!+#REF!+#REF!+#REF!+#REF!+#REF!+AT71+#REF!+#REF!+#REF!+#REF!+AT75+#REF!+#REF!+#REF!++AT74 -> #REF! | AW94: =#REF!+AW7+AW8+#REF!+#REF!+#REF!+#REF!+AW9+#REF!+AW10+#REF!+AW11+AW14+#REF!+AW15+#REF!+AW16+AW17+AW18+AW19+AW20+#REF!+AW25+AW26+#REF!+#REF!+AW28+AW29+#REF!+#REF!+AW32+#REF!+AW36+AW37+AW38+AW40+#REF!+AW48+AW50+AW61+AW62+AW63+#REF!+#REF!++#REF!+AW64+AW65+AW66+#REF!+#REF!+AW67+AW68+AW69+#REF!+#REF!+#REF!+#REF!+#REF!+#REF!+AW71+#REF!+#REF!+#REF!+#REF!+AW75+#REF!+#REF!+#REF!++AW74 -> #REF! | AZ94: =#REF!+AZ7+AZ8+#REF!+#REF!+#REF!+#REF!+AZ9+#REF!+AZ10+#REF!+AZ11+AZ14+#REF!+AZ15+#REF!+AZ16+AZ17+AZ18+AZ19+AZ20+#REF!+AZ25+AZ26+#REF!+#REF!+AZ28+AZ29+#REF!+#REF!+AZ32+#REF!+AZ36+AZ37+AZ38+AZ40+#REF!+AZ48+AZ50+AZ61+AZ62+AZ63+#REF!+#REF!++#REF!+AZ64+AZ65+AZ66+#REF!+#REF!+AZ67+AZ68+AZ69+#REF!+#REF!+#REF!+#REF!+#REF!+#REF!+AZ71+#REF!+#REF!+#REF!+#REF!+AZ75+#REF!+#REF!+#REF!++AZ74 -> #REF! | BC94: =#REF!+BC7+BC8+#REF!+#REF!+#REF!+#REF!+BC9+#REF!+BC10+#REF!+BC11+BC14+#REF!+BC15+#REF!+BC16+BC17+BC18+BC19+BC20+#REF!+BC25+BC26+#REF!+#REF!+BC28+BC29+#REF!+#REF!+BC32+#REF!+BC36+BC37+BC38+BC40+#REF!+BC48+BC50+BC61+BC62+BC63+#REF!+#REF!++#REF!+BC64+BC65+BC66+#REF!+#REF!+BC67+BC68+BC69+#REF!+#REF!+#REF!+#REF!+#REF!+#REF!+BC71+#REF!+#REF!+#REF!+#REF!+BC75+#REF!+#REF!+#REF!++BC74 -> #REF! | BF94: =#REF!+BF7+BF8+#REF!+#REF!+#REF!+#REF!+BF9+#REF!+BF10+#REF!+BF11+BF14+#REF!+BF15+#REF!+BF16+BF17+BF18+BF19+BF20+#REF!+BF25+BF26+#REF!+#REF!+BF28+BF29+#REF!+#REF!+BF32+#REF!+BF36+BF37+BF38+BF40+#REF!+BF48+BF50+BF61+BF62+BF63+#REF!+#REF!++#REF!+BF64+BF65+BF66+#REF!+#REF!+BF67+BF68+BF69+#REF!+#REF!+#REF!+#REF!+#REF!+#REF!+BF71+#REF!+#REF!+#REF!+#REF!+BF75+#REF!+#REF!+#REF!++BF74 -> #REF! | BI94: =#REF!+BI7+BI8+#REF!+#REF!+#REF!+#REF!+BI9+#REF!+BI10+#REF!+BI11+BI14+#REF!+BI15+#REF!+BI16+BI17+BI18+BI19+BI20+#REF!+BI25+BI26+#REF!+#REF!+BI28+BI29+#REF!+#REF!+BI32+#REF!+BI36+BI37+BI38+BI40+#REF!+BI48+BI50+BI61+BI62+BI63+#REF!+#REF!++#REF!+BI64+BI65+BI66+#REF!+#REF!+BI67+BI68+BI69+#REF!+#REF!+#REF!+#REF!+#REF!+#REF!+BI71+#REF!+#REF!+#REF!+#REF!+BI75+#REF!+#REF!+#REF!++BI74 -> #REF! | BL94: =#REF!+BL7+BL8+#REF!+#REF!+#REF!+#REF!+BL9+#REF!+BL10+#REF!+BL11+BL14+#REF!+BL15+#REF!+BL16+BL17+BL18+BL19+BL20+#REF!+BL25+BL26+#REF!+#REF!+BL28+BL29+#REF!+#REF!+BL32+#REF!+BL36+BL37+BL38+BL40+#REF!+BL48+BL50+BL61+BL62+BL63+#REF!+#REF!++#REF!+BL64+BL65+BL66+#REF!+#REF!+BL67+BL68+BL69+#REF!+#REF!+#REF!+#REF!+#REF!+#REF!+BL71+#REF!+#REF!+#REF!+#REF!+BL75+#REF!+#REF!+#REF!++BL74 -> #REF! | BO94: =#REF!+BO7+BO8+#REF!+#REF!+#REF!+#REF!+BO9+#REF!+BO10+#REF!+BO11+BO14+#REF!+BO15+#REF!+BO16+BO17+BO18+BO19+BO20+#REF!+BO25+BO26+#REF!+#REF!+BO28+BO29+#REF!+#REF!+BO32+#REF!+BO36+BO37+BO38+BO40+#REF!+BO48+BO50+BO61+BO62+BO63+#REF!+#REF!++#REF!+BO64+BO65+BO66+#REF!+#REF!+BO67+BO68+BO69+#REF!+#REF!+#REF!+#REF!+#REF!+#REF!+BO71+#REF!+#REF!+#REF!+#REF!+BO75+#REF!+#REF!+#REF!++BO74 -> #REF! | BR94: =#REF!+BR7+BR8+#REF!+#REF!+#REF!+#REF!+BR9+#REF!+BR10+#REF!+BR11+BR14+#REF!+BR15+#REF!+BR16+BR17+BR18+BR19+BR20+#REF!+BR25+BR26+#REF!+#REF!+BR28+BR29+#REF!+#REF!+BR32+#REF!+BR36+BR37+BR38+BR40+#REF!+BR48+BR50+BR61+BR62+BR63+#REF!+#REF!++#REF!+BR64+BR65+BR66+#REF!+#REF!+BR67+BR68+BR69+#REF!+#REF!+#REF!+#REF!+#REF!+#REF!+BR71+#REF!+#REF!+#REF!+#REF!+BR75+#REF!+#REF!+#REF!++BR74 -> #REF! | BU94: =#REF!+BU7+BU8+#REF!+#REF!+#REF!+#REF!+BU9+#REF!+BU10+#REF!+BU11+BU14+#REF!+BU15+#REF!+BU16+BU17+BU18+BU19+BU20+#REF!+BU25+BU26+#REF!+#REF!+BU28+BU29+#REF!+#REF!+BU32+#REF!+BU36+BU37+BU38+BU40+#REF!+BU48+BU50+BU61+BU62+BU63+#REF!+#REF!++#REF!+BU64+BU65+BU66+#REF!+#REF!+BU67+BU68+BU69+#REF!+#REF!+#REF!+#REF!+#REF!+#REF!+BU71+#REF!+#REF!+#REF!+#REF!+BU75+#REF!+#REF!+#REF!++BU74 -> #REF! | BX94: =#REF!+BX7+BX8+#REF!+#REF!+#REF!+#REF!+BX9+#REF!+BX10+#REF!+BX11+BX14+#REF!+BX15+#REF!+BX16+BX17+BX18+BX19+BX20+#REF!+BX25+BX26+#REF!+#REF!+BX28+BX29+#REF!+#REF!+BX32+#REF!+BX36+BX37+BX38+BX40+#REF!+BX48+BX50+BX61+BX62+BX63+#REF!+#REF!++#REF!+BX64+BX65+BX66+#REF!+#REF!+BX67+BX68+BX69+#REF!+#REF!+#REF!+#REF!+#REF!+#REF!+BX71+#REF!+#REF!+#REF!+#REF!+BX75+#REF!+#REF!+#REF!++BX74 -> #REF! | CA94: =#REF!+CA7+CA8+#REF!+#REF!+#REF!+#REF!+CA9+#REF!+CA10+#REF!+CA11+CA14+#REF!+CA15+#REF!+CA16+CA17+CA18+CA19+CA20+#REF!+CA25+CA26+#REF!+#REF!+CA28+CA29+#REF!+#REF!+CA32+#REF!+CA36+CA37+CA38+CA40+#REF!+CA48+CA50+CA61+CA62+CA63+#REF!+#REF!++#REF!+CA64+CA65+CA66+#REF!+#REF!+CA67+CA68+CA69+#REF!+#REF!+#REF!+#REF!+#REF!+#REF!+CA71+#REF!+#REF!+#REF!+#REF!+CA75+#REF!+#REF!+#REF!++CA74 -> #REF! | CD94: =#REF!+CD7+CD8+#REF!+#REF!+#REF!+#REF!+CD9+#REF!+CD10+#REF!+CD11+CD14+#REF!+CD15+#REF!+CD16+CD17+CD18+CD19+CD20+#REF!+CD25+CD26+#REF!+#REF!+CD28+CD29+#REF!+#REF!+CD32+#REF!+CD36+CD37+CD38+CD40+#REF!+CD48+CD50+CD61+CD62+CD63+#REF!+#REF!++#REF!+CD64+CD65+CD66+#REF!+#REF!+CD67+CD68+CD69+#REF!+#REF!+#REF!+#REF!+#REF!+#REF!+CD71+#REF!+#REF!+#REF!+#REF!+CD75+#REF!+#REF!+#REF!++CD74 -> #REF! | CG94: =#REF!+CG7+CG8+#REF!+#REF!+#REF!+#REF!+CG9+#REF!+CG10+#REF!+CG11+CG14+#REF!+CG15+#REF!+CG16+CG17+CG18+CG19+CG20+#REF!+CG25+CG26+#REF!+#REF!+CG28+CG29+#REF!+#REF!+CG32+#REF!+CG36+CG37+CG38+CG40+#REF!+CG48+CG50+CG61+CG62+CG63+#REF!+#REF!++#REF!+CG64+CG65+CG66+#REF!+#REF!+CG67+CG68+CG69+#REF!+#REF!+#REF!+#REF!+#REF!+#REF!+CG71+#REF!+#REF!+#REF!+#REF!+CG75+#REF!+#REF!+#REF!++CG74 -> #REF! | CJ94: =#REF!+CJ7+CJ8+#REF!+#REF!+#REF!+#REF!+CJ9+#REF!+CJ10+#REF!+CJ11+CJ14+#REF!+CJ15+#REF!+CJ16+CJ17+CJ18+CJ19+CJ20+#REF!+CJ25+CJ26+#REF!+#REF!+CJ28+CJ29+#REF!+#REF!+CJ32+#REF!+CJ36+CJ37+CJ38+CJ40+#REF!+CJ48+CJ50+CJ61+CJ62+CJ63+#REF!+#REF!++#REF!+CJ64+CJ65+CJ66+#REF!+#REF!+CJ67+CJ68+CJ69+#REF!+#REF!+#REF!+#REF!+#REF!+#REF!+CJ71+#REF!+#REF!+#REF!+#REF!+CJ75+#REF!+#REF!+#REF!++CJ74 -> #REF! | CM94: =#REF!+CM7+CM8+#REF!+#REF!+#REF!+#REF!+CM9+#REF!+CM10+#REF!+CM11+CM14+#REF!+CM15+#REF!+CM16+CM17+CM18+CM19+CM20+#REF!+CM25+CM26+#REF!+#REF!+CM28+CM29+#REF!+#REF!+CM32+#REF!+CM36+CM37+CM38+CM40+#REF!+CM48+CM50+CM61+CM62+CM63+#REF!+#REF!++#REF!+CM64+CM65+CM66+#REF!+#REF!+CM67+CM68+CM69+#REF!+#REF!+#REF!+#REF!+#REF!+#REF!+CM71+#REF!+#REF!+#REF!+#REF!+CM75+#REF!+#REF!+#REF!++CM74 -> #REF! | CP94: =#REF!+CP7+CP8+#REF!+#REF!+#REF!+#REF!+CP9+#REF!+CP10+#REF!+CP11+CP14+#REF!+CP15+#REF!+CP16+CP17+CP18+CP19+CP20+#REF!+CP25+CP26+#REF!+#REF!+CP28+CP29+#REF!+#REF!+CP32+#REF!+CP36+CP37+CP38+CP40+#REF!+CP48+CP50+CP61+CP62+CP63+#REF!+#REF!++#REF!+CP64+CP65+CP66+#REF!+#REF!+CP67+CP68+CP69+#REF!+#REF!+#REF!+#REF!+#REF!+#REF!+CP71+#REF!+#REF!+#REF!+#REF!+CP75+#REF!+#REF!+#REF!++CP74 -> #REF! | CS94: =#REF!+CS7+CS8+#REF!+#REF!+#REF!+#REF!+CS9+#REF!+CS10+#REF!+CS11+CS14+#REF!+CS15+#REF!+CS16+CS17+CS18+CS19+CS20+#REF!+CS25+CS26+#REF!+#REF!+CS28+CS29+#REF!+#REF!+CS32+#REF!+CS36+CS37+CS38+CS40+#REF!+CS48+CS50+CS61+CS62+CS63+#REF!+#REF!++#REF!+CS64+CS65+CS66+#REF!+#REF!+CS67+CS68+CS69+#REF!+#REF!+#REF!+#REF!+#REF!+#REF!+CS71+#REF!+#REF!+#REF!+#REF!+CS75+#REF!+#REF!+#REF!++CS74 -> #REF! | CV94: =#REF!+CV7+CV8+#REF!+#REF!+#REF!+#REF!+CV9+#REF!+CV10+#REF!+CV11+CV14+#REF!+CV15+#REF!+CV16+CV17+CV18+CV19+CV20+#REF!+CV25+CV26+#REF!+#REF!+CV28+CV29+#REF!+#REF!+CV32+#REF!+CV36+CV37+CV38+CV40+#REF!+CV48+CV50+CV61+CV62+CV63+#REF!+#REF!++#REF!+CV64+CV65+CV66+#REF!+#REF!+CV67+CV68+CV69+#REF!+#REF!+#REF!+#REF!+#REF!+#REF!+CV71+#REF!+#REF!+#REF!+#REF!+CV75+#REF!+#REF!+#REF!++CV74 -> #REF! | CY94: =#REF!+CY7+CY8+#REF!+#REF!+#REF!+#REF!+CY9+#REF!+CY10+#REF!+CY11+CY14+#REF!+CY15+#REF!+CY16+CY17+CY18+CY19+CY20+#REF!+CY25+CY26+#REF!+#REF!+CY28+CY29+#REF!+#REF!+CY32+#REF!+CY36+CY37+CY38+CY40+#REF!+CY48+CY50+CY61+CY62+CY63+#REF!+#REF!++#REF!+CY64+CY65+CY66+#REF!+#REF!+CY67+CY68+CY69+#REF!+#REF!+#REF!+#REF!+#REF!+#REF!+CY71+#REF!+#REF!+#REF!+#REF!+CY75+#REF!+#REF!+#REF!++CY74 -> #REF! | DB94: =#REF!+DB7+DB8+#REF!+#REF!+#REF!+#REF!+DB9+#REF!+DB10+#REF!+DB11+DB14+#REF!+DB15+#REF!+DB16+DB17+DB18+DB19+DB20+#REF!+DB25+DB26+#REF!+#REF!+DB28+DB29+#REF!+#REF!+DB32+#REF!+DB36+DB37+DB38+DB40+#REF!+DB48+DB50+DB61+DB62+DB63+#REF!+#REF!++#REF!+DB64+DB65+DB66+#REF!+#REF!+DB67+DB68+DB69+#REF!+#REF!+#REF!+#REF!+#REF!+#REF!+DB71+#REF!+#REF!+#REF!+#REF!+DB75+#REF!+#REF!+#REF!++DB74 -> #REF! | DE94: =#REF!+DE7+DE8+#REF!+#REF!+#REF!+#REF!+DE9+#REF!+DE10+#REF!+DE11+DE14+#REF!+DE15+#REF!+DE16+DE17+DE18+DE19+DE20+#REF!+DE25+DE26+#REF!+#REF!+DE28+DE29+#REF!+#REF!+DE32+#REF!+DE36+DE37+DE38+DE40+#REF!+DE48+DE50+DE61+DE62+DE63+#REF!+#REF!++#REF!+DE64+DE65+DE66+#REF!+#REF!+DE67+DE68+DE69+#REF!+#REF!+#REF!+#REF!+#REF!+#REF!+DE71+#REF!+#REF!+#REF!+#REF!+DE75+#REF!+#REF!+#REF!++DE74 -> #REF! | DQ94: =#REF!+DQ7+DQ8+#REF!+#REF!+#REF!+#REF!+DQ9+#REF!+DQ10+#REF!+DQ11+DQ14+#REF!+DQ15+#REF!+DQ16+DQ17+DQ18+DQ19+DQ20+#REF!+DQ25+DQ26+#REF!+#REF!+DQ28+DQ29+#REF!+#REF!+DQ32+#REF!+DQ36+DQ37+DQ38+DQ40+#REF!+DQ48+DQ50+DQ61+DQ62+DQ63+#REF!+#REF!++#REF!+DQ64+DQ65+DQ66+#REF!+#REF!+DQ67+DQ68+DQ69+#REF!+#REF!+#REF!+#REF!+#REF!+#REF!+DQ71+#REF!+#REF!+#REF!+#REF!+DQ75+#REF!+#REF!+#REF!++DQ74 -> #REF! | DT94: =#REF!+DT7+DT8+#REF!+#REF!+#REF!+#REF!+DT9+#REF!+DT10+#REF!+DT11+DT14+#REF!+DT15+#REF!+DT16+DT17+DT18+DT19+DT20+#REF!+DT25+DT26+#REF!+#REF!+DT28+DT29+#REF!+#REF!+DT32+#REF!+DT36+DT37+DT38+DT40+#REF!+DT48+DT50+DT61+DT62+DT63+#REF!+#REF!++#REF!+DT64+DT65+DT66+#REF!+#REF!+DT67+DT68+DT69+#REF!+#REF!+#REF!+#REF!+#REF!+#REF!+DT71+#REF!+#REF!+#REF!+#REF!+DT75+#REF!+#REF!+#REF!++DT74 -> #REF!

Sheet GALVOJUMI (paredzamie)
AY1: 5. pielikums
AY2: Alūksnes novada pašvaldības
AY3: saistošajiem noteikumiem Nr. 42/2023
B6: Alūksnes novada pašvaldība
B7: Galvojumu saistības uz 30.11.2023. (noslēgtie līgumi) un paredzamie galvojumi
A9: Pašvaldība | B9: Mērķis | E9: Līguma Nr. (trančes Nr.) | M9: saistību apmērs /2023 | P9: saistību apmērs /2024 | S9: saistību apmērs /2025 | V9: saistību apmērs /2026 | Y9: saistību apmērs /2027 | AB9: saistību apmērs /2028 | AE9: saistību apmērs /2029 | AH9: saistību apmērs /2030 | AK9: saistību apmērs /2031 | AN9: saistību apmērs /2032 | AQ9: saistību apmērs /2033 | AT9: turpmākie gadi (2030-2030) | AW9: Kopā
C10: līguma noslēgšanas datums | D10: līguma atmaksas termiņš | F10: aizdevējs | G10: līguma summa oriģināl -valūtā | H10: oriģināl -valūtā | I10: valūtas kurss uz 01.01.2013. | J10: līguma summa EUR | K10: aizdevuma procentu likme | L10: procentu likmes veids | M10: pamatsumma | N10: % | O10: Kopā | P10: pamatsumma | Q10: % | R10: Kopā | S10: pamatsumma | T10: % | U10: Kopā | V10: pamatsumma | W10: % | X10: Kopā | Y10: pamatsumma | Z10: % | AA10: Kopā | AB10: pamatsumma | AC10: % | AD10: Kopā | AE10: pamatsumma | AF10: % | AG10: Kopā | AH10: pamatsumma | AI10: % | AJ10: Kopā | AK10: pamatsumma | AL10: % | AM10: Kopā | AN10: pamatsumma | AO10: % | AP10: Kopā | AQ10: pamatsumma | AR10: % | AS10: Kopā | AT10: pamatsumma | AU10: % | AV10: Kopā | AW10: pamatsumma | AX10: % | AY10: Kopā | AZ10: pašvaldības pamatbudžeta ieņēmumi bez mērķdotācijām un iemaksām PFIF | BA10: esošie
A11: Alūksnes novads | B11: AS "SIMONE" mazo katlu māju rekonstrukcija | C11: 21.07.2008. | D11: 20.07.2023. | F11: AS PAREX BANKA | G11: 213430 | H11: EUR | I11: 0.702804 | J11: =G11*I11 -> 149999.46 | L11: mainīga | M11: 14354 | O11: =M11+N11 -> 14354 | R11: =P11+Q11 -> 0 | U11: =S11+T11 -> 0 | X11: =V11+W11 -> 0 | AA11: =Y11+Z11 -> 0 | AD11: =AB11+AC11 -> 0 | AG11: =AE11+AF11 -> 0 | AJ11: =AH11+AI11 -> 0 | AM11: =AK11+AL11 -> 0 | AP11: =AN11+AO11 -> 0 | AS11: =AQ11+AR11 -> 0 | AT11: =AH11 -> 0 | AU11: =AI11 -> 0 | AV11: =AJ11 -> 0 | AW11: =+M11+P11+S11+V11+Y11+AB11+AE11+AH11+AK11+AN11+AQ11 -> 14354 | AX11: =+N11+Q11+T11+W11+Z11+AC11+AF11+AI11+AL11+AO11+AR11 -> 0 | AY11: =+O11+R11+U11+X11+AA11+AD11+AG11+AJ11+AM11+AP11+AS11 -> 14354
A12: Alūksnes novads | B12: SIA "RŪPE" ES projekta "Ūdenssaimniecības attīstība Austrumlatvijas upju baseinos" neattiecināmo izdevumu segšanai | C12: 06.11.2009.; 19.07.2010. | D12: 20.06.2029. | E12: Nr.G/09/635 | F12: Valsts kase | G12: 395164 | H12: EUR | I12: 0.702804 | J12: 277723 | K12: 5.002 | L12: fiksēta | M12: 23972 | O12: =M12+N12 -> 23972 | P12: 25148 | R12: =P12+Q12 -> 25148 | S12: 24266 | U12: =S12+T12 -> 24266 | V12: 23320 | X12: =V12+W12 -> 23320 | Y12: 22372 | AA12: =Y12+Z12 -> 22372 | AB12: 21425 | AD12: =AB12+AC12 -> 21425 | AE12: 10424 | AG12: =AE12+AF12 -> 10424 | AJ12: =AH12+AI12 -> 0 | AM12: =AK12+AL12 -> 0 | AP12: =AN12+AO12 -> 0 | AS12: =AQ12+AR12 -> 0 | AT12: =AH12 -> 0 | AU12: =AI12 -> 0 | AV12: =AJ12 -> 0 | AW12: =+M12+P12+S12+V12+Y12+AB12+AE12+AH12+AK12+AN12+AQ12 -> 150927 | AX12: =+N12+Q12+T12+W12+Z12+AC12+AF12+AI12+AL12+AO12+AR12 -> 0 | AY12: =+O12+R12+U12+X12+AA12+AD12+AG12+AJ12+AM12+AP12+AS12 -> 150927
A13: Alūksnes novads | B13: SIA "Alūksnes slimnīca" ERAF projektam "Stacionārās veselības aprūpes infrastruktūras uzlabošana SIA "Alūksnes slimnīca", uzlabojot veselības aprūpes pakalpojumu kvalitāti un pieejamību" | C13: 24.09.2012. | D13: 20.09.2028. | F13: Valsts kase | G13: 717013 | H13: LVL | I13: 1 | J13: 717013 | K13: 1.118 | L13: mainīga | M13: 70778 | N13: 0 | O13: =M13+N13 -> 70778 | P13: 70060 | Q13: 0 | R13: =P13+Q13 -> 70060 | S13: 67664 | T13: 0 | U13: =S13+T13 -> 67664 | V13: 65269 | W13: 0 | X13: 65269 | Y13: 62874 | Z13: 0 | AA13: 62874 | AB13: 46707 | AC13: 0 | AD13: 46707 | AG13: =AE13+AF13 -> 0 | AJ13: =AH13+AI13 -> 0 | AM13: =AK13+AL13 -> 0 | AP13: =AN13+AO13 -> 0 | AS13: =AQ13+AR13 -> 0 | AT13: =AH13 -> 0 | AU13: =AI13 -> 0 | AV13: =AJ13 -> 0 | AW13: =+M13+P13+S13+V13+Y13+AB13+AE13+AH13+AK13+AN13+AQ13 -> 383352 | AX13: =+N13+Q13+T13+W13+Z13+AC13+AF13+AI13+AL13+AO13+AR13 -> 0 | AY13: =+O13+R13+U13+X13+AA13+AD13+AG13+AJ13+AM13+AP13+AS13 -> 383352 | BA13: 523952
A14: Alūksnes novads | B14: SIA "ALBA 5" ilgterniņa aizņēmums ES KF projekta "Atkritumu apglabāšanas poligona "Kaudzītes" infrastruktūras attīstība" | C14: 24.09.2012. | D14: 24.09.2027. | F14: Nordea bank Finland Ple | G14: 61195 | H14: LVL | I14: 1 | J14: 61195 | K14: 3.2 | L14: fiksēta | M14: 6666 | O14: =M14+N14 -> 6666 | P14: 6741 | R14: =P14+Q14 -> 6741 | S14: 6741 | U14: =S14+T14 -> 6741 | V14: 6180 | X14: =V14+W14 -> 6180 | Y14: 4959 | AA14: =Y14+Z14 -> 4959 | AD14: =AB14+AC14 -> 0 | AG14: =AE14+AF14 -> 0 | AJ14: =AH14+AI14 -> 0 | AM14: =AK14+AL14 -> 0 | AP14: =AN14+AO14 -> 0 | AS14: =AQ14+AR14 -> 0 | AT14: =AH14 -> 0 | AU14: =AI14 -> 0 | AV14: =AJ14 -> 0 | AW14: =+M14+P14+S14+V14+Y14+AB14+AE14+AH14+AK14+AN14+AQ14 -> 31287 | AX14: =+N14+Q14+T14+W14+Z14+AC14+AF14+AI14+AL14+AO14+AR14 -> 0 | AY14: =+O14+R14+U14+X14+AA14+AD14+AG14+AJ14+AM14+AP14+AS14 -> 31287 | BA14: 43182
A15: Alūksnes novads | B15: SIA "RŪPE" aizņēmums ERAF projektiem "Alūksnes novada Alsviķu pagasta Alsviķu ciema ūdenssaimniecības attīstība", "Alūksnes novada Alsviķu pagasta Strautiņu ciema ūdenssaimniecības attīstība", "Alūksnes novada Ilzenes pagasta Jaunzemu ciema ūdenssaimniecības attīstība", "Alūksnes novada Zeltiņu pagasta Zeltiņu ciema ūdenssaimniecības attīstība" | C15: 03.06.2015. | D15: 20.04.2025. | F15: Valsts kase | K15: 0.544 | L15: mainīga, ik pēc 6 mēnešiem | M15: 11236 | O15: =M15+N15 -> 11236 | P15: 11182 | R15: =P15+Q15 -> 11182 | S15: 5418 | U15: =S15+T15 -> 5418 | X15: 0 | AA15: 0 | AD15: 0 | AG15: 0 | AT15: =AH15 -> 0 | AU15: =AI15 -> 0 | AV15: =AJ15 -> 0 | AW15: =+M15+P15+S15+V15+Y15+AB15+AE15+AH15+AK15+AN15+AQ15 -> 27836 | AX15: =+N15+Q15+T15+W15+Z15+AC15+AF15+AI15+AL15+AO15+AR15 -> 0 | AY15: =+O15+R15+U15+X15+AA15+AD15+AG15+AJ15+AM15+AP15+AS15 -> 27836
A16: Alūksnes novads | B16: galvojums SIA "Alūksnes slimnīca" aizņēmumam radioloģijas nodaļas iekārtu modernizācijai | C16: 22.02.2018. | D16: 20.02.2028. | F16: Valsts kase | K16: 0.005 | L16: mainīga | M16: 28493 | N16: 0 | O16: =M16+N16 -> 28493 | P16: 28051 | Q16: 0 | R16: =P16+Q16 -> 28051 | S16: 27075 | T16: 0 | U16: =S16+T16 -> 27075 | V16: 26100 | W16: 0 | X16: =V16+W16 -> 26100 | Y16: 25124 | Z16: 0 | AA16: =Y16+Z16 -> 25124 | AB16: 6342 | AC16: 0 | AD16: =AB16+AC16 -> 6342 | AG16: 0 | AT16: =AH16 -> 0 | AU16: =AI16 -> 0 | AV16: =AJ16 -> 0 | AW16: =+M16+P16+S16+V16+Y16+AB16+AE16+AH16+AK16+AN16+AQ16 -> 141185 | AX16: =+N16+Q16+T16+W16+Z16+AC16+AF16+AI16+AL16+AO16+AR16 -> 0 | AY16: =+O16+R16+U16+X16+AA16+AD16+AG16+AJ16+AM16+AP16+AS16 -> 141185
A17: Kopā | M17: =SUM(M11:M16) -> 155499 | N17: =SUM(N11:N16) -> 0 | O17: =SUM(O11:O16) -> 155499 | P17: =SUM(P11:P16) -> 141182 | Q17: =SUM(Q11:Q16) -> 0 | R17: =SUM(R11:R16) -> 141182 | S17: =SUM(S11:S16) -> 131164 | T17: =SUM(T11:T16) -> 0 | ... AY17: =SUM(AY11:AY16) -> 748941 | AZ17: =#REF!+#REF!+#REF!+#REF!+#REF!+#REF!+#REF!+M17+P17+S17+V17+Y17+AB17+AE17+AH17+AW17 -> #REF! | BA17: =SUM(BA11:BA16) -> 567134
A18: Procentos pret pamatbudžetu bez mērķdotācijām un iemaksām PFIF | AT18: =#REF!+M18+P18+S18+V18+Y18+AB18+AE18+AH18 -> #REF! | AU18: =#REF!+N18+Q18+T18+W18+Z18+AC18+AF18+AI18 -> #REF! | AV18: =#REF!+O18+R18+U18+X18+AA18+AD18+AG18+AJ18 -> #REF! | AW18: =#REF!+#REF!+#REF!+#REF!+#REF!+#REF!+#REF!+AT18 -> #REF! | AX18: =#REF!+#REF!+#REF!+#REF!+#REF!+#REF!+#REF!+AU18 -> #REF! | AY18: =#REF!+#REF!+#REF!+#REF!+#REF!+#REF!+#REF!+AV18 -> #REF!
AT19: =V17+Y17+AB17+AE17 -> 321096 | AU19: =W17+Z17+AC17+AF17 -> 0 | AV19: =X17+AA17+AD17+AG17 -> 321096 | AW19: =#REF!+#REF!+#REF!+#REF!+M17+P17+S17+V17+Y17+AB17+AE17 -> #REF! | AX19: =#REF!+#REF!+#REF!+#REF!+N17+Q17+T17+W17+Z17+AC17+AF17 -> #REF! | AY19: =#REF!+#REF!+#REF!+#REF!+O17+R17+U17+X17+AA17+AD17+AG17 -> #REF! | AZ19: =#REF!+#REF!+#REF!+M17+P17+S17+V17+Y17+AB17+AE17+AH17 -> #REF! | BA19: =#REF!+#REF!+#REF!+N17+Q17+T17+W17+Z17+AC17+AF17+AI17 -> #REF!
B20: esošie | O20: =O17-O16 -> 127006 | R20: =R17-R16 -> 113131 | S20: =S17-S16 -> 104089 | T20: =T17-T16 -> 0 | U20: =U17-U16 -> 104089 | V20: =V17-V16 -> 94769 | W20: =W17-W16 -> 0 | X20: =X17-X16 -> 94769 | Y20: =Y17-Y16 -> 90205 | ... AS20: =AS17-AS16 -> 0 | AV20: =AV17-AV16 -> 0 | AY20: =AY17-AY16 -> 607756 | AZ20: =AZ17-AZ16 -> #REF!
A22: Domes priekšsēdētājs | B22: Domes priekšsēdētājs | G22: A.DUKULIS | K22: Dz.ADLERS
B24: Alūksnes novada pašvaldības domes priekšsēdētājs Dz. Adlers
