Workbook

Sheet aiznemumi (paredzamie) (2)
DT1: 4. pielikums
B2: Alūksnes novada pašvaldība | DT2: Alūksnes novada pašvaldības
B3: Aizņēmumu saistības uz 30.11.2023. (noslēgtie līgumi) un paredzamie aizņēmumi | DT3: saistošajiem noteikumiem Nr. 42/2023
A5: Pašvaldība | B5: Mērķis | C5: līguma noslēgšanas datums | D5: līguma atmaksas termiņš | E5: Aizdevuma līguma Nr. | F5: Līguma Nr. (trančes Nr.) | G5: aizdevējs | H5: aizdevuma procentu likme | I5: procentu likmes veids | J5: valūta | K5: saistību apmērs /2023 | N5: saistību apmērs /2024 | Q5: saistību apmērs /2025 | T5: saistību apmērs /2026 | W5: saistību apmērs /2027 | Z5: saistību apmērs /2028 | AC5: saistību apmērs /2029 | AF5: saistību apmērs /2030 | AI5: saistību apmērs /2031 | AL5: saistību apmērs /2032 | AO5: saistību apmērs /2033 | AR5: saistību apmērs /2034 | AU5: saistību apmērs /2035 | AX5: saistību apmērs /2036 | BA5: saistību apmērs /2037 | BD5: saistību apmērs /2038 | BG5: saistību apmērs /2039 | BJ5: saistību apmērs /2040 | BM5: saistību apmērs /2041 | BP5: saistību apmērs /2042 | BS5: saistību apmērs /2043 | BV5: saistību apmērs /2044 | BY5: saistību apmērs /2045 | CB5: saistību apmērs /2046 | CE5: saistību apmērs /2047 | CH5: saistību apmērs /2048 | CK5: saistību apmērs /2049 | CN5: saistību apmērs /2050 | CQ5: saistību apmērs /2051 | CT5: saistību apmērs /2052 | CW5: saistību apmērs /2053 | CZ5: saistību apmērs /2054 | DC5: saistību apmērs /2055 | DF5: saistību apmērs /2056 | DI5: saistību apmērs /2057 | DL5: saistību apmērs /2058 | DO5: turpmākie gadi (2030 - 2052) | DR5: Kopā
K6: pamatsumma | L6: % | M6: Kopā | N6: pamatsumma | O6: % | P6: Kopā | Q6: pamatsumma | R6: % | S6: Kopā | T6: pamatsumma | U6: % | V6: Kopā | W6: pamatsumma | X6: % | Y6: Kopā | Z6: pamatsumma | AA6: % | AB6: Kopā | AC6: pamatsumma | AD6: % | AE6: Kopā | AF6: pamatsumma | AG6: % | AH6: Kopā | AI6: pamatsumma | AJ6: % | AK6: Kopā | AL6: pamatsumma | AM6: % | AN6: Kopā | AO6: pamatsumma | AP6: % | AQ6: Kopā | AR6: pamatsumma | AS6: % | AT6: Kopā | AU6: pamatsumma | AV6: % | AW6: Kopā | AX6: pamatsumma | AY6: % | AZ6: Kopā | BA6: pamatsumma | BB6: % | BC6: Kopā | BD6: pamatsumma | BE6: % | BF6: Kopā | BG6: pamatsumma | BH6: % | BI6: Kopā | BJ6: pamatsumma | BK6: % | BL6: Kopā | BM6: pamatsumma | BN6: % | BO6: Kopā | BP6: pamatsumma | BQ6: % | BR6: Kopā | BS6: pamatsumma | BT6: % | BU6: Kopā | BV6: pamatsumma | BW6: % | BX6: Kopā | BY6: pamatsumma | BZ6: % | CA6: Kopā | CB6: pamatsumma | CC6: % | CD6: Kopā | CE6: pamatsumma | CF6: % | CG6: Kopā | CH6: pamatsumma | CI6: % | CJ6: Kopā | CK6: pamatsumma | CL6: % | CM6: Kopā | CN6: pamatsumma | CO6: % | CP6: Kopā | CQ6: pamatsumma | CR6: % | CS6: Kopā | CT6: pamatsumma | CU6: % | CV6: Kopā | CW6: pamatsumma | CX6: % | CY6: Kopā | CZ6: pamatsumma | DA6: % | DB6: Kopā | DC6: pamatsumma | DD6: % | DE6: Kopā | DF6: pamatsumma | DG6: % | DH6: Kopā | DI6: pamatsumma | DJ6: % | DK6: Kopā | DL6: pamatsumma | DM6: % | DN6: Kopā | DO6: pamatsumma | DP6: % | DQ6: Kopā | DR6: pamatsumma | DS6: % | DT6: Kopā | DU6: esošie
A7: Alsviķu pagasts | B7: ERAF Ūdenssaimniecības attīstība Alsviķu pagasta Alsviķu ciemā ( SIA Rūpe pamatkapitāls) | C7: 18.03.2015. | D7: 20.12.2025. | E7: A2/1/15/108 | F7: P-67/2015 | G7: Valsts kase | H7: 3.912 | I7: mainīga | J7: EUR | K7: 7500 | L7: 506 | M7: =K7+L7 -> 8006 | N7: 7500 | O7: 546 | P7: =N7+O7 -> 8046 | Q7: 7500 | R7: 251 | S7: =Q7+R7 -> 7751 | V7: =T7+U7 -> 0 | Y7: =W7+X7 -> 0 | AB7: =Z7+AA7 -> 0 | AE7: =AC7+AD7 -> 0 | AH7: =AF7+AG7 -> 0 | AK7: =AI7+AJ7 -> 0 | AN7: =AL7+AM7 -> 0 | AQ7: =AO7+AP7 -> 0 | AT7: =AR7+AS7 -> 0 | AW7: =AU7+AV7 -> 0 | AZ7: =AX7+AY7 -> 0 | BC7: =BA7+BB7 -> 0 | BF7: =BD7+BE7 -> 0 | BI7: =BG7+BH7 -> 0 | BL7: =BJ7+BK7 -> 0 | BO7: =BM7+BN7 -> 0 | DO7: =+AF7+AI7+AL7+AO7+AR7+AU7+AX7+BA7+BD7+BG7+BJ7+BM7+BP7+BS7+BV7+BY7+CB7+CE7+CH7+CK7+CN7+CQ7+CT7+CW7+CZ7+DC7+DF7+DI7+DL7 -> 0 | DP7: =+AD7+AG7+AJ7+AM7+AP7+AS7+AV7+AY7+BB7+BE7+BH7+BK7+BN7+BQ7+BT7+BW7+BZ7+CC7+CF7+CI7+CL7+CO7+CR7+CU7+CX7+DA7+DD7+DG7+DJ7+DM7 -> 0 | DQ7: =+AE7+AH7+AK7+AN7+AQ7+AT7+AW7+AZ7+BC7+BF7+BI7+BL7+BO7+BR7+BU7+BX7+CA7+CD7+CG7+CJ7+CM7+CP7+CS7+CV7+CY7+DB7+DE7+DH7+DK7+DN7 -> 0 | DR7: =K7+N7+Q7+T7+W7+Z7+AC7+DO7 -> 22500 | DS7: =L7+O7+R7+U7+X7+AA7+AD7+DP7 -> 1303 | DT7: =DR7+DS7 -> 23803 | DU7: 45955
B8: ERAF Ūdenssaimniecības attīstība Alsviķu pagasta Strautiņu ciemā (SIA Rūpe pamatkapitāls) | C8: 18.03.2015. | D8: 20.12.2025. | E8: A2/1/15/110 | F8: P-69/2015 | G8: Valsts kase | H8: 3.912 | I8: mainīga | J8: EUR | K8: 7500 | L8: 506 | M8: =K8+L8 -> 8006 | N8: 7500 | O8: 546 | P8: =N8+O8 -> 8046 | Q8: 7500 | R8: 251 | S8: =Q8+R8 -> 7751 | V8: =T8+U8 -> 0 | Y8: =W8+X8 -> 0 | AB8: =Z8+AA8 -> 0 | AE8: =AC8+AD8 -> 0 | AH8: =AF8+AG8 -> 0 | AK8: =AI8+AJ8 -> 0 | AN8: =AL8+AM8 -> 0 | AQ8: =AO8+AP8 -> 0 | AT8: =AR8+AS8 -> 0 | AW8: =AU8+AV8 -> 0 | AZ8: =AX8+AY8 -> 0 | BC8: =BA8+BB8 -> 0 | BF8: =BD8+BE8 -> 0 | BI8: =BG8+BH8 -> 0 | BL8: =BJ8+BK8 -> 0 | BO8: =BM8+BN8 -> 0 | DO8: =+AF8+AI8+AL8+AO8+AR8+AU8+AX8+BA8+BD8+BG8+BJ8+BM8+BP8+BS8+BV8+BY8+CB8+CE8+CH8+CK8+CN8+CQ8+CT8+CW8+CZ8+DC8+DF8+DI8+DL8 -> 0 | DP8: =+AD8+AG8+AJ8+AM8+AP8+AS8+AV8+AY8+BB8+BE8+BH8+BK8+BN8+BQ8+BT8+BW8+BZ8+CC8+CF8+CI8+CL8+CO8+CR8+CU8+CX8+DA8+DD8+DG8+DJ8+DM8 -> 0 | DQ8: =+AE8+AH8+AK8+AN8+AQ8+AT8+AW8+AZ8+BC8+BF8+BI8+BL8+BO8+BR8+BU8+BX8+CA8+CD8+CG8+CJ8+CM8+CP8+CS8+CV8+CY8+DB8+DE8+DH8+DK8+DN8 -> 0 | DR8: =K8+N8+Q8+T8+W8+Z8+AC8+DO8 -> 22500 | DS8: =L8+O8+R8+U8+X8+AA8+AD8+DP8 -> 1303 | DT8: =DR8+DS8 -> 23803 | DU8: 45955
A9: Alūksne | B9: Alūksnes pilsētas ielu renovācijas pabeigšana | C9: 39643 | D9: 47107 | E9: A2/1/08/649; A2/1/08/649-V/11/1 | F9: P-251/2008 | G9: Valsts kase | H9: 2,201/x | I9: mainīga | J9: EUR | K9: 19552 | L9: 3148 | M9: =K9+L9 -> 22700 | N9: 19550 | O9: 4221 | P9: =N9+O9 -> 23771 | Q9: 19550 | R9: 3381 | S9: =Q9+R9 -> 22931 | T9: 19550 | U9: 2502 | V9: =T9+U9 -> 22052 | W9: 19550 | X9: 1622 | Y9: =W9+X9 -> 21172 | Z9: 19475 | AA9: 741 | AB9: =Z9+AA9 -> 20216 | AC9: 0 | AD9: 48 | AE9: =AC9+AD9 -> 48 | AH9: =AF9+AG9 -> 0 | AK9: =AI9+AJ9 -> 0 | AN9: =AL9+AM9 -> 0 | AQ9: =AO9+AP9 -> 0 | AT9: =AR9+AS9 -> 0 | AW9: =AU9+AV9 -> 0 | AZ9: =AX9+AY9 -> 0 | BC9: =BA9+BB9 -> 0 | BF9: =BD9+BE9 -> 0 | BI9: =BG9+BH9 -> 0 | BL9: =BJ9+BK9 -> 0 | BO9: =BM9+BN9 -> 0 | DO9: =+AF9+AI9+AL9+AO9+AR9+AU9+AX9+BA9+BD9+BG9+BJ9+BM9+BP9+BS9+BV9+BY9+CB9+CE9+CH9+CK9+CN9+CQ9+CT9+CW9+CZ9+DC9+DF9+DI9+DL9 -> 0 | DP9: =+AG9+AJ9+AM9+AP9+AS9+AV9+AY9+BB9+BE9+BH9+BK9+BN9+BQ9+BT9+BW9+BZ9+CC9+CF9+CI9+CL9+CO9+CR9+CU9+CX9+DA9+DD9+DG9+DJ9+DM9 -> 0 | DQ9: =+AH9+AK9+AN9+AQ9+AT9+AW9+AZ9+BC9+BF9+BI9+BL9+BO9+BR9+BU9+BX9+CA9+CD9+CG9+CJ9+CM9+CP9+CS9+CV9+CY9+DB9+DE9+DH9+DK9+DN9 -> 0 | DR9: =K9+N9+Q9+T9+W9+Z9+AC9+DO9 -> 117227 | DS9: =L9+O9+R9+U9+X9+AA9+AD9+DP9 -> 15663 | DT9: =DR9+DS9 -> 132890 | DU9: 194723
B10: SIA Rūpe pamatkapitāla palielināšana | C10: 39643 | D10: 47107 | E10: A2/1/08/650; A2/1/08/650-V/11/1 | F10: P-252/2008 | G10: Valsts kase | H10: 2,802/x | I10: mainīga | J10: EUR | K10: 7114 | L10: 1146 | M10: =K10+L10 -> 8260 | N10: 7114 | O10: 1537 | P10: =N10+O10 -> 8651 | Q10: 7114 | R10: 1232 | S10: =Q10+R10 -> 8346 | T10: 7114 | U10: 912 | V10: =T10+U10 -> 8026 | W10: 7115 | X10: 591 | Y10: =W10+X10 -> 7706 | Z10: 7115 | AA10: 271 | AB10: =Z10+AA10 -> 7386 | AD10: 18 | AE10: =AC10+AD10 -> 18 | AH10: =AF10+AG10 -> 0 | AK10: =AI10+AJ10 -> 0 | AN10: =AL10+AM10 -> 0 | AQ10: =AO10+AP10 -> 0 | AT10: =AR10+AS10 -> 0 | AW10: =AU10+AV10 -> 0 | AZ10: =AX10+AY10 -> 0 | BC10: =BA10+BB10 -> 0 | BF10: =BD10+BE10 -> 0 | BI10: =BG10+BH10 -> 0 | BL10: =BJ10+BK10 -> 0 | BO10: =BM10+BN10 -> 0 | DO10: =+AF10+AI10+AL10+AO10+AR10+AU10+AX10+BA10+BD10+BG10+BJ10+BM10+BP10+BS10+BV10+BY10+CB10+CE10+CH10+CK10+CN10+CQ10+CT10+CW10+CZ10+DC10+DF10+DI10+DL10 -> 0 | DP10: =+AG10+AJ10+AM10+AP10+AS10+AV10+AY10+BB10+BE10+BH10+BK10+BN10+BQ10+BT10+BW10+BZ10+CC10+CF10+CI10+CL10+CO10+CR10+CU10+CX10+DA10+DD10+DG10+DJ10+DM10 -> 0 | DQ10: =+AH10+AK10+AN10+AQ10+AT10+AW10+AZ10+BC10+BF10+BI10+BL10+BO10+BR10+BU10+BX10+CA10+CD10+CG10+CJ10+CM10+CP10+CS10+CV10+CY10+DB10+DE10+DH10+DK10+DN10 -> 0 | DR10: =K10+N10+Q10+T10+W10+Z10+AC10+DO10 -> 42686 | DS10: =L10+O10+R10+U10+X10+AA10+AD10+DP10 -> 5707 | DT10: =DR10+DS10 -> 48393 | DU10: 70893
B11: Kohēzijas fonda projekts "Ūdenssaimniecības attīstība Austrumlatvijas upju baseinos" pašvaldības līdzfinansējums - ieguldījums SIA "RŪPE" pamatkapitālā | C11: 07.09.2009; 13.05.2013. 10.05.2017. | D11: 20.06.2027. | E11: A2/1/09/468 A2/1/09/468-V/13/1; A2/1/09/468-V/17/2 | F11: P-191/2009 | G11: Valsts kase | H11: 4.108 | I11: mainīga | J11: EUR | K11: 23996 | L11: 1995 | M11: =K11+L11 -> 25991 | N11: 23995 | O11: 3422 | P11: =N11+O11 -> 27417 | Q11: 23995 | R11: 2484 | S11: =Q11+R11 -> 26479 | T11: 23996 | U11: 1425 | V11: =T11+U11 -> 25421 | W11: 11949 | X11: 373 | Y11: =W11+X11 -> 12322 | AB11: =Z11+AA11 -> 0 | AE11: =AC11+AD11 -> 0 | AH11: =AF11+AG11 -> 0 | AK11: =AI11+AJ11 -> 0 | AN11: =AL11+AM11 -> 0 | AQ11: =AO11+AP11 -> 0 | AT11: =AR11+AS11 -> 0 | AW11: =AU11+AV11 -> 0 | AZ11: =AX11+AY11 -> 0 | BC11: =BA11+BB11 -> 0 | BF11: =BD11+BE11 -> 0 | BI11: =BG11+BH11 -> 0 | BL11: =BJ11+BK11 -> 0 | BO11: =BM11+BN11 -> 0 | DO11: =+AF11+AI11+AL11+AO11+AR11+AU11+AX11+BA11+BD11+BG11+BJ11+BM11+BP11+BS11+BV11+BY11+CB11+CE11+CH11+CK11+CN11+CQ11+CT11+CW11+CZ11+DC11+DF11+DI11+DL11 -> 0 | DP11: =+AG11+AJ11+AM11+AP11+AS11+AV11+AY11+BB11+BE11+BH11+BK11+BN11+BQ11+BT11+BW11+BZ11+CC11+CF11+CI11+CL11+CO11+CR11+CU11+CX11+DA11+DD11+DG11+DJ11+DM11 -> 0 | DQ11: =+AH11+AK11+AN11+AQ11+AT11+AW11+AZ11+BC11+BF11+BI11+BL11+BO11+BR11+BU11+BX11+CA11+CD11+CG11+CJ11+CM11+CP11+CS11+CV11+CY11+DB11+DE11+DH11+DK11+DN11 -> 0 | DR11: =K11+N11+Q11+T11+W11+Z11+AC11+DO11 -> 107931 | DS11: =L11+O11+R11+U11+X11+AA11+AD11+DP11 -> 9699 | DT11: =DR11+DS11 -> 117630 | DU11: 195132
DO12: =+AF12+AI12+AL12+AO12+AR12+AU12+AX12+BA12+BD12+BG12+BJ12+BM12+BP12+BS12+BV12+BY12+CB12+CE12+CH12+CK12+CN12+CQ12+CT12+CW12+CZ12+DC12+DF12+DI12+DL12 -> 0 | DP12: =+AD12+AG12+AJ12+AM12+AP12+AS12+AV12+AY12+BB12+BE12+BH12+BK12+BN12+BQ12+BT12+BW12+BZ12+CC12+CF12+CI12+CL12+CO12+CR12+CU12+CX12+DA12+DD12+DG12+DJ12+DM12 -> 0 | DQ12: =+AE12+AH12+AK12+AN12+AQ12+AT12+AW12+AZ12+BC12+BF12+BI12+BL12+BO12+BR12+BU12+BX12+CA12+CD12+CG12+CJ12+CM12+CP12+CS12+CV12+CY12+DB12+DE12+DH12+DK12+DN12 -> 0 | DR12: =K12+N12+Q12+T12+W12+Z12+AC12+DO12 -> 0 | DS12: =L12+O12+R12+U12+X12+AA12+AD12+DP12 -> 0 | DT12: =DR12+DS12 -> 0
DO13: =+AF13+AI13+AL13+AO13+AR13+AU13+AX13+BA13+BD13+BG13+BJ13+BM13+BP13+BS13+BV13+BY13+CB13+CE13+CH13+CK13+CN13+CQ13+CT13+CW13+CZ13+DC13+DF13+DI13+DL13 -> 0 | DP13: =+AD13+AG13+AJ13+AM13+AP13+AS13+AV13+AY13+BB13+BE13+BH13+BK13+BN13+BQ13+BT13+BW13+BZ13+CC13+CF13+CI13+CL13+CO13+CR13+CU13+CX13+DA13+DD13+DG13+DJ13+DM13 -> 0 | DQ13: =+AE13+AH13+AK13+AN13+AQ13+AT13+AW13+AZ13+BC13+BF13+BI13+BL13+BO13+BR13+BU13+BX13+CA13+CD13+CG13+CJ13+CM13+CP13+CS13+CV13+CY13+DB13+DE13+DH13+DK13+DN13 -> 0 | DR13: =K13+N13+Q13+T13+W13+Z13+AC13+DO13 -> 0 | DS13: =L13+O13+R13+U13+X13+AA13+AD13+DP13 -> 0 | DT13: =DR13+DS13 -> 0
M14: =K14+L14 -> 0 | P14: =N14+O14 -> 0 | S14: =Q14+R14 -> 0 | V14: =T14+U14 -> 0 | Y14: =W14+X14 -> 0 | AB14: =Z14+AA14 -> 0 | AE14: =AC14+AD14 -> 0 | AH14: =AF14+AG14 -> 0 | AK14: =AI14+AJ14 -> 0 | AN14: =AL14+AM14 -> 0 | AQ14: =AO14+AP14 -> 0 | AT14: =AR14+AS14 -> 0 | AW14: =AU14+AV14 -> 0 | AZ14: =AX14+AY14 -> 0 | BC14: =BA14+BB14 -> 0 | BF14: =BD14+BE14 -> 0 | BI14: =BG14+BH14 -> 0 | BL14: =BJ14+BK14 -> 0 | BO14: =BM14+BN14 -> 0 | DO14: =+AF14+AI14+AL14+AO14+AR14+AU14+AX14+BA14+BD14+BG14+BJ14+BM14+BP14+BS14+BV14+BY14+CB14+CE14+CH14+CK14+CN14+CQ14+CT14+CW14+CZ14+DC14+DF14+DI14+DL14 -> 0 | DP14: =+AD14+AG14+AJ14+AM14+AP14+AS14+AV14+AY14+BB14+BE14+BH14+BK14+BN14+BQ14+BT14+BW14+BZ14+CC14+CF14+CI14+CL14+CO14+CR14+CU14+CX14+DA14+DD14+DG14+DJ14+DM14 -> 0 | DQ14: =+AE14+AH14+AK14+AN14+AQ14+AT14+AW14+AZ14+BC14+BF14+BI14+BL14+BO14+BR14+BU14+BX14+CA14+CD14+CG14+CJ14+CM14+CP14+CS14+CV14+CY14+DB14+DE14+DH14+DK14+DN14 -> 0 | DR14: =K14+N14+Q14+T14+W14+Z14+AC14+DO14 -> 0 | DS14: =L14+O14+R14+U14+X14+AA14+AD14+DP14 -> 0 | DT14: =DR14+DS14 -> 0
B15: ERAF "Ūdenssaimniecības pakalpojumu attīstība Alūksnē, II kārta" SIA "Rūpe" pamatkapitāls | C15: 31.10.2011. | D15: 20.12.2032. | E15: A/2/1/11/661 | F15: P-411/2011 | G15: Valsts kase | H15: 4.467 | I15: mainīga | J15: EUR | K15: 29824 | L15: 8446 | M15: =K15+L15 -> 38270 | N15: 29823 | O15: 11713 | P15: =N15+O15 -> 41536 | Q15: 29823 | R15: 10481 | S15: =Q15+R15 -> 40304 | T15: 29824 | U15: 9140 | V15: =T15+U15 -> 38964 | W15: 29823 | X15: 7804 | Y15: =W15+X15 -> 37627 | Z15: 29823 | AA15: 6484 | AB15: =Z15+AA15 -> 36307 | AC15: 29823 | AD15: 5131 | AE15: =AC15+AD15 -> 34954 | AF15: 29823 | AG15: 3796 | AH15: =AF15+AG15 -> 33619 | AI15: 29824 | AJ15: 2462 | AK15: =AI15+AJ15 -> 32286 | AL15: 29823 | AM15: 1134 | AN15: =AL15+AM15 -> 30957 | AP15: 73 | AQ15: =AO15+AP15 -> 73 | AT15: =AR15+AS15 -> 0 | AW15: =AU15+AV15 -> 0 | AZ15: =AX15+AY15 -> 0 | BC15: =BA15+BB15 -> 0 | BF15: =BD15+BE15 -> 0 | BI15: =BG15+BH15 -> 0 | BL15: =BJ15+BK15 -> 0 | BO15: =BM15+BN15 -> 0 | DO15: =+AF15+AI15+AL15+AO15+AR15+AU15+AX15+BA15+BD15+BG15+BJ15+BM15+BP15+BS15+BV15+BY15+CB15+CE15+CH15+CK15+CN15+CQ15+CT15+CW15+CZ15+DC15+DF15+DI15+DL15 -> 89470 | DP15: =+AG15+AJ15+AM15+AP15+AS15+AV15+AY15+BB15+BE15+BH15+BK15+BN15+BQ15+BT15+BW15+BZ15+CC15+CF15+CI15+CL15+CO15+CR15+CU15+CX15+DA15+DD15+DG15+DJ15+DM15 -> 7465 | DQ15: =DO15+DP15 -> 96935 | DR15: =K15+N15+Q15+T15+W15+Z15+AC15+DO15 -> 298233 | DS15: =L15+O15+R15+U15+X15+AA15+AD15+DP15 -> 66664 | DT15: =DR15+DS15 -> 364897 | DU15: 443262
B16: KF projekts "Siltumtrašu rekonstrukcija un jaunu siltumtrašu izbūve Alūksnē" AS Simone pamatkapitāla palielināšana | C16: 22.10.2012. | D16: 20.06.2038. | E16: A/2/1/12/624 | F16: P-411/2012 | G16: Valsts kase | H16: 4.824 | I16: mainīga | J16: EUR | K16: 58884 | L16: 25773 | M16: =K16+L16 -> 84657 | N16: 58884 | O16: 37565 | P16: =N16+O16 -> 96449 | Q16: 58884 | R16: 35584 | S16: =Q16+R16 -> 94468 | T16: 58884 | U16: 32922 | V16: =T16+U16 -> 91806 | W16: 58884 | X16: 30254 | Y16: =W16+X16 -> 89138 | Z16: 58884 | AA16: 27656 | AB16: =Z16+AA16 -> 86540 | AC16: 58884 | AD16: 24913 | AE16: =AC16+AD16 -> 83797 | AF16: 58884 | AG16: 22246 | AH16: =AF16+AG16 -> 81130 | AI16: 58884 | AJ16: 19583 | AK16: =AI16+AJ16 -> 78467 | AL16: 58885 | AM16: 16969 | AN16: =AL16+AM16 -> 75854 | AO16: 58884 | AP16: 14247 | AQ16: =AO16+AP16 -> 73131 | AR16: 58884 | AS16: 11578 | AT16: =AR16+AS16 -> 70462 | AU16: 58884 | AV16: 8911 | AW16: =AU16+AV16 -> 67795 | AX16: 58884 | AY16: 6266 | AZ16: =AX16+AY16 -> 65150 | BA16: 58884 | BB16: 3587 | BC16: =BA16+BB16 -> 62471 | BD16: 29345 | BE16: 939 | BF16: =BD16+BE16 -> 30284 | BI16: =BG16+BH16 -> 0 | BL16: =BJ16+BK16 -> 0 | BO16: =BM16+BN16 -> 0 | DO16: =+AF16+AI16+AL16+AO16+AR16+AU16+AX16+BA16+BD16+BG16+BJ16+BM16+BP16+BS16+BV16+BY16+CB16+CE16+CH16+CK16+CN16+CQ16+CT16+CW16+CZ16+DC16+DF16+DI16+DL16 -> 500418 | DP16: =+AG16+AJ16+AM16+AP16+AS16+AV16+AY16+BB16+BE16+BH16+BK16+BN16+BQ16+BT16+BW16+BZ16+CC16+CF16+CI16+CL16+CO16+CR16+CU16+CX16+DA16+DD16+DG16+DJ16+DM16 -> 104326 | DQ16: =DO16+DP16 -> 604744 | DR16: =K16+N16+Q16+T16+W16+Z16+AC16+DO16 -> 912606 | DS16: =L16+O16+R16+U16+X16+AA16+AD16+DP16 -> 318993 | DT16: =DR16+DS16 -> 1231599 | DU16: 1184823
B17: KF "Katlu māju darbības optimizācija un nergoefektivitātes paaugstināšana Alūksnē" | C17: 13.11.2013. | D17: 20.12.2038. | E17: A2/1/13/832 | F17: P-410/2013 | G17: Valsts kase | H17: 4.409 | I17: mainīga | J17: EUR | K17: 35458 | L17: 16333 | M17: =K17+L17 -> 51791 | N17: 35458 | O17: 22818 | P17: =N17+O17 -> 58276 | Q17: 35458 | R17: 21944 | S17: =Q17+R17 -> 57402 | T17: 35458 | U17: 20362 | V17: =T17+U17 -> 55820 | W17: 35458 | X17: 18776 | Y17: =W17+X17 -> 54234 | Z17: 35458 | AA17: 17235 | AB17: =Z17+AA17 -> 52693 | AC17: 35458 | AD17: 15602 | AE17: =AC17+AD17 -> 51060 | AF17: 35458 | AG17: 14017 | AH17: =AF17+AG17 -> 49475 | AI17: 35458 | AJ17: 12434 | AK17: =AI17+AJ17 -> 47892 | AL17: 35458 | AM17: 10883 | AN17: =AL17+AM17 -> 46341 | AO17: 35458 | AP17: 9263 | AQ17: =AO17+AP17 -> 44721 | AR17: 35458 | AS17: 7677 | AT17: =AR17+AS17 -> 43135 | AU17: 35458 | AV17: 6091 | AW17: =AU17+AV17 -> 41549 | AX17: 35458 | AY17: 4522 | AZ17: =AX17+AY17 -> 39980 | BA17: 35458 | BB17: 2927 | BC17: =BA17+BB17 -> 38385 | BD17: 35457 | BE17: 1341 | BF17: =BD17+BE17 -> 36798 | BH17: 87 | BI17: =BG17+BH17 -> 87 | BL17: =BJ17+BK17 -> 0 | BO17: =BM17+BN17 -> 0 | DO17: =+AF17+AI17+AL17+AO17+AR17+AU17+AX17+BA17+BD17+BG17+BJ17+BM17+BP17+BS17+BV17+BY17+CB17+CE17+CH17+CK17+CN17+CQ17+CT17+CW17+CZ17+DC17+DF17+DI17+DL17 -> 319121 | DP17: =+AG17+AJ17+AM17+AP17+AS17+AV17+AY17+BB17+BE17+BH17+BK17+BN17+BQ17+BT17+BW17+BZ17+CC17+CF17+CI17+CL17+CO17+CR17+CU17+CX17+DA17+DD17+DG17+DJ17+DM17 -> 69242 | DQ17: =DO17+DP17 -> 388363 | DR17: =K17+N17+Q17+T17+W17+Z17+AC17+DO17 -> 567327 | DS17: =L17+O17+R17+U17+X17+AA17+AD17+DP17 -> 202312 | DT17: =DR17+DS17 -> 769639 | DU17: 716411
B18: KPFI projekts "Kompleksi risinājumi siltumnīcefekta gāzu emisiju samazināšanai Alūksnes novada vidusskolā un Liepnas vidusskolā" | C18: 13.12.2013. | D18: 20.12.2024. | E18: A2/1/13/1188; A2/1/13/1188-V/1 | F18: P-468/2013 | G18: Valsts kase | H18: 3.111 | I18: mainīga | J18: EUR | K18: 38968 | L18: 2163 | M18: =K18+L18 -> 41131 | N18: 38968 | O18: 1226 | P18: =N18+O18 -> 40194 | Q18: 0 | R18: 0 | S18: =Q18+R18 -> 0 | T18: 0 | U18: 0 | V18: =T18+U18 -> 0 | W18: 0 | X18: 0 | Y18: =W18+X18 -> 0 | Z18: 0 | AA18: 0 | AB18: =Z18+AA18 -> 0 | AC18: 0 | AD18: 0 | AE18: =AC18+AD18 -> 0 | AH18: =AF18+AG18 -> 0 | AK18: =AI18+AJ18 -> 0 | AN18: =AL18+AM18 -> 0 | AQ18: =AO18+AP18 -> 0 | AT18: =AR18+AS18 -> 0 | AW18: =AU18+AV18 -> 0 | AZ18: =AX18+AY18 -> 0 | BC18: =BA18+BB18 -> 0 | BF18: =BD18+BE18 -> 0 | BI18: =BG18+BH18 -> 0 | BL18: =BJ18+BK18 -> 0 | BO18: =BM18+BN18 -> 0 | DO18: =+AF18+AI18+AL18+AO18+AR18+AU18+AX18+BA18+BD18+BG18+BJ18+BM18+BP18+BS18+BV18+BY18+CB18+CE18+CH18+CK18+CN18+CQ18+CT18+CW18+CZ18+DC18+DF18+DI18+DL18 -> 0 | DP18: =+AG18+AJ18+AM18+AP18+AS18+AV18+AY18+BB18+BE18+BH18+BK18+BN18+BQ18+BT18+BW18+BZ18+CC18+CF18+CI18+CL18+CO18+CR18+CU18+CX18+DA18+DD18+DG18+DJ18+DM18 -> 0 | DQ18: =DO18+DP18 -> 0 | DR18: =K18+N18+Q18+T18+W18+Z18+AC18+DO18 -> 77936 | DS18: =L18+O18+R18+U18+X18+AA18+AD18+DP18 -> 3389 | DT18: =DR18+DS18 -> 81325 | DU18: 198432
B19: ERAF projekts "Tranzītceļa P43 maršruta rekonstrukcija Alūksnes pilsētā" Jāņkalna iela | C19: 19.06.2013.; 04.02.2014.; 26.01.2016. | D19: 20.09.2027. | E19: A2/1/13/259; A2/1/13/259-V/14/1; A2/1/13/259-1/16/2 | F19: P-173/2013 | G19: Valsts kase | H19: 4.194 | I19: mainīga | J19: EUR | K19: 66492 | L19: 6587 | M19: =K19+L19 -> 73079 | N19: 66492 | O19: 9646 | P19: =N19+O19 -> 76138 | Q19: 66492 | R19: 7077 | S19: =Q19+R19 -> 73569 | T19: 66492 | U19: 4355 | V19: =T19+U19 -> 70847 | W19: 49869 | X19: 1645 | Y19: =W19+X19 -> 51514 | Z19: 0 | AA19: 0 | AB19: =Z19+AA19 -> 0 | AC19: 0 | AD19: 0 | AE19: =AC19+AD19 -> 0 | AF19: 0 | AG19: 0 | AH19: =AF19+AG19 -> 0 | AI19: 0 | AJ19: 0 | AK19: =AI19+AJ19 -> 0 | AL19: 0 | AM19: 0 | AN19: =AL19+AM19 -> 0 | AO19: 0 | AP19: 0 | AQ19: =AO19+AP19 -> 0 | AR19: 0 | AS19: 0 | AT19: =AR19+AS19 -> 0 | AU19: 0 | AV19: 0 | AW19: =AU19+AV19 -> 0 | AX19: 0 | AY19: 0 | AZ19: =AX19+AY19 -> 0 | BA19: 0 | BB19: 0 | BC19: =BA19+BB19 -> 0 | BD19: 0 | BE19: 0 | BF19: =BD19+BE19 -> 0 | BG19: 0 | BH19: 0 | BI19: =BG19+BH19 -> 0 | BL19: =BJ19+BK19 -> 0 | BO19: =BM19+BN19 -> 0 | DO19: =+AF19+AI19+AL19+AO19+AR19+AU19+AX19+BA19+BD19+BG19+BJ19+BM19+BP19+BS19+BV19+BY19+CB19+CE19+CH19+CK19+CN19+CQ19+CT19+CW19+CZ19+DC19+DF19+DI19+DL19 -> 0 | DP19: =+AG19+AJ19+AM19+AP19+AS19+AV19+AY19+BB19+BE19+BH19+BK19+BN19+BQ19+BT19+BW19+BZ19+CC19+CF19+CI19+CL19+CO19+CR19+CU19+CX19+DA19+DD19+DG19+DJ19+DM19 -> 0 | DQ19: =DO19+DP19 -> 0 | DR19: =K19+N19+Q19+T19+W19+Z19+AC19+DO19 -> 315837 | DS19: =L19+O19+R19+U19+X19+AA19+AD19+DP19 -> 29310 | DT19: =DR19+DS19 -> 345147 | DU19: 527554
B20: aizņēmums "Uzņēmējdarbībai nozīmīgu ielu un Brūžā ēkas rekonstrukcija Alūksnes pilsētā" neattiecināmās izmaksas u.c. | C20: 13.03.2015. 09.12.2015 | D20: 20.12.2041. | E20: A2/1/15/87; A2/1/15/87-V/15/1 | F20: P-49/2015 | G20: Valsts kase | H20: 4.228 | I20: mainīga | J20: EUR | K20: 61588 | L20: 34702 | M20: =K20+L20 -> 96290 | N20: 61588 | O20: 47893 | P20: =N20+O20 -> 109481 | Q20: 61588 | R20: 45202 | S20: =Q20+R20 -> 106790 | T20: 61588 | U20: 42511 | V20: =T20+U20 -> 104099 | W20: 61588 | X20: 39820 | Y20: =W20+X20 -> 101408 | Z20: 61588 | AA20: 37130 | AB20: =Z20+AA20 -> 98718 | AC20: 61588 | AD20: 34439 | AE20: =AC20+AD20 -> 96027 | AF20: 61588 | AG20: 0 | AH20: =AF20+AG20 -> 61588 | AI20: 61588 | AJ20: 0 | AK20: =AI20+AJ20 -> 61588 | AL20: 61588 | AM20: 0 | AN20: =AL20+AM20 -> 61588 | AO20: 61588 | AP20: 0 | AQ20: =AO20+AP20 -> 61588 | AR20: 61588 | AS20: 0 | AT20: =AR20+AS20 -> 61588 | AU20: 61588 | AV20: 0 | AW20: =AU20+AV20 -> 61588 | AX20: 61588 | AY20: 0 | AZ20: =AX20+AY20 -> 61588 | BA20: 61588 | BB20: 0 | BC20: =BA20+BB20 -> 61588 | BD20: 61588 | BE20: 0 | BF20: =BD20+BE20 -> 61588 | BG20: 61588 | BH20: 0 | BI20: =BG20+BH20 -> 61588 | BJ20: 61588 | BK20: 0 | BL20: =BJ20+BK20 -> 61588 | BM20: 61588 | BN20: 0 | BO20: =BM20+BN20 -> 61588 | BP20: 0 | BQ20: 0 | BR20: =BP20+BQ20 -> 0 | BS20: 0 | BT20: 0 | BU20: =BS20+BT20 -> 0 | BV20: 0 | BW20: 0 | BX20: =BV20+BW20 -> 0 | BY20: 0 | BZ20: 0 | CA20: =BY20+BZ20 -> 0 | DO20: =+AF20+AI20+AL20+AO20+AR20+AU20+AX20+BA20+BD20+BG20+BJ20+BM20+BP20+BS20+BV20+BY20+CB20+CE20+CH20+CK20+CN20+CQ20+CT20+CW20+CZ20+DC20+DF20+DI20+DL20 -> 739056 | DP20: 203467 | DQ20: =DO20+DP20 -> 942523 | DR20: =K20+N20+Q20+T20+W20+Z20+AC20+DO20 -> 1170172 | DS20: =L20+O20+R20+U20+X20+AA20+AD20+DP20 -> 485164 | DT20: =DR20+DS20 -> 1655336 | DU20: 1453367
DO21: =+AF21+AI21+AL21+AO21+AR21+AU21+AX21+BA21+BD21+BG21+BJ21+BM21+BP21+BS21+BV21+BY21+CB21+CE21+CH21+CK21+CN21+CQ21+CT21+CW21+CZ21+DC21+DF21+DI21+DL21 -> 0 | DP21: =+AG21+AJ21+AM21+AP21+AS21+AV21+AY21+BB21+BE21+BH21+BK21+BN21+BQ21+BT21+BW21+BZ21+CC21+CF21+CI21+CL21+CO21+CR21+CU21+CX21+DA21+DD21+DG21+DJ21+DM21 -> 0 | DQ21: =DO21+DP21 -> 0 | DR21: =K21+N21+Q21+T21+W21+Z21+AC21+DO21 -> 0 | DS21: =L21+O21+R21+U21+X21+AA21+AD21+DP21 -> 0 | DT21: =DR21+DS21 -> 0
DO22: =+AF22+AI22+AL22+AO22+AR22+AU22+AX22+BA22+BD22+BG22+BJ22+BM22+BP22+BS22+BV22+BY22+CB22+CE22+CH22+CK22+CN22+CQ22+CT22+CW22+CZ22+DC22+DF22+DI22+DL22 -> 0 | DP22: =+AG22+AJ22+AM22+AP22+AS22+AV22+AY22+BB22+BE22+BH22+BK22+BN22+BQ22+BT22+BW22+BZ22+CC22+CF22+CI22+CL22+CO22+CR22+CU22+CX22+DA22+DD22+DG22+DJ22+DM22 -> 0 | DQ22: =DO22+DP22 -> 0 | DR22: =K22+N22+Q22+T22+W22+Z22+AC22+DO22 -> 0 | DS22: =L22+O22+R22+U22+X22+AA22+AD22+DP22 -> 0 | DT22: =DR22+DS22 -> 0
B23: izglītības iestāžu investīciju projekts "Alūknes PII "Sprīdītis" ēkas iekšējo inženiertīklu pārbūve" | C23: 01.08.2018. | D23: 20.12.2028. | E23: A2/1/18/510 | F23: P-433/2018 | G23: Valsts kase | H23: 4.364 | I23: mainīga | J23: EUR | K23: 27776 | L23: 3178 | M23: =K23+L23 -> 30954 | N23: 27776 | O23: 5969 | P23: =N23+O23 -> 33745 | Q23: 27776 | R23: 4725 | S23: =Q23+R23 -> 32501 | T23: 27776 | U23: 3498 | V23: =T23+U23 -> 31274 | W23: 27776 | X23: 2269 | Y23: =W23+X23 -> 30045 | Z23: 27776 | AA23: 1040 | AB23: =Z23+AA23 -> 28816 | AC23: 0 | AD23: 67 | AE23: =AC23+AD23 -> 67 | AF23: 0 | AG23: 0 | AH23: =AF23+AG23 -> 0 | AK23: =AI23+AJ23 -> 0 | AN23: =AL23+AM23 -> 0 | AQ23: =AO23+AP23 -> 0 | AT23: =AR23+AS23 -> 0 | AW23: =AU23+AV23 -> 0 | AZ23: =AX23+AY23 -> 0 | BC23: =BA23+BB23 -> 0 | BF23: =BD23+BE23 -> 0 | BI23: =BG23+BH23 -> 0 | BL23: =BJ23+BK23 -> 0 | BO23: =BM23+BN23 -> 0 | DO23: =+AF23+AI23+AL23+AO23+AR23+AU23+AX23+BA23+BD23+BG23+BJ23+BM23+BP23+BS23+BV23+BY23+CB23+CE23+CH23+CK23+CN23+CQ23+CT23+CW23+CZ23+DC23+DF23+DI23+DL23 -> 0 | DP23: =+AG23+AJ23+AM23+AP23+AS23+AV23+AY23+BB23+BE23+BH23+BK23+BN23+BQ23+BT23+BW23+BZ23+CC23+CF23+CI23+CL23+CO23+CR23+CU23+CX23+DA23+DD23+DG23+DJ23+DM23 -> 0 | DQ23: =DO23+DP23 -> 0 | DR23: =K23+N23+Q23+T23+W23+Z23+AC23+DO23 -> 166656 | DS23: =L23+O23+R23+U23+X23+AA23+AD23+DP23 -> 20746 | DT23: =DR23+DS23 -> 187402 | DU23: 253085
B24: ERAF projekts "Ūdenssaimniecības pakalpojumu attīstība Alūksnē, 3.kārta" (ieguldījums SIA "Rūpe" pamatkapitālā) | C24: 01.08.2018. | D24: 20.12.2039. | E24: A2/1/18/514 | F24: P-434/2018 | G24: Valsts kase | H24: 1.473 | I24: mainīga | J24: EUR | K24: 45528 | L24: 14165 | M24: =K24+L24 -> 59693 | N24: 45528 | O24: 26217 | P24: =N24+O24 -> 71745 | Q24: 45528 | R24: 24497 | S24: =Q24+R24 -> 70025 | T24: 45528 | U24: 22850 | V24: =T24+U24 -> 68378 | W24: 45528 | X24: 21199 | Y24: =W24+X24 -> 66727 | Z24: 45528 | AA24: 19598 | AB24: =Z24+AA24 -> 65126 | AC24: 45528 | AD24: 17894 | AE24: =AC24+AD24 -> 63422 | AF24: 45528 | AG24: 0 | AH24: =AF24+AG24 -> 45528 | AI24: 45528 | AJ24: 0 | AK24: =AI24+AJ24 -> 45528 | AL24: 45528 | AM24: 0 | AN24: =AL24+AM24 -> 45528 | AO24: 45528 | AP24: 0 | AQ24: =AO24+AP24 -> 45528 | AR24: 45528 | AS24: 0 | AT24: =AR24+AS24 -> 45528 | AU24: 45528 | AV24: 0 | AW24: =AU24+AV24 -> 45528 | AX24: 45528 | AY24: 0 | AZ24: =AX24+AY24 -> 45528 | BA24: 45528 | BB24: 0 | BC24: =BA24+BB24 -> 45528 | BD24: 45528 | BE24: 0 | BF24: =BD24+BE24 -> 45528 | BG24: 45528 | BH24: 0 | BI24: =BG24+BH24 -> 45528 | BK24: 0 | DO24: =+AF24+AI24+AL24+AO24+AR24+AU24+AX24+BA24+BD24+BG24+BJ24+BM24+BP24+BS24+BV24+BY24+CB24+CE24+CH24+CK24+CN24+CQ24+CT24+CW24+CZ24+DC24+DF24+DI24+DL24 -> 455280 | DP24: 88342 | DQ24: =DO24+DP24 -> 543622 | DR24: =K24+N24+Q24+T24+W24+Z24+AC24+DO24 -> 773976 | DS24: =L24+O24+R24+U24+X24+AA24+AD24+DP24 -> 234762 | DT24: =DR24+DS24 -> 1008738 | DU24: 934784
B25: aizņēmums ERAF projekts "Gaismas ceļs caur gadsimtiem" | C25: 05.12.2017. 05.01.2018. 11.04.2018. 14.01.2019. | D25: 22.09.2036. | E25: A2/1/17/870; A2/1/17/870-V/18/1; A2/1/17/870-V/18/2; A2/1/17/870-V/19/3 A2/1/18/870-ekase | F25: P-661/2017 | G25: Valsts kase | H25: 3.11 | I25: mainīga | J25: EUR | K25: 48860 | L25: 20368 | M25: =K25+L25 -> 69228 | N25: 48860 | O25: 21645 | P25: =N25+O25 -> 70505 | Q25: 48860 | R25: 20302 | S25: =Q25+R25 -> 69162 | T25: 48860 | U25: 18535 | V25: =T25+U25 -> 67395 | W25: 48860 | X25: 16763 | Y25: =W25+X25 -> 65623 | Z25: 48860 | AA25: 15029 | AB25: =Z25+AA25 -> 63889 | AC25: 48860 | AD25: 13216 | AE25: =AC25+AD25 -> 62076 | AF25: 48860 | AG25: 0 | AH25: =AF25+AG25 -> 48860 | AI25: 48860 | AJ25: 0 | AK25: =AI25+AJ25 -> 48860 | AL25: 48860 | AM25: 0 | AN25: =AL25+AM25 -> 48860 | AO25: 48860 | AP25: 0 | AQ25: =AO25+AP25 -> 48860 | AR25: 48860 | AS25: 0 | AT25: =AR25+AS25 -> 48860 | AU25: 48860 | AV25: 0 | AW25: =AU25+AV25 -> 48860 | AX25: 30262 | AY25: 0 | AZ25: =AX25+AY25 -> 30262 | BC25: =BA25+BB25 -> 0 | BF25: =BD25+BE25 -> 0 | BG25: 0 | BH25: 0 | BI25: =BG25+BH25 -> 0 | BJ25: 0 | BK25: 0 | BL25: =BJ25+BK25 -> 0 | BM25: 0 | BN25: 0 | BO25: =BM25+BN25 -> 0 | BP25: 0 | BQ25: 0 | BR25: =BP25+BQ25 -> 0 | BU25: =BS25+BT25 -> 0 | BX25: =BV25+BW25 -> 0 | CA25: =BY25+BZ25 -> 0 | CD25: =CB25+CC25 -> 0 | CG25: =CE25+CF25 -> 0 | CJ25: =CH25+CI25 -> 0 | CM25: =CK25+CL25 -> 0 | CP25: =CN25+CO25 -> 0 | CS25: =CQ25+CR25 -> 0 | CV25: =CT25+CU25 -> 0 | CY25: =CW25+CX25 -> 0 | DB25: =CZ25+DA25 -> 0 | DE25: =DC25+DD25 -> 0 | DO25: =+AF25+AI25+AL25+AO25+AR25+AU25+AX25+BA25+BD25+BG25+BJ25+BM25+BP25+BS25+BV25+BY25+CB25+CE25+CH25+CK25+CN25+CQ25+CT25+CW25+CZ25+DC25+DF25+DI25+DL25 -> 323422 | DP25: 42968 | DQ25: =DO25+DP25 -> 366390 | DR25: =K25+N25+Q25+T25+W25+Z25+AC25+DO25 -> 665442 | DS25: =L25+O25+R25+U25+X25+AA25+AD25+DP25 -> 168826 | DT25: =DR25+DS25 -> 834268 | DU25: 857581
B26: Aizņēmums Alūksnes novada pašvaldības ceļu infrastruktūras projekta īstenošanai (Lāčplēša, Rījukalna, Vējakalna, Torņa ielas Alūksnē) | C26: 15.12.2016. | D26: 20.12.2027. | E26: A2/1/16/510 | F26: P-373/2016 | G26: valsts kase | H26: 3.121 | I26: mainīga | J26: EUR | K26: 32144 | L26: 4773 | M26: =K26+L26 -> 36917 | N26: 32144 | O26: 4360 | P26: =N26+O26 -> 36504 | Q26: 32144 | R26: 3314 | S26: =Q26+R26 -> 35458 | T26: 32144 | U26: 2151 | V26: =T26+U26 -> 34295 | W26: 32144 | X26: 1049 | Y26: =W26+X26 -> 33193 | BR26: =BP26+BQ26 -> 0 | DO26: =+AF26+AI26+AL26+AO26+AR26+AU26+AX26+BA26+BD26+BG26+BJ26+BM26+BP26+BS26+BV26+BY26+CB26+CE26+CH26+CK26+CN26+CQ26+CT26+CW26+CZ26+DC26+DF26+DI26+DL26 -> 0 | DP26: =+AG26+AJ26+AM26+AP26+AS26+AV26+AY26+BB26+BE26+BH26+BK26+BN26+BQ26+BT26+BW26+BZ26+CC26+CF26+CI26+CL26+CO26+CR26+CU26+CX26+DA26+DD26+DG26+DJ26+DM26 -> 0 | DQ26: =DO26+DP26 -> 0 | DR26: =K26+N26+Q26+T26+W26+Z26+AC26+DO26 -> 160720 | DS26: =L26+O26+R26+U26+X26+AA26+AD26+DP26 -> 15647 | DT26: =DR26+DS26 -> 176367 | DU26: 260010
B27: ERAF SAM projekts "Alūksnes novada vispārējās izglītības iestāžu mācību vides uzlabošana" (Alūksnes novada vidusskola) | C27: 27.04.2018.; 09.10.2018. | D27: 20.03.2034. | E27: A2/1/18/191; A2/1/18/191-V/18/1 | F27: P-161/2018 | G27: valsts kase | H27: 4.075 | I27: mainīga | J27: EUR | K27: 24016 | L27: 5992 | M27: =K27+L27 -> 30008 | N27: 24016 | O27: 10162 | P27: =N27+O27 -> 34178 | Q27: 24016 | R27: 9151 | S27: =Q27+R27 -> 33167 | T27: 24016 | U27: 8140 | V27: =T27+U27 -> 32156 | W27: 24016 | X27: 7129 | Y27: =W27+X27 -> 31145 | Z27: 24016 | AA27: 6117 | AB27: =Z27+AA27 -> 30133 | AC27: 24016 | AD27: 5106 | AE27: =AC27+AD27 -> 29122 | AF27: 24016 | AG27: 4095 | AH27: =AF27+AG27 -> 28111 | AI27: 24016 | AJ27: 3083 | AK27: =AI27+AJ27 -> 27099 | AL27: 24016 | AM27: 2072 | AN27: =AL27+AM27 -> 26088 | AO27: 24016 | AP27: 1061 | AQ27: =AO27+AP27 -> 25077 | AR27: 6004 | AS27: 140 | AT27: =AR27+AS27 -> 6144 | DO27: =+AF27+AI27+AL27+AO27+AR27+AU27+AX27+BA27+BD27+BG27+BJ27+BM27+BP27+BS27+BV27+BY27+CB27+CE27+CH27+CK27+CN27+CQ27+CT27+CW27+CZ27+DC27+DF27+DI27+DL27 -> 102068 | DP27: =+AG27+AJ27+AM27+AP27+AS27+AV27+AY27+BB27+BE27+BH27+BK27+BN27+BQ27+BT27+BW27+BZ27+CC27+CF27+CI27+CL27+CO27+CR27+CU27+CX27+DA27+DD27+DG27+DJ27+DM27 -> 10451 | DQ27: =DO27+DP27 -> 112519 | DR27: =K27+N27+Q27+T27+W27+Z27+AC27+DO27 -> 270180 | DS27: =L27+O27+R27+U27+X27+AA27+AD27+DP27 -> 62248 | DT27: =DR27+DS27 -> 332428 | DU27: 348793
B28: aizņēmums SAM 3.3.1. ERAF projekts "Multifunkcionālas servisa ēkas izbūve Pilssalā" | C28: 02.03.2017.; 21.04.2018. | D28: 20.06.2029. | E28: A2/1/17/105; A2/1/17/105-V/18/1 | F28: P-37/2017 | G28: valsts kase | H28: 4.512 | I28: mainīga, tirgus nosa-cījumi | J28: EUR | K28: 51552 | L28: 10482 | M28: =K28+L28 -> 62034 | N28: 51552 | O28: 12737 | P28: =N28+O28 -> 64289 | Q28: 51552 | R28: 10333 | S28: =Q28+R28 -> 61885 | T28: 51552 | U28: 7929 | V28: =T28+U28 -> 59481 | W28: 51552 | X28: 5526 | Y28: =W28+X28 -> 57078 | Z28: 51552 | AA28: 3122 | AB28: =Z28+AA28 -> 54674 | AC28: 25776 | AD28: 753 | AE28: =AC28+AD28 -> 26529 | AF28: 0 | AG28: 0 | AH28: =AF28+AG28 -> 0 | AI28: 0 | AJ28: 0 | AK28: =AI28+AJ28 -> 0 | AL28: 0 | AM28: 0 | AN28: =AL28+AM28 -> 0 | AQ28: =AO28+AP28 -> 0 | AW28: =AU28+AV28 -> 0 | BO28: =BM28+BN28 -> 0 | BR28: =BP28+BQ28 -> 0 | DO28: =+AF28+AI28+AL28+AO28+AR28+AU28+AX28+BA28+BD28+BG28+BJ28+BM28+BP28+BS28+BV28+BY28+CB28+CE28+CH28+CK28+CN28+CQ28+CT28+CW28+CZ28+DC28+DF28+DI28+DL28 -> 0 | DP28: =+AG28+AJ28+AM28+AP28+AS28+AV28+AY28+BB28+BE28+BH28+BK28+BN28+BQ28+BT28+BW28+BZ28+CC28+CF28+CI28+CL28+CO28+CR28+CU28+CX28+DA28+DD28+DG28+DJ28+DM28 -> 0 | DQ28: =DO28+DP28 -> 0 | DR28: =K28+N28+Q28+T28+W28+Z28+AC28+DO28 -> 335088 | DS28: =L28+O28+R28+U28+X28+AA28+AD28+DP28 -> 50882 | DT28: =DR28+DS28 -> 385970 | DU28: 511481
B29: aizņēmums SAM 5.6.2. ERAF projekts "Alūksnes pilsētas rūpniecīskās apbūves teritorijas attīstība 1.kārta uz atvieglotiem nosacījumiem | C29: 26.05.2017.; 05.01.2018.; 21.04.2018. | D29: 20.12.2025. | E29: A2/1/17/317; A2/1/17/317-V/18/1; A2/1/17/317-V/18/2 | F29: P-210/2017 | G29: valsts kase | H29: 4.154 | I29: mainīga | J29: EUR | K29: 54728 | L29: 3682 | M29: =K29+L29 -> 58410 | N29: 54728 | O29: 4226 | P29: =N29+O29 -> 58954 | Q29: 54728 | R29: 1877 | S29: =Q29+R29 -> 56605 | T29: 0 | U29: 68 | V29: =T29+U29 -> 68 | W29: 0 | X29: 0 | Y29: =W29+X29 -> 0 | Z29: 0 | AA29: 0 | AB29: =Z29+AA29 -> 0 | AC29: 0 | AD29: 0 | AE29: =AC29+AD29 -> 0 | AF29: 0 | AG29: 0 | AH29: =AF29+AG29 -> 0 | DO29: =+AF29+AI29+AL29+AO29+AR29+AU29+AX29+BA29+BD29+BG29+BJ29+BM29+BP29+BS29+BV29+BY29+CB29+CE29+CH29+CK29+CN29+CQ29+CT29+CW29+CZ29+DC29+DF29+DI29+DL29 -> 0 | DP29: =+AG29+AJ29+AM29+AP29+AS29+AV29+AY29+BB29+BE29+BH29+BK29+BN29+BQ29+BT29+BW29+BZ29+CC29+CF29+CI29+CL29+CO29+CR29+CU29+CX29+DA29+DD29+DG29+DJ29+DM29 -> 0 | DQ29: =DO29+DP29 -> 0 | DR29: =K29+N29+Q29+T29+W29+Z29+AC29+DO29 -> 164184 | DS29: =L29+O29+R29+U29+X29+AA29+AD29+DP29 -> 9853 | DT29: =DR29+DS29 -> 174037 | DU29: 331171
B30: Aiznēmums ERAF projekta "Energoefektivitātes uzlabošana Alūksnes novada pašvaldības administratīvajā ēkā" | C30: 04.12.2018. | D30: 54231 | E30: A2/1/18/869; A2/1/18/869-ekase | F30: P-720/2018 | G30: valsts kase | H30: 3.11 | I30: mainīga | J30: EUR | K30: 71836 | L30: 56051 | M30: =K30+L30 -> 127887 | N30: 71836 | O30: 62034 | P30: =N30+O30 -> 133870 | Q30: 71836 | R30: 60610 | S30: =Q30+R30 -> 132446 | T30: 71836 | U30: 58012 | V30: =T30+U30 -> 129848 | W30: 71836 | X30: 55406 | Y30: =W30+X30 -> 127242 | Z30: 71836 | AA30: 52941 | AB30: =Z30+AA30 -> 124777 | AC30: 71836 | AD30: 50191 | AE30: =AC30+AD30 -> 122027 | AF30: 71836 | AG30: 0 | AH30: =AF30+AG30 -> 71836 | AI30: 71836 | AJ30: 0 | AK30: =AI30+AJ30 -> 71836 | AL30: 71836 | AM30: 0 | AN30: =AL30+AM30 -> 71836 | AO30: 71836 | AP30: 0 | AQ30: =AO30+AP30 -> 71836 | AR30: 71836 | AS30: 0 | AT30: =AR30+AS30 -> 71836 | AU30: 71836 | AV30: 0 | AW30: =AU30+AV30 -> 71836 | AX30: 71836 | AY30: 0 | AZ30: =AX30+AY30 -> 71836 | BA30: 71836 | BB30: 0 | BC30: =BA30+BB30 -> 71836 | BD30: 71836 | BE30: 0 | BF30: =BD30+BE30 -> 71836 | BG30: 71836 | BH30: 0 | BI30: =BG30+BH30 -> 71836 | BJ30: 71836 | BK30: 0 | BL30: =BJ30+BK30 -> 71836 | BM30: 71836 | BN30: 0 | BO30: =BM30+BN30 -> 71836 | BP30: 71836 | BQ30: 0 | BR30: =BP30+BQ30 -> 71836 | BS30: 71836 | BT30: 0 | BU30: =BS30+BT30 -> 71836 | BV30: 71836 | BW30: 0 | BX30: =BV30+BW30 -> 71836 | BY30: 71836 | BZ30: 0 | CA30: =BY30+BZ30 -> 71836 | CB30: 71836 | CC30: 0 | CD30: =CB30+CC30 -> 71836 | CE30: 71836 | CF30: 0 | CG30: =CE30+CF30 -> 71836 | CH30: 31108 | CI30: 0 | CJ30: =CH30+CI30 -> 31108 | CK30: 0 | CL30: 0 | CM30: =CK30+CL30 -> 0 | CN30: 0 | CO30: 0 | CP30: =CN30+CO30 -> 0 | DO30: =+AF30+AI30+AL30+AO30+AR30+AU30+AX30+BA30+BD30+BG30+BJ30+BM30+BP30+BS30+BV30+BY30+CB30+CE30+CH30+CK30+CN30+CQ30+CT30+CW30+CZ30+DC30+DF30+DI30+DL30 -> 1324156 | DP30: 459338 | DQ30: =DO30+DP30 -> 1783494 | DR30: =K30+N30+Q30+T30+W30+Z30+AC30+DO30 -> 1827008 | DS30: =L30+O30+R30+U30+X30+AA30+AD30+DP30 -> 854583 | DT30: =DR30+DS30 -> 2681591 | DU30: 2090839
B31: Aiznēmums ERAF projekta "Energoefektivitātes uzlabošana Alūksnes novada pašvaldības administratīvajā ēkā" | C31: 10.12.2019. | D31: 20.11.2049. | E31: A2/1/19/459 | F31: P-293/2019 | G31: valsts kase | H31: 3.114 | I31: mainīga | J31: EUR | K31: 11744 | L31: 9745 | M31: =K31+L31 -> 21489 | N31: 11744 | O31: 10751 | P31: =N31+O31 -> 22495 | Q31: 11744 | R31: 10576 | S31: =Q31+R31 -> 22320 | T31: 11744 | U31: 10151 | V31: =T31+U31 -> 21895 | W31: 11744 | X31: 9725 | Y31: =W31+X31 -> 21469 | Z31: 11744 | AA31: 9324 | AB31: =Z31+AA31 -> 21068 | AC31: 11744 | AD31: 8872 | AE31: =AC31+AD31 -> 20616 | AF31: 11744 | AG31: 0 | AH31: =AF31+AG31 -> 11744 | AI31: 11744 | AJ31: 0 | AK31: =AI31+AJ31 -> 11744 | AL31: 11744 | AM31: 0 | AN31: =AL31+AM31 -> 11744 | AO31: 11744 | AP31: 0 | AQ31: =AO31+AP31 -> 11744 | AR31: 11744 | AS31: 0 | AT31: =AR31+AS31 -> 11744 | AU31: 11744 | AV31: 0 | AW31: =AU31+AV31 -> 11744 | AX31: 11744 | AY31: 0 | AZ31: =AX31+AY31 -> 11744 | BA31: 11744 | BB31: 0 | BC31: =BA31+BB31 -> 11744 | BD31: 11744 | BE31: 0 | BF31: =BD31+BE31 -> 11744 | BG31: 11744 | BH31: 0 | BI31: =BG31+BH31 -> 11744 | BJ31: 11744 | BK31: 0 | BL31: =BJ31+BK31 -> 11744 | BM31: 11744 | BN31: 0 | BO31: =BM31+BN31 -> 11744 | BP31: 11744 | BQ31: 0 | BR31: =BP31+BQ31 -> 11744 | BS31: 11744 | BT31: 0 | BU31: =BS31+BT31 -> 11744 | BV31: 11744 | BW31: 0 | BX31: =BV31+BW31 -> 11744 | BY31: 11744 | BZ31: 0 | CA31: =BY31+BZ31 -> 11744 | CB31: 11744 | CC31: 0 | CD31: =CB31+CC31 -> 11744 | CE31: 11744 | CF31: 0 | CG31: =CE31+CF31 -> 11744 | CH31: 11744 | CI31: 0 | CJ31: =CH31+CI31 -> 11744 | CK31: 11744 | CL31: 0 | CM31: =CK31+CL31 -> 11744 | DO31: =+AF31+AI31+AL31+AO31+AR31+AU31+AX31+BA31+BD31+BG31+BJ31+BM31+BP31+BS31+BV31+BY31+CB31+CE31+CH31+CK31+CN31+CQ31+CT31+CW31+CZ31+DC31+DF31+DI31+DL31 -> 234880 | DP31: 88141 | DQ31: =DO31+DP31 -> 323021 | DR31: =K31+N31+Q31+T31+W31+Z31+AC31+DO31 -> 317088 | DS31: =L31+O31+R31+U31+X31+AA31+AD31+DP31 -> 157285 | DT31: =DR31+DS31 -> 474373 | DU31: 354323
B32: Aizņēmums valsts mērķdotācijas līdzfinansējuma - sporta būves Pilssalā, ar sadārdzinājumu | C32: 26.05.2017.; 03.08.2017. | D32: 12.2027. | E32: A2/1/17/315; A2/1/17/315-V/17/1 | F32: P-212/2017 | G32: valsts kase | H32: 4.154 | I32: mainīga | J32: EUR | K32: 23972 | L32: 2829 | M32: =K32+L32 -> 26801 | N32: 23972 | O32: 3909 | P32: =N32+O32 -> 27881 | Q32: 23972 | R32: 2880 | S32: =Q32+R32 -> 26852 | T32: 23972 | U32: 1851 | V32: =T32+U32 -> 25823 | W32: 23972 | X32: 822 | Y32: =W32+X32 -> 24794 | AA32: 30 | AB32: =Z32+AA32 -> 30 | AE32: =AC32+AD32 -> 0 | AH32: =AF32+AG32 -> 0 | AQ32: =AO32+AP32 -> 0 | AT32: =AR32+AS32 -> 0 | AW32: =AU32+AV32 -> 0 | AZ32: =AX32+AY32 -> 0 | BC32: =BA32+BB32 -> 0 | BF32: =BD32+BE32 -> 0 | BI32: =BG32+BH32 -> 0 | BL32: =BJ32+BK32 -> 0 | BO32: =BM32+BN32 -> 0 | BR32: =BP32+BQ32 -> 0 | DO32: =+AF32+AI32+AL32+AO32+AR32+AU32+AX32+BA32+BD32+BG32+BJ32+BM32+BP32+BS32+BV32+BY32+CB32+CE32+CH32+CK32+CN32+CQ32+CT32+CW32+CZ32+DC32+DF32+DI32+DL32 -> 0 | DP32: =+AG32+AJ32+AM32+AP32+AS32+AV32+AY32+BB32+BE32+BH32+BK32+BN32+BQ32+BT32+BW32+BZ32+CC32+CF32+CI32+CL32+CO32+CR32+CU32+CX32+DA32+DD32+DG32+DJ32+DM32 -> 0 | DQ32: =DO32+DP32 -> 0 | DR32: =K32+N32+Q32+T32+W32+Z32+AC32+DO32 -> 119860 | DS32: =L32+O32+R32+U32+X32+AA32+AD32+DP32 -> 12321 | DT32: =DR32+DS32 -> 132181 | DU32: 193908
B33: ERAF projekts Nr.8.1.2.0/18/I/002 "Alūksnes novada vispārējās izglītības iestāžu mācību vides uzlabošana" (E.Glika Alūksnes Valsts ģimnāzija) | C33: 06.02.2020. ; 05.01.2021.; 12.01.2022. | D33: 20.12.2036. | E33: A2/1/20/33; A2/1/20/33-V/21/1; A2/1/20/33-V/22/2 | F33: P-21/2020 | G33: valsts kase | H33: 0.319 | I33: mainīga | J33: EUR | K33: 112195 | L33: 6483 | M33: =K33+L33 -> 118678 | N33: 112216 | O33: 4734 | P33: =N33+O33 -> 116950 | Q33: 112216 | R33: 4364 | S33: =Q33+R33 -> 116580 | T33: 112216 | U33: 3995 | V33: =T33+U33 -> 116211 | W33: 112216 | X33: 3625 | Y33: =W33+X33 -> 115841 | Z33: 112216 | AA33: 3255 | AB33: =Z33+AA33 -> 115471 | AC33: 112216 | AD33: 2885 | AE33: =AC33+AD33 -> 115101 | AF33: 112216 | AG33: 0 | AH33: =AF33+AG33 -> 112216 | AI33: 112216 | AJ33: 0 | AK33: =AI33+AJ33 -> 112216 | AL33: 112216 | AM33: 0 | AN33: =AL33+AM33 -> 112216 | AO33: 112216 | AP33: 0 | AQ33: =AO33+AP33 -> 112216 | AR33: 112216 | AS33: 0 | AT33: =AR33+AS33 -> 112216 | AU33: 112216 | AV33: 0 | AW33: =AU33+AV33 -> 112216 | AX33: 112216 | AY33: 0 | AZ33: =AX33+AY33 -> 112216 | BA33: 0 | BB33: 0 | BC33: =BA33+BB33 -> 0 | BD33: 0 | BE33: 0 | BF33: =BD33+BE33 -> 0 | BG33: 0 | BH33: 0 | BI33: =BG33+BH33 -> 0 | BJ33: 0 | BK33: 0 | BL33: =BJ33+BK33 -> 0 | BM33: 0 | BN33: 0 | BO33: =BM33+BN33 -> 0 | BP33: 0 | BQ33: 0 | BR33: =BP33+BQ33 -> 0 | BS33: 0 | BT33: 0 | BU33: =BS33+BT33 -> 0 | BV33: 0 | BW33: 0 | BX33: =BV33+BW33 -> 0 | BY33: 0 | BZ33: 0 | CA33: =BY33+BZ33 -> 0 | CB33: 0 | CC33: 0 | CD33: =CB33+CC33 -> 0 | CE33: 0 | CF33: 0 | CG33: =CE33+CF33 -> 0 | CH33: 0 | CI33: 0 | CJ33: =CH33+CI33 -> 0 | CK33: 0 | CL33: 0 | CM33: =CK33+CL33 -> 0 | CN33: 0 | CO33: 0 | CP33: =CN33+CO33 -> 0 | CQ33: 0 | CR33: 0 | CS33: =CQ33+CR33 -> 0 | DO33: =+AF33+AI33+AL33+AO33+AR33+AU33+AX33+BA33+BD33+BG33+BJ33+BM33+BP33+BS33+BV33+BY33+CB33+CE33+CH33+CK33+CN33+CQ33+CT33+CW33+CZ33+DC33+DF33+DI33+DL33 -> 785512 | DP33: 9847 | DQ33: =DO33+DP33 -> 795359 | DR33: =K33+N33+Q33+T33+W33+Z33+AC33+DO33 -> 1571003 | DS33: =L33+O33+R33+U33+X33+AA33+AD33+DP33 -> 39188 | DT33: =DR33+DS33 -> 1610191 | DU33: 1666951
B34: aizņēmums ceļu un to kompleksa investīciju projekta "Pleskavas ielas pārbūve Alūksnē, Alūksnes novadā (2.un 3.kārta) " īstenošanai | C34: 30.11.2018. | D34: 20.12.2028. | E34: A2/1/18/864 | F34: P-717/2018 | G34: valsts kase | H34: 3.11 | I34: mainīga | J34: EUR | K34: 36488 | L34: 6528 | M34: =K34+L34 -> 43016 | N34: 36488 | O34: 6277 | P34: =N34+O34 -> 42765 | Q34: 36488 | R34: 5085 | S34: =Q34+R34 -> 41573 | T34: 36488 | U34: 3765 | V34: =T34+U34 -> 40253 | W34: 36488 | X34: 2441 | Y34: =W34+X34 -> 38929 | Z34: 36488 | AA34: 1191 | AB34: =Z34+AA34 -> 37679 | AC34: 0 | AD34: 0 | AE34: =AC34+AD34 -> 0 | AF34: 0 | AG34: 0 | AH34: =AF34+AG34 -> 0 | AI34: 0 | AJ34: 0 | AK34: =AI34+AJ34 -> 0 | AL34: 0 | AM34: 0 | AN34: =AL34+AM34 -> 0 | AO34: 0 | AP34: 0 | AQ34: =AO34+AP34 -> 0 | AR34: 0 | AS34: 0 | AT34: =AR34+AS34 -> 0 | AU34: 0 | AV34: 0 | AW34: =AU34+AV34 -> 0 | AX34: 0 | AY34: 0 | AZ34: =AX34+AY34 -> 0 | BA34: 0 | BB34: 0 | BC34: =BA34+BB34 -> 0 | BD34: 0 | BE34: 0 | BF34: =BD34+BE34 -> 0 | BG34: 0 | BH34: 0 | BI34: =BG34+BH34 -> 0 | BJ34: 0 | BK34: 0 | BL34: =BJ34+BK34 -> 0 | BM34: 0 | BN34: 0 | BO34: =BM34+BN34 -> 0 | BP34: 0 | BQ34: 0 | BR34: =BP34+BQ34 -> 0 | BS34: 0 | BT34: 0 | BU34: =BS34+BT34 -> 0 | DO34: =+AF34+AI34+AL34+AO34+AR34+AU34+AX34+BA34+BD34+BG34+BJ34+BM34+BP34+BS34+BV34+BY34+CB34+CE34+CH34+CK34+CN34+CQ34+CT34+CW34+CZ34+DC34+DF34+DI34+DL34 -> 0 | DP34: =+AG34+AJ34+AM34+AP34+AS34+AV34+AY34+BB34+BE34+BH34+BK34+BN34+BQ34+BT34+BW34+BZ34+CC34+CF34+CI34+CL34+CO34+CR34+CU34+CX34+DA34+DD34+DG34+DJ34+DM34 -> 0 | DQ34: =DO34+DP34 -> 0 | DR34: =K34+N34+Q34+T34+W34+Z34+AC34+DO34 -> 218928 | DS34: =L34+O34+R34+U34+X34+AA34+AD34+DP34 -> 25287 | DT34: =DR34+DS34 -> 244215 | DU34: 332466
B35: Aizņēmums valsts mērķdotācijas līdzfinansējuma Pleskavas ielas pārbūve1.kārta | C35: 20.05.2019. | D35: 20.12.2029. | E35: A2/1/19/160 | F35: P-111/2019 | G35: valsts kase | H35: 4.058 | I35: mainīga | J35: EUR | K35: 44292 | L35: 6478 | M35: =K35+L35 -> 50770 | N35: 44292 | O35: 10770 | P35: =N35+O35 -> 55062 | Q35: 44292 | R35: 8913 | S35: =Q35+R35 -> 53205 | T35: 44292 | U35: 7056 | V35: =T35+U35 -> 51348 | W35: 44292 | X35: 5199 | Y35: =W35+X35 -> 49491 | Z35: 44292 | AA35: 3341 | AB35: =Z35+AA35 -> 47633 | AC35: 44292 | AD35: 1484 | AE35: =AC35+AD35 -> 45776 | AF35: 0 | AG35: 54 | AH35: =AF35+AG35 -> 54 | AI35: 0 | AJ35: 0 | AK35: =AI35+AJ35 -> 0 | AL35: 0 | AM35: 0 | AN35: =AL35+AM35 -> 0 | AO35: 0 | AP35: 0 | AQ35: =AO35+AP35 -> 0 | AR35: 0 | AS35: 0 | AT35: =AR35+AS35 -> 0 | AU35: 0 | AV35: 0 | AW35: =AU35+AV35 -> 0 | AX35: 0 | AY35: 0 | AZ35: =AX35+AY35 -> 0 | BA35: 0 | BB35: 0 | BC35: =BA35+BB35 -> 0 | BD35: 0 | BE35: 0 | BF35: =BD35+BE35 -> 0 | BG35: 0 | BH35: 0 | BI35: =BG35+BH35 -> 0 | BJ35: 0 | BK35: 0 | BL35: =BJ35+BK35 -> 0 | BM35: 0 | BN35: 0 | BO35: =BM35+BN35 -> 0 | BP35: 0 | BQ35: 0 | BR35: =BP35+BQ35 -> 0 | BS35: 0 | BT35: 0 | BU35: =BS35+BT35 -> 0 | DO35: =+AF35+AI35+AL35+AO35+AR35+AU35+AX35+BA35+BD35+BG35+BJ35+BM35+BP35+BS35+BV35+BY35+CB35+CE35+CH35+CK35+CN35+CQ35+CT35+CW35+CZ35+DC35+DF35+DI35+DL35 -> 0 | DP35: =+AG35+AJ35+AM35+AP35+AS35+AV35+AY35+BB35+BE35+BH35+BK35+BN35+BQ35+BT35+BW35+BZ35+CC35+CF35+CI35+CL35+CO35+CR35+CU35+CX35+DA35+DD35+DG35+DJ35+DM35 -> 54 | DQ35: =DO35+DP35 -> 54 | DR35: =K35+N35+Q35+T35+W35+Z35+AC35+DO35 -> 310044 | DS35: =L35+O35+R35+U35+X35+AA35+AD35+DP35 -> 43295 | DT35: =DR35+DS35 -> 353339 | DU35: 448984
B36: aizņēmums Alūksnes Muižas parka vēsturisko objektu restaurācijai un atjaunošanai | C36: 03.08.2017.; 20.12.2017.; 18.02.2019. | D36: 20.12.2027. | E36: A2/1/17/566 A2/1/17/566-V/17/1; A2/1/17/566-V/19/2 | F36: P-425/2017 | G36: valsts kase | H36: 4.364 | I36: mainīga | J36: EUR | K36: 24904 | L36: 2231 | M36: =K36+L36 -> 27135 | N36: 24904 | O36: 4248 | P36: =N36+O36 -> 29152 | Q36: 24904 | R36: 3138 | S36: =Q36+R36 -> 28042 | T36: 24904 | U36: 2037 | V36: =T36+U36 -> 26941 | W36: 24904 | X36: 933 | Y36: =W36+X36 -> 25837 | AA36: 60 | AB36: =Z36+AA36 -> 60 | DO36: =+AF36+AI36+AL36+AO36+AR36+AU36+AX36+BA36+BD36+BG36+BJ36+BM36+BP36+BS36+BV36+BY36+CB36+CE36+CH36+CK36+CN36+CQ36+CT36+CW36+CZ36+DC36+DF36+DI36+DL36 -> 0 | DP36: =+AG36+AJ36+AM36+AP36+AS36+AV36+AY36+BB36+BE36+BH36+BK36+BN36+BQ36+BT36+BW36+BZ36+CC36+CF36+CI36+CL36+CO36+CR36+CU36+CX36+DA36+DD36+DG36+DJ36+DM36 -> 0 | DQ36: =DO36+DP36 -> 0 | DR36: =K36+N36+Q36+T36+W36+Z36+AC36+DO36 -> 124520 | DS36: =L36+O36+R36+U36+X36+AA36+AD36+DP36 -> 12647 | DT36: =DR36+DS36 -> 137167 | DU36: 201446
B37: aizņēmums "Multifunkcionālās komunālās mašīnas un tā aprīkojuma iegādei" (PA "Spodra") | C37: 07.09.2017. | D37: 20.12.2024. | E37: A2/1/17/656 | F37: P-509/2017 | G37: valsts kase | H37: 2,146/x | I37: mainīga | J37: EUR | K37: 36684 | L37: 1548 | M37: =K37+L37 -> 38232 | N37: 36684 | O37: 1361 | P37: =N37+O37 -> 38045 | R37: 89 | DO37: =+AF37+AI37+AL37+AO37+AR37+AU37+AX37+BA37+BD37+BG37+BJ37+BM37+BP37+BS37+BV37+BY37+CB37+CE37+CH37+CK37+CN37+CQ37+CT37+CW37+CZ37+DC37+DF37+DI37+DL37 -> 0 | DP37: =+AG37+AJ37+AM37+AP37+AS37+AV37+AY37+BB37+BE37+BH37+BK37+BN37+BQ37+BT37+BW37+BZ37+CC37+CF37+CI37+CL37+CO37+CR37+CU37+CX37+DA37+DD37+DG37+DJ37+DM37 -> 0 | DQ37: =DO37+DP37 -> 0 | DR37: =K37+N37+Q37+T37+W37+Z37+AC37+DO37 -> 73368 | DS37: =L37+O37+R37+U37+X37+AA37+AD37+DP37 -> 2998 | DT37: =DR37+DS37 -> 76366 | DU37: 185292
B38: Aizņēmums Alūksnes Pilssalas infrastruktūras izbūvei | C38: 06.10.2017.; 20.12.2017.; 01.06.2018.; 18.02.2019. | D38: 20.12.2028. | E38: A2/1/17/720; A2/1/17/720-V/17/1; A2/1/17/720-V/18/2; A2/1/17/720-V/19/3 | F38: P-572/2017 | G38: valsts kase | H38: 2,75+x | I38: mainīga | J38: EUR | K38: 60620 | L38: 9771 | M38: =K38+L38 -> 70391 | N38: 60620 | O38: 13224 | P38: =N38+O38 -> 73844 | Q38: 60620 | R38: 10534 | S38: =Q38+R38 -> 71154 | T38: 60620 | U38: 7800 | V38: =T38+U38 -> 68420 | W38: 60620 | X38: 5058 | Y38: =W38+X38 -> 65678 | Z38: 60620 | AA38: 2317 | AB38: =Z38+AA38 -> 62937 | AD38: 150 | AE38: =AC38+AD38 -> 150 | DO38: =+AF38+AI38+AL38+AO38+AR38+AU38+AX38+BA38+BD38+BG38+BJ38+BM38+BP38+BS38+BV38+BY38+CB38+CE38+CH38+CK38+CN38+CQ38+CT38+CW38+CZ38+DC38+DF38+DI38+DL38 -> 0 | DP38: =+AG38+AJ38+AM38+AP38+AS38+AV38+AY38+BB38+BE38+BH38+BK38+BN38+BQ38+BT38+BW38+BZ38+CC38+CF38+CI38+CL38+CO38+CR38+CU38+CX38+DA38+DD38+DG38+DJ38+DM38 -> 0 | DQ38: =DO38+DP38 -> 0 | DR38: =K38+N38+Q38+T38+W38+Z38+AC38+DO38 -> 363720 | DS38: =L38+O38+R38+U38+X38+AA38+AD38+DP38 -> 48854 | DT38: =DR38+DS38 -> 412574 | DU38: 552349
B39: aizņēmums ERAF projekta Nr.5.6.2.0/18I/012 "Alūksnes pilsētas rūpnieciskās apbūves teritorijas attīstības 2.kārta" | C39: 30.11.2018. 27.12.2018. 14.01.2019. 17.05.2019. | D39: 52220 | E39: A2/1/18/865; A2/1/18/865-V/18/1; A2/1/18/865-V19/2; A2/1/18/865-V/19/3; A2/1/18/865-ekase | F39: P-718/2018 | G39: Valsts kase | H39: 3.11 | I39: mainīga | J39: EUR | K39: 90320 | L39: 35422 | M39: =K39+L39 -> 125742 | N39: 90320 | O39: 37689 | P39: =N39+O39 -> 128009 | Q39: 90320 | R39: 35148 | S39: =Q39+R39 -> 125468 | T39: 90320 | U39: 31881 | V39: =T39+U39 -> 122201 | W39: 90320 | X39: 28605 | Y39: =W39+X39 -> 118925 | Z39: 90320 | AA39: 25393 | AB39: =Z39+AA39 -> 115713 | AC39: 90320 | AD39: 22048 | AE39: =AC39+AD39 -> 112368 | AF39: 90320 | AG39: 0 | AH39: =AF39+AG39 -> 90320 | AI39: 90320 | AJ39: 0 | AK39: =AI39+AJ39 -> 90320 | AL39: 90320 | AM39: 0 | AN39: =AL39+AM39 -> 90320 | AO39: 90320 | AP39: 0 | AQ39: =AO39+AP39 -> 90320 | AR39: 90320 | AS39: 0 | AT39: =AR39+AS39 -> 90320 | AU39: 80537 | AV39: 0 | AW39: =AU39+AV39 -> 80537 | AX39: 0 | AY39: 0 | AZ39: =AX39+AY39 -> 0 | BA39: 0 | BB39: 0 | BC39: =BA39+BB39 -> 0 | BD39: 0 | BE39: 0 | BF39: =BD39+BE39 -> 0 | BG39: 0 | BH39: 0 | BI39: =BG39+BH39 -> 0 | BJ39: 0 | BK39: 0 | BL39: =BJ39+BK39 -> 0 | BM39: 0 | BN39: 0 | BO39: =BM39+BN39 -> 0 | BP39: 0 | BQ39: 0 | BR39: =BP39+BQ39 -> 0 | BS39: 0 | BT39: 0 | BU39: =BS39+BT39 -> 0 | BV39: 0 | BW39: 0 | BX39: =BV39+BW39 -> 0 | BY39: 0 | BZ39: 0 | CA39: =BY39+BZ39 -> 0 | CB39: 0 | CC39: 0 | CD39: =CB39+CC39 -> 0 | CE39: 0 | CF39: 0 | CG39: =CE39+CF39 -> 0 | CH39: 0 | CI39: 0 | CJ39: =CH39+CI39 -> 0 | CK39: 0 | CL39: 0 | CM39: =CK39+CL39 -> 0 | CN39: 0 | CO39: 0 | CP39: =CN39+CO39 -> 0 | DO39: =+AF39+AI39+AL39+AO39+AR39+AU39+AX39+BA39+BD39+BG39+BJ39+BM39+BP39+BS39+BV39+BY39+CB39+CE39+CH39+CK39+CN39+CQ39+CT39+CW39+CZ39+DC39+DF39+DI39+DL39 -> 532137 | DP39: 63696 | DQ39: =DO39+DP39 -> 595833 | DR39: =K39+N39+Q39+T39+W39+Z39+AC39+DO39 -> 1164377 | DS39: =L39+O39+R39+U39+X39+AA39+AD39+DP39 -> 279882 | DT39: =DR39+DS39 -> 1444259 | DU39: 1466883
B40: aizņēmums projekta "Ernsta Glika Alūksnes Valsts ģimnāzijas mācību vides uzlabošanas būvprojekta izstrāde" īstenošanai | C40: 31.01.2018. | D40: 20.12.2023. | E40: A2/1/18/27 | F40: P-20/2018 | G40: valsts kase | H40: 3.613 | I40: mainīga | J40: EUR | K40: 24900 | L40: 496 | M40: =K40+L40 -> 25396 | P40: =N40+O40 -> 0 | S40: =Q40+R40 -> 0 | V40: =T40+U40 -> 0 | Y40: =W40+X40 -> 0 | AB40: =Z40+AA40 -> 0 | AE40: =AC40+AD40 -> 0 | AH40: =AF40+AG40 -> 0 | AK40: =AI40+AJ40 -> 0 | AN40: =AL40+AM40 -> 0 | AQ40: =AO40+AP40 -> 0 | AT40: =AR40+AS40 -> 0 | AW40: =AU40+AV40 -> 0 | AZ40: =AX40+AY40 -> 0 | DO40: =+AF40+AI40+AL40+AO40+AR40+AU40+AX40+BA40+BD40+BG40+BJ40+BM40+BP40+BS40+BV40+BY40+CB40+CE40+CH40+CK40+CN40+CQ40+CT40+CW40+CZ40+DC40+DF40+DI40+DL40 -> 0 | DP40: =+AG40+AJ40+AM40+AP40+AS40+AV40+AY40+BB40+BE40+BH40+BK40+BN40+BQ40+BT40+BW40+BZ40+CC40+CF40+CI40+CL40+CO40+CR40+CU40+CX40+DA40+DD40+DG40+DJ40+DM40 -> 0 | DQ40: =DO40+DP40 -> 0 | DR40: =K40+N40+Q40+T40+W40+Z40+AC40+DO40 -> 24900 | DS40: =L40+O40+R40+U40+X40+AA40+AD40+DP40 -> 496 | DT40: =DR40+DS40 -> 25396 | DU40: 100193
B41: aizņēmums projekta "Ernsta Glika Alūksnes Valsts ģimnāzijas mācību vides uzlabošanas būvprojekta izstrāde" īstenošanai papildu | C41: 22.06.2021. 12.01.2022. | D41: 22.12.2036. | E41: A2/1/21/321; A2/1/21/321-V/22/1 | F41: P-210/2021 | G41: valsts kase | H41: 4.551 | I41: mainīga | J41: EUR | K41: 27530 | L41: 6163 | M41: =K41+L41 -> 33693 | N41: 2346 | O41: 120 | P41: =N41+O41 -> 2466 | Q41: 0 | R41: 0 | S41: =Q41+R41 -> 0 | T41: 0 | U41: 0 | V41: =T41+U41 -> 0 | W41: 0 | X41: 0 | Y41: =W41+X41 -> 0 | Z41: 0 | AA41: 0 | AB41: =Z41+AA41 -> 0 | AC41: 0 | AD41: 0 | AE41: =AC41+AD41 -> 0 | AF41: 0 | AG41: 0 | AH41: =AF41+AG41 -> 0 | AI41: 0 | AJ41: 0 | AK41: =AI41+AJ41 -> 0 | AL41: 0 | AM41: 0 | AN41: =AL41+AM41 -> 0 | AO41: 0 | AP41: 0 | AQ41: =AO41+AP41 -> 0 | AR41: 0 | AS41: 0 | AT41: =AR41+AS41 -> 0 | AU41: 0 | AV41: 0 | AW41: =AU41+AV41 -> 0 | AX41: 0 | AY41: 0 | AZ41: =AX41+AY41 -> 0 | BB41: 0 | DO41: =+AF41+AI41+AL41+AO41+AR41+AU41+AX41+BA41+BD41+BG41+BJ41+BM41+BP41+BS41+BV41+BY41+CB41+CE41+CH41+CK41+CN41+CQ41+CT41+CW41+CZ41+DC41+DF41+DI41+DL41 -> 0 | DP41: =+AG41+AJ41+AM41+AP41+AS41+AV41+AY41+BB41+BE41+BH41+BK41+BN41+BQ41+BT41+BW41+BZ41+CC41+CF41+CI41+CL41+CO41+CR41+CU41+CX41+DA41+DD41+DG41+DJ41+DM41 -> 0 | DQ41: =DO41+DP41 -> 0 | DR41: =K41+N41+Q41+T41+W41+Z41+AC41+DO41 -> 29876 | DS41: =L41+O41+R41+U41+X41+AA41+AD41+DP41 -> 6283 | DT41: =DR41+DS41 -> 36159
...

Sheet GALVOJUMI (paredzamie)
AY1: 5. pielikums
AY2: Alūksnes novada pašvaldības
AY3: saistošajiem noteikumiem Nr. 42/2023
B6: Alūksnes novada pašvaldība
B7: Galvojumu saistības uz 30.11.2023. (noslēgtie līgumi) un paredzamie galvojumi
A9: Pašvaldība | B9: Mērķis | E9: Līguma Nr. (trančes Nr.) | M9: saistību apmērs /2023 | P9: saistību apmērs /2024 | S9: saistību apmērs /2025 | V9: saistību apmērs /2026 | Y9: saistību apmērs /2027 | AB9: saistību apmērs /2028 | AE9: saistību apmērs /2029 | AH9: saistību apmērs /2030 | AK9: saistību apmērs /2031 | AN9: saistību apmērs /2032 | AQ9: saistību apmērs /2033 | AT9: turpmākie gadi (2030-2030) | AW9: Kopā
C10: līguma noslēgšanas datums | D10: līguma atmaksas termiņš | F10: aizdevējs | G10: līguma summa oriģināl -valūtā | H10: oriģināl -valūtā | I10: valūtas kurss uz 01.01.2013. | J10: līguma summa EUR | K10: aizdevuma procentu likme | L10: procentu likmes veids | M10: pamatsumma | N10: % | O10: Kopā | P10: pamatsumma | Q10: % | R10: Kopā | S10: pamatsumma | T10: % | U10: Kopā | V10: pamatsumma | W10: % | X10: Kopā | Y10: pamatsumma | Z10: % | AA10: Kopā | AB10: pamatsumma | AC10: % | AD10: Kopā | AE10: pamatsumma | AF10: % | AG10: Kopā | AH10: pamatsumma | AI10: % | AJ10: Kopā | AK10: pamatsumma | AL10: % | AM10: Kopā | AN10: pamatsumma | AO10: % | AP10: Kopā | AQ10: pamatsumma | AR10: % | AS10: Kopā | AT10: pamatsumma | AU10: % | AV10: Kopā | AW10: pamatsumma | AX10: % | AY10: Kopā | AZ10: pašvaldības pamatbudžeta ieņēmumi bez mērķdotācijām un iemaksām PFIF | BA10: esošie
A11: Alūksnes novads | B11: AS "SIMONE" mazo katlu māju rekonstrukcija | C11: 21.07.2008. | D11: 20.07.2023. | F11: AS PAREX BANKA | G11: 213430 | H11: EUR | I11: 0.702804 | J11: =G11*I11 -> 149999.46 | L11: mainīga | M11: 14354 | O11: =M11+N11 -> 14354 | R11: =P11+Q11 -> 0 | U11: =S11+T11 -> 0 | X11: =V11+W11 -> 0 | AA11: =Y11+Z11 -> 0 | AD11: =AB11+AC11 -> 0 | AG11: =AE11+AF11 -> 0 | AJ11: =AH11+AI11 -> 0 | AM11: =AK11+AL11 -> 0 | AP11: =AN11+AO11 -> 0 | AS11: =AQ11+AR11 -> 0 | AT11: =AH11 -> 0 | AU11: =AI11 -> 0 | AV11: =AJ11 -> 0 | AW11: =+M11+P11+S11+V11+Y11+AB11+AE11+AH11+AK11+AN11+AQ11 -> 14354 | AX11: =+N11+Q11+T11+W11+Z11+AC11+AF11+AI11+AL11+AO11+AR11 -> 0 | AY11: =+O11+R11+U11+X11+AA11+AD11+AG11+AJ11+AM11+AP11+AS11 -> 14354
A12: Alūksnes novads | B12: SIA "RŪPE" ES projekta "Ūdenssaimniecības attīstība Austrumlatvijas upju baseinos" neattiecināmo izdevumu segšanai | C12: 06.11.2009.; 19.07.2010. | D12: 20.06.2029. | E12: Nr.G/09/635 | F12: Valsts kase | G12: 395164 | H12: EUR | I12: 0.702804 | J12: 277723 | K12: 5.002 | L12: fiksēta | M12: 23972 | O12: =M12+N12 -> 23972 | P12: 25148 | R12: =P12+Q12 -> 25148 | S12: 24266 | U12: =S12+T12 -> 24266 | V12: 23320 | X12: =V12+W12 -> 23320 | Y12: 22372 | AA12: =Y12+Z12 -> 22372 | AB12: 21425 | AD12: =AB12+AC12 -> 21425 | AE12: 10424 | AG12: =AE12+AF12 -> 10424 | AJ12: =AH12+AI12 -> 0 | AM12: =AK12+AL12 -> 0 | AP12: =AN12+AO12 -> 0 | AS12: =AQ12+AR12 -> 0 | AT12: =AH12 -> 0 | AU12: =AI12 -> 0 | AV12: =AJ12 -> 0 | AW12: =+M12+P12+S12+V12+Y12+AB12+AE12+AH12+AK12+AN12+AQ12 -> 150927 | AX12: =+N12+Q12+T12+W12+Z12+AC12+AF12+AI12+AL12+AO12+AR12 -> 0 | AY12: =+O12+R12+U12+X12+AA12+AD12+AG12+AJ12+AM12+AP12+AS12 -> 150927
A13: Alūksnes novads | B13: SIA "Alūksnes slimnīca" ERAF projektam "Stacionārās veselības aprūpes infrastruktūras uzlabošana SIA "Alūksnes slimnīca", uzlabojot veselības aprūpes pakalpojumu kvalitāti un pieejamību" | C13: 24.09.2012. | D13: 20.09.2028. | F13: Valsts kase | G13: 717013 | H13: LVL | I13: 1 | J13: 717013 | K13: 1.118 | L13: mainīga | M13: 70778 | N13: 0 | O13: =M13+N13 -> 70778 | P13: 70060 | Q13: 0 | R13: =P13+Q13 -> 70060 | S13: 67664 | T13: 0 | U13: =S13+T13 -> 67664 | V13: 65269 | W13: 0 | X13: 65269 | Y13: 62874 | Z13: 0 | AA13: 62874 | AB13: 46707 | AC13: 0 | AD13: 46707 | AG13: =AE13+AF13 -> 0 | AJ13: =AH13+AI13 -> 0 | AM13: =AK13+AL13 -> 0 | AP13: =AN13+AO13 -> 0 | AS13: =AQ13+AR13 -> 0 | AT13: =AH13 -> 0 | AU13: =AI13 -> 0 | AV13: =AJ13 -> 0 | AW13: =+M13+P13+S13+V13+Y13+AB13+AE13+AH13+AK13+AN13+AQ13 -> 383352 | AX13: =+N13+Q13+T13+W13+Z13+AC13+AF13+AI13+AL13+AO13+AR13 -> 0 | AY13: =+O13+R13+U13+X13+AA13+AD13+AG13+AJ13+AM13+AP13+AS13 -> 383352 | BA13: 523952
A14: Alūksnes novads | B14: SIA "ALBA 5" ilgterniņa aizņēmums ES KF projekta "Atkritumu apglabāšanas poligona "Kaudzītes" infrastruktūras attīstība" | C14: 24.09.2012. | D14: 24.09.2027. | F14: Nordea bank Finland Ple | G14: 61195 | H14: LVL | I14: 1 | J14: 61195 | K14: 3.2 | L14: fiksēta | M14: 6666 | O14: =M14+N14 -> 6666 | P14: 6741 | R14: =P14+Q14 -> 6741 | S14: 6741 | U14: =S14+T14 -> 6741 | V14: 6180 | X14: =V14+W14 -> 6180 | Y14: 4959 | AA14: =Y14+Z14 -> 4959 | AD14: =AB14+AC14 -> 0 | AG14: =AE14+AF14 -> 0 | AJ14: =AH14+AI14 -> 0 | AM14: =AK14+AL14 -> 0 | AP14: =AN14+AO14 -> 0 | AS14: =AQ14+AR14 -> 0 | AT14: =AH14 -> 0 | AU14: =AI14 -> 0 | AV14: =AJ14 -> 0 | AW14: =+M14+P14+S14+V14+Y14+AB14+AE14+AH14+AK14+AN14+AQ14 -> 31287 | AX14: =+N14+Q14+T14+W14+Z14+AC14+AF14+AI14+AL14+AO14+AR14 -> 0 | AY14: =+O14+R14+U14+X14+AA14+AD14+AG14+AJ14+AM14+AP14+AS14 -> 31287 | BA14: 43182
A15: Alūksnes novads | B15: SIA "RŪPE" aizņēmums ERAF projektiem "Alūksnes novada Alsviķu pagasta Alsviķu ciema ūdenssaimniecības attīstība", "Alūksnes novada Alsviķu pagasta Strautiņu ciema ūdenssaimniecības attīstība", "Alūksnes novada Ilzenes pagasta Jaunzemu ciema ūdenssaimniecības attīstība", "Alūksnes novada Zeltiņu pagasta Zeltiņu ciema ūdenssaimniecības attīstība" | C15: 03.06.2015. | D15: 20.04.2025. | F15: Valsts kase | K15: 0.544 | L15: mainīga, ik pēc 6 mēnešiem | M15: 11236 | O15: =M15+N15 -> 11236 | P15: 11182 | R15: =P15+Q15 -> 11182 | S15: 5418 | U15: =S15+T15 -> 5418 | X15: 0 | AA15: 0 | AD15: 0 | AG15: 0 | AT15: =AH15 -> 0 | AU15: =AI15 -> 0 | AV15: =AJ15 -> 0 | AW15: =+M15+P15+S15+V15+Y15+AB15+AE15+AH15+AK15+AN15+AQ15 -> 27836 | AX15: =+N15+Q15+T15+W15+Z15+AC15+AF15+AI15+AL15+AO15+AR15 -> 0 | AY15: =+O15+R15+U15+X15+AA15+AD15+AG15+AJ15+AM15+AP15+AS15 -> 27836
A16: Alūksnes novads | B16: galvojums SIA "Alūksnes slimnīca" aizņēmumam radioloģijas nodaļas iekārtu modernizācijai | C16: 22.02.2018. | D16: 20.02.2028. | F16: Valsts kase | K16: 0.005 | L16: mainīga | M16: 28493 | N16: 0 | O16: =M16+N16 -> 28493 | P16: 28051 | Q16: 0 | R16: =P16+Q16 -> 28051 | S16: 27075 | T16: 0 | U16: =S16+T16 -> 27075 | V16: 26100 | W16: 0 | X16: =V16+W16 -> 26100 | Y16: 25124 | Z16: 0 | AA16: =Y16+Z16 -> 25124 | AB16: 6342 | AC16: 0 | AD16: =AB16+AC16 -> 6342 | AG16: 0 | AT16: =AH16 -> 0 | AU16: =AI16 -> 0 | AV16: =AJ16 -> 0 | AW16: =+M16+P16+S16+V16+Y16+AB16+AE16+AH16+AK16+AN16+AQ16 -> 141185 | AX16: =+N16+Q16+T16+W16+Z16+AC16+AF16+AI16+AL16+AO16+AR16 -> 0 | AY16: =+O16+R16+U16+X16+AA16+AD16+AG16+AJ16+AM16+AP16+AS16 -> 141185
A17: Kopā | M17: =SUM(M11:M16) -> 155499 | N17: =SUM(N11:N16) -> 0 | O17: =SUM(O11:O16) -> 155499 | P17: =SUM(P11:P16) -> 141182 | Q17: =SUM(Q11:Q16) -> 0 | R17: =SUM(R11:R16) -> 141182 | S17: =SUM(S11:S16) -> 131164 | T17: =SUM(T11:T16) -> 0 | ... AY17: =SUM(AY11:AY16) -> 748941 | AZ17: =#REF!+#REF!+#REF!+#REF!+#REF!+#REF!+#REF!+M17+P17+S17+V17+Y17+AB17+AE17+AH17+AW17 -> #REF! | BA17: =SUM(BA11:BA16) -> 567134
A18: Procentos pret pamatbudžetu bez mērķdotācijām un iemaksām PFIF | AT18: =#REF!+M18+P18+S18+V18+Y18+AB18+AE18+AH18 -> #REF! | AU18: =#REF!+N18+Q18+T18+W18+Z18+AC18+AF18+AI18 -> #REF! | AV18: =#REF!+O18+R18+U18+X18+AA18+AD18+AG18+AJ18 -> #REF! | AW18: =#REF!+#REF!+#REF!+#REF!+#REF!+#REF!+#REF!+AT18 -> #REF! | AX18: =#REF!+#REF!+#REF!+#REF!+#REF!+#REF!+#REF!+AU18 -> #REF! | AY18: =#REF!+#REF!+#REF!+#REF!+#REF!+#REF!+#REF!+AV18 -> #REF!
AT19: =V17+Y17+AB17+AE17 -> 321096 | AU19: =W17+Z17+AC17+AF17 -> 0 | AV19: =X17+AA17+AD17+AG17 -> 321096 | AW19: =#REF!+#REF!+#REF!+#REF!+M17+P17+S17+V17+Y17+AB17+AE17 -> #REF! | AX19: =#REF!+#REF!+#REF!+#REF!+N17+Q17+T17+W17+Z17+AC17+AF17 -> #REF! | AY19: =#REF!+#REF!+#REF!+#REF!+O17+R17+U17+X17+AA17+AD17+AG17 -> #REF! | AZ19: =#REF!+#REF!+#REF!+M17+P17+S17+V17+Y17+AB17+AE17+AH17 -> #REF! | BA19: =#REF!+#REF!+#REF!+N17+Q17+T17+W17+Z17+AC17+AF17+AI17 -> #REF!
B20: esošie | O20: =O17-O16 -> 127006 | R20: =R17-R16 -> 113131 | S20: =S17-S16 -> 104089 | T20: =T17-T16 -> 0 | U20: =U17-U16 -> 104089 | V20: =V17-V16 -> 94769 | W20: =W17-W16 -> 0 | X20: =X17-X16 -> 94769 | Y20: =Y17-Y16 -> 90205 | ... AS20: =AS17-AS16 -> 0 | AV20: =AV17-AV16 -> 0 | AY20: =AY17-AY16 -> 607756 | AZ20: =AZ17-AZ16 -> #REF!
A22: Domes priekšsēdētājs | B22: Domes priekšsēdētājs | G22: A.DUKULIS | K22: Dz.ADLERS
B24: Alūksnes novada pašvaldības domes priekšsēdētājs Dz. Adlers
