Workbook
Name _ftnref1: KOPSAVILKUMS!#REF!
Name _Hlk102432366: KOPSAVILKUMS!#REF!
Name _Hlk102432436: KOPSAVILKUMS!#REF!

Sheet KOPSAVILKUMS
H1: Pielikums Antimikrobiālās rezistences ierobežošanas un piesardzīgas antibiotiku lietošanas plānam “Viena veselība” 2023.-2027. gadam
B3: Kopsavilkums par plānā iekļauto pasākumu īstenošanai nepieciešamo finansējumu
A5: Plāna virsmērķis | C5: Veicināt mērķtiecīgu un efektīvu AMR attīstības un izplatības ierobežošanu un apkarošanu, nodrošinot koordinētas iesaistīto iestāžu un organizāciju darbības
A6: Politikas rezultāts/i un rezultatīvais rādītājs/-i | C6: Politikas rezultāts:Ierobežota antimikrobiālās rezistences attīstība un izplatība. Izmainīti antimikrobiālo līdzekļu lietošanas paradumi, panākot atbildīgu un piesardzīgu antimikrobiālo līdzekļu lietošanu sabiedrībā, veselības aprūpē un dzīvnieku veselībā
C7: Rezultatīvie rādītāji: Latvijas iedzīvotāju īpatsvars, kas antibiotikas iegādājušies bez receptes (avots: Eirobarometra pētījums) – 2027. gadā 5% (9 % 2017.gadā). Latvijas iedzīvotāju īpatsvars, kam ir pareiza izpratne par antibiotiku izmantošanu (%) (avots: Eirobarometra pētījums) – (2027.gadā 43% iedzīvotāju ir izpratne par antibiotiku ietekmi uz vīrusiem, 66% iedzīvotāju sniedz pareizu atbildi par antibiotiku lietošanu saaukstēšanās gadījumā, 85% iedzīvotāju saprot, ka antibiotiku pārmērīga lietošana tās padara nefektīvas (attiecīgi – 26%, 44% un 79% 2016. gadā).
A8: Nr. p.k. | B8: Pasākums | C8: Darbības rezultāts | D8: Rezultatīvais rādītājs | E8: Budžeta programmas (apakšprogrammas) kods un nosaukums | F8: Uzdevumu īstenošanai plānotais finansējums atbilstoši likumam "Par valsts budžetu 2023. gadam un budžeta ietvaru 2023., 2024. un 2025. gadam | I8: Nepieciešamais papildus finansējums | N8: Atbildīgā institūcija | O8: Līdzatbildīgās institūcijas | P8: Finansējuma avots | Q8: Izpildes termiņš
F9: 2023.gads | G9: 2024.gads | H9: 2025.gads | I9: 2024.gads | J9: 2025.gads | K9: 2026.gads | L9: Turpmākajā laikposmā līdz pasākuma pabeigšanai (ja pasākuma īstenošana ir terminēta) | M9: Turpmāk ik gadu, ja pasākuma izpilde nav terminēta
B10: KOPĒJAIS NEPIECIEŠAMAIS FINANSĒJUMS PLĀNA REALIZĀCIJAI: | F10: =F11+F18 -> 5227560 | G10: =G11+G18 -> 5227560 | H10: =H11+H18 -> 5227560 | I10: =I11+I18 -> 1019911.2 | J10: =J11+J18 -> 3962054.1 | K10: =K11+K18 -> 4035258.2 | L10: =L11+L18 -> 125187 | M10: =M11+M18 -> 3523772.1
A11: VESELĪBAS MINISTRIJA | F11: =SUM(F12:F17) -> 4945044 | G11: =SUM(G12:G17) -> 4945044 | H11: =SUM(H12:H17) -> 4945044 | I11: =SUM(I12:I17) -> 383741 | J11: =SUM(J12:J17) -> 3203853 | K11: =SUM(K12:K17) -> 3301653 | L11: =SUM(L12:L17) -> 6000 | M11: =SUM(M12:M17) -> 3178715
E12: 02.03.00 Augstākā medicīnas izglītība | I12: =I155 -> 0 | J12: =J155 -> 0 | K12: =K155 -> 79999.998 | L12: =L155 -> 0 | M12: =M155 -> 0
E13: 33.15.00 Laboratorisko izmeklējumu nodrošināšana ambulatorajā aprūpē | F13: =F124 -> 4945044 | G13: =G124 -> 4945044 | H13: =H124 -> 4945044 | I13: =I124 -> 12082 | J13: =J124 -> 2845126 | K13: =K124 -> 2952326 | L13: =L124 -> 0 | M13: =M124 -> 2952326
E14: 33.18.00 Plānveida stacionāro veselības aprūpes pakalpojumu nodrošināšana | I14: =I153 -> 72539 | J14: =J153 -> 141077 | K14: =K153 -> 141077 | L14: =L153 -> 0 | M14: =M153 -> 141077
E15: 45.01.00 Veselības aprūpes finansējuma administrēšana un ekonomiskā novērtēšana | I15: =I128 -> 212600 | J15: =J128 -> 85300 | K15: =K128 -> 79050 | L15: =L128 -> 0 | M15: =M128 -> 45312
E16: 46.03.00 Slimību profilakses nodrošināšana | I16: =I27+I31+I35+I36+I46+I48+I84+I85+I86+I87+I88+I98+I157+I158+I160+I161 -> 56520 | J16: =J27+J31+J35+J36+J46+J48+J84+J85+J86+J87+J88+J98+J157+J158+J160+J161 -> 132350 | K16: =K27+K31+K35+K36+K46+K48+K84+K85+K86+K87+K88+K98+K157+K158+K160+K161 -> 49200 | L16: =L27+L31+L35+L36+L46+L48+L84+L85+L86+L87+L88+L98+L157+L158+L160+L161 -> 6000 | M16: =M27+M31+M35+M36+M46+M48+M84+M85+M86+M87+M88+M98+M157+M158+M160+M161 -> 40000
E17: 97.00.00 Nozaru vadība un politikas plānošana | I17: =I55+I56+I57 -> 30000 | J17: =J55+J56+J57 -> 0 | K17: =K55+K56+K57 -> 0 | L17: =L55+L56+L57 -> 0 | M17: =M55+M56+M57 -> 0
A18: ZEMKOPĪBAS MINISTRIJA | F18: =SUM(F19:F24) -> 282516 | G18: =SUM(G19:G24) -> 282516 | H18: =SUM(H19:H24) -> 282516 | I18: =SUM(I19:I24) -> 636170.19 | J18: =SUM(J19:J24) -> 758201.06 | K18: =SUM(K19:K24) -> 733605.22 | L18: =SUM(L19:L24) -> 119187 | M18: =SUM(M19:M24) -> 345057.06
E19: 20.00.00 Pārtikas nekaitīgums un dzīvnieku veselība | F19: =F38+F68 -> 282516 | G19: =G38+G68 -> 282516 | H19: =H38+H68 -> 282516 | I19: 0 | J19: 0 | K19: 0 | L19: 0 | M19: 0
E20: 20.01.00 Pārtikas nekaitīguma un dzīvnieku veselības valsts uzraudzība un kontrole | I20: =I59+I62+I172+I180+I181 -> 223974 | J20: =J59+J62+J172+J180+J181 -> 171175 | K20: =K59+K62+K172+K180+K181 -> 162083 | L20: =L59+L62+L172+L180+L181 -> 0 | M20: =M59+M62+M172+M180+M181 -> 54108
E21: 20.02.00 Riska zinātniskā novērtēšana un references laboratorijas funkciju veikšana dzīvnieku veselības, pārtikas un dzīvnieku barības jomā | I21: =I101+I102+I110+I114+I115+I116+I119+I132+I134++I135+I136+I137+I138+I139+I140+I141+I142+I143+I144+I145+I146+I148+I149+I150+I151+I166+I167+I168+I169+I179 -> 137980.19 | J21: =J101+J102+J110+J114+J115+J116+J119+J132+J134++J135+J136+J137+J138+J139+J140+J141+J142+J143+J144+J145+J146+J148+J149+J150+J151+J166+J167+J168+J169+J179 -> 348722.06 | K21: =K101+K102+K110+K114+K115+K116+K119+K132+K134++K135+K136+K137+K138+K139+K140+K141+K142+K143+K144+K145+K146+K148+K149+K150+K151+K166+K167+K168+K169+K179 -> 400065.06 | L21: =L101+L102+L110+L114+L115+L116+L119+L132+L134++L135+L136+L137+L138+L139+L140+L141+L142+L143+L144+L145+L146+L148+L149+L150+L151+L166+L167+L168+L169+L179 -> 119187 | M21: =M101+M102+M110+M114+M115+M116+M119+M132+M134++M135+M136+M137+M138+M139+M140+M141+M142+M143+M144+M145+M146+M148+M149+M150+M151+M166+M167+M168+M169+M179 -> 159865.06
E22: 21.02.00 Sabiedriskā finansējuma administrēšana un valsts uzraudzība lauksaimniecībā | I22: =I63 -> 139004 | J22: =J63 -> 131744 | K22: =K63 -> 70034 | L22: =L63 -> 0 | M22: =M63 -> 70034
E23: 22.02.00 Augstākā izglītība | I23: =I72+I74+I75+I117+I121+I164+I165+I170+I171 -> 44767 | J23: =J72+J74+J75+J117+J121+J164+J165+J170+J171 -> 52872 | K23: =K72+K74+K75+K117+K121+K164+K165+K170+K171 -> 50183 | L23: =L72+L74+L75+L117+L121+L164+L165+L170+L171 -> 0 | M23: =M72+M74+M75+M117+M121+M164+M165+M170+M171 -> 9810
E24: 22.05.00 Dotācija SIA "Latvijas Lauku konsultāciju un izglītības centrs" informācijas analīzes un apmaiņas sistēmai | I24: =I76+I77+I90+I147+I173+I174+I175+I176+I177+I178 -> 90445 | J24: =J76+J77+J90+J147+J173+J174+J175+J176+J177+J178 -> 53688 | K24: =K76+K77+K90+K147+K173+K174+K175+K176+K177+K178 -> 51240.16 | L24: =L76+L77+L90+L147+L173+L174+L175+L176+L177+L178 -> 0 | M24: =M76+M77+M90+M147+M173+M174+M175+M176+M177+M178 -> 51240
A25: 1. Rīcības virziens | C25: AMR monitoringa pilnveidošana
A26: 1.1. Sabiedrības veselības jomā
A27: 1.1.1. | B27: Paaugstināt ārstniecības iestāžu atbildīgo personu kompetenci par kvalitatīvu AMR datu reģistrāciju, analīzi un izmantošanu | C27: Uzlabota ārstniecības iestāžu kapacitāte, lai nodrošinātu AMR datu reģistrāciju, analīzi un veiktu gadījumu novēršanu | D27: 1. Izstrādāts metodiskais materiāls ārstniecības iestādēm par AMR datu apkopošanu, analīzi un izmantošanu | E27: 46.03.00 Slimību profilakses nodrošināšana | I27: ='1.1.1.'!E7 -> 3520 | N27: VM, SPKC | O27: ĀPA | P27: Nepieciešams papildu finansējums (no valsts budžeta līdzekļiem) | Q27: 2024. gada I. pusgads
D28: 2. Nodrošināta 50 ārstniecības iestāžu atbildīgo personu apmācība par AMR datu apkopošanu, analīzi un izmantošanu | N28: VM, SPKC | O28: ĀPA | P28: Esošā budžeta ietvaros | Q28: 2024. gada II.pusgads
A29: 1.1.2. | B29: Paplašināt AMR uzraudzību atbilstoši ES noteiktajam uzraugāmo AMR mikroorganismu sarakstam | C29: Nodrošināta plašāka informācija par AMR izplatību Latvijā | D29: Veikti grozījumi MK 05.01.1999. noteikumos Nr. 7 "Infekcijas slimību reģistrācijas kārtība", nosakot pienākumu laboratorijām, kas veic testēšanu mikrobioloģijas jomā, veikt antibakteriālās jutības noteikšanu Salmonella, Campylobacter, STEC/VTEC, Neisseria meningitidis mikroorganismiem un visām AMR uzraudzībā iekļautajām baktērijām no invazīviem paraugiem, ziņot par rezultātiem, kā arī paredzēt šo izmeklējumu apmaksu | N29: VM | O29: SPKC, RAKUS, ĀPA | P29: Esošā budžeta ietvaros | Q29: No 2024. gada I pusgada
A30: 1.1.3. | B30: Izvērtēt iespējas pilnveidot AMR uzraudzības finansēšanas principus ārstniecības iestādēs | C30: Uzlabota ārstniecības iestāžu kapacitāte un motivācija iesaistīties AMR uzraudzībā un profilaksē | D30: Izstrādāti priekšlikumi AMR uzraudzības un profilakses pasākumu finansēšanai veselības aprūpes pakalpojumu ietvarā | N30: VM | O30: NVD, SPKC, ĀPA | P30: Esošā budžeta ietvaros | Q30: 2023. gada II pusgads
A31: 1.1.4. | B31: Sniegt metodisko atbalstu, lai veicinātu pacientu mikrobioloģisko izmeklēšanu un AB jutības noteikšanu sabiedrības veselībai nozīmīgu mikroorganismu diagnostikai | C31: Nodrošināta efektīva infekcijas slimību diagnostika un uzlabota AMR uzraudzība | D31: Izstrādāts metodiskais materiāls ārstniecības personām par sabiedrības veselībai nozīmīgu mikroorganismu diagnostiku. Materiāla skaidrojums iekļauts 3.1.4. pasākuma apmācībā | E31: 46.03.00 Slimību profilakses nodrošināšana | J31: ='1.1.4.'!F7 -> 10000 | N31: VM, SPKC | O31: RAKUS, LLSB | P31: Nepieciešams papildu finansējums (no valsts budžeta līdzekļiem) | Q31: 2025. gada II pusgads
A32: 1.1.5. | B32: Veikt regulāru informācijas apmaiņu par AMR situāciju starp ārstniecības iestādēm, laboratorijām un SPKC | C32: Nodrošināta efektīva informācijas apmaiņa starp ārstniecības iestādēm un SPKC par reģistrētiem AMR gadījumiem | D32: Sagatavoti priekšlikumi informācijas apmaiņas uzlabošanai starp SPKC, ārstniecības iestādēm un laboratorijām | N32: VM, SPKC | O32: RAKUS, ĀPA | P32: Esošā budžeta ietvaros | Q32: 2025. gada II pusgads
A33: 1.1.6. | B33: Nodrošināt vienotu pieeju valstī nozīmīgu AMR uzliesmojumu gadījumu risināšanai, tai skaitā, ja iesaistītas divas un vairākas ārstniecības iestādes vai konstatēta netipiska rezistence | C33: Nodrošināta agrīna reaģēšana un efektīva starpinstitūciju un starpsektoru rīcība AMR uzliesmojumu gadījumos | D33: Izstrādāti priekšlikumi nozīmīgu AMR uzliesmojumu agrīnai identificēšanai, koordinētai izmeklēšanai un reaģēšanas pasākumu nodrošināšanai | N33: VM, SPKC | O33: RAKUS, PSKUS, ĀPA | P33: Esošā budžeta ietvaros | Q33: 2024. gada II pusgads
A34: 1.1.7. | B34: Ieviest procedūru regulārai starpsektoru informācijas apmaiņai par AMR situāciju | C34: Nodrošināta efektīva starpsektoru informācijas apmaiņa un situācijas analīze par AMR gadījumiem | D34: Sagatavoti priekšlikumi efektīvākai starpsektoru informācijas aprites procedūras ieviešanai | N34: VM, ZM | O34: SPKC, PVD, RAKUS, BIOR | P34: Esošā budžeta ietvaros | Q34: 2023. gada II pusgads
A35: 1.1.8. | B35: Izstrādāt rekomendācijas pacientu skrīningam multirezistentu mikroorganismu identificēšanai Latvijas ārstniecības iestādēs | C35: Pilnīgotas ārstniecības personu zināšanas par pacientu izmeklēšanu, agrīnu diagnostiku un infekciju kontroles pasākumiem AMR gadījumā. Pieejama informācija par AMR izplatību Latvijas ārstniecības iestādēs | D35: Izstrādātas, regulāri atjaunotas un izplatītas rekomendācijas ārstniecības iestādēm | E35: 46.03.00 Slimību profilakses nodrošināšana | L35: ='1.1.8.'!H7 -> 6000 | N35: VM, SPKC | O35: ĀPA, LSB | P35: Nepieciešams papildu finansējums (no valsts budžeta līdzekļiem) | Q35: 2027. gada I pusgads
A36: 1.1.9. | B36: Veicināt pacientu izmeklēšanu uz AMR | C36: Pilnīgotas ārstniecības personu iemaņas AMR diagnostikā | D36: Izstrādātas rekomendācijas ārstniecības personām un laboratorijas speciālistiem, lai veicinātu pacientu mikrobioloģisku izmeklēšanu un AB jutības noteikšanu | E36: 46.03.00 Slimību profilakses nodrošināšana | K36: ='1.1.9.'!G7 -> 6000 | N36: VM, SPKC | O36: RAKUS, LSB, ĀPA | P36: Nepieciešams papildu finansējums (no valsts budžeta līdzekļiem) | Q36: 2026. gada I pusgads
A37: 1.2. AMR monitorings dzīvnieku veselības jomā
A38: 1.2.1. | B38: Veikt mikroorganismu AMR regulāru monitoringu saskaņā ar EK 2020. gada 17. novembra Īstenošanas lēmumu (ES) 2020/1729 par uzraudzību un ziņošanu attiecībā uz zoonotisko un indikatorbaktēriju rezistenci pret antimikrobiālajiem līdzekļiem | C38: Nodrošināts regulārs mikroorganismu AMR monitorings lauksaimniecības dzīvnieku sugām | D38: 1. Katru gadu izmeklēts EK lēmumā (ES) 2020/1729 noteikts skaits paraugu noteiktām dzīvnieku sugām (AMR monitoringa programma) | E38: 20.00.00 Pārtikas nekaitīgums un dzīvnieku veselība | F38: 56091 | G38: 56091 | H38: 56091 | N38: ZM, PVD | O38: BIOR | P38: Esošā budžeta ietvaros | Q38: Pastāvīgi
D39: 2. Apkopoti AMR monitoringa rezultāti un ziņoti EFSA | E39: 20.00.00 Pārtikas nekaitīgums un dzīvnieku veselība | F39: * | G39: * | H39: * | N39: ZM, PVD | O39: BIOR | P39: Esošā budžeta ietvaros | Q39: Katru gadu
A40: 1.2.2. | B40: Paplašināt AMR monitoringu dzīvniekiem | C40: 1. Pilnveidots AMR monitorings ar lauksaimniecības dzīvnieku sugām un paraugu ņemšanu | D40: Paplašināta AMR monitoringa programma, papildinot ar dzīvnieku sugu vai kategoriju un paraugu ņemšanas vietu un skaitu | N40: ZM, PVD | O40: BIOR | P40: Esošā budžeta ietvaros | Q40: Katru gadu
C41: 2. Paplašināts AMR monitorings ar AMR noteikšanu lauksaimniecības dzīvnieku sugām aktuāliem infekcijas slimību ierosinātājiem un AMR noteikšanu lolojumdzīvnieku dzīvnieku sugām | D41: 2.1. Izstrādāti priekšlikumi AMR uzraudzības un profilakses pasākumu finansēšanai noteiktām dzīvnieku sugām un infekcijas slimību ierosinātājiem | N41: ZM, PVD, BIOR | P41: Esošā budžeta ietvaros | Q41: 2025. gada I pusgads
D42: 2.2. Iesniegti priekšlikumi par nepieciešamo finansējumus 1.punktā minētā pasākuma izpildei | N42: ZM, PVD | P42: Esošā budžeta ietvaros | Q42: 2025. gada II pusgads
...

Sheet 1.1.1.
E1: 1. Pielikums Antimikrobiālās rezistences ierobežošanas un piesardzīgas antibiotiku lietošanas plānam “Viena veselība” 2023.-2027. gadam
B3: Izstrādāts metodiskais materiāls un paaugstināta ārstniecības iestāžu atbildīgo personu kompetence kvalitatīvā AMR datu reģistrācijā, analīzē un izmantošanā
B5: Finanšu rādītāji | D5: 2023.gads | E5: 2024.gads | F5: 2025.gads | G5: 2026.gads | H5: Turpmākā laikposmā līdz pasākuma pabeigšanai (ja tas ir terminēts) | I5: Turpmāk katru gadu (ja pasākums nav terminēts) | J5: Sadalījums pa apakšprogrammām; budžeta programmas kods
B6: Ieņēmumi kopā, euro | D6: - | E6: - | F6: - | G6: - | H6: - | I6: -
B7: Izdevumi kopā, euro | E7: 3520 | J7: 46.03.00 Slimību profilakses nodrošināšana
B10: Metodiskā un mācību materiāla izstrāde, saskaņošana un norormēšana (A4, elektroniski izdalāms materiāls)
B12: Amata nosaukums | C12: Darba uzdevums | F12: DD VSAOI 23,59% | G12: Atalgojums, EURO | H12: Budžeta programmas kods un nosaukums
B13: Eksperts | C13: 1. Metodiskā materiāla izstrāde | H13: 46.03.00 Slimību profilakses nodrošināšana
C14: 2. Metodiskā materiāla aprobācija un saskaņošana. Ārējo ekspertu iesaiste saskaņošanas procesā | G14: 2000
C15: 3. Materiāla sagatavošana izplatīšanai IT vidē | G15: 520
C16: 4. Mācību materiāla izstrāde
C17: 5. Mācību materiāla saskaņošana | G17: 1000
B18: KOPĀ: | G18: 3520

Sheet 1.1.4.
E1: 2. Pielikums Antimikrobiālās rezistences ierobežošanas un piesardzīgas antibiotiku lietošanas plānam “Viena veselība” 2023.-2027. gadam
B3: Izstrādāts metodiskais materiāls ārstniecības personām par sabiedrības veselībai nozīmīgu mikroorganismu diagnostiku, nodrošinot efektīvu infekcijas slimību diagnostiku un uzlabojot AMR uzraudzību
B5: Finanšu rādītāji | D5: 2023.gads | E5: 2024.gads | F5: 2025.gads | G5: 2026.gads | H5: Turpmākā laikposmā līdz pasākuma pabeigšanai (ja tas ir terminēts) | I5: Turpmāk katru gadu (ja pasākums nav terminēts) | J5: Sadalījums pa apakšprogrammām; budžeta programmas kods
B6: Ieņēmumi kopā, euro | D6: - | E6: - | F6: - | G6: - | H6: - | I6: -
B7: Izdevumi kopā, euro | F7: 10000 | J7: 46.03.00 Slimību profilakses nodrošināšana
B9: Pozīcijas | H9: Summa | I9: Budžeta programmas kods un nosaukums
B10: Divu ārējo ekspertu pakalpojumi: materiāla satura izstrāde un saskaņošana | H10: 9000 | I10: 46.03.00 Slimību profilakses nodrošināšana
B11: Materiāla dizaina izstrāde un maketēšana | H11: 1000
B12: Kopā: | H12: 10000
B14: *Materiāla izstrādes gaitā tā tehniskie parametri var tikt mainīti ņemot vērā materiāla saturu apjomu un izvēlēto dizainu

Sheet 1.1.8.
E1: 3. Pielikums Antimikrobiālās rezistences ierobežošanas un piesardzīgas antibiotiku lietošanas plānam “Viena veselība” 2023.-2027. gadam
B3: Izstrādātas rekomendācijas pacientu skrīningam multirezistentu mikroorganismu identificēšanai Latvijas ārstniecības iestādēs
B5: Finanšu rādītāji | D5: 2023.gads | E5: 2024.gads | F5: 2025.gads | G5: 2026.gads | H5: Turpmākā laikposmā līdz pasākuma pabeigšanai (ja tas ir terminēts) | I5: Turpmāk katru gadu (ja pasākums nav terminēts) | J5: Sadalījums pa apakšprogrammām; budžeta programmas kods
B6: Ieņēmumi kopā, euro | D6: - | E6: - | F6: - | G6: - | H6: - | I6: -
B7: Izdevumi kopā, euro | H7: 6000 | J7: 46.03.00 Slimību profilakses nodrošināšana
B10: Metodiskā materiāla un algoritmu dažādām pacientu grupām izstrāde (10 lpp.) - 2027.gads
B12: Pozīcijas | H12: Summa | I12: Budžeta programmas kods un nosaukums
B13: Ārējo ekspertu pakalpojumi: materiāla satura izstrāde un saskaņošana. Tiek slēgti pakalpojuma līgumi, bet samaksa par gabaldarbu | H13: 5000 | I13: 46.03.00 Slimību profilakses nodrošināšana
B14: Materiāla dizaina izstrāde | H14: 1000
B15: Kopā: | H15: 6000

Sheet 1.1.9.
E1: 4. Pielikums Antimikrobiālās rezistences ierobežošanas un piesardzīgas antibiotiku lietošanas plānam “Viena veselība” 2023.-2027. gadam
B3: Izstrādātas rekomendācijas ārstniecības personām un laboratorijas speciālistiem par pacientu mikrobioloģisku izmeklēšanu un AB jutības noteikšanu, pilnīgojot ārstniecības personu iemaņas AMR diagnostikā
B5: Finanšu rādītāji | D5: 2023.gads | E5: 2024.gads | F5: 2025.gads | G5: 2026.gads | H5: Turpmākā laikposmā līdz pasākuma pabeigšanai (ja tas ir terminēts) | I5: Turpmāk katru gadu (ja pasākums nav terminēts) | J5: Sadalījums pa apakšprogrammām; budžeta programmas kods
B6: Ieņēmumi kopā, euro1 | D6: - | E6: - | F6: - | G6: - | H6: - | I6: -
B7: Izdevumi kopā, euro | G7: 6000 | H7: - | I7: - | J7: 46.03.00 Slimību profilakses nodrošināšana
B10: 1.1.3. un 1.1.7 pasākuma ietvaros izstrādātā materiāla aktualizācija (paredzamais formāts: A5, krāsains, divkārši krītots, skavots, ievākots, 36 lpp.*) un elektroniska un drukāta materiāla izstrāde
B12: Pozīcijas | H12: Summa | I12: Budžeta programmas kods un nosaukums
B13: Ārējo ekspertu pakalpojumi: materiāla satura izvērtēšana un atzinuma sagatavošana. Tiek slēgti pakalpojuma līgumi, bet samaksa par gabaldarbu | H13: 5000 | I13: 46.03.00 Slimību profilakses nodrošināšana
B14: Materiāla dizaina izstrāde | H14: 1000
B15: Kopā: | H15: 6000
B16: * Materiāls tiks publicēts SPKC tīmekļvietnē: izstrādes gaitā tā tehniskie parametri var tikt mainīti, ņemot vērā materiāla saturu apjomu un izvēlēto dizainu

Sheet 2.1.1. (1.)
D1: 5. Pielikums Antimikrobiālās rezistences ierobežošanas un piesardzīgas antibiotiku lietošanas plānam “Viena veselība” 2023.-2027. gadam
B3: 1.Izstrādātas rekomendācijas ārstniecības iestādēm AB patēriņa uzraudzības komandas efektīvas darbības nodrošināšanai un analīzes pilnveidošanai stacionārajās ārstniecības iestādēs
B5: Finanšu rādītāji | D5: 2023.gads | E5: 2024.gads | F5: 2025.gads | G5: 2026.gads | H5: Turpmākā laikposmā līdz pasākuma pabeigšanai (ja tas ir terminēts) | I5: Turpmāk katru gadu (ja pasākums nav terminēts) | J5: Sadalījums pa apakšprogrammām; budžeta programmas kods
B6: Ieņēmumi kopā, euro | D6: - | E6: - | F6: - | G6: - | H6: - | I6: -
B7: Izdevumi kopā, euro | F7: 6000 | J7: 46.03.00 Slimību profilakses nodrošināšana
B10: Pozīcijas | H10: Summa | I10: Budžeta programmas kods un nosaukums
B11: Ārējo ekspertu pakalpojumi: materiāla satura izvērtēšana un atzinuma sagatavošana. Tiek slēgti pakalpojuma līgumi, bet samaksa par gabaldarbu | H11: 5000 | I11: 46.03.00 Slimību profilakses nodrošināšana
B12: Materiāla dizaina izstrāde | H12: 1000
B13: Kopā: | H13: 6000

Sheet 2.1.1. (3.)
E1: 6. Pielikums Antimikrobiālās rezistences ierobežošanas un piesardzīgas antibiotiku lietošanas plānam “Viena veselība” 2023.-2027. gadam
B3: Izstrādātas rekomendācijas ārstniecības iestādēm AB patēriņa uzraudzības komandas efektīvas darbības nodrošināšanai un analīzes pilnveidošanai stacionārajās ārstniecības iestādēs
B5: Finanšu rādītāji | D5: 2023.gads | E5: 2024.gads | F5: 2025.gads | G5: 2026.gads | H5: Turpmākā laikposmā līdz pasākuma pabeigšanai (ja tas ir terminēts) | I5: Turpmāk katru gadu (ja pasākums nav terminēts) | J5: Sadalījums pa apakšprogrammām; budžeta programmas kods
B6: Ieņēmumi kopā, euro | D6: - | E6: - | F6: - | G6: - | H6: - | I6: -
B7: Izdevumi kopā, euro | G7: =H16 -> 3200 | J7: 46.03.00 Slimību profilakses nodrošināšana
B10: Vienas dienas seminārs indikatoru prioritizēšanai: grupā 15 cilvēki
B12: Pozīcijas | H12: Summs | I12: Budžeta programmas kods un nosaukums
B13: Divu lektoru pakalpojumi nodarbību vadīšanā | H13: 400 | I13: 46.03.00 Slimību profilakses nodrošināšana
B14: Diskusijas telpu noma un tehniskais atbalsts semināra laikā: īre un aprīkojums (projektors, dators) | H14: 1500
B15: Divas kafijas pauzes (no rīta un pēcpusdienā) | H15: 1300
B16: Kopā: | H16: =SUM(H13:H15) -> 3200

Sheet 2.1.8.(1.-3.)
E1: 7. Pielikums Antimikrobiālās rezistences ierobežošanas un piesardzīgas antibiotiku lietošanas plānam “Viena veselība” 2023.-2027. gadam
B3: Izstrādātas un ieviestas ES un nacionāla mēroga rekomendācijas un veikta 50 ārstniecības iestāžu speciālistu apmācība par atbildīgu un piesardzīgu AB lietošanu
B5: Finanšu rādītāji | D5: 2023.gads | E5: 2024.gads | F5: 2025.gads | G5: 2026.gads | H5: Turpmākā laikposmā līdz pasākuma pabeigšanai (ja tas ir terminēts) | I5: Turpmāk katru gadu (ja pasākums nav terminēts) | J5: Sadalījums pa apakšprogrammām; budžeta programmas kods
B6: Ieņēmumi kopā, euro | D6: - | E6: - | F6: - | G6: - | H6: - | I6: -
B7: Izdevumi kopā, euro | E7: 30000 | J7: 97.00.00 Nozaru vadība un politikas plānošana (transferta pārskaitījums ZVA)
B10: Pozīcijas | H10: Summa | I10: Budžeta programmas kods un nosaukums
B11: Ārējo ekspertu pakalpojumi: AB lietošanas rekomendāciju pilnveidošana | H11: 5000 | I11: 97.00.00 Nozaru vadība un politikas plānošana
B12: Ārējo ekspertu pakalpojumi: informatīva materiāla satura izstrāde | H12: 5000 | I12: 97.00.00 Nozaru vadība un politikas plānošana
B13: Ārējo ekspertu pakalpojumi: materiāla satura izstrāde un saskaņošana, nodarbību vadīšana | H13: 20000 | I13: 97.00.00 Nozaru vadība un politikas plānošana
B14: Kopā: | H14: 30000

Sheet 2.2.1.(1.-4.)
E1: 8. Pielikums Antimikrobiālās rezistences ierobežošanas un piesardzīgas antibiotiku lietošanas plānam “Viena veselība” 2023.-2027. gadam
B2: 2.2.1. Pilnveidot antimikrobiālo līdzekļu pārdošanas datu apkopošanu un izmantošanu dzīvnieku veselības jomā
B4: Uzdevums | C4: Pasākums | D4: Budžeta programmas (apakšprogrammas) kods un nosaukums | E4: Nepieciešamais papildu finansējums
E5: 2023.gads | F5: 2024.gads | G5: 2025.gads | H5: 2026.gads | I5: Turpmākajā laikposmā līdz pasākuma pabeigšanai (ja pasākuma īstenošana ir terminēta) | J5: Turpmāk ik gadu, ja pasākuma izpilde nav terminēta
B7: Pilnveidot antimikrobiālo līdzekļu pārdošanas datu apkopošanu un izmantošanu dzīvnieku veselības jomā/ Savākti, apkopoti un ziņoti antimikrobiālo līdzekļu pārdošanas dati | C7: 1. Izstrādāts jauns PVD Veterināro zāļu reģistra informācijas sistēmas (VZRIS) statistikas modulis; 2. Uzturēts PVD VZRIS statistikas modulis; 3. Apkopoti dati PVD VZRIS statistikas modulī un sniegta informācija EMA par valstī izplatītajiem antimikrobiālajiem līdzekļiem | D7: 20.01.00 Pārtikas nekaitīguma un dzīvnieku veselības valsts uzraudzība un kontrole | F7: =ROUND(SUM(E20:E22),0) -> 178959 | G7: =ROUND(SUM(G20:G22),0) -> 117975 | H7: =ROUND(SUM(I20:I22),0) -> 117975
C8: 4. Veikta datu sniedzēju apmācības par datu ievadīšanu PVD VZRIS statistikas modulī Sadaļā ietverti arī AMR plāna 9.8.2.punktā minētie informatīvie materiāli | D8: 20.01.00 Pārtikas nekaitīguma un dzīvnieku veselības valsts uzraudzība un kontrole | F8: =ROUND(E23,0) -> 1815 | H8: =ROUND(I23,0) -> 908 | J8: =ROUND(I23,0) -> 908
D9: KOPĀ: | E9: =SUM(E7:E8) -> 0 | F9: =SUM(F7:F8) -> 180774 | G9: =SUM(G7:G8) -> 117975 | H9: =SUM(H7:H8) -> 118883 | J9: =J8 -> 908
B11: Pārtikas un veterinārais dienests
B12: Izdevumu atšifrējums pa pozīcijām
B14: Pasākuma Nr.2.2.1. | C14: Izdevumu veids | D14: 2024.gads | F14: 2025.gads | H14: 2026.gads
D15: Cena par vienību (ārpakalpojumam), EUR | E15: Izdevumi gadā, EUR | F15: Cena par vienību (ārpakalpojumam), EUR | G15: Izdevumi gadā, EUR | H15: Cena par vienību (ārpakalpojumam), EUR | I15: Izdevumi gadā, EUR
B16: Atlīdzība
C17: KOPĀ | E17: 0 | G17: 0 | I17: 0
B19: Citi izdevumi - Ņemot vērā, ka tiek izstrādāta jauna likumdošana, kas regulē šo jomu, un gala redakcija nav pieejama, kā arī, ka nav līdz galam izstrādātas ES un EZA (Eiropas Zāļu aģentūras) sistēmas un to datu apmaiņas risinājumi, līdz ar to nav iespējams realizēt datu apmaiņu PVD sistēmās. Tas nesīs nepieciešamību pēc izmaiņu pieprasījumiem, un to realizācijas, kā arī citas ar sistēmu uzturēšanu saistītas izmaksas.
C20: IT ārpakalpojums, 2465 stundas | D20: 72.6 | E20: =2465*D20 -> 178959
C21: IT ārpakalpojums, 1625 stundas | F21: 72.6 | G21: =1625*F21 -> 117975
C22: IT ārpakalpojums, 1625 stundas | H22: 72.6 | I22: =1625*H22 -> 117975
C23: Informatīvo materiālu sagatavošanas izmaksas, 3 bukleti (lieltirgotavām, veterinārārstiem, zemniekiem), par antibiotiku izrakstīšanu un lietošanu, un zāļu lietošanu pēc kaskādes | D23: =ROUND(500*1.21,0) -> 605 | E23: =D23*3 -> 1815 | H23: =250*1.21 -> 302.5 | I23: =ROUND(H23*3,0) -> 908
C24: Citi izdevumi kopā | E24: =SUM(E20:E23) -> 180774 | G24: =SUM(G20:G23) -> 117975 | I24: =SUM(I20:I23) -> 118883
C25: KOPĀ atlīdzība un citi izdevumi | E25: =E17+E24 -> 180774 | G25: =G17+G24 -> 117975 | I25: =I17+I24 -> 118883

Sheet 2.2.2. (1.)
E1: 9. Pielikums Antimikrobiālās rezistences ierobežošanas un piesardzīgas antibiotiku lietošanas plānam “Viena veselība” 2023.-2027. gadam
A2: 2.2.2. Nodrošināt antimikrobiālo līdzekļu lietošanas datu apkopošanu dzīvnieku veselības jomā
A4: Uzdevums | B4: Pasākums | C4: Budžeta programmas (apakšprogrammas) kods un nosaukums | D4: Nepieciešamais papildu finansējums
D5: 2023.gads | E5: 2024.gads | F5: 2025.gads | G5: 2026.gads | H5: Turpmākajā laikposmā līdz pasākuma pabeigšanai (ja pasākuma īstenošana ir terminēta) | I5: Turpmāk ik gadu, ja pasākuma izpilde nav terminēta
B7: 1. Apzinātas lietotāju prasības, izstrādātas programmatūras specifikācijas un projektējuma apraksta izmaiņas un papildinājumi, izvērtējot un dokumentējot jaunizvirzītās prasības, PVD veterināro zāļu datu bāzes pilnveidošanas, uzturēšanas un aktualizēšanas procesus, tajā skaitā savietojamība ar LDC datu bāzi un BIOR informācijas sistēmu. Prasības un funkcionalitāte saskaņota ar iesaistītām pusēm 2.Saskaņā ar izstrādātu dokumentāciju veiktas izmaiņas un papildinājumi LDC datubāzes struktūrā un infrastruktūrā. (LDC) 3.Nodrošināta veterināro zāļu klasifikatora automātiska apmaiņa ar web-servisu palīdzību starp PVD VZRIS un LDC informācijas sistēmu. (PVD, LDC) (2025.gadā tiks veikts darbs pie uzlabojumiem kautuvju, piena kvalitātes, un citās LDC informācijas sistēmas apakšsistēmās, nodrošinot uzkrātās izlietoto veterināro zāļu informācijas izmantošanu datu savstarpējas atbilstības (cross-checking) nolūkos. (LDC) 5.2025.gadā tiks izveidoti atskaišu, risku analīzes, statistikas atlases rīki, kas izmanto apkopotus datus par valstī lauksaimniecības dzīvniekiem lietotajiem antimikrobiālajiem līdzekļiem un citām veterinārajām zālēm pa dzīvnieku sugām izstrāde. (LDC)) | C7: 21.02.00 Sabiedriskā finansējuma administrēšana un valsts uzraudzība lauksaimniecībā | E7: =D25 -> 139004 | F7: =F25 -> 131744 | G7: =H25 -> 70034 | I7: =H25 -> 70034
C8: KOPĀ: | D8: =SUM(D7:D7) -> 0 | E8: =SUM(E7:E7) -> 139004 | F8: =SUM(F7:F7) -> 131744 | G8: =SUM(G7:G7) -> 70034 | H8: =SUM(H7:H7) -> 0 | I8: =SUM(I7:I7) -> 70034
A10: Lauksaimniecības datu centrs
B12: Izdevumu veids | C12: 2024.gads | E12: 2025.gads | G12: Turpmāk ik gadu, ja pasākuma izpilde nav terminēta (t.i., pasākums pārtop par pastāvīgu institūcijas funkciju)
C13: Izdevumi mēnesī (atlīdzībai) vai cena par vienību (ārpakalpojumam), EUR | D13: Izdevumi gadā, EUR, ar VSAOI 23,59% | E13: Izdevumi mēnesī (atlīdzībai) vai cena par vienību (ārpakalpojumam), EUR | F13: Izdevumi gadā, EUR, ar VSAOI 23,59% | G13: Izdevumi mēnesī (atlīdzībai) vai cena par vienību (ārpakalpojumam), EUR | H13: Izdevumi gadā, EUR, ar VSAOI 23,59%
A14: Atlīdzība
A15: 1 | B15: Datu bāzes vadītāja atlīdzība*, 21.2 saime, II līmenis, 9.mēnešalgu grupa, mēnešalga EUR 2067, 0,2 slodzes | C15: =2067*0.2 -> 413.4 | D15: =C15*12*1.2359 -> 6131.0527 | E15: =2067*0.2 -> 413.4 | F15: =E15*12*1.2359 -> 6131.0527 | G15: =2067*0.2 -> 413.4 | H15: =G15*12*1.2359 -> 6131.0527
B16: Informatīvo sistēmu projektētāja atlīdzība* 21.4. saime, II līmenis, 9.mēnešalgu grupa, mēnešalga EUR 2067, 0,2 slodzes | C16: =2067*0.2 -> 413.4 | D16: =C16*12*1.2359 -> 6131.0527 | E16: =2067*0.2 -> 413.4 | F16: =E16*12*1.2359 -> 6131.0527 | G16: =2067*0.2 -> 413.4 | H16: =G16*12*1.2359 -> 6131.0527
B17: Informatīvo sistēmu izstrādes nodaļas vadītāja atlīdzība, 21.4 saime, IV līmenis, 12.mēnešalgu grupa, mēnešalga EUR 3105, 0,2 slodzes | C17: =3105*0.2 -> 621 | D17: =C17*12*1.2359 -> 9209.9268 | E17: =3105*0.2 -> 621 | F17: =E17*12*1.2359 -> 9209.9268 | G17: =3105*0.2 -> 621 | H17: =G17*12*1.2359 -> 9209.9268
B18: Divu sistēmanalītiķu atlīdzība* 21.4. saime, II līmenis, 9.mēnešalgu grupa, mēnešalga EUR 2067, 2 x 0,2 slodzes | C18: =2067*2*0.2 -> 826.8 | D18: =C18*12*1.2359 -> 12262.105 | E18: =2067*2*0.2 -> 826.8 | F18: =E18*12*1.2359 -> 12262.105 | G18: =2067*2*0.2 -> 826.8 | H18: =G18*12*1.2359 -> 12262.105
B19: KOPĀ | D19: =D15+D16+D17+D18 -> 33734.138 | F19: =F15+F16+F17+F18 -> 33734.138 | H19: =H15+H16+H17+H18 -> 33734.138
A20: Citi izdevumi
A21: 2 | B21: IT ārpakalpojums, 1450 stundas | C21: 72.6 | D21: =1450*72.6 -> 105270
B22: IT ārpakalpojums, 1350 stundas | E22: 72.6 | F22: =E22*1350 -> 98010
B23: IT ārpakalpojums, 500 stundas | G23: 72.6 | H23: =G23*500 -> 36300
B24: Citi izdevumi kopā | D24: =SUM(D21:D23) -> 105270 | F24: =SUM(F21:F23) -> 98010 | H24: =SUM(H21:H23) -> 36300
B25: KOPĀ atlīdzība un citi izdevumi | D25: =ROUND(D19+D24,0) -> 139004 | F25: =ROUND(F19+F24,0) -> 131744 | H25: =ROUND(H19+H24,0) -> 70034
A27: * atlīdzība esošajiem nodarbinātajiem

Sheet 2.2.4. (1.2.)
E1: 10. Pielikums Antimikrobiālās rezistences ierobežošanas un piesardzīgas antibiotiku lietošanas plānam “Viena veselība” 2023.-2027. gadam
A3: 2.2.4. Veicināta antimikrobiālo līdzekļu atbildīgas un piesardzīgas lietošanas principu ievērošanu
B4: 1.2. Aktualizēts antimikrobiālo līdzekļu izvēles saraksts
B5: Finanšu rādītāji | D5: 2023.gads | E5: 2024.gads | F5: 2025.gads | G5: 2026.gads | H5: Turpmākā laikposmā līdz pasākuma pabeigšanai (ja tas ir terminēts) | I5: Turpmāk katru gadu (ja pasākums nav terminēts) | J5: Sadalījums pa apakšprogrammām; budžeta programmas kods
B6: Ieņēmumi kopā, euro | D6: - | E6: - | F6: - | G6: - | H6: - | I6: -
B7: Izdevumi kopā, euro | D7: 0 | E7: =ROUND($H$14,0) -> 1344 | F7: =ROUND($H$14,0) -> 1344 | G7: =ROUND($H$14,0) -> 1344 | H7: 0 | I7: =ROUND($H$14,0) -> 1344 | J7: 22.02.00 Augstākā izglītība
B9: Amata nosaukums | C9: Slodžu skaits | D9: Atalgojums | E9: DD VSAOI | F9: Atalgojuma mainīgā daļa, 5% | G9: Atvaļinājuma rezerve | H9: Kopā mēnesī, ņemot vērā slodžu skaitu
B10: Pētnieks (LBTU) | C10: 0.1 | D10: 240 | E10: =(D10+F10+G10)*0.2359 -> 64.156295 | F10: =D10*0.05 -> 12 | G10: =((D10+F10)/21.08)*1.67 -> 19.963947 | H10: =SUM(D10:G10) -> 336.12024
B11: Pētnieks (LBTU) | C11: 0.1 | D11: 240 | E11: =(D11+F11+G11)*0.2359 -> 64.156295 | F11: =D11*0.05 -> 12 | G11: =((D11+F11)/21.08)*1.67 -> 19.963947 | H11: =SUM(D11:G11) -> 336.12024
B12: Pētnieks (LBTU) | C12: 0.1 | D12: 240 | E12: =(D12+F12+G12)*0.2359 -> 64.156295 | F12: =D12*0.05 -> 12 | G12: =((D12+F12)/21.08)*1.67 -> 19.963947 | H12: =SUM(D12:G12) -> 336.12024
B13: Pētnieks (LBTU) | C13: 0.1 | D13: 240 | E13: =(D13+F13+G13)*0.2359 -> 64.156295 | F13: =D13*0.05 -> 12 | G13: =((D13+F13)/21.08)*1.67 -> 19.963947 | H13: =SUM(D13:G13) -> 336.12024
B14: KOPĀ | C14: =SUM(C10:C13) -> 0.4 | D14: =SUM(D10:D13) -> 960 | E14: =SUM(E10:E13) -> 256.62518 | F14: =SUM(F10:F13) -> 48 | G14: =SUM(G10:G13) -> 79.855787 | H14: =SUM(H10:H13) -> 1344.481
B16: Pasākums tiek īstenots 1x gadā

Sheet 2.2.4. (2.)
E1: 11. Pielikums Antimikrobiālās rezistences ierobežošanas un piesardzīgas antibiotiku lietošanas plānam “Viena veselība” 2023.-2027. gadam
A3: 2.2.4. Veicināta antimikrobiālo līdzekļu atbildīgas un piesardzīgas lietošanas principu ievērošanu
A4: 2. Aktualizētas vadlīnijas antimikrobiālās rezistences attīstības ierobežošanai lauksaimnieciskās ražošanas posmā un veterinārmedicīnas praksē
B6: Finanšu rādītāji | D6: 2023.gads | E6: 2024.gads | F6: 2025.gads | G6: 2026.gads | H6: Turpmākā laikposmā līdz pasākuma pabeigšanai (ja tas ir terminēts) | I6: Turpmāk katru gadu (ja pasākums nav terminēts) | J6: Sadalījums pa apakšprogrammām; budžeta programmas kods
B7: Ieņēmumi kopā, euro | D7: - | E7: - | F7: - | G7: - | H7: - | I7: -
B8: Izdevumi kopā, euro | E8: =E18 -> 16134 | F8: 0 | G8: =G18 -> 5378 | I8: =G18 -> 5378 | J8: 22.02.00 Augstākā izglītība
B10: Amata nosaukums | C10: Slodžu skaits | D10: Atalgojums | E10: DD VSAOI | F10: Atalgojuma mainīgā daļa, 5% | G10: Atvaļinājuma rezerve | H10: Kopā mēnesī, ņemot vērā slodžu skaitu
B11: Pētnieks (LBTU) | C11: 0.1 | D11: 240 | E11: =(D11+F11+G11)*0.2359 -> 64.156295 | F11: =D11*0.05 -> 12 | G11: =((D11+F11)/21.08)*1.67 -> 19.963947 | H11: =SUM(D11:G11) -> 336.12024
B12: Pētnieks (LBTU) | C12: 0.1 | D12: 240 | E12: =(D12+F12+G12)*0.2359 -> 64.156295 | F12: =D12*0.05 -> 12 | G12: =((D12+F12)/21.08)*1.67 -> 19.963947 | H12: =SUM(D12:G12) -> 336.12024
B13: Pētnieks (LBTU) | C13: 0.1 | D13: 240 | E13: =(D13+F13+G13)*0.2359 -> 64.156295 | F13: =D13*0.05 -> 12 | G13: =((D13+F13)/21.08)*1.67 -> 19.963947 | H13: =SUM(D13:G13) -> 336.12024
B14: Pētnieks (LBTU) | C14: 0.1 | D14: 240 | E14: =(D14+F14+G14)*0.2359 -> 64.156295 | F14: =D14*0.05 -> 12 | G14: =((D14+F14)/21.08)*1.67 -> 19.963947 | H14: =SUM(D14:G14) -> 336.12024
B15: KOPĀ | C15: =SUM(C11:C14) -> 0.4 | D15: =SUM(D11:D14) -> 960 | E15: =SUM(E11:E14) -> 256.62518 | F15: =SUM(F11:F14) -> 48 | G15: =SUM(G11:G14) -> 79.855787 | H15: =SUM(H11:H14) -> 1344.481
B17: Nr.p.k. | C17: Izmaksu veids kopā euro | D17: 2023.gads | E17: 2024.gads | F17: 2025.gads | G17: 2026.gads
B18: 1 | C18: Darba alga, ieskaitot DD nodokļus | E18: =ROUND(H15*12,0) -> 16134 | F18: 0 | G18: =ROUND(H15*4,0) -> 5378
B20: 2024.gadā 0.4 slodzes 12 mēnešus
B21: Turpmākajos gados: ik pēc pāris gadiem 0.4 slodzes 4 mēnešus gadā

Sheet 2.2.5. (1.)
E1: 12. Pielikums Antimikrobiālās rezistences ierobežošanas un piesardzīgas antibiotiku lietošanas plānam “Viena veselība” 2023.-2027. gadam
A3: 2.2.5. | B3: Izstrādāti ieteikumi lauksaimniecības dzīvnieku ganāmpulku veselības plānam
B5: Finanšu rādītāji | D5: 2023.gads | E5: 2024.gads | F5: 2025.gads | G5: 2026.gads | H5: Turpmākā laikposmā līdz pasākuma pabeigšanai (ja tas ir terminēts) | I5: Turpmāk katru gadu (ja pasākums nav terminēts) | J5: Sadalījums pa apakšprogrammām; budžeta programmas kods
B6: Ieņēmumi kopā, euro | D6: - | E6: - | F6: - | G6: - | H6: - | I6: -
B7: Izdevumi kopā, euro | D7: - | E7: =E25 -> 8067 | F7: =F25 -> 8067 | H7: - | J7: 22.02.00 Augstākā izglītība
B8: Izdevumi kopā, euro | D8: - | E8: =F29 -> 9792 | F8: =F30 -> 4080 | G8: =F31 -> 4080 | H8: - | I8: =F31 -> 4080 | J8: 22.05.00 Dotācija SIA "Latvijas Lauku konsultāciju un izglītības centrs" informācijas analīzes un apmaiņas sistēmai
B10: Kopumā izglītības pasākumiem atvēlētais finansējums parēdzēts ekspertu apzināšanai, piesasitei un atalgojumam, apmācību programmas un satura izstrādei, apmācību materiālu izstrādei, Pašu apmācību realizācijai. Organizātoriskie pasākumi (telpas meteriāli, tehnika, realizācija) teorētisko apmācību realizēšanai un pēc tam vis tas pats praktisko apmācību realizācijai saimniecībās utt.
B14: 1.daļa - 22.02.00
B15: Amata nosaukums | C15: Slodžu skaits | D15: Atalgojums | E15: DD VSAOI | F15: Atalgojuma mainīgā daļa, 5% | G15: Atvaļinājuma rezerve | H15: Kopā mēnesī, ņemot vērā slodžu skaitu
B16: Pētnieks (LBTU) | C16: 0.05 | D16: 120 | E16: =(D16+F16+G16)*0.2359 -> 32.078148 | F16: =D16*0.05 -> 6 | G16: =((D16+F16)/21.08)*1.67 -> 9.9819734 | H16: =SUM(D16:G16) -> 168.06012
B17: Pētnieks (LBTU) | C17: 0.05 | D17: 120 | E17: =(D17+F17+G17)*0.2359 -> 32.078148 | F17: =D17*0.05 -> 6 | G17: =((D17+F17)/21.08)*1.67 -> 9.9819734 | H17: =SUM(D17:G17) -> 168.06012
B18: Pētnieks (LBTU) | C18: 0.05 | D18: 120 | E18: =(D18+F18+G18)*0.2359 -> 32.078148 | F18: =D18*0.05 -> 6 | G18: =((D18+F18)/21.08)*1.67 -> 9.9819734 | H18: =SUM(D18:G18) -> 168.06012
B19: Pētnieks (LBTU) | C19: 0.05 | D19: 120 | E19: =(D19+F19+G19)*0.2359 -> 32.078148 | F19: =D19*0.05 -> 6 | G19: =((D19+F19)/21.08)*1.67 -> 9.9819734 | H19: =SUM(D19:G19) -> 168.06012
B20: KOPĀ | C20: =SUM(C16:C19) -> 0.2 | D20: =SUM(D16:D19) -> 480 | E20: =SUM(E16:E19) -> 128.31259 | F20: =SUM(F16:F19) -> 24 | G20: =SUM(G16:G19) -> 39.927894 | H20: =SUM(H16:H19) -> 672.24048
B24: Nr.p.k. | C24: Izmaksu veids kopā euro | D24: 2023.gads | E24: 2024.gads | F24: 2025.gads
B25: 1 | C25: Darba alga, ieskaitot DD nodokļus | D25: 0 | E25: =ROUND($H$20*12,0) -> 8067 | F25: =ROUND($H$20*12,0) -> 8067
B27: 2.daļa - 22.05.00
B28: Nr. p.k. | C28: Gads | D28: Mēneši | E28: Darba h mēnesī | F28: Kopā
B29: 1 | C29: 2024.g. II pusgads (veselības plāna izstrāde) | D29: 6 | E29: 32 | F29: =ROUND(D29*E29*$F$47,0) -> 9792
B30: 2 | C30: 2025.g. (izmaiņas un aktualizēšana) | D30: 10 | E30: 8 | F30: =ROUND(D30*E30*$F$47,0) -> 4080
B31: 3 | C31: 2026.g. (izmaiņas un aktualizēšana) | D31: 10 | E31: 8 | F31: =ROUND(D31*E31*$F$47,0) -> 4080
B33: LLKC konsultantu darba stundas izmaksas
B34: Nr. p.k. | C34: Izmaksu postenis | D34: Skaits | E34: Cena, EUR | F34: Summa, EUR
B35: 1. | C35: Darba samaksa | F35: =F36+F37+F38 -> 35.73
B36: 1.1. | C36: darba alga (A2*), stundas | D36: 1 | E36: 28.91 | F36: =D36*E36 -> 28.91
E37: 28.91 | F37: =D37*E37 -> 0
B38: 1.2. | C38: DDSAOI - 23,59% | F38: =ROUND((F36+F37)*0.2359,2) -> 6.82
B39: 2. | C39: Mainīgās izmaksas | F39: =F40 -> 1.692
B40: 2.1. | C40: Transports, km | D40: 4.7 | E40: 0.36 | F40: =E40*D40 -> 1.692
B41: 3. | C41: Fiksētās izmaksas | F41: =F42+F43+F44+F45+F46 -> 13.58
B42: 3.1. | C42: Speciālistu attīstības izmaksas - apmācība, prakse, pieredzes apmaiņa | D42: 0.08 | F42: =ROUND(F35*D42,2) -> 2.86
B43: 3.2. | C43: Administrācijas izmaksas | D43: 0.15 | F43: =ROUND(F35*D43,2) -> 5.36
B44: 3.3. | C44: IT infrastruktūras izmaksas | D44: 0.04 | F44: =ROUND(F35*D44,2) -> 1.43
B45: 3.4. | C45: Biroja izdevumi | D45: 0.07 | F45: =ROUND(F35*D45,2) -> 2.5
B46: 3.5. | C46: Nolietojums | D46: 0.04 | F46: =ROUND(F35*D46,2) -> 1.43
B47: 4. | C47: KOPĀ | F47: =F35+F39+F41 -> 51.002
C48: * - Darbu izpildes kvalifikācijas kods atbilstoši valdes apstiprinātai kalkulācijai
C49: DDSAOI - darba devēja sociālās apdrošināšanas obligātā iemaksa

Sheet 3.1.4. (2.)
F1: 17. Pielikums Antimikrobiālās rezistences ierobežošanas un piesardzīgas antibiotiku lietošanas plānam “Viena veselība” 2023.-2027. gadam
B3: 3.1.4. Pilnveidotas ārstniecības iestāžu atbildīgo struktūrvienību darbinieku izpratne un zināšanas par VASI profilakses pasākumu ieviešanu, tai skaitā par roku higiēnas veicināšanu un monitoringu
B5: Finanšu rādītāji | D5: 2023.gads | E5: 2024.gads | F5: 2025.gads | G5: 2026.gads | H5: Turpmākā laikposmā līdz pasākuma pabeigšanai (ja tas ir terminēts) | I5: Turpmāk katru gadu (ja pasākums nav terminēts) | J5: Sadalījums pa apakšprogrammām; budžeta programmas kods
B6: Ieņēmumi kopā, euro | D6: - | E6: - | F6: - | G6: - | H6: - | I6: -
B7: Izdevumi kopā, euro | D7: - | E7: - | F7: 11550 | J7: 46.03.00
B10: Divi trīsdienu mācību semināri 50 ārstniecības iestāžu atbildīgajām personām par MK notiekumos Nr.106. ietvertajām VASI profilakses prasībām, tai skaitā par roku higiēnas apmācības programmu un monitoringa ieviešanu ārstniecības iestādēs. Apmācībā iekļauti arī 1.1.1. un 1.1.3. pasākumi
B12: Pozīcijas | H12: Pakalpojuma izmaksas, EUR | I12: Kopsumma, EUR | J12: Budžeta programmas kods un nosaukums
B13: Mācību programmas izstrāde. Tiek slēgti pakalpojuma līgumi, samaksu veicot par gabaldarbu | H13: 1500 | I13: 1500 | J13: 46.03.00 Slimību profilakses nodrošināšana
B14: Nodarbību vadīšana divās grupās , t.sk., sagatavošanās nodarbībām: 2 lektoru atalgojums dienā, maksājot par gabaldarbu (katrai grupai plānotas 3 dienu nodarbības) | H14: 600 | I14: =H14*6 -> 3600
B15: Apmācību telpu, tehnikas un aprīkojuma (projektors, dators) noma dienā. Vienas grupas mācību kursa ir 3 dienas. | H15: 1500 | I15: =H15*3 -> 4500
B16: Divām grupām divas kafijas pauzes dienā katrai. (Vienas grupas mācību kurss ir 3 dienas) | H16: 325 | I16: =H16*6 -> 1950
B17: Kopā: | H17: =SUM(H16:H16) -> 325 | I17: =SUM(I13:I16) -> 11550

Sheet 2.2.5. (2.)
D1: 13. Pielikums Antimikrobiālās rezistences ierobežošanas un piesardzīgas antibiotiku lietošanas plānam “Viena veselība” 2023.-2027. gadam
A3: 2.2.5. Veicināt dzīvnieku veselības sekmīgu parvaldību ganāmpulkā
A4: 2. Izstrādāti ieteikumi dzīvniekveselības apmeklējumiem ganāmpulkos
B6: Finanšu rādītāji | D6: 2023.gads | E6: 2024.gads | F6: 2025.gads | G6: 2026.gads | H6: Turpmākā laikposmā līdz pasākuma pabeigšanai (ja tas ir terminēts) | I6: Turpmāk katru gadu (ja pasākums nav terminēts) | J6: Sadalījums pa apakšprogrammām; budžeta programmas kods
B7: Ieņēmumi kopā, euro | D7: - | E7: - | F7: - | G7: - | H7: - | I7: -
B8: Izdevumi kopā, euro | D8: 0 | E8: 14689 | F8: 4080 | G8: =E14 -> 4080.16 | H8: 0 | I8: 4080 | J8: 22.05.00 Dotācija SIA "Latvijas Lauku konsultāciju un izglītības centrs" informācijas analīzes un apmaiņas sistēmai
A11: Nr. p.k. | B11: Gads | C11: Mēneši | D11: Darba h mēnesī | E11: Kopā
A12: 1 | B12: 2024.g. I pusgads (apmeklējumu veidlapu izstrāde) | C12: 6 | D12: 48 | E12: =C12*D12*E30 -> 14688.576
A13: 2 | B13: 2025.g. (izmaiņas un aktualizēšana) | C13: 10 | D13: 8 | E13: =C13*D13*E30 -> 4080.16
A14: 3 | B14: 2026.g. (izmaiņas un aktualizēšana) | C14: 10 | D14: 8 | E14: =C14*D14*E30 -> 4080.16
A16: LLKC konsultantu darba stundas izmaksas
A17: Nr. p.k. | B17: Izmaksu postenis | C17: Skaits | D17: Cena, EUR | E17: Summa, EUR
A18: 1. | B18: Darba samaksa | E18: =E19+E20+E21 -> 35.73
A19: 1.1. | B19: darba alga (A2*), stundas | C19: 1 | D19: 28.91 | E19: =C19*D19 -> 28.91
D20: 28.91 | E20: =C20*D20 -> 0
A21: 1.2. | B21: DDSAOI - 23,59% | E21: =ROUND((E19+E20)*0.2359,2) -> 6.82
A22: 2. | B22: Mainīgās izmaksas | E22: =E23 -> 1.692
A23: 2.1. | B23: Transports, km | C23: 4.7 | D23: 0.36 | E23: =D23*C23 -> 1.692
A24: 3. | B24: Fiksētās izmaksas | E24: =E25+E26+E27+E28+E29 -> 13.58
A25: 3.1. | B25: Speciālistu attīstības izmaksas - apmācība, prakse, pieredzes apmaiņa | C25: 0.08 | E25: =ROUND(E18*C25,2) -> 2.86
A26: 3.2. | B26: Administrācijas izmaksas | C26: 0.15 | E26: =ROUND(E18*C26,2) -> 5.36
A27: 3.3. | B27: IT infrastruktūras izmaksas | C27: 0.04 | E27: =ROUND(E18*C27,2) -> 1.43
A28: 3.4. | B28: Biroja izdevumi | C28: 0.07 | E28: =ROUND(E18*C28,2) -> 2.5
A29: 3.5. | B29: Nolietojums | C29: 0.04 | E29: =ROUND(E18*C29,2) -> 1.43
A30: 4. | B30: KOPĀ | E30: =E18+E22+E24 -> 51.002
B31: * - Darbu izpildes kvalifikācijas kods atbilstoši valdes apstiprinātai kalkulācijai
B32: DDSAOI - darba devēja sociālās apdrošināšanas obligātā iemaksa

Sheet 3.1.1. (2.)
E1: 14. Pielikums Antimikrobiālās rezistences ierobežošanas un piesardzīgas antibiotiku lietošanas plānam “Viena veselība” 2023.-2027. gadam
B3: 3.1.1. Izvērtēti šķēršļi, tai skaitā finansējuma trūkums VASI un AMR uzraudzības un profilakses pasākumu nodrošināšanai ārstniecības iestādēs. Sagatavoti priekšlikumi VASI un AMR uzraudzības un profilakses pasākumu, tai skaitā mikrobioloģiskās izmeklēšanas vecināšanai, sniedzot veselības aprūpes pakalpojumus
B5: Finanšu rādītāji | D5: 2023.gads | E5: 2024.gads | F5: 2025.gads | G5: 2026.gads | H5: Turpmākā laikposmā līdz pasākuma pabeigšanai (ja tas ir terminēts) | I5: Turpmāk katru gadu (ja pasākums nav terminēts) | J5: Sadalījums pa apakšprogrammām; budžeta programmas kods
B6: Ieņēmumi kopā, euro | D6: - | E6: - | F6: - | G6: - | H6: - | I6: -
B7: Izdevumi kopā, euro | D7: - | E7: - | F7: 12800 | G7: - | H7: - | I7: - | J7: 46.03.00 Slimību profilakses nodrošināšana
B10: Ekspertu grupas izveide, kas izvērtē Eiropas Slimību profilakses un kontroles centra un citu starptautiski atzītu ekspertu grupu piedāvātos indikatorus, izvēlas Latvijas situācijai piemērotākos un izstrādā indikatoru aprakstu
B12: Pozīcijas | H12: Summs | I12: Budžeta programmas kods un nosaukums
B13: Ekspertu grupas pakalpojumi: starptautisko indikatoru izvērtēšana un Latvijas situācijai atbilstošu indikatoru izstrāde. Tiek slēgti pakalpojuma līgumi, bet samaksa par gabaldarbu | H13: 10000 | I13: 46.03.00 Slimību profilakses nodrošināšana
B14: Kopā: | H14: 10000
B17: Vienas dienas seminārs indikatoru prioritizēšanai: grupā 20-30 cilvēki
B19: Pozīcijas | H19: Summa | I19: Budžeta programmas kods un nosaukums
B20: Diskusijas telpu noma un tehniskais atbalsts semināra laikā: īre un aprīkojums (projektors, dators) izdales materiāli dalībniekiem | H20: 1500 | I20: 46.03.00 Slimību profilakses nodrošināšana
B21: Divas kafijas pauzes (no rīta un pēcpusdienā) un pusdienas | H21: 1300
B22: Kopā: | H22: 2800

Sheet 3.1.2.
E1: 15. Pielikums Antimikrobiālās rezistences ierobežošanas un piesardzīgas antibiotiku lietošanas plānam “Viena veselība” 2023.-2027. gadam
B3: 3.1.2. Izstrādātas ķirurģiskās profilakses rekomendācijas atbilstoši jaunākajiem labās prakses piemēriem ES
B5: Finanšu rādītāji | D5: 2023.gads | E5: 2024.gads | F5: 2025.gads | G5: 2026.gads | H5: Turpmākā laikposmā līdz pasākuma pabeigšanai (ja tas ir terminēts) | I5: Turpmāk katru gadu (ja pasākums nav terminēts) | J5: Sadalījums pa apakšprogrammām; budžeta programmas kods
B6: Ieņēmumi kopā, euro | D6: - | E6: - | F6: - | G6: - | H6: - | I6: -
B7: Izdevumi kopā, euro | D7: - | E7: - | F7: 11000 | G7: - | H7: 11000 | I7: - | J7: 46.03.00 Slimību profilakses nodrošināšana
B10: Metodiskā materiāla izstrāde: A4, elektroniski izdalāms materiāls
B12: Pozīcijas | H12: Summs | I12: Budžeta programmas kods un nosaukums
B13: Ārējo ekspertu - ķirurga, infekciju kontroles peciālista un operāciju māsas - pakalpojumi: metodiskā materiāla satura izstrāde un saskaņošana. Tiek slēgti pakalpojuma līgumi, bet samaksa par gabaldarbu | H13: 10000 | I13: 46.03.00 Slimību profilakses nodrošināšana
B14: Materiāla dizaina izstrāde un maketēšana | H14: 1000 | I14: 46.03.00 Slimību profilakses nodrošināšana
B15: Kopā: | H15: 11000

Sheet 3.1.4. (1.)
E1: 16. Pielikums Antimikrobiālās rezistences ierobežošanas un piesardzīgas antibiotiku lietošanas plānam “Viena veselība” 2023.-2027. gadam
B3: 3.1.4.Izstrādāti un ieviesti ārstniecības iestādēs VASI uzraudzības un kontroles standarti konkrētu invazīvu manipulāciju (centrālā venozā katetra ievietošana un aprūpe, urīna katetra lietošana, plaušu mākslīgās ventilācijas veikšana, traheostomas ievietošana utml.) veikšanai
B6: Finanšu rādītāji | D6: 2023.gads | E6: 2024.gads | F6: 2025.gads | G6: 2026.gads | H6: Turpmākā laikposmā līdz pasākuma pabeigšanai (ja tas ir terminēts) | I6: Turpmāk katru gadu (ja pasākums nav terminēts) | J6: Sadalījums pa apakšprogrammām; budžeta programmas kods
B7: Ieņēmumi kopā, euro | D7: - | E7: - | F7: - | G7: - | H7: - | I7: -
B8: Izdevumi kopā, euro | D8: - | E8: - | F8: 11000 | G8: - | H8: - | I8: - | J8: 46.03.00 Slimību profilakses nodrošināšana
B11: Izstrādāts paraugdokuments ārstniecības iestādēm 2 invazīvu manipulāciju standartu ieviešanai un 20 ārstniecības iestāžu atbildīgās personas apmācītas par invazīvo procedūru standartu izstrādi un ieviešanu
B13: Pozīcijas | H13: Kopsumma, EUR | I13: Budžeta programmas kods un nosaukums
B14: Ārējo ekspertu pakalpojumi: materiāla satura izstrāde un saskaņošana, nodarbību vadīšana. Tiek slēgti pakalpojuma līgumi, bet samaksa par gabaldarbu | H14: 10000 | I14: 46.03.00 Slimību profilakses nodrošināšana
B15: Mācību materiāla dizaina izstrāde un maketēšana | H15: 1000 | I15: 46.03.00 Slimību profilakses nodrošināšana
B16: Kopā: | H16: 11000

Sheet 3.2.1. (1.)
F1: 18. Pielikums Antimikrobiālās rezistences ierobežošanas un piesardzīgas antibiotiku lietošanas plānam “Viena veselība” 2023.-2027. gadam
A3: 3.2.1. Pilnveidot dzīvnieku infekcijas slimību ierobežošanas, profilakses un biodrošības pasākumus
A4: Izstrādātas biodrošības pasākumu vadlīnijas atsevišķām lauksaimniecības dzīvnieku sugām
B6: Finanšu rādītāji | D6: 2023.gads | E6: 2024.gads | F6: 2025.gads | G6: 2026.gads | H6: Turpmākā laikposmā līdz pasākuma pabeigšanai (ja tas ir terminēts) | I6: Turpmāk katru gadu (ja pasākums nav terminēts) | J6: Sadalījums pa apakšprogrammām; budžeta programmas kods
B7: Ieņēmumi kopā, euro | D7: - | E7: - | F7: - | G7: - | H7: - | I7: -
B8: Izdevumi kopā, euro | D8: - | E8: =E11 -> 16320 | F8: =E12 -> 4080 | G8: =E13 -> 1632 | H8: - | I8: =E13 -> 1632 | J8: 22.05.00 Dotācija SIA "Latvijas Lauku konsultāciju un izglītības centrs" informācijas analīzes un apmaiņas sistēmai
B10: Gads | C10: Mēneši | D10: Darba h mēnesī | E10: Kopā
B11: 2024.g. (biodrošības pasākumu vadlīniju izstrāde) | C11: 10 | D11: 32 | E11: =ROUND(C11*D11*$E$28,2) -> 16320
B12: 2025.g. (izmaiņas un aktualizēšana) | C12: 10 | D12: 8 | E12: =ROUND(C12*D12*$E$28,2) -> 4080
B13: 2026.g. (izmaiņas un aktualizēšana) | C13: 4 | D13: 8 | E13: =ROUND(C13*D13*$E$28,2) -> 1632
B15: Konsultanata darba finansējums (eiro/stundā) pamatojums
B16: Izmaksu postenis | C16: Skaits | D16: Cena (EUR) | E16: Summa (EUR)
B17: 1. Darba samaksa | E17: 35.73
B18: 1.1. Darba alga* | C18: 1 | D18: 28.91 | E18: 28.91
B19: 1.2.DDSAOI (23,59%) | E19: 6.82
B20: 2. Mainīgās izmaksas | E20: 1.69
B21: 2.1.Transports (km) | C21: 5 | D21: 0.36 | E21: 1.69
B22: 3. Fiksētās izmaksas | E22: 13.58
B23: 3.1. Speciālistu attīstības izmaksas - apmācība, prakse, pieredzes apmaiņa | C23: 0.08 | E23: 2.86
B24: 3.2.Administrācijas izmaksas | C24: 0.15 | E24: 5.36
B25: 3.3. IT infrastruktūras izmaksas | C25: 0.04 | E25: 1.43
B26: 3.4. Biroja izdevumi | C26: 0.07 | E26: 2.5
B27: 3.5. Nolietojums | C27: 0.04 | E27: 1.43
B28: KOPĀ: | E28: 51

Sheet 4.4.
E1: 20. Pielikums Antimikrobiālās rezistences ierobežošanas un piesardzīgas antibiotiku lietošanas plānam “Viena veselība” 2023.-2027. gadam
B3: 4.4. Uzlabojusies agrīna MR-TB pacientu atklāšana un ārstēšanas kvalitāte, pamatojoties uz izstrādātajām starptautiskos zinātniskos pierādījumos un labās prakses piemēros balstītām TB diagnostikas un ārstēšanas rekomendācijām
B5: Finanšu rādītāji | D5: 2023.gads | E5: 2024.gads | F5: 2025.gads | G5: 2026.gads | H5: Turpmākā laikposmā līdz pasākuma pabeigšanai (ja tas ir terminēts) | I5: Turpmāk katru gadu (ja pasākums nav terminēts) | J5: Sadalījums pa apakšprogrammām; budžeta programmas kods
B6: Ieņēmumi kopā, euro | D6: - | E6: - | F6: - | G6: - | H6: - | I6: -
B7: Izdevumi kopā, euro | D7: - | E7: 11000 | F7: - | G7: - | H7: - | I7: - | J7: 46.03.00 Slimību profilakses nodrošināšana
B10: Izstrādātas TB diagnostikas un ārstēšanas rekomendācijas
B12: Pozīcijas | H12: Kopsumma, EUR | I12: Budžeta programmas kods un nosaukums
B13: Divu ārējo ekspertu pakalpojumi: metodiskā materiāla satura izstrāde un saskaņošana. Tiek slēgti pakalpojuma līgumi, bet samaksa par gabaldarbu | H13: 10000 | I13: 46.03.00 Slimību profilakses nodrošināšana
B14: Materiāla dizaina izstrāde un maketēšana. | H14: 1000 | I14: 46.03.00 Slimību profilakses nodrošināšana
B15: Kopā: | H15: 11000

Sheet 5.2. (1.-2.)
D1: 21. Pielikums Antimikrobiālās rezistences ierobežošanas un piesardzīgas antibiotiku lietošanas plānam “Viena veselība” 2023.-2027. gadam
A3: 5.2. Institūciju sadarbības stiprināšana AMR jomā
B5: Finanšu rādītāji | D5: 2023.gads | E5: 2024.gads | F5: 2025.gads | G5: 2026.gads | H5: Turpmākā laikposmā līdz pasākuma pabeigšanai (ja tas ir terminēts) | I5: Turpmāk katru gadu (ja pasākums nav terminēts) | J5: Sadalījums pa apakšprogrammām; budžeta programmas kods
B6: Ieņēmumi kopā, euro | D6: - | E6: - | F6: - | G6: - | H6: - | I6: -
B7: Izdevumi kopā, euro | D7: 0 | E7: =E15 -> 2729 | F7: =F15 -> 2729 | G7: 2729 | H7: 0 | I7: 2729 | J7: 20.02.00 Riska zinātniskā novērtēšana un references laboratorijas funkciju veikšana dzīvnieku veselības, pārtikas un dzīvnieku barības jomā
A9: 5. Rīcības virziens: Institūciju sadarbības stiprināšana AMR jomā | D9: Pasākuma īstenošanas gads
D10: 2023.gads | E10: 2024.gads | F10: 2025.gads | G10: 2026.gads | H10: 2027.gads
A11: Pasākums | B11: Rezultatīvais rādītājs
A12: 5.2. Izvērtēt iespejas izveidot AMR kompetences centru dzīvnieku veselības jomā | B12: 1. Izstrādāti priekšlikumi AMR kompetences centra izveidei un finansēšanai | E12: =D24 -> 2728.86 | F12: =D24 -> 2728.86 | I12: 2025.g. II.pusgads
B13: 2.Izveidots un uzturēts AMR kompetences centrs dzīvnieku veselības jomā | G13: 2728.9 | H13: 2728.9 | I13: No 2026.gada
C15: KOPĀ: | D15: =ROUND(SUM(D12:D14),0) -> 0 | E15: =ROUND(SUM(E12:E14),0) -> 2729 | F15: =ROUND(SUM(F12:F14),0) -> 2729 | G15: =ROUND(SUM(G12:G14),0) -> 2729 | H15: =ROUND(SUM(H12:H14),0) -> 2729
A17: Izdevumu pozīcija
A18: 1.) Eksperta atlīdzība uzdevumu izpildei (0,1 slodze/gadā) | D18: skatīt zemāk | G18: 2728.86
A19: 2) Eksperta atlīdzība uzdevumu izpildei (1 slodze/gadā) | D19: skatīt zemāk | G19: 2728.9
A21: Ekspertu izdevumi | B21: Euro/mēnesī | C21: Euro/gadā | D21: 0,1 slodze/ gadā
A22: L4 kategorijas pieredz. eksperta Max mēnešalga | B22: 1840 | C22: =B22*12 -> 22080
A23: Darba dēvēja sociālais nodoklis (23,59%) | B23: =ROUND(B22*0.2359,2) -> 434.06 | C23: =B23*12 -> 5208.72
A24: Kopā atlīdzība | B24: =SUM(B22:B23) -> 2274.06 | C24: =SUM(C22:C23) -> 27288.72 | D24: 2728.86

Sheet 5.7. (2.2.)
E1: 22. Pielikums Antimikrobiālās rezistences ierobežošanas un piesardzīgas antibiotiku lietošanas plānam “Viena veselība” 2023.-2027. gadam
A3: 5.7. Institūciju sadarbības stiprināšana AMR jomā
B5: Finanšu rādītāji | D5: 2023.gads | E5: 2024.gads | F5: 2025.gads | G5: 2026.gads | H5: Turpmākā laikposmā līdz pasākuma pabeigšanai (ja tas ir terminēts) | I5: Turpmāk katru gadu (ja pasākums nav terminēts) | J5: Sadalījums pa apakšprogrammām; budžeta programmas kods
B6: Ieņēmumi kopā, euro | D6: - | E6: - | F6: - | G6: - | H6: - | I6: -
B7: Izdevumi kopā, euro | D7: 0 | E7: =E12 -> 2729 | F7: =F12 -> 2729 | G7: =G12 -> 2729 | H7: 0 | I7: =G12 -> 2729 | J7: 20.02.00 Riska zinātniskā novērtēšana un references laboratorijas funkciju veikšana dzīvnieku veselības, pārtikas un dzīvnieku barības jomā
A9: Uzdevums | B9: Pasākums | C9: Budžeta programmas (apakšprogrammas) kods un nosaukums | D9: Gads | G9: Turpmāk katru gadu (ja pasākums nav terminēts) | H9: Pasākuma īstenošanas gads (ja pasākuma īstenošana ir terminēta)
D10: 2023 | E10: 2024 | F10: 2025
A11: 5.7. Uzlabot koordināciju AMR pētījumu jomā starp cilvēku, dzīvnieku un vides veselības sektoriem un institūcijām | B11: 2. Sagatavoti priekšlikumi AMR jomas pētniecības prioritātēm Valsts pētījumu programmai un citu atbilstošu nacionālo un starptautisko projektu programmām | E11: =D20 -> 2729 | F11: =D20 -> 2729 | G11: =D20 -> 2729 | H11: 2024.g. II.pusgads, pēc tam regulāri aktualizēts, balstoties uz jaunākajām zinātniskajām atziņām
C12: KOPĀ: | D12: =D11 -> 0 | E12: =E11 -> 2729 | F12: =F11 -> 2729 | G12: =G11 -> 2729
A14: Izdevumu pozīcija
A15: Eksperta atlīdzība uzdevumu izpildei (0,1 slodze/gadā) | G15: =D20 -> 2729
A17: Ekspertu izdevumi | B17: Euro/mēnesī | C17: Euro/gadā | D17: 0,1 slodze/ gadā
A18: L4 kategorijas pieredz.eksperta Max mēnešalga | B18: 1840 | C18: =B18*12 -> 22080 | D18: =C18*0.1 -> 2208
A19: Darba dēvēja sociālais nodoklis (23,59%) | B19: =B18*0.2359 -> 434.056 | C19: =B19*12 -> 5208.672 | D19: =C19*0.1 -> 520.8672
A20: KOPĀ atlīdzība | B20: =ROUND(SUM(B18:B19),0) -> 2274 | C20: =ROUND(SUM(C18:C19),0) -> 27289 | D20: =ROUND(SUM(D18:D19),0) -> 2729

Sheet 6.2.
D1: 23. Pielikums Antimikrobiālās rezistences ierobežošanas un piesardzīgas antibiotiku lietošanas plānam “Viena veselība” 2023.-2027. gadam
A3: 6.1. Zinātnes un pētījumu veicināšana AMR jomā
B5: Finanšu rādītāji | D5: 2023.gads | E5: 2024.gads | F5: 2025.gads | G5: 2026.gads | H5: Turpmākā laikposmā līdz pasākuma pabeigšanai (ja tas ir terminēts) | I5: Turpmāk katru gadu (ja pasākums nav terminēts) | J5: Sadalījums pa apakšprogrammām; budžeta programmas kods
B6: Ieņēmumi kopā, euro | D6: - | E6: - | F6: - | H6: - | I6: -
B7: Izdevumi kopā, euro | D7: 0 | E7: =D21 -> 2729 | F7: =D21 -> 2729 | G7: =D21 -> 2729 | H7: =D21 -> 2729 | I7: 0 | J7: 20.02.00 Riska zinātniskā novērtēšana un references laboratorijas funkciju veikšana dzīvnieku veselības, pārtikas un dzīvnieku barības jomā
A9: Uzdevums | B9: Pasākums | C9: Pasākuma īstenošanas gads (ja pasākuma īstenošana ir terminēta)
A11: 6.2. Rīcības virziens | B11: AMR risku izpēte un apzināšana vidē
A12: 6.2. Apzināti rīki un indikatori AMR novērtēšanai apkārtējā vidē, t.sk. notekūdeņu monitorings | B12: Izstrādāta metode AMR apzināšanai un novērtēšanai vidē | C12: 2027.g. II.pusgads
A15: Izdevumu pozīcija
A16: Eksperta atlīdzība uzdevumu izpildei (0,1 slodze/gadā) | D16: skatīt zemāk | I16: =D21 -> 2729
A18: Ekspertu izdevumi | B18: Euro/ mēnesī | C18: Euro/gadā | D18: 0,1 slodze/ gadā
A19: L4 kategorijas pieredz.eksperta Max mēnešalga | B19: 1840 | C19: =B19*12 -> 22080 | D19: =C19*0.1 -> 2208
A20: Darba dēvēja sociālais nodoklis (23,59%) | B20: =B19*0.2359 -> 434.056 | C20: =B20*12 -> 5208.672 | D20: =C20*0.1 -> 520.8672
A21: Kopā atlīdzība | B21: =ROUND(SUM(B19:B20),0) -> 2274 | C21: =ROUND(SUM(C19:C20),0) -> 27289 | D21: =ROUND(SUM(D19:D20),0) -> 2729

Sheet 6.3.(1.1.)
F1: 24. Pielikums Antimikrobiālās rezistences ierobežošanas un piesardzīgas antibiotiku lietošanas plānam “Viena veselība” 2023.-2027. gadam
A2: 6.3. (1.1.) Veicināta pētniecība AMR jomā
B4: Finanšu rādītāji | D4: 2023.gads | E4: 2024.gads | F4: 2025.gads | G4: 2026.gads | H4: Turpmākā laikposmā līdz pasākuma pabeigšanai (ja tas ir terminēts) | I4: Turpmāk katru gadu (ja pasākums nav terminēts) | J4: Sadalījums pa apakšprogrammām; budžeta programmas kods
B5: Ieņēmumi kopā, euro | D5: - | E5: - | F5: - | G5: - | H5: - | I5: -
B6: Izdevumi kopā, euro | D6: 0 | E6: =F17 -> 24500 | F6: =F19 -> 80000 | G6: =F21 -> 250000 | H6: =F22 -> 110000 | I6: 0 | J6: 20.02.00 Riska zinātniskā novērtēšana un references laboratorijas funkciju veikšana dzīvnieku veselības, pārtikas un dzīvnieku barības jomā
A9: Darbības rezultāts | B9: Pasākums | C9: Budžeta programmas (apakšprogrammas) kods un nosaukums | D9: Pasākuma īstenošanas gads (ja pasākuma īstenošana ir terminēta)
A11: 6.3. Rīcības virziens | B11: Veicināt pētniecību AMR un dzīvnieku veselības jomā
A12: 1. Stiprināta nacionālās references laroratorijas dzīvnieku veselības jomā kapacitāte dalībai pētījumos AMR izmeklējumu jomā | B12: 1.1. Laboratoriskās infrastruktūras pilnveide (IT/LIMS sistēmas, datu bāzes pilnveide, iekārtas, diagnostikumi u.c.) | D12: No 2024.gada I.pusgada - 2027.gadam
C13: KOPĀ:
A15: Iekārtas laboratorisko infrakstruktūru pilnveidošanai (2023.-2027.g.):
A16: Gads | B16: Iekārtas nosaukums | C16: Prognozējama cena (EUR) | D16: Skaits | E16: Summa (EUR) | F16: Kopsumma (EUR)
