Workbook
Name _ftnref1: KOPSAVILKUMS!#REF!
Name _Hlk102432366: KOPSAVILKUMS!#REF!
Name _Hlk102432436: KOPSAVILKUMS!#REF!

Sheet KOPSAVILKUMS
H1: Pielikums Antimikrobiālās rezistences ierobežošanas un piesardzīgas antibiotiku lietošanas plānam “Viena veselība” 2023.-2027. gadam
B3: Kopsavilkums par plānā iekļauto pasākumu īstenošanai nepieciešamo finansējumu
A5: Plāna virsmērķis | C5: Veicināt mērķtiecīgu un efektīvu AMR attīstības un izplatības ierobežošanu un apkarošanu, nodrošinot koordinētas iesaistīto iestāžu un organizāciju darbības
A6: Politikas rezultāts/i un rezultatīvais rādītājs/-i | C6: Politikas rezultāts:Ierobežota antimikrobiālās rezistences attīstība un izplatība. Izmainīti antimikrobiālo līdzekļu lietošanas paradumi, panākot atbildīgu un piesardzīgu antimikrobiālo līdzekļu lietošanu sabiedrībā, veselības aprūpē un dzīvnieku veselībā
C7: Rezultatīvie rādītāji: Latvijas iedzīvotāju īpatsvars, kas antibiotikas iegādājušies bez receptes (avots: Eirobarometra pētījums) – 2027. gadā 5% (9 % 2017.gadā). Latvijas iedzīvotāju īpatsvars, kam ir pareiza izpratne par antibiotiku izmantošanu (%) (avots: Eirobarometra pētījums) – (2027.gadā 43% iedzīvotāju ir izpratne par antibiotiku ietekmi uz vīrusiem, 66% iedzīvotāju sniedz pareizu atbildi par antibiotiku lietošanu saaukstēšanās gadījumā, 85% iedzīvotāju saprot, ka antibiotiku pārmērīga lietošana tās padara nefektīvas (attiecīgi – 26%, 44% un 79% 2016. gadā).
A8: Nr. p.k. | B8: Pasākums | C8: Darbības rezultāts | D8: Rezultatīvais rādītājs | E8: Budžeta programmas (apakšprogrammas) kods un nosaukums | F8: Uzdevumu īstenošanai plānotais finansējums atbilstoši likumam "Par valsts budžetu 2023. gadam un budžeta ietvaru 2023., 2024. un 2025. gadam | I8: Nepieciešamais papildus finansējums | N8: Atbildīgā institūcija | O8: Līdzatbildīgās institūcijas | P8: Finansējuma avots | Q8: Izpildes termiņš
F9: 2023.gads | G9: 2024.gads | H9: 2025.gads | I9: 2024.gads | J9: 2025.gads | K9: 2026.gads | L9: Turpmākajā laikposmā līdz pasākuma pabeigšanai (ja pasākuma īstenošana ir terminēta) | M9: Turpmāk ik gadu, ja pasākuma izpilde nav terminēta
B10: KOPĒJAIS NEPIECIEŠAMAIS FINANSĒJUMS PLĀNA REALIZĀCIJAI: | F10: =F11+F18 -> 5227560 | G10: =G11+G18 -> 5227560 | H10: =H11+H18 -> 5227560 | I10: =I11+I18 -> 1019911.2 | J10: =J11+J18 -> 3962054.1 | K10: =K11+K18 -> 4035258.2 | L10: =L11+L18 -> 125187 | M10: =M11+M18 -> 3523772.1
A11: VESELĪBAS MINISTRIJA | F11: =SUM(F12:F17) -> 4945044 | G11: =SUM(G12:G17) -> 4945044 | H11: =SUM(H12:H17) -> 4945044 | I11: =SUM(I12:I17) -> 383741 | J11: =SUM(J12:J17) -> 3203853 | K11: =SUM(K12:K17) -> 3301653 | L11: =SUM(L12:L17) -> 6000 | M11: =SUM(M12:M17) -> 3178715
E12: 02.03.00 Augstākā medicīnas izglītība | I12: =I155 -> 0 | J12: =J155 -> 0 | K12: =K155 -> 79999.998 | L12: =L155 -> 0 | M12: =M155 -> 0
E13: 33.15.00 Laboratorisko izmeklējumu nodrošināšana ambulatorajā aprūpē | F13: =F124 -> 4945044 | G13: =G124 -> 4945044 | H13: =H124 -> 4945044 | I13: =I124 -> 12082 | J13: =J124 -> 2845126 | K13: =K124 -> 2952326 | L13: =L124 -> 0 | M13: =M124 -> 2952326
E14: 33.18.00 Plānveida stacionāro veselības aprūpes pakalpojumu nodrošināšana | I14: =I153 -> 72539 | J14: =J153 -> 141077 | K14: =K153 -> 141077 | L14: =L153 -> 0 | M14: =M153 -> 141077
E15: 45.01.00 Veselības aprūpes finansējuma administrēšana un ekonomiskā novērtēšana | I15: =I128 -> 212600 | J15: =J128 -> 85300 | K15: =K128 -> 79050 | L15: =L128 -> 0 | M15: =M128 -> 45312
E16: 46.03.00 Slimību profilakses nodrošināšana | I16: =I27+I31+I35+I36+I46+I48+I84+I85+I86+I87+I88+I98+I157+I158+I160+I161 -> 56520 | J16: =J27+J31+J35+J36+J46+J48+J84+J85+J86+J87+J88+J98+J157+J158+J160+J161 -> 132350 | K16: =K27+K31+K35+K36+K46+K48+K84+K85+K86+K87+K88+K98+K157+K158+K160+K161 -> 49200 | L16: =L27+L31+L35+L36+L46+L48+L84+L85+L86+L87+L88+L98+L157+L158+L160+L161 -> 6000 | M16: =M27+M31+M35+M36+M46+M48+M84+M85+M86+M87+M88+M98+M157+M158+M160+M161 -> 40000
E17: 97.00.00 Nozaru vadība un politikas plānošana | I17: =I55+I56+I57 -> 30000 | J17: =J55+J56+J57 -> 0 | K17: =K55+K56+K57 -> 0 | L17: =L55+L56+L57 -> 0 | M17: =M55+M56+M57 -> 0
A18: ZEMKOPĪBAS MINISTRIJA | F18: =SUM(F19:F24) -> 282516 | G18: =SUM(G19:G24) -> 282516 | H18: =SUM(H19:H24) -> 282516 | I18: =SUM(I19:I24) -> 636170.19 | J18: =SUM(J19:J24) -> 758201.06 | K18: =SUM(K19:K24) -> 733605.22 | L18: =SUM(L19:L24) -> 119187 | M18: =SUM(M19:M24) -> 345057.06
E19: 20.00.00 Pārtikas nekaitīgums un dzīvnieku veselība | F19: =F38+F68 -> 282516 | G19: =G38+G68 -> 282516 | H19: =H38+H68 -> 282516 | I19: 0 | J19: 0 | K19: 0 | L19: 0 | M19: 0
E20: 20.01.00 Pārtikas nekaitīguma un dzīvnieku veselības valsts uzraudzība un kontrole | I20: =I59+I62+I172+I180+I181 -> 223974 | J20: =J59+J62+J172+J180+J181 -> 171175 | K20: =K59+K62+K172+K180+K181 -> 162083 | L20: =L59+L62+L172+L180+L181 -> 0 | M20: =M59+M62+M172+M180+M181 -> 54108
E21: 20.02.00 Riska zinātniskā novērtēšana un references laboratorijas funkciju veikšana dzīvnieku veselības, pārtikas un dzīvnieku barības jomā | I21: =I101+I102+I110+I114+I115+I116+I119+I132+I134++I135+I136+I137+I138+I139+I140+I141+I142+I143+I144+I145+I146+I148+I149+I150+I151+I166+I167+I168+I169+I179 -> 137980.19 | J21: =J101+J102+J110+J114+J115+J116+J119+J132+J134++J135+J136+J137+J138+J139+J140+J141+J142+J143+J144+J145+J146+J148+J149+J150+J151+J166+J167+J168+J169+J179 -> 348722.06 | K21: =K101+K102+K110+K114+K115+K116+K119+K132+K134++K135+K136+K137+K138+K139+K140+K141+K142+K143+K144+K145+K146+K148+K149+K150+K151+K166+K167+K168+K169+K179 -> 400065.06 | L21: =L101+L102+L110+L114+L115+L116+L119+L132+L134++L135+L136+L137+L138+L139+L140+L141+L142+L143+L144+L145+L146+L148+L149+L150+L151+L166+L167+L168+L169+L179 -> 119187 | M21: =M101+M102+M110+M114+M115+M116+M119+M132+M134++M135+M136+M137+M138+M139+M140+M141+M142+M143+M144+M145+M146+M148+M149+M150+M151+M166+M167+M168+M169+M179 -> 159865.06
E22: 21.02.00 Sabiedriskā finansējuma administrēšana un valsts uzraudzība lauksaimniecībā | I22: =I63 -> 139004 | J22: =J63 -> 131744 | K22: =K63 -> 70034 | L22: =L63 -> 0 | M22: =M63 -> 70034
E23: 22.02.00 Augstākā izglītība | I23: =I72+I74+I75+I117+I121+I164+I165+I170+I171 -> 44767 | J23: =J72+J74+J75+J117+J121+J164+J165+J170+J171 -> 52872 | K23: =K72+K74+K75+K117+K121+K164+K165+K170+K171 -> 50183 | L23: =L72+L74+L75+L117+L121+L164+L165+L170+L171 -> 0 | M23: =M72+M74+M75+M117+M121+M164+M165+M170+M171 -> 9810
E24: 22.05.00 Dotācija SIA "Latvijas Lauku konsultāciju un izglītības centrs" informācijas analīzes un apmaiņas sistēmai | I24: =I76+I77+I90+I147+I173+I174+I175+I176+I177+I178 -> 90445 | J24: =J76+J77+J90+J147+J173+J174+J175+J176+J177+J178 -> 53688 | K24: =K76+K77+K90+K147+K173+K174+K175+K176+K177+K178 -> 51240.16 | L24: =L76+L77+L90+L147+L173+L174+L175+L176+L177+L178 -> 0 | M24: =M76+M77+M90+M147+M173+M174+M175+M176+M177+M178 -> 51240
A25: 1. Rīcības virziens | C25: AMR monitoringa pilnveidošana
A26: 1.1. Sabiedrības veselības jomā
A27: 1.1.1. | B27: Paaugstināt ārstniecības iestāžu atbildīgo personu kompetenci par kvalitatīvu AMR datu reģistrāciju, analīzi un izmantošanu | C27: Uzlabota ārstniecības iestāžu kapacitāte, lai nodrošinātu AMR datu reģistrāciju, analīzi un veiktu gadījumu novēršanu | D27: 1. Izstrādāts metodiskais materiāls ārstniecības iestādēm par AMR datu apkopošanu, analīzi un izmantošanu | E27: 46.03.00 Slimību profilakses nodrošināšana | I27: ='1.1.1.'!E7 -> 3520 | N27: VM, SPKC | O27: ĀPA | P27: Nepieciešams papildu finansējums (no valsts budžeta līdzekļiem) | Q27: 2024. gada I. pusgads
D28: 2. Nodrošināta 50 ārstniecības iestāžu atbildīgo personu apmācība par AMR datu apkopošanu, analīzi un izmantošanu | N28: VM, SPKC | O28: ĀPA | P28: Esošā budžeta ietvaros | Q28: 2024. gada II.pusgads
A29: 1.1.2. | B29: Paplašināt AMR uzraudzību atbilstoši ES noteiktajam uzraugāmo AMR mikroorganismu sarakstam | C29: Nodrošināta plašāka informācija par AMR izplatību Latvijā | D29: Veikti grozījumi MK 05.01.1999. noteikumos Nr. 7 "Infekcijas slimību reģistrācijas kārtība", nosakot pienākumu laboratorijām, kas veic testēšanu mikrobioloģijas jomā, veikt antibakteriālās jutības noteikšanu Salmonella, Campylobacter, STEC/VTEC, Neisseria meningitidis mikroorganismiem un visām AMR uzraudzībā iekļautajām baktērijām no invazīviem paraugiem, ziņot par rezultātiem, kā arī paredzēt šo izmeklējumu apmaksu | N29: VM | O29: SPKC, RAKUS, ĀPA | P29: Esošā budžeta ietvaros | Q29: No 2024. gada I pusgada
A30: 1.1.3. | B30: Izvērtēt iespējas pilnveidot AMR uzraudzības finansēšanas principus ārstniecības iestādēs | C30: Uzlabota ārstniecības iestāžu kapacitāte un motivācija iesaistīties AMR uzraudzībā un profilaksē | D30: Izstrādāti priekšlikumi AMR uzraudzības un profilakses pasākumu finansēšanai veselības aprūpes pakalpojumu ietvarā | N30: VM | O30: NVD, SPKC, ĀPA | P30: Esošā budžeta ietvaros | Q30: 2023. gada II pusgads
A31: 1.1.4. | B31: Sniegt metodisko atbalstu, lai veicinātu pacientu mikrobioloģisko izmeklēšanu un AB jutības noteikšanu sabiedrības veselībai nozīmīgu mikroorganismu diagnostikai | C31: Nodrošināta efektīva infekcijas slimību diagnostika un uzlabota AMR uzraudzība | D31: Izstrādāts metodiskais materiāls ārstniecības personām par sabiedrības veselībai nozīmīgu mikroorganismu diagnostiku. Materiāla skaidrojums iekļauts 3.1.4. pasākuma apmācībā | E31: 46.03.00 Slimību profilakses nodrošināšana | J31: ='1.1.4.'!F7 -> 10000 | N31: VM, SPKC | O31: RAKUS, LLSB | P31: Nepieciešams papildu finansējums (no valsts budžeta līdzekļiem) | Q31: 2025. gada II pusgads
A32: 1.1.5. | B32: Veikt regulāru informācijas apmaiņu par AMR situāciju starp ārstniecības iestādēm, laboratorijām un SPKC | C32: Nodrošināta efektīva informācijas apmaiņa starp ārstniecības iestādēm un SPKC par reģistrētiem AMR gadījumiem | D32: Sagatavoti priekšlikumi informācijas apmaiņas uzlabošanai starp SPKC, ārstniecības iestādēm un laboratorijām | N32: VM, SPKC | O32: RAKUS, ĀPA | P32: Esošā budžeta ietvaros | Q32: 2025. gada II pusgads
A33: 1.1.6. | B33: Nodrošināt vienotu pieeju valstī nozīmīgu AMR uzliesmojumu gadījumu risināšanai, tai skaitā, ja iesaistītas divas un vairākas ārstniecības iestādes vai konstatēta netipiska rezistence | C33: Nodrošināta agrīna reaģēšana un efektīva starpinstitūciju un starpsektoru rīcība AMR uzliesmojumu gadījumos | D33: Izstrādāti priekšlikumi nozīmīgu AMR uzliesmojumu agrīnai identificēšanai, koordinētai izmeklēšanai un reaģēšanas pasākumu nodrošināšanai | N33: VM, SPKC | O33: RAKUS, PSKUS, ĀPA | P33: Esošā budžeta ietvaros | Q33: 2024. gada II pusgads
A34: 1.1.7. | B34: Ieviest procedūru regulārai starpsektoru informācijas apmaiņai par AMR situāciju | C34: Nodrošināta efektīva starpsektoru informācijas apmaiņa un situācijas analīze par AMR gadījumiem | D34: Sagatavoti priekšlikumi efektīvākai starpsektoru informācijas aprites procedūras ieviešanai | N34: VM, ZM | O34: SPKC, PVD, RAKUS, BIOR | P34: Esošā budžeta ietvaros | Q34: 2023. gada II pusgads
A35: 1.1.8. | B35: Izstrādāt rekomendācijas pacientu skrīningam multirezistentu mikroorganismu identificēšanai Latvijas ārstniecības iestādēs | C35: Pilnīgotas ārstniecības personu zināšanas par pacientu izmeklēšanu, agrīnu diagnostiku un infekciju kontroles pasākumiem AMR gadījumā. Pieejama informācija par AMR izplatību Latvijas ārstniecības iestādēs | D35: Izstrādātas, regulāri atjaunotas un izplatītas rekomendācijas ārstniecības iestādēm | E35: 46.03.00 Slimību profilakses nodrošināšana | L35: ='1.1.8.'!H7 -> 6000 | N35: VM, SPKC | O35: ĀPA, LSB | P35: Nepieciešams papildu finansējums (no valsts budžeta līdzekļiem) | Q35: 2027. gada I pusgads
A36: 1.1.9. | B36: Veicināt pacientu izmeklēšanu uz AMR | C36: Pilnīgotas ārstniecības personu iemaņas AMR diagnostikā | D36: Izstrādātas rekomendācijas ārstniecības personām un laboratorijas speciālistiem, lai veicinātu pacientu mikrobioloģisku izmeklēšanu un AB jutības noteikšanu | E36: 46.03.00 Slimību profilakses nodrošināšana | K36: ='1.1.9.'!G7 -> 6000 | N36: VM, SPKC | O36: RAKUS, LSB, ĀPA | P36: Nepieciešams papildu finansējums (no valsts budžeta līdzekļiem) | Q36: 2026. gada I pusgads
A37: 1.2. AMR monitorings dzīvnieku veselības jomā
A38: 1.2.1. | B38: Veikt mikroorganismu AMR regulāru monitoringu saskaņā ar EK 2020. gada 17. novembra Īstenošanas lēmumu (ES) 2020/1729 par uzraudzību un ziņošanu attiecībā uz zoonotisko un indikatorbaktēriju rezistenci pret antimikrobiālajiem līdzekļiem | C38: Nodrošināts regulārs mikroorganismu AMR monitorings lauksaimniecības dzīvnieku sugām | D38: 1. Katru gadu izmeklēts EK lēmumā (ES) 2020/1729 noteikts skaits paraugu noteiktām dzīvnieku sugām (AMR monitoringa programma) | E38: 20.00.00 Pārtikas nekaitīgums un dzīvnieku veselība | F38: 56091 | G38: 56091 | H38: 56091 | N38: ZM, PVD | O38: BIOR | P38: Esošā budžeta ietvaros | Q38: Pastāvīgi
D39: 2. Apkopoti AMR monitoringa rezultāti un ziņoti EFSA | E39: 20.00.00 Pārtikas nekaitīgums un dzīvnieku veselība | F39: * | G39: * | H39: * | N39: ZM, PVD | O39: BIOR | P39: Esošā budžeta ietvaros | Q39: Katru gadu
A40: 1.2.2. | B40: Paplašināt AMR monitoringu dzīvniekiem | C40: 1. Pilnveidots AMR monitorings ar lauksaimniecības dzīvnieku sugām un paraugu ņemšanu | D40: Paplašināta AMR monitoringa programma, papildinot ar dzīvnieku sugu vai kategoriju un paraugu ņemšanas vietu un skaitu | N40: ZM, PVD | O40: BIOR | P40: Esošā budžeta ietvaros | Q40: Katru gadu
C41: 2. Paplašināts AMR monitorings ar AMR noteikšanu lauksaimniecības dzīvnieku sugām aktuāliem infekcijas slimību ierosinātājiem un AMR noteikšanu lolojumdzīvnieku dzīvnieku sugām | D41: 2.1. Izstrādāti priekšlikumi AMR uzraudzības un profilakses pasākumu finansēšanai noteiktām dzīvnieku sugām un infekcijas slimību ierosinātājiem | N41: ZM, PVD, BIOR | P41: Esošā budžeta ietvaros | Q41: 2025. gada I pusgads
D42: 2.2. Iesniegti priekšlikumi par nepieciešamo finansējumus 1.punktā minētā pasākuma izpildei | N42: ZM, PVD | P42: Esošā budžeta ietvaros | Q42: 2025. gada II pusgads
D43: 2.3. Paplašināta AMR monitoringa programma, papildinot to ar noteiktiem dzīvnieku veselībā aktuāliem infekcijas slimību ierosinātājiem lauksaimniecības dzīvnieku sugām un lolojumdzīvnieku sugām | N43: ZM, PVD | O43: BIOR | P43: Esošā budžeta ietvaros | Q43: No 2026. gada
A44: 2. Rīcības virziens | C44: Antimikrobiālo līdzekļu izplatīšanas, patēriņa, pieejamības, uzraudzības/uzskaites pilnveidošana, atbildīgas un piesardzīgas AB lietošanas veicināšana
A45: 2.1. Sabiedrības veselības jomā
A46: 2.1.1. | B46: Izvērtēt iespējas uzlabot AB piegādes un patēriņa uzraudzību stacionārajās ārstniecības iestādēs | C46: Nodrošināti detalizētāki dati par AB patēriņu stacionārajās ārstniecības iestādēs, lai veicinātu atbildīgu un piesardzīgu AB patēriņu | D46: 1. Izstrādātas rekomendācijas ārstniecības iestādēm AB patēriņa uzraudzības komandas efektīvas darbības nodrošināšanai un analīzes pilnveidošanai stacionārajās ārstniecības iestādēs | E46: 46.03.00 Slimību profilakses nodrošināšana | J46: ='2.1.1. (1.)'!F7 -> 6000 | N46: VM, SPKC | O46: NVD, ZVA, ĀPA, LSB | P46: Nepieciešams papildu finansējums (no valsts budžeta līdzekļiem) | Q46: 2025. gada I. pusgads
D47: 2. Sniegti priekšlikumi grozījumiem normatīvajos aktos, kas nepieciešami zāļu patēriņa uzraudzības uzlabošanai un informācijas sistēmas zāļu patēriņa uzraudzībai stacionārajās ārstniecības iestādēs izveidei | N47: VM, SPKC, VI | O47: ZVA | P47: Esošā budžeta ietvaros | Q47: 2025. gada I pusgads
D48: 3. Veikta 10 ārstniecības iestāžu atbildīgo ārstniecības personu apmācība par AB patēriņa uzraudzības komandas darba organizāciju un nodrošināšanu | E48: 46.03.00 Slimību profilakses nodrošināšana | K48: ='2.1.1. (3.)'!G7 -> 3200 | N48: VM, SPKC | O48: PSKUS, ĀPA | P48: Nepieciešams papildu finansējums (no valsts budžeta līdzekļiem) | Q48: 2026. gada I pusgads
A49: 2.1.2. | B49: Veicināta piesardzīga un atbildīga AB izmantošana bērnu veselības aprūpē | C49: Nodrošināta AB izmantošana un kompensācija no valsts budžeta līdzekļiem bērnu infekciju ārstēšanai atbilstoši labās prakses piemēriem | D49: Pārskatītas racionālas farmakoterapijas vadlīnijās AB lietošanai bērniem | N49: VM, NVD | O49: SPKC, ZVA, ĀPA | P49: Esošā budžeta ietvaros | Q49: 2025. gada I pusgads
A50: 2.1.3. | B50: Apzināt sabiedrības AB lietošanas paradumus un zināšanas šajos jautājumos | C50: Pieejama objektīva un dinamikā salīdzināma informācija par iedzīvotāju AB lietošanas paradumiem un zināšanām šajos jautājumos, lai veidotu mērķtiecīgus sabiedrības informēšanas pasākumus | D50: Latvijas iedzīvotāju veselību ietekmējošo paradumu pētījumos iekļauti jautājumi par iedzīvotāju AB līdzekļu lietošanas paradumiem un zināšanām | N50: VM, SPKC | P50: Esošā budžeta ietvaros | Q50: 2023. gada II pusgads
A51: 2.1.4. | B51: Apstiprināt nacionālo CIA sarakstu | C51: Ieviesti atbildīgas un piesardzīgas AB lietošanas principi sabiedrības un dzīvnieku veselībā, nodrošinot “Vienas veselības” pieeju | D51: Izstrādāti priekšlikumi nacionālā CIA saraksta izstrādei, apstiprināšanai un atjaunošanai un astiprināts nacionālais CIA saraksts | N51: VM | O51: SPKC, ZM, PVD, ĀPA | P51: Esošā budžeta ietvaros | Q51: 2024. gada I pusgads
A52: 2.1.5. | B52: Veicināt EARS-Net, ESAC-Net un ESVAC datu izmantošanu zāļu pieejamības veicināšanā un lēmumu pieņemšanā par AB iekļaušanu ambulatorai ārstēšanai paredzēto zāļu kompensācijas sistēmā | C52: Uzlabojusies pieejamo datu izmantošana lēmumu pieņemšanas procesā | D52: Sagatavoti priekšlikumi informācijas apmaiņai starp ZVA, NVD un SPKC par AB patēriņa tendencēm izmantošanai NVD un ZVA darbā | N52: VM, ZVA | O52: SPKC, NVD, ĀPA | P52: Esošā budžeta ietvaros | Q52: 2025. gada II pusgads
A53: 2.1.6. | B53: Pārskatīt diagnozes, kuru gadījumā tiek veikta AB kompensācija no valsts budžeta | C53: Nodrošināta AB pieejamība atbilstoši saprātīgas AB lietošanas praksei | D53: Izstrādātas racionālas farmakoterapijas vadlīnijas AB lietošanai pieaugušajiem | N53: VM, NVD | O53: SPKC, ZVA, ĀPA | P53: Esošā budžeta ietvaros | Q53: 2025. gada II pusgads
A54: 2.1.7. | B54: Veicināt pieejamo AB patēriņa datu izmantošanu, lai analizētu AB patēriņa tendences un AB izrakstīšanas paradumus ambulatorajā un slimnīcu praksē | C54: Nodrošināta informācijas pieejamība par AB patēriņa tendencēm un AB izrakstīšanas paradumiem, lai ieviestu pasākumus atbildīga un piesardzīga AB patēriņa veicināšanai | D54: Izstrādāti priekšlikumi AB patēriņa datu analīzes uzlabošanai | N54: VM, ZVA | O54: SPKC, NVD, ĀPA | P54: Esošā budžeta ietvaros | Q54: 2025. gada II pusgads
A55: 2.1.8. | B55: Ieviest ES un nacionāla mēroga rekomendācijas AB lietošanai | C55: Uzlabojusies ārstniecības personu izpratne par atbildīgu un piesardzīgu AB patēriņu | D55: 1.Izvērtētas un pilnveidotas Latvijā pieejamās AB lietošanas rekomendācijas | E55: 97.00.00 Nozaru vadība un politikas plānošana (transferta pārskaitījums ZVA) | I55: ='2.1.8.(1.-3.)'!H11 -> 5000 | N55: VM, ZVA | O55: SPKC, ĀPA | P55: Nepieciešams papildu finansējums (no valsts budžeta līdzekļiem) | Q55: 2024. gada II pusgads
D56: 2.Sagatavotas rekomendācijas, informatīvie materiāli un infografikas veselības aprūpes speciālistiem par atbildīgu un piesardzīgu AB lietošanu | I56: ='2.1.8.(1.-3.)'!H12 -> 5000 | N56: VM, ZVA | O56: SPKC, ĀPA | Q56: 2024. gada II pusgads
D57: 3.Veikta 50 ārstniecības iestāžu speciālistu apmācība par atbildīgu un piesardzīgu AB lietošanu | I57: ='2.1.8.(1.-3.)'!H13 -> 20000 | N57: VM, ZVA | O57: SPKC, ĀPA | Q57: 2024. gada II pusgads
A58: 2.2. Dzīvnieku veselības jomā
A59: 2.2.1. | B59: Pilnveidot antimikrobiālo līdzekļu pārdošanas datu apkopošanu un izmantošanu dzīvnieku veselības jomā | C59: Savākti, apkopoti un ziņoti antimikrobiālo līdzekļu pārdošanas dati | D59: 1. Izstrādāts jauns PVD Veterināro zāļu reģistra informācijas sistēmas (VZRIS) statistikas modulis | E59: 20.01.00 Pārtikas nekaitīguma un dzīvnieku veselības valsts uzraudzība un kontrole | I59: ='2.2.1.(1.-4.)'!F7 -> 178959 | J59: ='2.2.1.(1.-4.)'!G7 -> 117975 | K59: ='2.2.1.(1.-4.)'!H7 -> 117975 | N59: ZM, PVD | P59: Nepieciešams papildu finansējums (no valsts budžeta līdzekļiem) | Q59: No 2024.gada
D60: 2. Uzturēts PVD VZRIS statistikas modulis | N60: ZM, PVD | Q60: No 2024.gada
D61: 3. Savākti un apkopoti statistikas dati par valstī izplatītajiem antimikrobiālajiem līdzekļiem veterinārmedicīnā un sniegta informācija EMA par valstī izplatītajiem antimikrobiālajiem līdzekļiem | N61: ZM, PVD | Q61: No 2024 gada
D62: 4. Veikta datu sniedzēju apmācība par datu ievadīšanu PVD VZRIS statistikas modulī | E62: 20.01.00 Pārtikas nekaitīguma un dzīvnieku veselības valsts uzraudzība un kontrole | I62: ='2.2.1.(1.-4.)'!F8 -> 1815 | K62: ='2.2.1.(1.-4.)'!H8 -> 908 | M62: {='2.2.1.(1.-4.)'!J9:J9} -> 908 | N62: ZM, PVD | P62: Nepieciešams papildu finansējums (no valsts budžeta līdzekļiem) | Q62: No 2024. gada
A63: 2.2.2. | B63: Nodrošināt antimikrobiālo līdzekļu lietošanas datu apkopošanu dzīvnieku veselības jomā | C63: Apkopoti antimikrobiālo līdzekļu lietošanas dati lauksaimniecības dzīvnieku veselības jomā. Nodrošināta antimikrobiālo līdzekļu lietošanas datu pieejamība lauksaimniecības dzīvnieku veselības jomā | D63: 1. Apzinātas lietotāju prasības, izstrādātas programmatūras specifikācijas un projektējuma apraksta izmaiņas un papildinājumi, izvērtējot un dokumentējot jaunizvirzītās prasības, PVD veterināro zāļu datu bāzes pilnveidošanas, uzturēšanas un aktualizēšanas procesus, tajā skaitā savietojamība ar LDC datu bāzi un BIOR informācijas sistēmu. Prasības un funkcionalitāte saskaņota ar iesaistītām pusēm | E63: 21.02.00 Sabiedriskā finansējuma administrēšana un valsts uzraudzība lauksaimniecībā | I63: ='2.2.2. (1.)'!E8 -> 139004 | J63: ='2.2.2. (1.)'!F8 -> 131744 | K63: ='2.2.2. (1.)'!G8 -> 70034 | M63: ='2.2.2. (1.)'!I8 -> 70034 | N63: ZM, LDC | O63: PVD, BIOR, LVB | P63: Nepieciešams papildu finansējums (no valsts budžeta līdzekļiem) | Q63: No 2024. gada I pusgada
D64: 2. Papildināta normatīvo aktu bāze ar nosacījumiem par datu par dzīvniekiem lietotajām zālēm ievadīšanu datu bāzē (elektroniskā žaurnālā) | N64: ZM | O64: LDC, PVD, LVB | P64: Esošā budžeta ietvaros | Q64: 2023. gada II pusgads
D65: 3. Nodrošināts daļējs tehniskais atbalsts praktizējošiem veterinārārstiem datu ievadīšanai par dzīvniekiem lietotām zālēm (planšetes, konsultācijas, vadlīnijas u.c.) | N65: ZM | O65: LAD | P65: Esošā budžeta ietvaros vai ES fondu līdzekļi | Q65: 2023. gada II pusgads
D66: 4. Nodrošinātas apmācības/rokasgrāmata praktizējošiem veterinārārstiem par zāļu lietošanas datu ievadīšanu datu bāzē | N66: ZM, PVD | O66: LVB | P66: Esošā budžeta ietvaros | Q66: No 2024.gada regulāri
A67: 2.2.3. | B67: Pilnveidota veterināro zāļu aprites uzraudzība | C67: Nodrošināta veterināro zāļu aprites uzraudzība, ņemot vērā antimikrobiālo līdzekļu un citu veterināro zāļu izplatīšanas un lietošanas datus valstī | D67: 1. Realizētas veterināro zāļu aprites uzraudzības programmas | E67: 20.00.00 Pārtikas nekaitīgums un dzīvnieku veselība | F67: ** | G67: ** | H67: ** | N67: ZM, PVD | O67: BIOR | P67: Esošā budžeta ietvaros | Q67: No 2023.gada I pusgada
D68: 2. Realizētas zāļu atliekvielu monitoringa programmas | E68: 20.00.00 Pārtikas nekaitīgums un dzīvnieku veselība | F68: 226425 | G68: 226425 | H68: 226425 | N68: ZM, PVD | O68: BIOR | P68: Esošā budžeta ietvaros | Q68: No 2023.gada I pusgada
D69: 3. Realizēta antimikrobiālo līdzekļu atbildīgas un piesardzīgas lietošanas pamatprasību ievērošanas uzraudzība | E69: 20.00.00 Pārtikas nekaitīgums un dzīvnieku veselība | F69: ** | G69: ** | H69: ** | N69: ZM, PVD | O69: BIOR | P69: Esošā budžeta ietvaros | Q69: No 2024.gada I pusgada
D70: 4. Realizēta riska pamatota lauksaimniecības dzīvnieku novietņu uzraudzība | E70: 20.00.00 Pārtikas nekaitīgums un dzīvnieku veselība | F70: ** | G70: ** | H70: ** | N70: ZM, PVD | P70: Esošā budžeta ietvaros | Q70: No 2024.gada I pusgada
A71: 2.2.4. | B71: Veicināta antimikrobiālo līdzekļu atbildīgas un piesardzīgas lietošanas principu ievērošanu | C71: 1. Izmantoti apkopotie antimikrobiālo līdzekļu izplatīšanas un lietošanas dati un AMR monitoringa dati | D71: 1.1. Veikta antimikrobiālo līdzekļu lietošanas datu un AMR monitoringa rezultātu analīze un konstatētas AMR attīstības tendences valstī | N71: ZM (LBTU VMF), BIOR | O71: PVD | P71: Esošā budžeta ietvaros | Q71: No 2024.gada I pusgada
D72: 1.2. Aktualizēts antimikrobiālo līdzekļu izvēles saraksts | E72: 22.02.00 Augstākā izglītība | I72: ='2.2.4. (1.2.)'!E7 -> 1344 | J72: ='2.2.4. (1.2.)'!F7 -> 1344 | K72: ='2.2.4. (1.2.)'!G7 -> 1344 | M72: ='2.2.4. (1.2.)'!I7 -> 1344 | N72: ZM (LBTU VMF) | O72: BIOR, PVD, LVB | P72: Nepieciešams papildu finansējums (no valsts budžeta līdzekļiem) | Q72: No 2024.gada I pusgada
D73: 1.3. Izvērtēta nepieciešamība noteikt papildu pagaidu ierobežojumus konkrētu antimikrobiālo līdzekļu lietošanā, ņemot vērā AMR attīstības tendences | N73: ZM (LBTU VMF), BIOR | O73: PVD | P73: Esošā budžeta ietvaros | Q73: No 2027. gada I pusgada
C74: 2. Aktualizētas vadlīnijas par antimikrobiālo līdzekļu atbildīgu un piesardzīgu lietošanu (balstoties uz zinātniskajām atziņām un antimikrobiālo līdzekļu lietošanas un AMR attīstības tendencēm veterinārmedicīnā un medicīnā) | D74: Aktualizētas vadlīnijas antimikrobiālās rezistences attīstības ierobežošanai lauksaimnieciskās ražošanas posmā un veterinārmedicīnas praksē | E74: 22.02.00 Augstākā izglītība | I74: ='2.2.4. (2.)'!E8 -> 16134 | K74: ='2.2.4. (2.)'!G8 -> 5378 | M74: 5378 | N74: ZM (LBTU VMF) | O74: BIOR, PVD, LVB | P74: Nepieciešams papildu finansējums (no valsts budžeta līdzekļiem) | Q74: No 2024.gada I pusgada
A75: 2.2.5. | B75: Veicināt dzīvnieku veselības sekmīgu parvaldību ganāmpulkā | C75: 1. Veicināta vienota izpratne par dzīvnieku ganāmpulku veselības plānu | D75: Izstrādāti ieteikumi lauksaimniecības dzīvnieku ganāmpulku veselības plānam | E75: 22.02.00 Augstākā izglītība | I75: ='2.2.5. (1.)'!E7 -> 8067 | J75: ='2.2.5. (1.)'!F7 -> 8067 | N75: ZM (LBTU VMF), LLKC | O75: LVB, PVD, BIOR | P75: Nepieciešams papildu finansējums (no valsts budžeta līdzekļiem) | Q75: No 2024. gada II pusgada
E76: 22.05.00 Dotācija SIA "Latvijas Lauku konsultāciju un izglītības centrs" informācijas analīzes un apmaiņas sistēmai | I76: ='2.2.5. (1.)'!E8 -> 9792 | J76: ='2.2.5. (1.)'!F8 -> 4080 | K76: ='2.2.5. (1.)'!G8 -> 4080 | M76: ='2.2.5. (1.)'!I8 -> 4080
C77: 2. Veicināta vienota izpratne par dzīvniekveselības apmeklējumiem | D77: Izstrādāti ieteikumi dzīvniekveselības apmeklējumiem ganāmpulkos | E77: 22.05.00 Dotācija SIA "Latvijas Lauku konsultāciju un izglītības centrs" informācijas analīzes un apmaiņas sistēmai | I77: ='2.2.5. (2.)'!E8 -> 14689 | J77: ='2.2.5. (2.)'!F8 -> 4080 | K77: ='2.2.5. (2.)'!G8 -> 4080.16 | M77: ='2.2.5. (2.)'!I8 -> 4080 | N77: ZM (LBTU VMF), LLKC | O77: LVB, PVD, BIOR | P77: Nepieciešams papildu finansējums (no valsts budžeta līdzekļiem) | Q77: No 2024. gada II pusgada
C78: 3. Veicināta vienota izpratne par labu lopkopības praksi | D78: 3.1. Izstrādāti labas ražošanas prakses ieteikumi mikoplazmozes ierobežošanai piena lopkopībā Latvijā | N78: ZM (LBTU VMF) | P78: Esošā budžeta ietvaros | Q78: 2023. gada I pusgads
D79: 3.2. Autogēno vakcīnu pret Mycoplasma bovis izstrāde un aprobācija piena lopkopības sektorā | N79: ZM (LBTU VMF) | P79: ES līdzfinansējuma piesaiste | Q79: 2026. gada I pusgads
A80: 2.2.6. | B80: Samazināt antimikrobiālo līdzekļu lietošanu, nodrošinot atbildīgu un piesardzīgu antimikrobiālo līdzekļu lietošanu dzīvnieku veselības jomā | C80: Veicināta antimikrobiālo līdzekļu atbildīgas un piesardzīgas lietošanas principu ievērošana dzīvnieku veselības jomā | D80: Aktualizētas antimikrobiālo līdzekļu atbildīgas un piesardzīgas lietošanas vadlīnijas labas veterinārmedicīniskās prakses vadlīniju ietvaros | N80: ZM (LBTU VMF) | O80: PVD, BIOR, LVB | P80: Esošā budžeta ietvaros, ES līdzfinansējuma piesaiste | Q80: Regulāri, balstoties uz jaunākajām zinātniskajām atziņām
A81: 3. Rīcības virziens | C81: Infekcijas slimību uzraudzība, kontrole un profilakses pilnveidošana
A82: 3.1. Sabiedrības veselības jomā
A83: 3.1.1. | B83: Izvērtēt iespējas paredzēt motivācijas sistēmu ārstniecības iestādēm veikt VASI un AMR uzraudzību un profilaksi, tai skaitā paredzot mikrobioloģisko izmeklējumu veikšanu | C83: Izvērtēti šķēršļi, tai skaitā finansējuma trūkums VASI un AMR uzraudzības un profilakses pasākumu nodrošināšanai ārstniecības iestādēs | D83: 1. Sagatavoti priekšlikumi VASI un AMR uzraudzības un profilakses pasākumu, tai skaitā mikrobioloģiskās izmeklēšanas veicināšanai, sniedzot veselības aprūpes pakalpojumus | N83: VM, SPKC | O83: NVD, ĀPA, LSB | P83: Esošā budžeta ietvaros | Q83: 2025. gada II pusgads
D84: 2. Ekspertu grupas izveide, kas izvērtē Eiropas Slimību profilakses un kontroles centra un citu starptautiski atzītu ekspertu grupu piedāvātos indikatorus, izvēlas Latvijas situācijai piemērotākos un izstrādā indikatoru aprakstu un vienas dienas seminārs indikatoru prioritizēšanai ārstniecības iestādēm: grupā 20-30 cilvēki | E84: 46.03.00 Slimību profilakses nodrošināšana | J84: ='3.1.1. (2.)'!F7 -> 12800 | N84: VM, SPKC | O84: NVD, ĀPA, LSB | P84: Nepieciešams papildu finansējums (no valsts budžeta līdzekļiem) | Q84: 2025. gada II pusgads
A85: 3.1.2. | B85: Izstrādāt ķirurģiskās profilakses rekomendācijas atbilstoši jaunākajiem labās prakses piemēriem ES | C85: Uzlabojusies izpratne par VASI profilaksi ķirurģijā | D85: Izstrādātas rekomendācijas par VASI profilaksi | E85: 46.03.00 Slimību profilakses nodrošināšana | J85: ='3.1.2.'!F7 -> 11000 | N85: VM, SPKC | O85: ĀPA | P85: Nepieciešams papildu finansējums (no valsts budžeta līdzekļiem) | Q85: 2025. gada I pusgads
A86: 3.1.3. | B86: Uzlabot ārstniecības iestāžu struktūrvienību darbinieku zināšanas par VASI profilaksi un monitoringu | C86: Nodrošināti efektīvāki VASI profilakses pasākumi ārstniecības iestāžu struktūrvienībās ar augstu VASI izplatības risku | D86: Aktualizēti ieteikumi ārstniecības iestādēm par higiēniskā un pretepidēmiskā režīma pamatprasību ieviešanu ārstniecības iestādēs (higiēniskā un pretepidēmiskā režīma paraugplāns) | E86: 46.03.00 Slimību profilakses nodrošināšana | N86: VM, SPKC | O86: ĀPA, VI | P86: Esošā budžeta ietvaros | Q86: No 2025. gada regulāri
A87: 3.1.4. | B87: Izstrādāt un ieviest ārstniecības iestādēs VASI uzraudzības un kontroles standartus konkrētu invazīvu manipulāciju (centrālā venozā katetra ievietošana un aprūpe, urīna katetra lietošana, plaušu mākslīgās ventilācijas veikšana, traheostomas ievietošana utml.) veikšanai | C87: Pilnveidota VASI uzraudzība un profilakse stacionārajās ārstniecības iestādēs | D87: 1. Izstrādāts paraugdokuments ārstniecības iestādēm 2 invazīvu manipulāciju standartu ieviešanai | E87: 46.03.00 Slimību profilakses nodrošināšana | J87: ='3.1.4. (1.)'!F8 -> 11000 | N87: VM, SPKC | O87: RSU, ĀPA, LSB | P87: Nepieciešams papildu finansējums (no valsts budžeta līdzekļiem) | Q87: 2025. gada I pusgads
D88: 2. Veikta 50 ārstniecības iestāžu atbildīgo personu apmācība par invazīvo procedūru standartu izstrādi un ieviešanu. | E88: 46.03.00 Slimību profilakses nodrošināšana | J88: ='3.1.4. (2.)'!F7 -> 11550 | N88: VM, SPKC | O88: RSU, ĀPA, LSB | P88: Nepieciešams papildu finansējums (no valsts budžeta līdzekļiem) | Q88: 2025. gada II pusgads
A89: 3.2. Dzīvnieku veselības jomā
A90: 3.2.1. | B90: Pilnveidot dzīvnieku infekcijas slimību ierobežošanas, profilakses un biodrošības pasākumus | C90: 1.Veicināta biodrošības pasākumu vadlīniju izstrāde | D90: Izstrādātas biodrošības pasākumu vadlīnijas atsevišķām lauksaimniecības dzīvnieku sugām | E90: 22.05.00 Dotācija SIA "Latvijas Lauku konsultāciju un izglītības centrs" informācijas analīzes un apmaiņas sistēmai | I90: ='3.2.1. (1.)'!E8 -> 16320 | J90: ='3.2.1. (1.)'!F8 -> 4080 | K90: ='3.2.1. (1.)'!G8 -> 1632 | M90: ='3.2.1. (1.)'!I8 -> 1632 | N90: ZM, LLKC | O90: BIOR, LVB, LCAA, PVD | P90: Nepieciešams papildu finansējums (no valsts budžeta līdzekļiem) | Q90: No 2024.gada I pusgada
C91: 2. Veicināta nozares profesionāļu un dzīvnieku īpašnieku izpratne par valstī nepieciešamajām vakcīnām un infekcijas slimību ierobežošanas pasākumiem | D91: Izstrādātas rekomendācijas dzīvnieku vakcinācijai | N91: ZM (LBTU VMF) | O91: PVD, BIOR, LVB | P91: Esošā budžeta ietvaros | Q91: No 2024. gada II pusgada
C92: 3. Veicināta ekonomisko infekcijas slimību (C saraksta) ierobežošana | D92: Izstrādāts ekonomisko infekcijas slimību (C saraksta) ierobežošanas plāns | N92: ZM (LBTU VMF) | O92: PVD, BIOR, LVB | P92: Esošā budžeta ietvaros | Q92: No 2024. gada II pusgada
A93: 4. Rīcības virziens | C93: MMR-TB izplatības ierobežošana sabiedrības veselībā
A94: 4.1. | B94: Izvērtēt iespējas uzlabot mājas aprūpes pieejamību TB pacientiem | C94: Uzlabojusies veselības aprūpes pakalpojumu pieejamība TB pacientiem | D94: 1. Sagatavoti priekšlikumi un apzināti nepieciešamie resursi mājas aprūpes pakalpojumu pieejamības uzlabošanai | N94: VM, NVD | O94: RAKUS | P94: Esošā budžeta ietvaros | Q94: 2025. gada I pusgads
D95: 2. Veiktas izmaiņas mājas aprūpes pakalpojumu sniegšanā TB pacientiem atbilstoši izstrādātajiem priekšlikumiem un pieejamajiem resursiem | N95: VM, NVD | O95: RAKUS | P95: Esošā budžeta ietvaros | Q95: 2026.gada I pusgads
A96: 4.2. | B96: Izvērtēt iespējas paplašināt jaunākās paaudzes zāļu pieejamību TB ārstēšanai | C96: Izvērtētas TB ārstēšanas efektivitātes uzlabošanas iespējas | D96: Sagatavoti priekšlikumi grozījumiem jaunākās paaudzes prettuberkulozes līdzekļu ieviešanai | N96: VM | O96: ZVA, NVD, RAKUS, ĀPA | P96: Esošā budžeta ietvaros | Q96: 2024. gada I pusgads
A97: 4.3. | B97: Ieviest videoasistētu tuberkulozes ārstēšanas uzraudzību ambulatorajā etapā | C97: Uzlabojusies TB pacientu līdzestība TB ārstēšanā | D97: Izstrādāti priekšlikumi ārstniecības personām (pneimonologiem, ģimenes ārstiem) tiešsaistes video konsultāciju ieviešanai | N97: VM, NVD | O97: RAKUS | P97: Esošā budžeta ietvaros | Q97: 2024. gada I pusgads
A98: 4.4. | B98: Uzlabot agrīnu tuberkulozes pacientu atklāšanu un ārstēšanu atbilstoši PVO rekomendācijām | C98: Uzlabojusies MR-TB pacientu ārstēšanas kvalitāte | D98: Izstrādātas TB diagnostikas un ārstēšanas rekomendācijas atbilstoši jaunākajiem zinātniskajiem pierādījumiem un labākās prakses piemēriem | E98: 46.03.00 Slimību profilakses nodrošināšana | I98: ='4.4.'!E7 -> 11000 | N98: VM, SPKC | O98: RAKUS | P98: Nepieciešams papildu finansējums (no valsts budžeta līdzekļiem) | Q98: 2024. gada I pusgads
A99: 5. Rīcības virziens | C99: Institūciju sadarbības stiprināšana AMR jomā
A100: 5.1. | B100: Stiprināt SPKC kapacitāti (AMR jautājumus koordinējošā institūcija) | C100: Nodrošināta efektīva AMR uzraudzības koordinācija nacionālajā līmenī | D100: Sagatavoti priekšlikumi personāla nodrošinājumam un kompetencei SPKC | N100: VM, SPKC | O100: ĀPA, RAKUS, PSKUS | P100: Esošā budžeta ietvaros | Q100: 2024. gada I pusgads
A101: 5.2. | B101: Izvērtēt iespējas izveidot AMR “Viena veselība” kompetences centru dzīvnieku veselības jomā | C101: Uzlabojusies starpinstitūciju sadarbība AMR jomā | D101: 1. Izstrādāti priekšlikumi AMR kompetences centra izveidei un finansēšanai | E101: 20.02.00 Riska zinātniskā novērtēšana un references laboratorijas funkciju veikšana dzīvnieku veselības, pārtikas un dzīvnieku barības jomā | I101: ='5.2. (1.-2.)'!E7 -> 2729 | J101: ='5.2. (1.-2.)'!F7 -> 2729 | K101: 2729 | M101: 2729 | N101: ZM, BIOR | O101: LBTU VMF | P101: Nepieciešams papildu finansējums (no valsts budžeta līdzekļiem) | Q101: 2025.gada II pusgads
D102: 2. Izveidots un uzturēts AMR “Viena veselība” kompetences centrs dzīvnieku veselības jomā | E102: 20.02.00 Riska zinātniskā novērtēšana un references laboratorijas funkciju veikšana dzīvnieku veselības, pārtikas un dzīvnieku barības jomā | K102: ='5.2. (1.-2.)'!G7 -> 2729 | M102: ='5.2. (1.-2.)'!I7 -> 2729 | N102: ZM, BIOR | O102: LBTU VMF | P102: Nepieciešams papildu finansējums (no valsts budžeta līdzekļiem) | Q102: No 2026.gada
...

Sheet 1.1.1.
E1: 1. Pielikums Antimikrobiālās rezistences ierobežošanas un piesardzīgas antibiotiku lietošanas plānam “Viena veselība” 2023.-2027. gadam
B3: Izstrādāts metodiskais materiāls un paaugstināta ārstniecības iestāžu atbildīgo personu kompetence kvalitatīvā AMR datu reģistrācijā, analīzē un izmantošanā
B5: Finanšu rādītāji | D5: 2023.gads | E5: 2024.gads | F5: 2025.gads | G5: 2026.gads | H5: Turpmākā laikposmā līdz pasākuma pabeigšanai (ja tas ir terminēts) | I5: Turpmāk katru gadu (ja pasākums nav terminēts) | J5: Sadalījums pa apakšprogrammām; budžeta programmas kods
B6: Ieņēmumi kopā, euro | D6: - | E6: - | F6: - | G6: - | H6: - | I6: -
B7: Izdevumi kopā, euro | E7: 3520 | J7: 46.03.00 Slimību profilakses nodrošināšana
B10: Metodiskā un mācību materiāla izstrāde, saskaņošana un norormēšana (A4, elektroniski izdalāms materiāls)
B12: Amata nosaukums | C12: Darba uzdevums | F12: DD VSAOI 23,59% | G12: Atalgojums, EURO | H12: Budžeta programmas kods un nosaukums
B13: Eksperts | C13: 1. Metodiskā materiāla izstrāde | H13: 46.03.00 Slimību profilakses nodrošināšana
C14: 2. Metodiskā materiāla aprobācija un saskaņošana. Ārējo ekspertu iesaiste saskaņošanas procesā | G14: 2000
C15: 3. Materiāla sagatavošana izplatīšanai IT vidē | G15: 520
C16: 4. Mācību materiāla izstrāde
C17: 5. Mācību materiāla saskaņošana | G17: 1000
B18: KOPĀ: | G18: 3520

Sheet 1.1.4.
E1: 2. Pielikums Antimikrobiālās rezistences ierobežošanas un piesardzīgas antibiotiku lietošanas plānam “Viena veselība” 2023.-2027. gadam
B3: Izstrādāts metodiskais materiāls ārstniecības personām par sabiedrības veselībai nozīmīgu mikroorganismu diagnostiku, nodrošinot efektīvu infekcijas slimību diagnostiku un uzlabojot AMR uzraudzību
B5: Finanšu rādītāji | D5: 2023.gads | E5: 2024.gads | F5: 2025.gads | G5: 2026.gads | H5: Turpmākā laikposmā līdz pasākuma pabeigšanai (ja tas ir terminēts) | I5: Turpmāk katru gadu (ja pasākums nav terminēts) | J5: Sadalījums pa apakšprogrammām; budžeta programmas kods
B6: Ieņēmumi kopā, euro | D6: - | E6: - | F6: - | G6: - | H6: - | I6: -
B7: Izdevumi kopā, euro | F7: 10000 | J7: 46.03.00 Slimību profilakses nodrošināšana
B9: Pozīcijas | H9: Summa | I9: Budžeta programmas kods un nosaukums
B10: Divu ārējo ekspertu pakalpojumi: materiāla satura izstrāde un saskaņošana | H10: 9000 | I10: 46.03.00 Slimību profilakses nodrošināšana
B11: Materiāla dizaina izstrāde un maketēšana | H11: 1000
B12: Kopā: | H12: 10000
B14: *Materiāla izstrādes gaitā tā tehniskie parametri var tikt mainīti ņemot vērā materiāla saturu apjomu un izvēlēto dizainu

Sheet 1.1.8.
E1: 3. Pielikums Antimikrobiālās rezistences ierobežošanas un piesardzīgas antibiotiku lietošanas plānam “Viena veselība” 2023.-2027. gadam
B3: Izstrādātas rekomendācijas pacientu skrīningam multirezistentu mikroorganismu identificēšanai Latvijas ārstniecības iestādēs
B5: Finanšu rādītāji | D5: 2023.gads | E5: 2024.gads | F5: 2025.gads | G5: 2026.gads | H5: Turpmākā laikposmā līdz pasākuma pabeigšanai (ja tas ir terminēts) | I5: Turpmāk katru gadu (ja pasākums nav terminēts) | J5: Sadalījums pa apakšprogrammām; budžeta programmas kods
B6: Ieņēmumi kopā, euro | D6: - | E6: - | F6: - | G6: - | H6: - | I6: -
B7: Izdevumi kopā, euro | H7: 6000 | J7: 46.03.00 Slimību profilakses nodrošināšana
B10: Metodiskā materiāla un algoritmu dažādām pacientu grupām izstrāde (10 lpp.) - 2027.gads
B12: Pozīcijas | H12: Summa | I12: Budžeta programmas kods un nosaukums
B13: Ārējo ekspertu pakalpojumi: materiāla satura izstrāde un saskaņošana. Tiek slēgti pakalpojuma līgumi, bet samaksa par gabaldarbu | H13: 5000 | I13: 46.03.00 Slimību profilakses nodrošināšana
B14: Materiāla dizaina izstrāde | H14: 1000
B15: Kopā: | H15: 6000

Sheet 1.1.9.
E1: 4. Pielikums Antimikrobiālās rezistences ierobežošanas un piesardzīgas antibiotiku lietošanas plānam “Viena veselība” 2023.-2027. gadam
B3: Izstrādātas rekomendācijas ārstniecības personām un laboratorijas speciālistiem par pacientu mikrobioloģisku izmeklēšanu un AB jutības noteikšanu, pilnīgojot ārstniecības personu iemaņas AMR diagnostikā
B5: Finanšu rādītāji | D5: 2023.gads | E5: 2024.gads | F5: 2025.gads | G5: 2026.gads | H5: Turpmākā laikposmā līdz pasākuma pabeigšanai (ja tas ir terminēts) | I5: Turpmāk katru gadu (ja pasākums nav terminēts) | J5: Sadalījums pa apakšprogrammām; budžeta programmas kods
B6: Ieņēmumi kopā, euro1 | D6: - | E6: - | F6: - | G6: - | H6: - | I6: -
B7: Izdevumi kopā, euro | G7: 6000 | H7: - | I7: - | J7: 46.03.00 Slimību profilakses nodrošināšana
B10: 1.1.3. un 1.1.7 pasākuma ietvaros izstrādātā materiāla aktualizācija (paredzamais formāts: A5, krāsains, divkārši krītots, skavots, ievākots, 36 lpp.*) un elektroniska un drukāta materiāla izstrāde
B12: Pozīcijas | H12: Summa | I12: Budžeta programmas kods un nosaukums
B13: Ārējo ekspertu pakalpojumi: materiāla satura izvērtēšana un atzinuma sagatavošana. Tiek slēgti pakalpojuma līgumi, bet samaksa par gabaldarbu | H13: 5000 | I13: 46.03.00 Slimību profilakses nodrošināšana
B14: Materiāla dizaina izstrāde | H14: 1000
B15: Kopā: | H15: 6000
B16: * Materiāls tiks publicēts SPKC tīmekļvietnē: izstrādes gaitā tā tehniskie parametri var tikt mainīti, ņemot vērā materiāla saturu apjomu un izvēlēto dizainu

Sheet 2.1.1. (1.)
D1: 5. Pielikums Antimikrobiālās rezistences ierobežošanas un piesardzīgas antibiotiku lietošanas plānam “Viena veselība” 2023.-2027. gadam
B3: 1.Izstrādātas rekomendācijas ārstniecības iestādēm AB patēriņa uzraudzības komandas efektīvas darbības nodrošināšanai un analīzes pilnveidošanai stacionārajās ārstniecības iestādēs
B5: Finanšu rādītāji | D5: 2023.gads | E5: 2024.gads | F5: 2025.gads | G5: 2026.gads | H5: Turpmākā laikposmā līdz pasākuma pabeigšanai (ja tas ir terminēts) | I5: Turpmāk katru gadu (ja pasākums nav terminēts) | J5: Sadalījums pa apakšprogrammām; budžeta programmas kods
B6: Ieņēmumi kopā, euro | D6: - | E6: - | F6: - | G6: - | H6: - | I6: -
B7: Izdevumi kopā, euro | F7: 6000 | J7: 46.03.00 Slimību profilakses nodrošināšana
B10: Pozīcijas | H10: Summa | I10: Budžeta programmas kods un nosaukums
B11: Ārējo ekspertu pakalpojumi: materiāla satura izvērtēšana un atzinuma sagatavošana. Tiek slēgti pakalpojuma līgumi, bet samaksa par gabaldarbu | H11: 5000 | I11: 46.03.00 Slimību profilakses nodrošināšana
B12: Materiāla dizaina izstrāde | H12: 1000
B13: Kopā: | H13: 6000

Sheet 2.1.1. (3.)
E1: 6. Pielikums Antimikrobiālās rezistences ierobežošanas un piesardzīgas antibiotiku lietošanas plānam “Viena veselība” 2023.-2027. gadam
B3: Izstrādātas rekomendācijas ārstniecības iestādēm AB patēriņa uzraudzības komandas efektīvas darbības nodrošināšanai un analīzes pilnveidošanai stacionārajās ārstniecības iestādēs
B5: Finanšu rādītāji | D5: 2023.gads | E5: 2024.gads | F5: 2025.gads | G5: 2026.gads | H5: Turpmākā laikposmā līdz pasākuma pabeigšanai (ja tas ir terminēts) | I5: Turpmāk katru gadu (ja pasākums nav terminēts) | J5: Sadalījums pa apakšprogrammām; budžeta programmas kods
B6: Ieņēmumi kopā, euro | D6: - | E6: - | F6: - | G6: - | H6: - | I6: -
B7: Izdevumi kopā, euro | G7: =H16 -> 3200 | J7: 46.03.00 Slimību profilakses nodrošināšana
B10: Vienas dienas seminārs indikatoru prioritizēšanai: grupā 15 cilvēki
B12: Pozīcijas | H12: Summs | I12: Budžeta programmas kods un nosaukums
B13: Divu lektoru pakalpojumi nodarbību vadīšanā | H13: 400 | I13: 46.03.00 Slimību profilakses nodrošināšana
B14: Diskusijas telpu noma un tehniskais atbalsts semināra laikā: īre un aprīkojums (projektors, dators) | H14: 1500
B15: Divas kafijas pauzes (no rīta un pēcpusdienā) | H15: 1300
B16: Kopā: | H16: =SUM(H13:H15) -> 3200

Sheet 2.1.8.(1.-3.)
E1: 7. Pielikums Antimikrobiālās rezistences ierobežošanas un piesardzīgas antibiotiku lietošanas plānam “Viena veselība” 2023.-2027. gadam
B3: Izstrādātas un ieviestas ES un nacionāla mēroga rekomendācijas un veikta 50 ārstniecības iestāžu speciālistu apmācība par atbildīgu un piesardzīgu AB lietošanu
B5: Finanšu rādītāji | D5: 2023.gads | E5: 2024.gads | F5: 2025.gads | G5: 2026.gads | H5: Turpmākā laikposmā līdz pasākuma pabeigšanai (ja tas ir terminēts) | I5: Turpmāk katru gadu (ja pasākums nav terminēts) | J5: Sadalījums pa apakšprogrammām; budžeta programmas kods
B6: Ieņēmumi kopā, euro | D6: - | E6: - | F6: - | G6: - | H6: - | I6: -
B7: Izdevumi kopā, euro | E7: 30000 | J7: 97.00.00 Nozaru vadība un politikas plānošana (transferta pārskaitījums ZVA)
B10: Pozīcijas | H10: Summa | I10: Budžeta programmas kods un nosaukums
B11: Ārējo ekspertu pakalpojumi: AB lietošanas rekomendāciju pilnveidošana | H11: 5000 | I11: 97.00.00 Nozaru vadība un politikas plānošana
B12: Ārējo ekspertu pakalpojumi: informatīva materiāla satura izstrāde | H12: 5000 | I12: 97.00.00 Nozaru vadība un politikas plānošana
B13: Ārējo ekspertu pakalpojumi: materiāla satura izstrāde un saskaņošana, nodarbību vadīšana | H13: 20000 | I13: 97.00.00 Nozaru vadība un politikas plānošana
B14: Kopā: | H14: 30000

Sheet 2.2.1.(1.-4.)
E1: 8. Pielikums Antimikrobiālās rezistences ierobežošanas un piesardzīgas antibiotiku lietošanas plānam “Viena veselība” 2023.-2027. gadam
B2: 2.2.1. Pilnveidot antimikrobiālo līdzekļu pārdošanas datu apkopošanu un izmantošanu dzīvnieku veselības jomā
B4: Uzdevums | C4: Pasākums | D4: Budžeta programmas (apakšprogrammas) kods un nosaukums | E4: Nepieciešamais papildu finansējums
E5: 2023.gads | F5: 2024.gads | G5: 2025.gads | H5: 2026.gads | I5: Turpmākajā laikposmā līdz pasākuma pabeigšanai (ja pasākuma īstenošana ir terminēta) | J5: Turpmāk ik gadu, ja pasākuma izpilde nav terminēta
B7: Pilnveidot antimikrobiālo līdzekļu pārdošanas datu apkopošanu un izmantošanu dzīvnieku veselības jomā/ Savākti, apkopoti un ziņoti antimikrobiālo līdzekļu pārdošanas dati | C7: 1. Izstrādāts jauns PVD Veterināro zāļu reģistra informācijas sistēmas (VZRIS) statistikas modulis; 2. Uzturēts PVD VZRIS statistikas modulis; 3. Apkopoti dati PVD VZRIS statistikas modulī un sniegta informācija EMA par valstī izplatītajiem antimikrobiālajiem līdzekļiem | D7: 20.01.00 Pārtikas nekaitīguma un dzīvnieku veselības valsts uzraudzība un kontrole | F7: =ROUND(SUM(E20:E22),0) -> 178959 | G7: =ROUND(SUM(G20:G22),0) -> 117975 | H7: =ROUND(SUM(I20:I22),0) -> 117975
C8: 4. Veikta datu sniedzēju apmācības par datu ievadīšanu PVD VZRIS statistikas modulī Sadaļā ietverti arī AMR plāna 9.8.2.punktā minētie informatīvie materiāli | D8: 20.01.00 Pārtikas nekaitīguma un dzīvnieku veselības valsts uzraudzība un kontrole | F8: =ROUND(E23,0) -> 1815 | H8: =ROUND(I23,0) -> 908 | J8: =ROUND(I23,0) -> 908
D9: KOPĀ: | E9: =SUM(E7:E8) -> 0 | F9: =SUM(F7:F8) -> 180774 | G9: =SUM(G7:G8) -> 117975 | H9: =SUM(H7:H8) -> 118883 | J9: =J8 -> 908
B11: Pārtikas un veterinārais dienests
B12: Izdevumu atšifrējums pa pozīcijām
B14: Pasākuma Nr.2.2.1. | C14: Izdevumu veids | D14: 2024.gads | F14: 2025.gads | H14: 2026.gads
D15: Cena par vienību (ārpakalpojumam), EUR | E15: Izdevumi gadā, EUR | F15: Cena par vienību (ārpakalpojumam), EUR | G15: Izdevumi gadā, EUR | H15: Cena par vienību (ārpakalpojumam), EUR | I15: Izdevumi gadā, EUR
B16: Atlīdzība
C17: KOPĀ | E17: 0 | G17: 0 | I17: 0
B19: Citi izdevumi - Ņemot vērā, ka tiek izstrādāta jauna likumdošana, kas regulē šo jomu, un gala redakcija nav pieejama, kā arī, ka nav līdz galam izstrādātas ES un EZA (Eiropas Zāļu aģentūras) sistēmas un to datu apmaiņas risinājumi, līdz ar to nav iespējams realizēt datu apmaiņu PVD sistēmās. Tas nesīs nepieciešamību pēc izmaiņu pieprasījumiem, un to realizācijas, kā arī citas ar sistēmu uzturēšanu saistītas izmaksas.
C20: IT ārpakalpojums, 2465 stundas | D20: 72.6 | E20: =2465*D20 -> 178959
C21: IT ārpakalpojums, 1625 stundas | F21: 72.6 | G21: =1625*F21 -> 117975
C22: IT ārpakalpojums, 1625 stundas | H22: 72.6 | I22: =1625*H22 -> 117975
C23: Informatīvo materiālu sagatavošanas izmaksas, 3 bukleti (lieltirgotavām, veterinārārstiem, zemniekiem), par antibiotiku izrakstīšanu un lietošanu, un zāļu lietošanu pēc kaskādes | D23: =ROUND(500*1.21,0) -> 605 | E23: =D23*3 -> 1815 | H23: =250*1.21 -> 302.5 | I23: =ROUND(H23*3,0) -> 908
C24: Citi izdevumi kopā | E24: =SUM(E20:E23) -> 180774 | G24: =SUM(G20:G23) -> 117975 | I24: =SUM(I20:I23) -> 118883
C25: KOPĀ atlīdzība un citi izdevumi | E25: =E17+E24 -> 180774 | G25: =G17+G24 -> 117975 | I25: =I17+I24 -> 118883

Sheet 2.2.2. (1.)
E1: 9. Pielikums Antimikrobiālās rezistences ierobežošanas un piesardzīgas antibiotiku lietošanas plānam “Viena veselība” 2023.-2027. gadam
A2: 2.2.2. Nodrošināt antimikrobiālo līdzekļu lietošanas datu apkopošanu dzīvnieku veselības jomā
A4: Uzdevums | B4: Pasākums | C4: Budžeta programmas (apakšprogrammas) kods un nosaukums | D4: Nepieciešamais papildu finansējums
D5: 2023.gads | E5: 2024.gads | F5: 2025.gads | G5: 2026.gads | H5: Turpmākajā laikposmā līdz pasākuma pabeigšanai (ja pasākuma īstenošana ir terminēta) | I5: Turpmāk ik gadu, ja pasākuma izpilde nav terminēta
B7: 1. Apzinātas lietotāju prasības, izstrādātas programmatūras specifikācijas un projektējuma apraksta izmaiņas un papildinājumi, izvērtējot un dokumentējot jaunizvirzītās prasības, PVD veterināro zāļu datu bāzes pilnveidošanas, uzturēšanas un aktualizēšanas procesus, tajā skaitā savietojamība ar LDC datu bāzi un BIOR informācijas sistēmu. Prasības un funkcionalitāte saskaņota ar iesaistītām pusēm 2.Saskaņā ar izstrādātu dokumentāciju veiktas izmaiņas un papildinājumi LDC datubāzes struktūrā un infrastruktūrā. (LDC) 3.Nodrošināta veterināro zāļu klasifikatora automātiska apmaiņa ar web-servisu palīdzību starp PVD VZRIS un LDC informācijas sistēmu. (PVD, LDC) (2025.gadā tiks veikts darbs pie uzlabojumiem kautuvju, piena kvalitātes, un citās LDC informācijas sistēmas apakšsistēmās, nodrošinot uzkrātās izlietoto veterināro zāļu informācijas izmantošanu datu savstarpējas atbilstības (cross-checking) nolūkos. (LDC) 5.2025.gadā tiks izveidoti atskaišu, risku analīzes, statistikas atlases rīki, kas izmanto apkopotus datus par valstī lauksaimniecības dzīvniekiem lietotajiem antimikrobiālajiem līdzekļiem un citām veterinārajām zālēm pa dzīvnieku sugām izstrāde. (LDC)) | C7: 21.02.00 Sabiedriskā finansējuma administrēšana un valsts uzraudzība lauksaimniecībā | E7: =D25 -> 139004 | F7: =F25 -> 131744 | G7: =H25 -> 70034 | I7: =H25 -> 70034
C8: KOPĀ: | D8: =SUM(D7:D7) -> 0 | E8: =SUM(E7:E7) -> 139004 | F8: =SUM(F7:F7) -> 131744 | G8: =SUM(G7:G7) -> 70034 | H8: =SUM(H7:H7) -> 0 | I8: =SUM(I7:I7) -> 70034
A10: Lauksaimniecības datu centrs
B12: Izdevumu veids | C12: 2024.gads | E12: 2025.gads | G12: Turpmāk ik gadu, ja pasākuma izpilde nav terminēta (t.i., pasākums pārtop par pastāvīgu institūcijas funkciju)
C13: Izdevumi mēnesī (atlīdzībai) vai cena par vienību (ārpakalpojumam), EUR | D13: Izdevumi gadā, EUR, ar VSAOI 23,59% | E13: Izdevumi mēnesī (atlīdzībai) vai cena par vienību (ārpakalpojumam), EUR | F13: Izdevumi gadā, EUR, ar VSAOI 23,59% | G13: Izdevumi mēnesī (atlīdzībai) vai cena par vienību (ārpakalpojumam), EUR | H13: Izdevumi gadā, EUR, ar VSAOI 23,59%
A14: Atlīdzība
A15: 1 | B15: Datu bāzes vadītāja atlīdzība*, 21.2 saime, II līmenis, 9.mēnešalgu grupa, mēnešalga EUR 2067, 0,2 slodzes | C15: =2067*0.2 -> 413.4 | D15: =C15*12*1.2359 -> 6131.0527 | E15: =2067*0.2 -> 413.4 | F15: =E15*12*1.2359 -> 6131.0527 | G15: =2067*0.2 -> 413.4 | H15: =G15*12*1.2359 -> 6131.0527
B16: Informatīvo sistēmu projektētāja atlīdzība* 21.4. saime, II līmenis, 9.mēnešalgu grupa, mēnešalga EUR 2067, 0,2 slodzes | C16: =2067*0.2 -> 413.4 | D16: =C16*12*1.2359 -> 6131.0527 | E16: =2067*0.2 -> 413.4 | F16: =E16*12*1.2359 -> 6131.0527 | G16: =2067*0.2 -> 413.4 | H16: =G16*12*1.2359 -> 6131.0527
B17: Informatīvo sistēmu izstrādes nodaļas vadītāja atlīdzība, 21.4 saime, IV līmenis, 12.mēnešalgu grupa, mēnešalga EUR 3105, 0,2 slodzes | C17: =3105*0.2 -> 621 | D17: =C17*12*1.2359 -> 9209.9268 | E17: =3105*0.2 -> 621 | F17: =E17*12*1.2359 -> 9209.9268 | G17: =3105*0.2 -> 621 | H17: =G17*12*1.2359 -> 9209.9268
B18: Divu sistēmanalītiķu atlīdzība* 21.4. saime, II līmenis, 9.mēnešalgu grupa, mēnešalga EUR 2067, 2 x 0,2 slodzes | C18: =2067*2*0.2 -> 826.8 | D18: =C18*12*1.2359 -> 12262.105 | E18: =2067*2*0.2 -> 826.8 | F18: =E18*12*1.2359 -> 12262.105 | G18: =2067*2*0.2 -> 826.8 | H18: =G18*12*1.2359 -> 12262.105
B19: KOPĀ | D19: =D15+D16+D17+D18 -> 33734.138 | F19: =F15+F16+F17+F18 -> 33734.138 | H19: =H15+H16+H17+H18 -> 33734.138
A20: Citi izdevumi
A21: 2 | B21: IT ārpakalpojums, 1450 stundas | C21: 72.6 | D21: =1450*72.6 -> 105270
B22: IT ārpakalpojums, 1350 stundas | E22: 72.6 | F22: =E22*1350 -> 98010
B23: IT ārpakalpojums, 500 stundas | G23: 72.6 | H23: =G23*500 -> 36300
B24: Citi izdevumi kopā | D24: =SUM(D21:D23) -> 105270 | F24: =SUM(F21:F23) -> 98010 | H24: =SUM(H21:H23) -> 36300
B25: KOPĀ atlīdzība un citi izdevumi | D25: =ROUND(D19+D24,0) -> 139004 | F25: =ROUND(F19+F24,0) -> 131744 | H25: =ROUND(H19+H24,0) -> 70034
A27: * atlīdzība esošajiem nodarbinātajiem

Sheet 2.2.4. (1.2.)
E1: 10. Pielikums Antimikrobiālās rezistences ierobežošanas un piesardzīgas antibiotiku lietošanas plānam “Viena veselība” 2023.-2027. gadam
A3: 2.2.4. Veicināta antimikrobiālo līdzekļu atbildīgas un piesardzīgas lietošanas principu ievērošanu
B4: 1.2. Aktualizēts antimikrobiālo līdzekļu izvēles saraksts
B5: Finanšu rādītāji | D5: 2023.gads | E5: 2024.gads | F5: 2025.gads | G5: 2026.gads | H5: Turpmākā laikposmā līdz pasākuma pabeigšanai (ja tas ir terminēts) | I5: Turpmāk katru gadu (ja pasākums nav terminēts) | J5: Sadalījums pa apakšprogrammām; budžeta programmas kods
B6: Ieņēmumi kopā, euro | D6: - | E6: - | F6: - | G6: - | H6: - | I6: -
B7: Izdevumi kopā, euro | D7: 0 | E7: =ROUND($H$14,0) -> 1344 | F7: =ROUND($H$14,0) -> 1344 | G7: =ROUND($H$14,0) -> 1344 | H7: 0 | I7: =ROUND($H$14,0) -> 1344 | J7: 22.02.00 Augstākā izglītība
B9: Amata nosaukums | C9: Slodžu skaits | D9: Atalgojums | E9: DD VSAOI | F9: Atalgojuma mainīgā daļa, 5% | G9: Atvaļinājuma rezerve | H9: Kopā mēnesī, ņemot vērā slodžu skaitu
B10: Pētnieks (LBTU) | C10: 0.1 | D10: 240 | E10: =(D10+F10+G10)*0.2359 -> 64.156295 | F10: =D10*0.05 -> 12 | G10: =((D10+F10)/21.08)*1.67 -> 19.963947 | H10: =SUM(D10:G10) -> 336.12024
B11: Pētnieks (LBTU) | C11: 0.1 | D11: 240 | E11: =(D11+F11+G11)*0.2359 -> 64.156295 | F11: =D11*0.05 -> 12 | G11: =((D11+F11)/21.08)*1.67 -> 19.963947 | H11: =SUM(D11:G11) -> 336.12024
B12: Pētnieks (LBTU) | C12: 0.1 | D12: 240 | E12: =(D12+F12+G12)*0.2359 -> 64.156295 | F12: =D12*0.05 -> 12 | G12: =((D12+F12)/21.08)*1.67 -> 19.963947 | H12: =SUM(D12:G12) -> 336.12024
B13: Pētnieks (LBTU) | C13: 0.1 | D13: 240 | E13: =(D13+F13+G13)*0.2359 -> 64.156295 | F13: =D13*0.05 -> 12 | G13: =((D13+F13)/21.08)*1.67 -> 19.963947 | H13: =SUM(D13:G13) -> 336.12024
B14: KOPĀ | C14: =SUM(C10:C13) -> 0.4 | D14: =SUM(D10:D13) -> 960 | E14: =SUM(E10:E13) -> 256.62518 | F14: =SUM(F10:F13) -> 48 | G14: =SUM(G10:G13) -> 79.855787 | H14: =SUM(H10:H13) -> 1344.481
B16: Pasākums tiek īstenots 1x gadā

Sheet 2.2.4. (2.)
E1: 11. Pielikums Antimikrobiālās rezistences ierobežošanas un piesardzīgas antibiotiku lietošanas plānam “Viena veselība” 2023.-2027. gadam
A3: 2.2.4. Veicināta antimikrobiālo līdzekļu atbildīgas un piesardzīgas lietošanas principu ievērošanu
A4: 2. Aktualizētas vadlīnijas antimikrobiālās rezistences attīstības ierobežošanai lauksaimnieciskās ražošanas posmā un veterinārmedicīnas praksē
B6: Finanšu rādītāji | D6: 2023.gads | E6: 2024.gads | F6: 2025.gads | G6: 2026.gads | H6: Turpmākā laikposmā līdz pasākuma pabeigšanai (ja tas ir terminēts) | I6: Turpmāk katru gadu (ja pasākums nav terminēts) | J6: Sadalījums pa apakšprogrammām; budžeta programmas kods
B7: Ieņēmumi kopā, euro | D7: - | E7: - | F7: - | G7: - | H7: - | I7: -
B8: Izdevumi kopā, euro | E8: =E18 -> 16134 | F8: 0 | G8: =G18 -> 5378 | I8: =G18 -> 5378 | J8: 22.02.00 Augstākā izglītība
B10: Amata nosaukums | C10: Slodžu skaits | D10: Atalgojums | E10: DD VSAOI | F10: Atalgojuma mainīgā daļa, 5% | G10: Atvaļinājuma rezerve | H10: Kopā mēnesī, ņemot vērā slodžu skaitu
B11: Pētnieks (LBTU) | C11: 0.1 | D11: 240 | E11: =(D11+F11+G11)*0.2359 -> 64.156295 | F11: =D11*0.05 -> 12 | G11: =((D11+F11)/21.08)*1.67 -> 19.963947 | H11: =SUM(D11:G11) -> 336.12024
B12: Pētnieks (LBTU) | C12: 0.1 | D12: 240 | E12: =(D12+F12+G12)*0.2359 -> 64.156295 | F12: =D12*0.05 -> 12 | G12: =((D12+F12)/21.08)*1.67 -> 19.963947 | H12: =SUM(D12:G12) -> 336.12024
B13: Pētnieks (LBTU) | C13: 0.1 | D13: 240 | E13: =(D13+F13+G13)*0.2359 -> 64.156295 | F13: =D13*0.05 -> 12 | G13: =((D13+F13)/21.08)*1.67 -> 19.963947 | H13: =SUM(D13:G13) -> 336.12024
B14: Pētnieks (LBTU) | C14: 0.1 | D14: 240 | E14: =(D14+F14+G14)*0.2359 -> 64.156295 | F14: =D14*0.05 -> 12 | G14: =((D14+F14)/21.08)*1.67 -> 19.963947 | H14: =SUM(D14:G14) -> 336.12024
B15: KOPĀ | C15: =SUM(C11:C14) -> 0.4 | D15: =SUM(D11:D14) -> 960 | E15: =SUM(E11:E14) -> 256.62518 | F15: =SUM(F11:F14) -> 48 | G15: =SUM(G11:G14) -> 79.855787 | H15: =SUM(H11:H14) -> 1344.481
B17: Nr.p.k. | C17: Izmaksu veids kopā euro | D17: 2023.gads | E17: 2024.gads | F17: 2025.gads | G17: 2026.gads
B18: 1 | C18: Darba alga, ieskaitot DD nodokļus | E18: =ROUND(H15*12,0) -> 16134 | F18: 0 | G18: =ROUND(H15*4,0) -> 5378
B20: 2024.gadā 0.4 slodzes 12 mēnešus
B21: Turpmākajos gados: ik pēc pāris gadiem 0.4 slodzes 4 mēnešus gadā

Sheet 2.2.5. (1.)
E1: 12. Pielikums Antimikrobiālās rezistences ierobežošanas un piesardzīgas antibiotiku lietošanas plānam “Viena veselība” 2023.-2027. gadam
A3: 2.2.5. | B3: Izstrādāti ieteikumi lauksaimniecības dzīvnieku ganāmpulku veselības plānam
B5: Finanšu rādītāji | D5: 2023.gads | E5: 2024.gads | F5: 2025.gads | G5: 2026.gads | H5: Turpmākā laikposmā līdz pasākuma pabeigšanai (ja tas ir terminēts) | I5: Turpmāk katru gadu (ja pasākums nav terminēts) | J5: Sadalījums pa apakšprogrammām; budžeta programmas kods
B6: Ieņēmumi kopā, euro | D6: - | E6: - | F6: - | G6: - | H6: - | I6: -
B7: Izdevumi kopā, euro | D7: - | E7: =E25 -> 8067 | F7: =F25 -> 8067 | H7: - | J7: 22.02.00 Augstākā izglītība
B8: Izdevumi kopā, euro | D8: - | E8: =F29 -> 9792 | F8: =F30 -> 4080 | G8: =F31 -> 4080 | H8: - | I8: =F31 -> 4080 | J8: 22.05.00 Dotācija SIA "Latvijas Lauku konsultāciju un izglītības centrs" informācijas analīzes un apmaiņas sistēmai
B10: Kopumā izglītības pasākumiem atvēlētais finansējums parēdzēts ekspertu apzināšanai, piesasitei un atalgojumam, apmācību programmas un satura izstrādei, apmācību materiālu izstrādei, Pašu apmācību realizācijai. Organizātoriskie pasākumi (telpas meteriāli, tehnika, realizācija) teorētisko apmācību realizēšanai un pēc tam vis tas pats praktisko apmācību realizācijai saimniecībās utt.
B14: 1.daļa - 22.02.00
B15: Amata nosaukums | C15: Slodžu skaits | D15: Atalgojums | E15: DD VSAOI | F15: Atalgojuma mainīgā daļa, 5% | G15: Atvaļinājuma rezerve | H15: Kopā mēnesī, ņemot vērā slodžu skaitu
B16: Pētnieks (LBTU) | C16: 0.05 | D16: 120 | E16: =(D16+F16+G16)*0.2359 -> 32.078148 | F16: =D16*0.05 -> 6 | G16: =((D16+F16)/21.08)*1.67 -> 9.9819734 | H16: =SUM(D16:G16) -> 168.06012
B17: Pētnieks (LBTU) | C17: 0.05 | D17: 120 | E17: =(D17+F17+G17)*0.2359 -> 32.078148 | F17: =D17*0.05 -> 6 | G17: =((D17+F17)/21.08)*1.67 -> 9.9819734 | H17: =SUM(D17:G17) -> 168.06012
B18: Pētnieks (LBTU) | C18: 0.05 | D18: 120 | E18: =(D18+F18+G18)*0.2359 -> 32.078148 | F18: =D18*0.05 -> 6 | G18: =((D18+F18)/21.08)*1.67 -> 9.9819734 | H18: =SUM(D18:G18) -> 168.06012
B19: Pētnieks (LBTU) | C19: 0.05 | D19: 120 | E19: =(D19+F19+G19)*0.2359 -> 32.078148 | F19: =D19*0.05 -> 6 | G19: =((D19+F19)/21.08)*1.67 -> 9.9819734 | H19: =SUM(D19:G19) -> 168.06012
B20: KOPĀ | C20: =SUM(C16:C19) -> 0.2 | D20: =SUM(D16:D19) -> 480 | E20: =SUM(E16:E19) -> 128.31259 | F20: =SUM(F16:F19) -> 24 | G20: =SUM(G16:G19) -> 39.927894 | H20: =SUM(H16:H19) -> 672.24048
B24: Nr.p.k. | C24: Izmaksu veids kopā euro | D24: 2023.gads | E24: 2024.gads | F24: 2025.gads
B25: 1 | C25: Darba alga, ieskaitot DD nodokļus | D25: 0 | E25: =ROUND($H$20*12,0) -> 8067 | F25: =ROUND($H$20*12,0) -> 8067
B27: 2.daļa - 22.05.00
B28: Nr. p.k. | C28: Gads | D28: Mēneši | E28: Darba h mēnesī | F28: Kopā
B29: 1 | C29: 2024.g. II pusgads (veselības plāna izstrāde) | D29: 6 | E29: 32 | F29: =ROUND(D29*E29*$F$47,0) -> 9792
B30: 2 | C30: 2025.g. (izmaiņas un aktualizēšana) | D30: 10 | E30: 8 | F30: =ROUND(D30*E30*$F$47,0) -> 4080
B31: 3 | C31: 2026.g. (izmaiņas un aktualizēšana) | D31: 10 | E31: 8 | F31: =ROUND(D31*E31*$F$47,0) -> 4080
B33: LLKC konsultantu darba stundas izmaksas
B34: Nr. p.k. | C34: Izmaksu postenis | D34: Skaits | E34: Cena, EUR | F34: Summa, EUR
B35: 1. | C35: Darba samaksa | F35: =F36+F37+F38 -> 35.73
B36: 1.1. | C36: darba alga (A2*), stundas | D36: 1 | E36: 28.91 | F36: =D36*E36 -> 28.91
E37: 28.91 | F37: =D37*E37 -> 0
B38: 1.2. | C38: DDSAOI - 23,59% | F38: =ROUND((F36+F37)*0.2359,2) -> 6.82
B39: 2. | C39: Mainīgās izmaksas | F39: =F40 -> 1.692
B40: 2.1. | C40: Transports, km | D40: 4.7 | E40: 0.36 | F40: =E40*D40 -> 1.692
B41: 3. | C41: Fiksētās izmaksas | F41: =F42+F43+F44+F45+F46 -> 13.58
B42: 3.1. | C42: Speciālistu attīstības izmaksas - apmācība, prakse, pieredzes apmaiņa | D42: 0.08 | F42: =ROUND(F35*D42,2) -> 2.86
B43: 3.2. | C43: Administrācijas izmaksas | D43: 0.15 | F43: =ROUND(F35*D43,2) -> 5.36
B44: 3.3. | C44: IT infrastruktūras izmaksas | D44: 0.04 | F44: =ROUND(F35*D44,2) -> 1.43
B45: 3.4. | C45: Biroja izdevumi | D45: 0.07 | F45: =ROUND(F35*D45,2) -> 2.5
B46: 3.5. | C46: Nolietojums | D46: 0.04 | F46: =ROUND(F35*D46,2) -> 1.43
B47: 4. | C47: KOPĀ | F47: =F35+F39+F41 -> 51.002
C48: * - Darbu izpildes kvalifikācijas kods atbilstoši valdes apstiprinātai kalkulācijai
C49: DDSAOI - darba devēja sociālās apdrošināšanas obligātā iemaksa

Sheet 3.1.4. (2.)
F1: 17. Pielikums Antimikrobiālās rezistences ierobežošanas un piesardzīgas antibiotiku lietošanas plānam “Viena veselība” 2023.-2027. gadam
B3: 3.1.4. Pilnveidotas ārstniecības iestāžu atbildīgo struktūrvienību darbinieku izpratne un zināšanas par VASI profilakses pasākumu ieviešanu, tai skaitā par roku higiēnas veicināšanu un monitoringu
B5: Finanšu rādītāji | D5: 2023.gads | E5: 2024.gads | F5: 2025.gads | G5: 2026.gads | H5: Turpmākā laikposmā līdz pasākuma pabeigšanai (ja tas ir terminēts) | I5: Turpmāk katru gadu (ja pasākums nav terminēts) | J5: Sadalījums pa apakšprogrammām; budžeta programmas kods
B6: Ieņēmumi kopā, euro | D6: - | E6: - | F6: - | G6: - | H6: - | I6: -
B7: Izdevumi kopā, euro | D7: - | E7: - | F7: 11550 | J7: 46.03.00
B10: Divi trīsdienu mācību semināri 50 ārstniecības iestāžu atbildīgajām personām par MK notiekumos Nr.106. ietvertajām VASI profilakses prasībām, tai skaitā par roku higiēnas apmācības programmu un monitoringa ieviešanu ārstniecības iestādēs. Apmācībā iekļauti arī 1.1.1. un 1.1.3. pasākumi
B12: Pozīcijas | H12: Pakalpojuma izmaksas, EUR | I12: Kopsumma, EUR | J12: Budžeta programmas kods un nosaukums
B13: Mācību programmas izstrāde. Tiek slēgti pakalpojuma līgumi, samaksu veicot par gabaldarbu | H13: 1500 | I13: 1500 | J13: 46.03.00 Slimību profilakses nodrošināšana
B14: Nodarbību vadīšana divās grupās , t.sk., sagatavošanās nodarbībām: 2 lektoru atalgojums dienā, maksājot par gabaldarbu (katrai grupai plānotas 3 dienu nodarbības) | H14: 600 | I14: =H14*6 -> 3600
B15: Apmācību telpu, tehnikas un aprīkojuma (projektors, dators) noma dienā. Vienas grupas mācību kursa ir 3 dienas. | H15: 1500 | I15: =H15*3 -> 4500
B16: Divām grupām divas kafijas pauzes dienā katrai. (Vienas grupas mācību kurss ir 3 dienas) | H16: 325 | I16: =H16*6 -> 1950
B17: Kopā: | H17: =SUM(H16:H16) -> 325 | I17: =SUM(I13:I16) -> 11550

Sheet 2.2.5. (2.)
D1: 13. Pielikums Antimikrobiālās rezistences ierobežošanas un piesardzīgas antibiotiku lietošanas plānam “Viena veselība” 2023.-2027. gadam
A3: 2.2.5. Veicināt dzīvnieku veselības sekmīgu parvaldību ganāmpulkā
A4: 2. Izstrādāti ieteikumi dzīvniekveselības apmeklējumiem ganāmpulkos
B6: Finanšu rādītāji | D6: 2023.gads | E6: 2024.gads | F6: 2025.gads | G6: 2026.gads | H6: Turpmākā laikposmā līdz pasākuma pabeigšanai (ja tas ir terminēts) | I6: Turpmāk katru gadu (ja pasākums nav terminēts) | J6: Sadalījums pa apakšprogrammām; budžeta programmas kods
B7: Ieņēmumi kopā, euro | D7: - | E7: - | F7: - | G7: - | H7: - | I7: -
B8: Izdevumi kopā, euro | D8: 0 | E8: 14689 | F8: 4080 | G8: =E14 -> 4080.16 | H8: 0 | I8: 4080 | J8: 22.05.00 Dotācija SIA "Latvijas Lauku konsultāciju un izglītības centrs" informācijas analīzes un apmaiņas sistēmai
A11: Nr. p.k. | B11: Gads | C11: Mēneši | D11: Darba h mēnesī | E11: Kopā
A12: 1 | B12: 2024.g. I pusgads (apmeklējumu veidlapu izstrāde) | C12: 6 | D12: 48 | E12: =C12*D12*E30 -> 14688.576
A13: 2 | B13: 2025.g. (izmaiņas un aktualizēšana) | C13: 10 | D13: 8 | E13: =C13*D13*E30 -> 4080.16
A14: 3 | B14: 2026.g. (izmaiņas un aktualizēšana) | C14: 10 | D14: 8 | E14: =C14*D14*E30 -> 4080.16
A16: LLKC konsultantu darba stundas izmaksas
A17: Nr. p.k. | B17: Izmaksu postenis | C17: Skaits | D17: Cena, EUR | E17: Summa, EUR
A18: 1. | B18: Darba samaksa | E18: =E19+E20+E21 -> 35.73
A19: 1.1. | B19: darba alga (A2*), stundas | C19: 1 | D19: 28.91 | E19: =C19*D19 -> 28.91
D20: 28.91 | E20: =C20*D20 -> 0
A21: 1.2. | B21: DDSAOI - 23,59% | E21: =ROUND((E19+E20)*0.2359,2) -> 6.82
A22: 2. | B22: Mainīgās izmaksas | E22: =E23 -> 1.692
A23: 2.1. | B23: Transports, km | C23: 4.7 | D23: 0.36 | E23: =D23*C23 -> 1.692
A24: 3. | B24: Fiksētās izmaksas | E24: =E25+E26+E27+E28+E29 -> 13.58
A25: 3.1. | B25: Speciālistu attīstības izmaksas - apmācība, prakse, pieredzes apmaiņa | C25: 0.08 | E25: =ROUND(E18*C25,2) -> 2.86
A26: 3.2. | B26: Administrācijas izmaksas | C26: 0.15 | E26: =ROUND(E18*C26,2) -> 5.36
A27: 3.3. | B27: IT infrastruktūras izmaksas | C27: 0.04 | E27: =ROUND(E18*C27,2) -> 1.43
A28: 3.4. | B28: Biroja izdevumi | C28: 0.07 | E28: =ROUND(E18*C28,2) -> 2.5
A29: 3.5. | B29: Nolietojums | C29: 0.04 | E29: =ROUND(E18*C29,2) -> 1.43
A30: 4. | B30: KOPĀ | E30: =E18+E22+E24 -> 51.002
B31: * - Darbu izpildes kvalifikācijas kods atbilstoši valdes apstiprinātai kalkulācijai
B32: DDSAOI - darba devēja sociālās apdrošināšanas obligātā iemaksa

Sheet 3.1.1. (2.)
E1: 14. Pielikums Antimikrobiālās rezistences ierobežošanas un piesardzīgas antibiotiku lietošanas plānam “Viena veselība” 2023.-2027. gadam
B3: 3.1.1. Izvērtēti šķēršļi, tai skaitā finansējuma trūkums VASI un AMR uzraudzības un profilakses pasākumu nodrošināšanai ārstniecības iestādēs. Sagatavoti priekšlikumi VASI un AMR uzraudzības un profilakses pasākumu, tai skaitā mikrobioloģiskās izmeklēšanas vecināšanai, sniedzot veselības aprūpes pakalpojumus
B5: Finanšu rādītāji | D5: 2023.gads | E5: 2024.gads | F5: 2025.gads | G5: 2026.gads | H5: Turpmākā laikposmā līdz pasākuma pabeigšanai (ja tas ir terminēts) | I5: Turpmāk katru gadu (ja pasākums nav terminēts) | J5: Sadalījums pa apakšprogrammām; budžeta programmas kods
B6: Ieņēmumi kopā, euro | D6: - | E6: - | F6: - | G6: - | H6: - | I6: -
B7: Izdevumi kopā, euro | D7: - | E7: - | F7: 12800 | G7: - | H7: - | I7: - | J7: 46.03.00 Slimību profilakses nodrošināšana
B10: Ekspertu grupas izveide, kas izvērtē Eiropas Slimību profilakses un kontroles centra un citu starptautiski atzītu ekspertu grupu piedāvātos indikatorus, izvēlas Latvijas situācijai piemērotākos un izstrādā indikatoru aprakstu
B12: Pozīcijas | H12: Summs | I12: Budžeta programmas kods un nosaukums
B13: Ekspertu grupas pakalpojumi: starptautisko indikatoru izvērtēšana un Latvijas situācijai atbilstošu indikatoru izstrāde. Tiek slēgti pakalpojuma līgumi, bet samaksa par gabaldarbu | H13: 10000 | I13: 46.03.00 Slimību profilakses nodrošināšana
B14: Kopā: | H14: 10000
B17: Vienas dienas seminārs indikatoru prioritizēšanai: grupā 20-30 cilvēki
B19: Pozīcijas | H19: Summa | I19: Budžeta programmas kods un nosaukums
B20: Diskusijas telpu noma un tehniskais atbalsts semināra laikā: īre un aprīkojums (projektors, dators) izdales materiāli dalībniekiem | H20: 1500 | I20: 46.03.00 Slimību profilakses nodrošināšana
B21: Divas kafijas pauzes (no rīta un pēcpusdienā) un pusdienas | H21: 1300
B22: Kopā: | H22: 2800

Sheet 3.1.2.
E1: 15. Pielikums Antimikrobiālās rezistences ierobežošanas un piesardzīgas antibiotiku lietošanas plānam “Viena veselība” 2023.-2027. gadam
B3: 3.1.2. Izstrādātas ķirurģiskās profilakses rekomendācijas atbilstoši jaunākajiem labās prakses piemēriem ES
B5: Finanšu rādītāji | D5: 2023.gads | E5: 2024.gads | F5: 2025.gads | G5: 2026.gads | H5: Turpmākā laikposmā līdz pasākuma pabeigšanai (ja tas ir terminēts) | I5: Turpmāk katru gadu (ja pasākums nav terminēts) | J5: Sadalījums pa apakšprogrammām; budžeta programmas kods
B6: Ieņēmumi kopā, euro | D6: - | E6: - | F6: - | G6: - | H6: - | I6: -
B7: Izdevumi kopā, euro | D7: - | E7: - | F7: 11000 | G7: - | H7: 11000 | I7: - | J7: 46.03.00 Slimību profilakses nodrošināšana
B10: Metodiskā materiāla izstrāde: A4, elektroniski izdalāms materiāls
B12: Pozīcijas | H12: Summs | I12: Budžeta programmas kods un nosaukums
B13: Ārējo ekspertu - ķirurga, infekciju kontroles peciālista un operāciju māsas - pakalpojumi: metodiskā materiāla satura izstrāde un saskaņošana. Tiek slēgti pakalpojuma līgumi, bet samaksa par gabaldarbu | H13: 10000 | I13: 46.03.00 Slimību profilakses nodrošināšana
B14: Materiāla dizaina izstrāde un maketēšana | H14: 1000 | I14: 46.03.00 Slimību profilakses nodrošināšana
B15: Kopā: | H15: 11000

Sheet 3.1.4. (1.)
E1: 16. Pielikums Antimikrobiālās rezistences ierobežošanas un piesardzīgas antibiotiku lietošanas plānam “Viena veselība” 2023.-2027. gadam
B3: 3.1.4.Izstrādāti un ieviesti ārstniecības iestādēs VASI uzraudzības un kontroles standarti konkrētu invazīvu manipulāciju (centrālā venozā katetra ievietošana un aprūpe, urīna katetra lietošana, plaušu mākslīgās ventilācijas veikšana, traheostomas ievietošana utml.) veikšanai
B6: Finanšu rādītāji | D6: 2023.gads | E6: 2024.gads | F6: 2025.gads | G6: 2026.gads | H6: Turpmākā laikposmā līdz pasākuma pabeigšanai (ja tas ir terminēts) | I6: Turpmāk katru gadu (ja pasākums nav terminēts) | J6: Sadalījums pa apakšprogrammām; budžeta programmas kods
B7: Ieņēmumi kopā, euro | D7: - | E7: - | F7: - | G7: - | H7: - | I7: -
B8: Izdevumi kopā, euro | D8: - | E8: - | F8: 11000 | G8: - | H8: - | I8: - | J8: 46.03.00 Slimību profilakses nodrošināšana
B11: Izstrādāts paraugdokuments ārstniecības iestādēm 2 invazīvu manipulāciju standartu ieviešanai un 20 ārstniecības iestāžu atbildīgās personas apmācītas par invazīvo procedūru standartu izstrādi un ieviešanu
B13: Pozīcijas | H13: Kopsumma, EUR | I13: Budžeta programmas kods un nosaukums
B14: Ārējo ekspertu pakalpojumi: materiāla satura izstrāde un saskaņošana, nodarbību vadīšana. Tiek slēgti pakalpojuma līgumi, bet samaksa par gabaldarbu | H14: 10000 | I14: 46.03.00 Slimību profilakses nodrošināšana
B15: Mācību materiāla dizaina izstrāde un maketēšana | H15: 1000 | I15: 46.03.00 Slimību profilakses nodrošināšana
B16: Kopā: | H16: 11000

Sheet 3.2.1. (1.)
F1: 18. Pielikums Antimikrobiālās rezistences ierobežošanas un piesardzīgas antibiotiku lietošanas plānam “Viena veselība” 2023.-2027. gadam
A3: 3.2.1. Pilnveidot dzīvnieku infekcijas slimību ierobežošanas, profilakses un biodrošības pasākumus
A4: Izstrādātas biodrošības pasākumu vadlīnijas atsevišķām lauksaimniecības dzīvnieku sugām
B6: Finanšu rādītāji | D6: 2023.gads | E6: 2024.gads | F6: 2025.gads | G6: 2026.gads | H6: Turpmākā laikposmā līdz pasākuma pabeigšanai (ja tas ir terminēts) | I6: Turpmāk katru gadu (ja pasākums nav terminēts) | J6: Sadalījums pa apakšprogrammām; budžeta programmas kods
B7: Ieņēmumi kopā, euro | D7: - | E7: - | F7: - | G7: - | H7: - | I7: -
B8: Izdevumi kopā, euro | D8: - | E8: =E11 -> 16320 | F8: =E12 -> 4080 | G8: =E13 -> 1632 | H8: - | I8: =E13 -> 1632 | J8: 22.05.00 Dotācija SIA "Latvijas Lauku konsultāciju un izglītības centrs" informācijas analīzes un apmaiņas sistēmai
B10: Gads | C10: Mēneši | D10: Darba h mēnesī | E10: Kopā
B11: 2024.g. (biodrošības pasākumu vadlīniju izstrāde) | C11: 10 | D11: 32 | E11: =ROUND(C11*D11*$E$28,2) -> 16320
B12: 2025.g. (izmaiņas un aktualizēšana) | C12: 10 | D12: 8 | E12: =ROUND(C12*D12*$E$28,2) -> 4080
B13: 2026.g. (izmaiņas un aktualizēšana) | C13: 4 | D13: 8 | E13: =ROUND(C13*D13*$E$28,2) -> 1632
B15: Konsultanata darba finansējums (eiro/stundā) pamatojums
B16: Izmaksu postenis | C16: Skaits | D16: Cena (EUR) | E16: Summa (EUR)
B17: 1. Darba samaksa | E17: 35.73
B18: 1.1. Darba alga* | C18: 1 | D18: 28.91 | E18: 28.91
B19: 1.2.DDSAOI (23,59%) | E19: 6.82
B20: 2. Mainīgās izmaksas | E20: 1.69
B21: 2.1.Transports (km) | C21: 5 | D21: 0.36 | E21: 1.69
B22: 3. Fiksētās izmaksas | E22: 13.58
B23: 3.1. Speciālistu attīstības izmaksas - apmācība, prakse, pieredzes apmaiņa | C23: 0.08 | E23: 2.86
B24: 3.2.Administrācijas izmaksas | C24: 0.15 | E24: 5.36
B25: 3.3. IT infrastruktūras izmaksas | C25: 0.04 | E25: 1.43
B26: 3.4. Biroja izdevumi | C26: 0.07 | E26: 2.5
B27: 3.5. Nolietojums | C27: 0.04 | E27: 1.43
B28: KOPĀ: | E28: 51

Sheet 4.4.
E1: 20. Pielikums Antimikrobiālās rezistences ierobežošanas un piesardzīgas antibiotiku lietošanas plānam “Viena veselība” 2023.-2027. gadam
B3: 4.4. Uzlabojusies agrīna MR-TB pacientu atklāšana un ārstēšanas kvalitāte, pamatojoties uz izstrādātajām starptautiskos zinātniskos pierādījumos un labās prakses piemēros balstītām TB diagnostikas un ārstēšanas rekomendācijām
B5: Finanšu rādītāji | D5: 2023.gads | E5: 2024.gads | F5: 2025.gads | G5: 2026.gads | H5: Turpmākā laikposmā līdz pasākuma pabeigšanai (ja tas ir terminēts) | I5: Turpmāk katru gadu (ja pasākums nav terminēts) | J5: Sadalījums pa apakšprogrammām; budžeta programmas kods
B6: Ieņēmumi kopā, euro | D6: - | E6: - | F6: - | G6: - | H6: - | I6: -
B7: Izdevumi kopā, euro | D7: - | E7: 11000 | F7: - | G7: - | H7: - | I7: - | J7: 46.03.00 Slimību profilakses nodrošināšana
B10: Izstrādātas TB diagnostikas un ārstēšanas rekomendācijas
B12: Pozīcijas | H12: Kopsumma, EUR | I12: Budžeta programmas kods un nosaukums
B13: Divu ārējo ekspertu pakalpojumi: metodiskā materiāla satura izstrāde un saskaņošana. Tiek slēgti pakalpojuma līgumi, bet samaksa par gabaldarbu | H13: 10000 | I13: 46.03.00 Slimību profilakses nodrošināšana
B14: Materiāla dizaina izstrāde un maketēšana. | H14: 1000 | I14: 46.03.00 Slimību profilakses nodrošināšana
B15: Kopā: | H15: 11000

Sheet 5.2. (1.-2.)
D1: 21. Pielikums Antimikrobiālās rezistences ierobežošanas un piesardzīgas antibiotiku lietošanas plānam “Viena veselība” 2023.-2027. gadam
A3: 5.2. Institūciju sadarbības stiprināšana AMR jomā
B5: Finanšu rādītāji | D5: 2023.gads | E5: 2024.gads | F5: 2025.gads | G5: 2026.gads | H5: Turpmākā laikposmā līdz pasākuma pabeigšanai (ja tas ir terminēts) | I5: Turpmāk katru gadu (ja pasākums nav terminēts) | J5: Sadalījums pa apakšprogrammām; budžeta programmas kods
B6: Ieņēmumi kopā, euro | D6: - | E6: - | F6: - | G6: - | H6: - | I6: -
B7: Izdevumi kopā, euro | D7: 0 | E7: =E15 -> 2729 | F7: =F15 -> 2729 | G7: 2729 | H7: 0 | I7: 2729 | J7: 20.02.00 Riska zinātniskā novērtēšana un references laboratorijas funkciju veikšana dzīvnieku veselības, pārtikas un dzīvnieku barības jomā
A9: 5. Rīcības virziens: Institūciju sadarbības stiprināšana AMR jomā | D9: Pasākuma īstenošanas gads
D10: 2023.gads | E10: 2024.gads | F10: 2025.gads | G10: 2026.gads | H10: 2027.gads
A11: Pasākums | B11: Rezultatīvais rādītājs
A12: 5.2. Izvērtēt iespejas izveidot AMR kompetences centru dzīvnieku veselības jomā | B12: 1. Izstrādāti priekšlikumi AMR kompetences centra izveidei un finansēšanai | E12: =D24 -> 2728.86 | F12: =D24 -> 2728.86 | I12: 2025.g. II.pusgads
B13: 2.Izveidots un uzturēts AMR kompetences centrs dzīvnieku veselības jomā | G13: 2728.9 | H13: 2728.9 | I13: No 2026.gada
C15: KOPĀ: | D15: =ROUND(SUM(D12:D14),0) -> 0 | E15: =ROUND(SUM(E12:E14),0) -> 2729 | F15: =ROUND(SUM(F12:F14),0) -> 2729 | G15: =ROUND(SUM(G12:G14),0) -> 2729 | H15: =ROUND(SUM(H12:H14),0) -> 2729
A17: Izdevumu pozīcija
A18: 1.) Eksperta atlīdzība uzdevumu izpildei (0,1 slodze/gadā) | D18: skatīt zemāk | G18: 2728.86
A19: 2) Eksperta atlīdzība uzdevumu izpildei (1 slodze/gadā) | D19: skatīt zemāk | G19: 2728.9
A21: Ekspertu izdevumi | B21: Euro/mēnesī | C21: Euro/gadā | D21: 0,1 slodze/ gadā
A22: L4 kategorijas pieredz. eksperta Max mēnešalga | B22: 1840 | C22: =B22*12 -> 22080
A23: Darba dēvēja sociālais nodoklis (23,59%) | B23: =ROUND(B22*0.2359,2) -> 434.06 | C23: =B23*12 -> 5208.72
A24: Kopā atlīdzība | B24: =SUM(B22:B23) -> 2274.06 | C24: =SUM(C22:C23) -> 27288.72 | D24: 2728.86

Sheet 5.7. (2.2.)
E1: 22. Pielikums Antimikrobiālās rezistences ierobežošanas un piesardzīgas antibiotiku lietošanas plānam “Viena veselība” 2023.-2027. gadam
A3: 5.7. Institūciju sadarbības stiprināšana AMR jomā
B5: Finanšu rādītāji | D5: 2023.gads | E5: 2024.gads | F5: 2025.gads | G5: 2026.gads | H5: Turpmākā laikposmā līdz pasākuma pabeigšanai (ja tas ir terminēts) | I5: Turpmāk katru gadu (ja pasākums nav terminēts) | J5: Sadalījums pa apakšprogrammām; budžeta programmas kods
B6: Ieņēmumi kopā, euro | D6: - | E6: - | F6: - | G6: - | H6: - | I6: -
B7: Izdevumi kopā, euro | D7: 0 | E7: =E12 -> 2729 | F7: =F12 -> 2729 | G7: =G12 -> 2729 | H7: 0 | I7: =G12 -> 2729 | J7: 20.02.00 Riska zinātniskā novērtēšana un references laboratorijas funkciju veikšana dzīvnieku veselības, pārtikas un dzīvnieku barības jomā
A9: Uzdevums | B9: Pasākums | C9: Budžeta programmas (apakšprogrammas) kods un nosaukums | D9: Gads | G9: Turpmāk katru gadu (ja pasākums nav terminēts) | H9: Pasākuma īstenošanas gads (ja pasākuma īstenošana ir terminēta)
D10: 2023 | E10: 2024 | F10: 2025
A11: 5.7. Uzlabot koordināciju AMR pētījumu jomā starp cilvēku, dzīvnieku un vides veselības sektoriem un institūcijām | B11: 2. Sagatavoti priekšlikumi AMR jomas pētniecības prioritātēm Valsts pētījumu programmai un citu atbilstošu nacionālo un starptautisko projektu programmām | E11: =D20 -> 2729 | F11: =D20 -> 2729 | G11: =D20 -> 2729 | H11: 2024.g. II.pusgads, pēc tam regulāri aktualizēts, balstoties uz jaunākajām zinātniskajām atziņām
C12: KOPĀ: | D12: =D11 -> 0 | E12: =E11 -> 2729 | F12: =F11 -> 2729 | G12: =G11 -> 2729
A14: Izdevumu pozīcija
A15: Eksperta atlīdzība uzdevumu izpildei (0,1 slodze/gadā) | G15: =D20 -> 2729
A17: Ekspertu izdevumi | B17: Euro/mēnesī | C17: Euro/gadā | D17: 0,1 slodze/ gadā
A18: L4 kategorijas pieredz.eksperta Max mēnešalga | B18: 1840 | C18: =B18*12 -> 22080 | D18: =C18*0.1 -> 2208
A19: Darba dēvēja sociālais nodoklis (23,59%) | B19: =B18*0.2359 -> 434.056 | C19: =B19*12 -> 5208.672 | D19: =C19*0.1 -> 520.8672
A20: KOPĀ atlīdzība | B20: =ROUND(SUM(B18:B19),0) -> 2274 | C20: =ROUND(SUM(C18:C19),0) -> 27289 | D20: =ROUND(SUM(D18:D19),0) -> 2729

Sheet 6.2.
D1: 23. Pielikums Antimikrobiālās rezistences ierobežošanas un piesardzīgas antibiotiku lietošanas plānam “Viena veselība” 2023.-2027. gadam
A3: 6.1. Zinātnes un pētījumu veicināšana AMR jomā
B5: Finanšu rādītāji | D5: 2023.gads | E5: 2024.gads | F5: 2025.gads | G5: 2026.gads | H5: Turpmākā laikposmā līdz pasākuma pabeigšanai (ja tas ir terminēts) | I5: Turpmāk katru gadu (ja pasākums nav terminēts) | J5: Sadalījums pa apakšprogrammām; budžeta programmas kods
B6: Ieņēmumi kopā, euro | D6: - | E6: - | F6: - | H6: - | I6: -
B7: Izdevumi kopā, euro | D7: 0 | E7: =D21 -> 2729 | F7: =D21 -> 2729 | G7: =D21 -> 2729 | H7: =D21 -> 2729 | I7: 0 | J7: 20.02.00 Riska zinātniskā novērtēšana un references laboratorijas funkciju veikšana dzīvnieku veselības, pārtikas un dzīvnieku barības jomā
A9: Uzdevums | B9: Pasākums | C9: Pasākuma īstenošanas gads (ja pasākuma īstenošana ir terminēta)
A11: 6.2. Rīcības virziens | B11: AMR risku izpēte un apzināšana vidē
A12: 6.2. Apzināti rīki un indikatori AMR novērtēšanai apkārtējā vidē, t.sk. notekūdeņu monitorings | B12: Izstrādāta metode AMR apzināšanai un novērtēšanai vidē | C12: 2027.g. II.pusgads
A15: Izdevumu pozīcija
A16: Eksperta atlīdzība uzdevumu izpildei (0,1 slodze/gadā) | D16: skatīt zemāk | I16: =D21 -> 2729
A18: Ekspertu izdevumi | B18: Euro/ mēnesī | C18: Euro/gadā | D18: 0,1 slodze/ gadā
A19: L4 kategorijas pieredz.eksperta Max mēnešalga | B19: 1840 | C19: =B19*12 -> 22080 | D19: =C19*0.1 -> 2208
A20: Darba dēvēja sociālais nodoklis (23,59%) | B20: =B19*0.2359 -> 434.056 | C20: =B20*12 -> 5208.672 | D20: =C20*0.1 -> 520.8672
A21: Kopā atlīdzība | B21: =ROUND(SUM(B19:B20),0) -> 2274 | C21: =ROUND(SUM(C19:C20),0) -> 27289 | D21: =ROUND(SUM(D19:D20),0) -> 2729

Sheet 6.3.(1.1.)
F1: 24. Pielikums Antimikrobiālās rezistences ierobežošanas un piesardzīgas antibiotiku lietošanas plānam “Viena veselība” 2023.-2027. gadam
A2: 6.3. (1.1.) Veicināta pētniecība AMR jomā
B4: Finanšu rādītāji | D4: 2023.gads | E4: 2024.gads | F4: 2025.gads | G4: 2026.gads | H4: Turpmākā laikposmā līdz pasākuma pabeigšanai (ja tas ir terminēts) | I4: Turpmāk katru gadu (ja pasākums nav terminēts) | J4: Sadalījums pa apakšprogrammām; budžeta programmas kods
B5: Ieņēmumi kopā, euro | D5: - | E5: - | F5: - | G5: - | H5: - | I5: -
B6: Izdevumi kopā, euro | D6: 0 | E6: =F17 -> 24500 | F6: =F19 -> 80000 | G6: =F21 -> 250000 | H6: =F22 -> 110000 | I6: 0 | J6: 20.02.00 Riska zinātniskā novērtēšana un references laboratorijas funkciju veikšana dzīvnieku veselības, pārtikas un dzīvnieku barības jomā
A9: Darbības rezultāts | B9: Pasākums | C9: Budžeta programmas (apakšprogrammas) kods un nosaukums | D9: Pasākuma īstenošanas gads (ja pasākuma īstenošana ir terminēta)
A11: 6.3. Rīcības virziens | B11: Veicināt pētniecību AMR un dzīvnieku veselības jomā
A12: 1. Stiprināta nacionālās references laroratorijas dzīvnieku veselības jomā kapacitāte dalībai pētījumos AMR izmeklējumu jomā | B12: 1.1. Laboratoriskās infrastruktūras pilnveide (IT/LIMS sistēmas, datu bāzes pilnveide, iekārtas, diagnostikumi u.c.) | D12: No 2024.gada I.pusgada - 2027.gadam
C13: KOPĀ:
A15: Iekārtas laboratorisko infrakstruktūru pilnveidošanai (2023.-2027.g.):
A16: Gads | B16: Iekārtas nosaukums | C16: Prognozējama cena (EUR) | D16: Skaits | E16: Summa (EUR) | F16: Kopsumma (EUR)
A17: 2024.g. | B17: Datortehnika (darba stacija) AMR datu ievādei, uzturēšanai un analizēšanai | C17: 1500 | D17: 3 | E17: =C17*D17 -> 4500 | F17: =E17+E18 -> 24500
B18: MALDI-TOF identifikācijas sistēmas papildināšana ar moduļiem – MBT Subtyping Module, MBT STAR-BL RUO Assay antibiotiku rezistences noteikšanai/ prognozēšanai | C18: 20000 | D18: 1 | E18: =C18*D18 -> 20000
A19: 2025.g. | B19: Automatizēta mikroplašu inkubācijas un nolasīšanas sistēma | C19: 70000 | D19: 1 | E19: =C19*D19 -> 70000 | F19: =E19+E20 -> 80000
B20: 2-durvju laboratorijas ledusskapis | C20: 5000 | D20: 2 | E20: =C20*D20 -> 10000
A21: 2026.g. | B21: IT/LIMS sistēmas pilnveide | C21: 250000 | D21: 1 | E21: =C21*D21 -> 250000 | F21: =E21 -> 250000
A22: 2027.g. | B22: Diagnostikumi jaunāko metožu (pilna genoma sekvenēšana) rezistento gēnu noteikšanai ieviešanai ikdienas darbā | C22: 10000 | D22: 1 | E22: =C22*D22 -> 10000 | F22: =E22+E23 -> 110000
B23: Šķidra slāpekļa saldētavas sistēma, izolātu uzglabāšanai | C23: 100000 | D23: 1 | E23: =C23*D23 -> 100000

Sheet 6.3.(1.2.)
E1: 25. Pielikums Antimikrobiālās rezistences ierobežošanas un piesardzīgas antibiotiku lietošanas plānam “Viena veselība” 2023.-2027. gadam
A3: 6.3. (1.2.) Veicināta pētniecība AMR jomā
B5: Finanšu rādītāji | D5: 2023.gads | E5: 2024.gads | F5: 2025.gads | G5: 2026.gads | H5: Turpmākā laikposmā līdz pasākuma pabeigšanai (ja tas ir terminēts) | I5: Turpmāk katru gadu (ja pasākums nav terminēts) | J5: Sadalījums pa apakšprogrammām; budžeta programmas kods
B6: Ieņēmumi kopā, euro | D6: - | E6: - | F6: - | G6: - | H6: - | I6: -
B7: Izdevumi kopā, euro | D7: 0 | E7: =D24+F28 -> 14494 | F7: =D24 -> 4494 | G7: =D24+F28 -> 14494 | H7: 0 | I7: =D24+F28 -> 14494 | J7: 20.02.00 Riska zinātniskā novērtēšana un references laboratorijas funkciju veikšana dzīvnieku veselības, pārtikas un dzīvnieku barības jomā
A10: Uzdevums | B10: Pasākums | C10: Pasākuma īstenošanas gads (ja pasākuma īstenošana ir terminēta)
A13: 6.3. Darbības rezultāts | B13: Veicināt pētniecību AMR un dzīvnieku veselības jomā
A14: 1. Stiprināta nacionālās references laroratorijas dzīvnieku veselības jomā kapacitāte dalībai pētījumos AMR izmeklējumu jomā | B14: 2. Pilnveidota un regulāri papildināta AMR patogēnu izolātu banka | C14: Kopš 2024.g. regulāri
B15: Izolātu bankas iekārtu uzturēšanu, kalibrāciju un tehniskā apkope | C15: pasākums turpinās regulāri, ik pēc 2 gadiem
A18: Izdevumu pozīcija
A19: Eksperta atlīdzība uzdevumu izpildei (0,2 slodzes/gadā) | D19: skatīt zemāk | G19: =D24 -> 4494
A21: Ekspertu izdevumi* | B21: Euro/mēnesī | C21: Euro/gadā | D21: 0,2 slodzes/gadā
A22: L4 kategorijas pieredz.eksperta Vid. mēnešalga | B22: 1515 | C22: =B22*12 -> 18180 | D22: =C22*0.2 -> 3636
A23: Darba dēvēja sociālais nodoklis (23,59%) | B23: =B22*0.2359 -> 357.3885 | C23: =B23*12 -> 4288.662 | D23: =C23*0.2 -> 857.7324
A24: KOPĀ atlīdzība | B24: =ROUND(SUM(B22:B23),0) -> 1872 | C24: =ROUND(SUM(C22:C23),0) -> 22469 | D24: =ROUND(SUM(D22:D23),0) -> 4494
A26: Izdevumi par izolātu bankas iekārtu uzturēšanu, kalibrāciju un tehniskā apkopi (3.tabula):
A27: Gads | B27: Izdevumi | C27: Prognozējama cena (EUR) | D27: Skaits | E27: Summa (EUR) | F27: Kopsumma (EUR)
A28: Kopš 2024.g. regulāri | B28: AMR pētniecības izolātu bankas iekārtu uzturēšana, tehniskā apkope un kalibrācija | C28: 7000 | D28: 1 | E28: =C28*D28 -> 7000 | F28: =SUM(E28:E29) -> 10000
B29: Regulārā bibliotēkas MBT Compass atjaunošana MALDI-TOF iekārtai | C29: 3000 | D29: 1 | E29: =C29*D29 -> 3000

Sheet 6.3. (2.)
F1: 26. Pielikums Antimikrobiālās rezistences ierobežošanas un piesardzīgas antibiotiku lietošanas plānam “Viena veselība” 2023.-2027. gadam
A3: 6.3. Veicināta pētniecība AMR un dzīvnieku veselības jomā
A4: Izvērtēta autogēno vakcīnu izstrādes iespēja (Turpinās darbs pie autogēnām vakcīnām, kas balstītas uz pētījumiem un epidemioloģisko situāciju Latvijā)
B6: Finanšu rādītāji | D6: 2023.gads | E6: 2024.gads | F6: 2025.gads | G6: 2026.gads | H6: Turpmākā laikposmā līdz pasākuma pabeigšanai (ja tas ir terminēts) | I6: Turpmāk katru gadu (ja pasākums nav terminēts) | J6: Sadalījums pa apakšprogrammām; budžeta programmas kods
B7: Ieņēmumi kopā, euro | D7: - | E7: - | F7: - | G7: - | H7: - | I7: -
B8: Izdevumi kopā, euro | D8: 0 | E8: 0 | F8: =E22 -> 34995 | G8: =F22 -> 34995 | H8: - | I8: - | J8: 22.02.00 Augstākā izglītība
A11: Amata nosaukums | B11: Slodžu skaits | C11: Atalgojums | D11: DD VSAOI | E11: Atalgojuma mainīgā daļa, 5% | F11: Atvaļinājuma rezerve | G11: Kopā mēnesī, ņemot vērā slodžu skaitu
A12: Pētnieks (LBTU) | B12: 0.1 | C12: 240 | D12: =(C12+E12+F12)*0.2359 -> 64.156295 | E12: =C12*0.05 -> 12 | F12: =((C12+E12)/21.08)*1.67 -> 19.963947 | G12: =SUM(C12:F12) -> 336.12024
A13: Pētnieks (LBTU) | B13: 0.1 | C13: 240 | D13: =(C13+E13+F13)*0.2359 -> 64.156295 | E13: =C13*0.05 -> 12 | F13: =((C13+E13)/21.08)*1.67 -> 19.963947 | G13: =SUM(C13:F13) -> 336.12024
A14: Pētnieks (LBTU) | B14: 0.1 | C14: 240 | D14: =(C14+E14+F14)*0.2359 -> 64.156295 | E14: =C14*0.05 -> 12 | F14: =((C14+E14)/21.08)*1.67 -> 19.963947 | G14: =SUM(C14:F14) -> 336.12024
A15: Pētnieks (LBTU) | B15: 0.1 | C15: 240 | D15: =(C15+E15+F15)*0.2359 -> 64.156295 | E15: =C15*0.05 -> 12 | F15: =((C15+E15)/21.08)*1.67 -> 19.963947 | G15: =SUM(C15:F15) -> 336.12024
A16: KOPĀ | B16: 0.4 | C16: =SUM(C12:C15) -> 960 | D16: =SUM(D12:D15) -> 256.62518 | E16: =SUM(E12:E15) -> 48 | F16: =SUM(F12:F15) -> 79.855787 | G16: =SUM(G12:G15) -> 1344.481
A19: Nr.p.k. | B19: Izmaksu veids | C19: 2023.gads | D19: 2024.gads | E19: 2025.gads | F19: 2026.gads
A20: 1 | B20: Darba alga, ieskaitot DD nodokļus | C20: 0 | D20: 0 | E20: =G16*12 -> 16133.772 | F20: =G16*12 -> 16133.772
A21: 2 | B21: Materiāli un reaģenti | C21: 0 | D21: 0 | E21: 18861.44 | F21: 18861.44
A22: Kopā, euro: | C22: =SUM(C20:C21) -> 0 | D22: =SUM(D20:D21) -> 0 | E22: =ROUND(E20+E21,0) -> 34995 | F22: =ROUND(F20+F21,0) -> 34995
A25: Materiāli un reaģenti | B25: 2025.gads | C25: 2026.gads
A26: Liellopu klīnisko paraugu ievākšanas materiāli | B26: 861.44 | C26: 861.44
A27: Praimeri un materiāli reālā laika polimerāzes ķēdes reakcijai | B27: 8500 | C27: 8500
A28: Autogēno vakcīnu izgatavošanas un piegādes izmaksas | B28: 2500 | C28: 2500
A29: Kurjerpasta izmaksas, genoma analīzes (ārpakalpojums) | B29: 1000 | C29: 1000
A30: Laboratorijas materiāli (barotnes, trauki u.c.) | B30: 1500 | C30: 1500
A31: Publicitātes izmaksas starptautiski citējamos žurnālos | B31: 3000 | C31: 3000
A32: ziņojumi konferencēs (dalības maksa, komandējuma izmaksas) | B32: 1500 | C32: 1500
A33: Kopā, eiro: | B33: =SUM(B26:B32) -> 18861.44 | C33: =SUM(C26:C32) -> 18861.44

Sheet 6.3. (3.2.)
E1: 27. Pielikums Antimikrobiālās rezistences ierobežošanas un piesardzīgas antibiotiku lietošanas plānam “Viena veselība” 2023.-2027. gadam
B3: 6.3 (3.2.) Dalība starptautiskos zinātniskos konsorcijos AMR pētniecībā
B5: Finanšu rādītāji | D5: 2023.gads | E5: 2024.gads | F5: 2025.gads | G5: 2026.gads | H5: Turpmākā laikposmā līdz pasākuma pabeigšanai (ja tas ir terminēts) | I5: Turpmāk katru gadu (ja pasākums nav terminēts) | J5: Sadalījums pa apakšprogrammām, budžeta programmas kods
B6: Ieņēmumi kopā, euro | D6: - | E6: - | F6: - | G6: - | H6: - | I6: -
B7: Izdevumi kopā, euro | D7: 0 | E7: =D13 -> 50000 | F7: =E13 -> 50000 | G7: =F13 -> 50000 | H7: 0 | I7: =G13 -> 50000 | J7: 20.02.00 Riska zinātniskā novērtēšana un references laboratorijas funkciju veikšana dzīvnieku veselības, pārtikas un dzīvnieku barības jomā
A9: Uzdevums | B9: Pasākums | C9: Budžeta programmas (apakšprogrammas) kods un nosaukums | D9: Gads
D10: 2024 | E10: 2025 | F10: 2026 | G10: Turpmāk ik gadu (ja pasākuma izpilde nav terminēta) | H10: Pasākuma īstenošanas gads
A11: 6. Rīcības virziens | B11: Zinātnes un pētījumu veicināšana AMR jomā
A12: 6.3. Pilnveidot uz pētījumiem balstītu lauksaimniecības dzīvnieku imunizācijas sistēmu | B12: 3.2. Dalība starptautiskos zinātniskos konsorcijos AMR pētniecībā | D12: 50000 | E12: 50000 | F12: 50000 | G12: 50000 | H12: Kopš 2024.g. pastāvīgi
C13: KOPĀ: | D13: =SUM(D12:D12) -> 50000 | E13: =SUM(E12:E12) -> 50000 | F13: =SUM(F12:F12) -> 50000 | G13: =SUM(G12:G12) -> 50000

Sheet 6.4.
E1: 28. Pielikums Antimikrobiālās rezistences ierobežošanas un piesardzīgas antibiotiku lietošanas plānam “Viena veselība” 2023.-2027. gadam
A3: 6.4. Pilnveidot uz pētījumiem balstītu lauksaimniecības dzīvnieku imunizācijas sistēmu
A4: Sagatvoti ieteikumi praktizējošiem veterinārārstiem lauksaimniecības dzīvnieku efektīvai vakcinācijas sistēmai
B6: Finanšu rādītāji | D6: 2023.gads | E6: 2024.gads | F6: 2025.gads | G6: 2026.gads | H6: Turpmākā laikposmā līdz pasākuma pabeigšanai (ja tas ir terminēts) | I6: Turpmāk katru gadu (ja pasākums nav terminēts) | J6: Sadalījums pa apakšprogrammām; budžeta programmas kods
B7: Ieņēmumi kopā, euro | D7: - | E7: - | F7: - | G7: - | H7: - | I7: -
B8: Izdevumi kopā, euro | D8: 0 | E8: =C20 -> 5378 | F8: =D20 -> 5378 | G8: =E20 -> 5378 | H8: 0 | I8: 0 | J8: 22.02.00 Augstākā izglītība
A10: Amata nosaukums | B10: Slodžu skaits | C10: Atalgojums | D10: DD VSAOI | E10: Atalgojuma mainīgā daļa, 5% | F10: Atvaļinājuma rezerve | G10: Kopā mēnesī, ņemot vērā slodžu skaitu
A11: Pētnieks (LBTU) | B11: 0.25 | C11: 960 | D11: =(C11+E11+F11)*0.2359 -> 256.62518 | E11: =C11*0.05 -> 48 | F11: =((C11+E11)/21.08)*1.67 -> 79.855787 | G11: =SUM(C11:F11) -> 1344.481
A12: Pētnieks (LBTU) | B12: 0.25 | C12: 960 | D12: =(C12+E12+F12)*0.2359 -> 256.62518 | E12: =C12*0.05 -> 48 | F12: =((C12+E12)/21.08)*1.67 -> 79.855787 | G12: =SUM(C12:F12) -> 1344.481
A13: Pētnieks (LBTU) | B13: 0.25 | C13: 960 | D13: =(C13+E13+F13)*0.2359 -> 256.62518 | E13: =C13*0.05 -> 48 | F13: =((C13+E13)/21.08)*1.67 -> 79.855787 | G13: =SUM(C13:F13) -> 1344.481
A14: Pētnieks (LBTU) | B14: 0.25 | C14: 960 | D14: =(C14+E14+F14)*0.2359 -> 256.62518 | E14: =C14*0.05 -> 48 | F14: =((C14+E14)/21.08)*1.67 -> 79.855787 | G14: =SUM(C14:F14) -> 1344.481
A15: KOPĀ | B15: =SUM(B11:B14) -> 1 | C15: =SUM(C11:C14) -> 3840 | D15: =SUM(D11:D14) -> 1026.5007 | E15: =SUM(E11:E14) -> 192 | F15: =SUM(F11:F14) -> 319.42315 | G15: =SUM(G11:G14) -> 5377.9239
A18: Nr.p.k. | B18: Izmaksu veids | C18: 2024.gads | D18: 2025.gads | E18: 2026.gads
A19: 1 | B19: Darba alga, ieskaitot DD nodokļus | C19: =G15 -> 5377.9239 | D19: =G15 -> 5377.9239 | E19: =G15 -> 5377.9239
A20: Kopā, euro: | C20: =ROUND(C19,0) -> 5378 | D20: =ROUND(D19,0) -> 5378 | E20: =ROUND(E19,0) -> 5378

Sheet 7.1.1. 
F1: 29. Pielikums Antimikrobiālās rezistences ierobežošanas un piesardzīgas antibiotiku lietošanas plānam “Viena veselība” 2023.-2027. gadam
B3: Uzlabota NRL gatavība darbam ar iekārtām molekulāri ģenētisko izmeklējumu veikšanai un šo izmeklējumu apmaksai, lai nodrošinātu AMR mikroorganismu pilna genoma sekvencēšanu, mobilo ģenētisko elementu identificēšanu, datu interpretāciju ar piemērotiem bioinformātikas rīkiem
B5: Finanšu rādītāji | D5: 2024.gads | E5: 2025.gads | F5: 2026.gads | G5: Turpmākā laikposmā līdz pasākuma pabeigšanai (ja tas ir terminēts) | H5: Turpmāk katru gadu (ja pasākums nav terminēts) | I5: Sadalījums pa apakšprogrammām; budžeta programmas kods
B6: Ieņēmumi kopā, euro | D6: - | E6: - | F6: - | G6: - | H6: -
B7: Izdevumi kopā, euro | D7: =ROUND(J13+J14+J19+J20+J21+J22+J26+J28+J29+J39+J50+J59+J60+J61+J62+J63+J64+J65+J66+J16+J17,0) -> 12082 | E7: =ROUND(J13+J14+J15+J16+J17+J18+J19+J20+J21+J22+J23+J24+J25+J26+J27+J28+J29+J30+J31+J32+J33+J38+J39+J40+J41+J43+J44+J45+J46+J47+J48+J49+J50+J51+J52+J53+J55+J56+J58+J59+J60+J61+J62+J63+J64+J65+J66,0) -> 2845126 | F7: =ROUND(E7+J68,0) -> 2952326 | H7: =ROUND(F7,0) -> 2952326 | I7: 33.15.00 Laboratorisko izmeklējumu nodrošināšana ambulatorajā aprūpē
B9: NRL 2023.gadam paredzētais kopējais tāmes finansējums ir 4 945 044,31 eiro. Aprēķinu tabulās norādītos izmeklējumus patlaban no VBL neapmaksā un NRL tos izņēmuma gadījumā veic par saviem līdzekļiem un mazākā apjomā, kas netiek ierēķināti tāmes finansējumā. 2024. gadā papildus finansējums nepieciešams retajiem izmekeklējumiem, lai segtu NRL faktiskās izmaksas par sniegtajiem pakalpojumiem. 2025. gadā nepieciešams papildus finansējums, lai segtu izmaksas arī par pārējiem izmeklējumiem, kas patlaban netiek apmaksāti. 2026. gadam papildus finansējums, lai NRL varētu veikt sekvencēšau. NVD ir saskaņojis ar NRL tarifus un paredzējis papildus nepieciešamo finansējumu, lai izmeklējumiem nepieciešamo finansējuma apjomu iekļautu tāmē. Patlaban uzrādītajiem izmeklējumiem Manipulāciju sarakstā ir 0 tarifs, jo VB finansējums šos izmeklējumu veikšanai, kas ir samērā reti un ļoti dārgi, nav pietiekams, bet NVD esošās tēmas ietvaros tos apmaksāt nevar. Lai veiktu infekciju ārstēšanu atbilstoši labai praksei un novērstu mikroorganismu rezistences veidošanos, nepieciešams antimikrobiālos līdzekļus nozīmēt mēķtiecīgi, proti, vadoties no precīzas infekcijas ierosinātāja identificēšanas, tai skaitā arī sekvencēšanas, nosakot mikroorganisma rezistenci pret antibakteriāliem līdzekļiem. Patlaban Latvijā mikrobioloģiskās izmeklēšanas pirms antibakteriālās ārstēšanas uzsākšanas rādītājs ir viens no zemākajiem starp ES valstīm un ir arī zemāks nekā citās Baltijas valstīs (situācijas aprakstā šī problēma ir aplūkota detalizētāk). Tādēļ jaunajai politikai jābūt tādai, lai veicinātu plašāku mikrobioloģisko izmeklēšanu, lai nozīmētu mērķētu ārstēšanu un arī Nacionālajai references laboratorijai daudz lielākā apjomā ir jāveic gan diagnostiskie izmklējumi, gan arī references izmeklējumi un sekvencēšana, nosakot rezistenci pret antimikrobiāliem līdzekļiem.
B11: Nr. p.k. | C11: Slimības | D11: Infekcijas izraisītājs | E11: References izmeklējumi | F11: Manipulācijas kods | G11: Manipulācijas nosaukums | H11: NVD tarifi EUR | I11: NRL plānotais skaits 2023.g. par 12 mēnešiem saskaņā ar SPKC datiem | J11: Papildus nepieciešamais finansējums
B12: 1. Bakteriālas infekcijas
B13: 1.1. | C13: Botulisms | D13: Clostridium botulinum | E13: Toksīna (botulīna) noteikšana1 | F13: 47263R | G13: Multiplex PĶR 16 īpaši bīstamo patogēnu (Bacillus anthracis, Brucella melitensis, Burkholderia, Clostridium botulinum, Coxiella burnetii, Ebola vīruss (Zaira), EEE vīruss, Franciscella tularensis, Marburga vīruss, Ricinus communis, Rickettsia prowazekii, Variola vīruss, WEE vīruss, Yersinia pestis, Ortoksu vīruss) detekcijai un diferencēšanai vides paraugos | H13: 720.25 | I13: 1 | J13: =I13*H13 -> 720.25
B14: 1.4. | C14: Epidēmiskais utu izsitumu tīfs* un Brilla slimība* | D14: Riketsia provaceki | E14: • Diagnostika vai parauga nosūtīšana uz citu (ārpus Latvijas) laboratoriju | F14: 47263R | G14: Multiplex PĶR 16 īpaši bīstamo patogēnu (Bacillus anthracis, Brucella melitensis, Burkholderia, Clostridium botulinum, Coxiella burnetii, Ebola vīruss (Zaira), EEE vīruss, Franciscella tularensis, Marburga vīruss, Ricinus communis, Rickettsia prowazekii, Variola vīruss, WEE vīruss, Yersinia pestis, Ortoksu vīruss) detekcijai un diferencēšanai vides paraugos | H14: 720.25 | I14: 1 | J14: =I14*H14 -> 720.25
B15: 1.6. | C15: Garais klepus | D15: Bordetella pertussis, Bordetella parapertussis | E15: • Cita apstiprinošā diagnostika3; 4 | F15: 47228R | G15: Bordetella pertussis DNS, Bordetella parapertussis DNS, Bordetella bronchiseptica DNS noteikšana ar RT-PCR | H15: 30.55 | I15: 40 | J15: =I15*H15 -> 1222
F16: 47144R | G16: IgA klases antivielu pret Bordetella parapertussis noteikšana ar ELISA, EIA | H16: 8.8 | I16: 10 | J16: =I16*H16 -> 88
F17: 47251R | G17: IgG klases antivielu pret Bordetella parapertussis noteikšana ar ELISA, EIA | H17: 9.52 | I17: 10 | J17: =I17*H17 -> 95.2
B18: 1.8. | C18: Hlamīdiju ierosinātas seksuāli transmisīvas slimības, t.sk. hlamīdiju limfogranuloma (LGV– lymphogranulomavenereu) | D18: Chlamydia trachomatis | E18: • LGV diagnostika (tipēšana) | F18: 47253R | G18: Multiplex PĶR Mycoplasma genitalium, Mycoplasma hominis, Trichomonas vaginalis, Ureaplasmas (urealyticum/parvum), Haemophilus ducreyi, HSV1, HSV2, Treponema pallidum, Neisseria gonorrhoeae, Chlamydia trachomatis (Serovars A-K), Chlamydia trachomatis (Serovars L1-L3 = Lymphogranuloma venereum) DNS noteikšanai un diferencēšanai | H18: 52.33 | I18: 100 | J18: =I18*H18 -> 5233
B19: 1.9. | C19: Holera un holeras izraisītāju nēsāšana* | D19: Vibrio cholerae | E19: • Diagnostika • Vibrio cholerae cirkulācijas monitorings vidē4 | F19: 44035 | G19: Fēču uzsējums uz holēras izsaucējmikroorganismiem – negatīvs | H19: 8.86 | I19: 2 | J19: =I19*H19 -> 17.72
F20: 44036 | G20: Fēču uzsējums uz holēras izsaucējmikroorganismiem – pozitīvs | H20: 12.61 | I20: 1 | J20: =I20*H20 -> 12.61
B21: 1.10. | C21: Invazīvā Haemophilusinfluenzae slimība | D21: Haemophilus influenzae | E21: • Antimikrobās jutības noteikšana | F21: 44078R | G21: R Mikroorganismu kultūras jutības noteikšana pret antibakteriālajām vielām ar fenotipiskām metodēm | H21: 10.76 | I21: 5 | J21: =I21*H21 -> 53.8
B22: 1.11. | C22: Invazīvā meningokoku ierosinātā slimība | D22: Neisseria meningitidis | E22: • Antimikrobās jutības noteikšana | F22: 44078R | G22: R Mikroorganismu kultūras jutības noteikšana pret antibakteriālajām vielām ar fenotipiskām metodēm | H22: 10.76 | I22: 8 | J22: =I22*H22 -> 86.08
B23: 1.12. | C23: Invazīvā pneimokoku izraisītā slimība | D23: Sreptococcus pneumoniae | E23: • Antimikrobās jutības noteikšana | F23: 44078R | G23: R Mikroorganismu kultūras jutības noteikšana pret antibakteriālajām vielām ar fenotipiskām metodēm | H23: 10.76 | I23: 200 | J23: =I23*H23 -> 2152
B24: 1.16. | C24: Leģionāru slimība (legioneloze) | D24: Legionella spp. | E24: • Tipēšana4 | F24: 44052R | G24: Uzsējums uz legionellozi | H24: 16.72 | I24: 20 | J24: =I24*H24 -> 334.4
B25: 1.18. | C25: Leptospiroze | D25: Leptospira spp. | E25: • Leptospiru mikrobioloģiskā identifikācija līdz serogrupai1 | F25: 44125 | G25: Seroloģiskā reakcija uz leptospirozi | H25: 11.16 | I25: 20 | J25: =I25*H25 -> 223.2
B26: 1.19. | C26: Liesassērga (Sibīrijas mēris)* | D26: Bacillus anthracis | E26: • Nezināmas izcelsmes paraugu izmeklēšana | F26: 47263R | G26: Multiplex PĶR 16 īpaši bīstamo patogēnu (Bacillus anthracis, Brucella melitensis, Burkholderia, Clostridium botulinum, Coxiella burnetii, Ebola vīruss (Zaira), EEE vīruss, Franciscella tularensis, Marburga vīruss, Ricinus communis, Rickettsia prowazekii, Variola vīruss, WEE vīruss, Yersinia pestis, Ortoksu vīruss) detekcijai un diferencēšanai vides paraugos | H26: 720.25 | I26: 1 | J26: =I26*H26 -> 720.25
B27: 1.20. | C27: Listerioze | D27: Listeria monocytogenes | E27: • Antimikrobās jutības noteikšana | F27: 44078R | G27: R Mikroorganismu kultūras jutības noteikšana pret antibakteriālajām vielām ar fenotipiskām metodēm | H27: 10.76 | I27: 20 | J27: =I27*H27 -> 215.2
B28: 1.21. | C28: Mēris* | D28: Yersinia pestis | E28: • Nezināmas izcelsmes paraugu izmeklēšana | F28: 47263R | G28: Multiplex PĶR 16 īpaši bīstamo patogēnu (Bacillus anthracis, Brucella melitensis, Burkholderia, Clostridium botulinum, Coxiella burnetii, Ebola vīruss (Zaira), EEE vīruss, Franciscella tularensis, Marburga vīruss, Ricinus communis, Rickettsia prowazekii, Variola vīruss, WEE vīruss, Yersinia pestis, Ortoksu vīruss) detekcijai un diferencēšanai vides paraugos | H28: 720.25 | I28: 1 | J28: =I28*H28 -> 720.25
F29: 47263R | G29: Multiplex PĶR 16 īpaši bīstamo patogēnu (Bacillus anthracis, Brucella melitensis, Burkholderia, Clostridium botulinum, Coxiella burnetii, Ebola vīruss (Zaira), EEE vīruss, Franciscella tularensis, Marburga vīruss, Ricinus communis, Rickettsia prowazekii, Variola vīruss, WEE vīruss, Yersinia pestis, Ortoksu vīruss) detekcijai un diferencēšanai vides paraugos | H29: 720.25 | I29: 1 | J29: =I29*H29 -> 720.25
C30: Kampilobakterioze | D30: Campylobacter spp. | E30: • Antimikrobās jutības noteikšana | F30: 44078R | G30: R Mikroorganismu kultūras jutības noteikšana pret antibakteriālajām vielām ar fenotipiskām metodēm | H30: 10.76 | I30: 100 | J30: =I30*H30 -> 1076
B31: 1.24. | C31: Salmoneloze, vēdertīfs un paratīfi un tās izraisītāju nēsāšana | D31: Salmonella spp., ieskaitot Salmonella typhi un Salmonella paratyphi | E31: •Apstiprinošā Salmonella ģints mikroorganismu kultūru identifikācija līdz serotipam1 | F31: 47252R | G31: Bakteriālo diarēju izraisītāju diferenciālā diagnostika ar Multiplex PĶR (Vibrio spp., Clostridium difficile Toxin B, Salmonella spp., Shigella spp., Campylobacter spp.) | H31: 47.16 | I31: 400 | J31: =I31*H31 -> 18864
E32: • Antimikrobās jutības noteikšana | F32: 44078R | G32: R Mikroorganismu kultūras jutības noteikšana pret antibakteriālajām vielām ar fenotipiskām metodēm | H32: 10.76 | I32: 400 | J32: =I32*H32 -> 4304
B33: 1.27. | C33: Šiga toksīnu/verotoksīnu producējošo Escherichiacoli, hemolītiski urēmiskais sindroms vai trombocitāri hemorāģiskā purpura | D33: E. coli, kas producē Šiga toksīnu/ verotoksīnu (STEC/VTEC) | E33: • Apstiprinošā E. coli, kas producē Šiga toksīnu/ verotoksīnu, kultūru identifikācija1 | F33: 47266R | G33: Polimerāzes ķēdes reakcija reālajā laikā patogēno Escherichia coli DNS kvalitatīvai noteikšanai: Enterohemorāģiskā E.coli (EHEC vai VTEC) , Enteroinvazīvā E.coli (EIEC), Enteropatogēnā E.coli (EPEC), Enterotoksigēnā E.coli (ETEC), Enteroagregatīvā E.coli (EAgEC) | H33: 31.41 | I33: 315 | J33: =I33*H33 -> 9894.15
B38: 1.28. | C38: Šigeloze, tās izraisītāju nēsāšana | D38: Shigella spp. | E38: •Apstiprinošā Shigella ģints mikroorganismu kultūru identifikācija1 | F38: 47252R | G38: Bakteriālo diarēju izraisītāju diferenciālā diagnostika ar Multiplex PĶR (Vibrio spp., Clostridium difficile Toxin B, Salmonella spp., Shigella spp., Campylobacter spp.) | H38: 47.16 | I38: 320 | J38: =I38*H38 -> 15091.2
B39: 1.30. | C39: Tularēmija | D39: Francisella tularensis | E39: • Nezināmas izcelsmes paraugu izmeklēšana | F39: 47263R | G39: Multiplex PĶR 16 īpaši bīstamo patogēnu (Bacillus anthracis, Brucella melitensis, Burkholderia, Clostridium botulinum, Coxiella burnetii, Ebola vīruss (Zaira), EEE vīruss, Franciscella tularensis, Marburga vīruss, Ricinus communis, Rickettsia prowazekii, Variola vīruss, WEE vīruss, Yersinia pestis, Ortoksu vīruss) detekcijai un diferencēšanai vides paraugos | H39: 720.25 | I39: 10 | J39: =I39*H39 -> 7202.5
B40: 1.31. | C40: Tuberkuloze | D40: Mycobacterium tuberculosis | E40: M.tuberculosis DNS apstiprinoša diagnostika, nejutības noteikšana pret medikamentiem - vidēji līdz 400 gadījumiem: 2017. gadā 552 gadījumi; 2021. gadā 261 gadījums | H40: 305.82 | I40: 600 | J40: =I40*H40 -> 183492
B41: 1.32. | C41: Gonoreja | D41: Neiseria gonorrhoeae | F41: 44078R | H41: 10.76 | I41: 300 | J41: =I41*H41 -> 3228
B42: 2. Vīrusu infekcijas
B43: 2.1. | C43: Akūts un/vai hronisks vīrushepatīts un hepatīta vīrusa nēsāšana | D43: B hepatīta vīruss | E43: • Tipēšana4 | F43: 41312R | G43: B vīrusu hepatīta genotipa noteikšana ar PĶR RL metodi | H43: 38.37 | I43: 440 | J43: =I43*H43 -> 16882.8
F44: 41311R | G44: R B hepatīta vīrusa genotipēšana (sekvenēšana) | H44: 109.08 | I44: 8726.4 | J44: =I44*H44 -> 951875.71
E45: • Rezistences monitorings | F45: 41311R | G45: R B hepatīta vīrusa genotipēšana (sekvenēšana) | H45: 109.08 | I45: 8726.4 | J45: =I45*H45 -> 951875.71
D46: E hepatīta vīruss | E46: • Diagnostika | F46: 41313R | G46: E hepatīta IgM klases antivielu apstiprinošā diagnostika ar Immunoblot metodi | H46: 22.07 | I46: 44.14 | J46: =I46*H46 -> 974.1698
F47: 41314R | G47: E hepatīta IgG klases antivielu apstiprinošā diagnostika ar Immunoblot metodi | H47: 22.07 | I47: 44.14 | J47: =I47*H47 -> 974.1698
B48: 2.3. | C48: Cilvēka imūndeficīta vīrusa (HIV) infekcija un AIDS | D48: Cilvēka imūndeficīta vīruss (HIV) | E48: • AIDS diagnostika | F48: 46014R | G48: CD4 + helperu/induktoru T-limfocītu noteikšana (absolūtais skaits, %) | H48: 11.11 | I48: 5000 | J48: =I48*H48 -> 55550
E49: • HIV oportūnistisko infekciju diagnostika | F49: 41271R | G49: Cryptococcus neoformans DNS noteikšana ar RT-PCR | H49: 28.2 | I49: 190 | J49: =I49*H49 -> 5358
F50: 47253R | G50: Multiplex PĶR Mycoplasma genitalium, Mycoplasma hominis, Trichomonas vaginalis, Ureaplasmas (urealyticum/parvum), Haemophilus ducreyi, HSV1, HSV2, Treponema pallidum, Neisseria gonorrhoeae, Chlamydia trachomatis (Serovars A-K), Chlamydia trachomatis (Serovars L1-L3 = Lymphogranuloma venereum) DNS noteikšanai un diferencēšanai | H50: 52.33 | I50: 1 | J50: =I50*H50 -> 52.33
B51: 2.9. | C51: Gripa un citi elpceļu vīrusi | D51: Gripas vīrusi | E51: • Diagnostika3 | F51: 47254R | G51: A un B tipa gripas vīrusu RNS noteikšana ar RT PCR | H51: 34.89 | I51: 200 | J51: =I51*H51 -> 6978
E52: • Rezistences noteikšana monitoringa ietvaros4 | F52: 47197R | G52: R Gripas vīrusu mutāciju, asociēto ar rezistenci pret zālēm, noteikšana ar genotipēšanu (sekvenēšanu) | H52: 180.07 | I52: 100 | J52: =I52*H52 -> 18007
E53: • Gripas vīrusu cirkulācijas monitorings4 | F53: 47254R | G53: A un B tipa gripas vīrusu RNS noteikšana ar RT PCR | H53: 34.89 | I53: 15600 | J53: =I53*H53 -> 544284
B54: 3. Parazitārās infekcijas
B55: 3.2. | C55: Kriptosporidioze | D55: Cryptosporidum spp. | E55: • Apstiprinošā diagnostika3 | F55: 47265R | G55: Zarnu parazītu (Giardia lamblia, Entamoeba histolytica, Cryptosporidium parvum/ hominis) noteikšana ar RT PCR | H55: 49.66 | I55: 200 | J55: =I55*H55 -> 9932
B56: 3.6. | C56: Žiardiāze | D56: Giardia lamblia | E56: • Apstiprinošā diagnostika3 | F56: 47265R | G56: Zarnu parazītu (Giardia lamblia, Entamoeba histolytica, Cryptosporidium parvum/ hominis) noteikšana ar RT PCR | H56: 49.66 | I56: 200 | J56: =I56*H56 -> 9932
B57: 4. Ar veselības aprūpi saistītas infekcijas un mikroorganismu rezistence pret antimikrobiem līdzekļiem
B58: 4.1. | C58: C. difficile ierosināta infekcija | D58: Clostridium difficile | E58: • Apstiprinošā diagnostika3 | F58: 47252R | G58: Bakteriālo diareju izraisītāju (Vibrio spp., Clostridium difficile toxon B, Salmonella spp., Shigella spp., Campylobacter spp.) DNSnoteikšana ar Multiplex PCR | H58: 47.16 | I58: 320 | J58: =I58*H58 -> 15091.2
E59: • Antimikrobās jutības un toksīnu noteikšana1; 3 | F59: 44078R | G59: R Mikroorganismu kultūras jutības noteikšana pret antibakteriālajām vielām ar fenotipiskām metodēm | H59: 10.76 | I59: 2 | J59: =I59*H59 -> 21.52
B60: 4.2. | C60: Staphylococcus.aureus, Streptococcuspneumoniae, Escherichia.coli, Klebsiella.pneumoniae, Pseudomonas.aeruginosa, Enterococcus.faecium/faecalis, Acinetobacter ģints mikroorganismu ierosinātas invazīvās infekcijas | D60: Nacionālā antimikrobiālās rezistences uzraudzības tīklā ziņojamie Saphylococcus. aureus, Streptococcus. pneumoniae, Escherichia. coli, Klebsiella. pneumoniae, Pseudomonas aeruginosa, Enterococcus faecium/faecalis, Acinetobacter ģints mikroorganismi | E60: Apstiprinošā diagnostika, tai skaitā antimikrobās jutības noteikšana4 | F60: 44079R | G60: Intrahospitālo infekciju izraisītāju apstiprinošā diagnostika un antimikrobās jutības noteikšana | H60: 14.88 | I60: 10 | J60: =I60*H60 -> 148.8
B61: 4.3. | C61: MRSA mikroorganismu ierosinātās infekcijas un izraisītāja nēsāšana | D61: Staphylococcus aureus (MRSA) | E61: • Apstiprinošā diagnostika3; 4 | F61: 47262R | G61: Multiplex PĶR ar rezistenci asociēto mutāciju noteikšanai klīniskajā materiālā | H61: 70.43 | I61: 2 | J61: =I61*H61 -> 140.86
B62: 4.4. | C62: VRSA mikroorganismu ierosinātās infekcijas un izraisītāja nēsāšana | D62: Staphylococcus aureus (VRSA, VISA) | E62: • Apstiprinošā diagnostika2 | F62: 47262R | G62: Multiplex PĶR ar rezistenci asociēto mutāciju noteikšanai klīniskajā materiālā | H62: 70.43 | I62: 2 | J62: =I62*H62 -> 140.86
B63: 4.6. | C63: Paplašināta spektra beta laktamāžu (ESBL) producējošo Enterobacteriaceae dzimtas baktēriju ierosinātās infekcijas | D63: Enterobacteriaceae dzimta | E63: • Apstiprinošā diagnostika1; 4 | F63: 44079R | G63: Intrahospitālo infekciju izraisītāju apstiprinošā diagnostika un antimikrobās jutības noteikšana | H63: 14.88 | I63: 5 | J63: =I63*H63 -> 74.4
F64: 47262R | G64: Multiplex PĶR ar rezistenci asociēto mutāciju noteikšanai klīniskajā materiālā | H64: 70.43 | I64: 2 | J64: =I64*H64 -> 140.86
B65: 4.8. | C65: Citas ar veselības aprūpi saistītas infekcijas | D65: Mikroorganismi ar netipisku, jaunu vai īpaši bīstamu rezistenci | E65: • Apstiprinošā diagnostika2 | F65: 47262R | G65: Multiplex PĶR ar rezistenci asociēto mutāciju noteikšanai klīniskajā materiālā | H65: 70.43 | I65: 2 | J65: =I65*H65 -> 140.86
F66: 44078R | G66: Mikroorganismu kultūras jutības noteikšana pret antibakteriālajām vielām ar fenotipiskām metodēm | H66: 10.76 | I66: 6 | J66: =I66*H66 -> 64.56
B67: 5. AMR mikroorganismu sekvencēšana
B68: 5.1. | C68: Tīrkultūrā izolēto baktēriju pilna genoma sekvencēšana - genotipēšana, rezistences molekulāro mehānismu identifikācija | D68: Mikroorganismi ar rezistenci | E68: • Apstiprinošā diagnostika2• Antimikrobās jutības un toksīnu noteikšana1; 3 • Rezistences noteikšana monitoringa ietvaros4 | G68: NGS | H68: 134 | I68: 800 | J68: =I68*H68 -> 107200
G69: KOPĀ: | J69: =SUM(J13:J68) -> 2952326.1

Sheet 7.1.4.
E1: 360. Pielikums Antimikrobiālās rezistences ierobežošanas un piesardzīgas antibiotiku lietošanas plānam “Viena veselība” 2023.-2027. gadam
B3: Elektroniskas informācijas apmaiņas sistēmas izveide mikrobioloģiskās testēšanas rezultātiem un uzliesmojumu identificēšanai *
B5: Finanšu rādītāji | D5: 2024.gads | E5: 2025.gads | F5: 2026.gads | G5: Turpmākā laikposmā līdz pasākuma pabeigšanai (ja tas ir terminēts) | H5: Turpmāk katru gadu (ja pasākums nav terminēts) | I5: Sadalījums pa apakšprogrammām; budžeta programmas kods
B6: Ieņēmumi kopā, euro1 | D6: - | E6: - | F6: - | G6: - | H6: -
B7: Izdevumi kopā, euro | D7: =H11 -> 212600 | E7: =I11 -> 85300 | F7: =J11 -> 79050 | H7: =K17 -> 45312 | I7: 45.01.00 "Veselības aprūpes finansējuma administrēšana un ekonomiskā novērtēšana
B10: Pozīcijas | H10: Kopā 2024, EUR | I10: Kopā 2025, EUR | J10: Kopā 2026, EUR | K10: Turpmāk katru gadu, EUR
B11: Datu noliktavas izveide mikrobioloģisko rezultātu sniegšanai epidemioloģiskās uzraudzības mērķiem | H11: =SUM(H12:H16) -> 212600 | I11: =SUM(I12:I16) -> 85300 | J11: =SUM(J12:J16) -> 79050
G12: Analīze | H12: 18000 | I12: 7500 | J12: 8500
G13: Izstrāde | H13: 150000 | I13: 35000 | J13: 25000
G14: Projekta vadība | H14: 16800 | I14: 10000 | J14: 7000
G15: Drošības audits | H15: 12000 | I15: 15000 | J15: 18750
G16: Infrastruktūra | H16: 15800 | I16: 17800 | J16: 19800
G17: Turpmāk ik gadu uzturēšanas izmaksas | K17: 45312
B20: * ārpakalpojums

Sheet 7.2.1.(1.1)
D1: 31. Pielikums Antimikrobiālās rezistences ierobežošanas un piesardzīgas antibiotiku lietošanas plānam “Viena veselība” 2023.-2027. gadam
B3: 7.2.1. (1.1.) Izstrādāts mehānismu valstī veikto AMR izmeklējumu rezultātu apkopošanai dzīvnieku veselības jomā
B5: Finanšu rādītāji | D5: 2023.gads | E5: 2024.gads | F5: 2025.gads | G5: 2026.gads | H5: Turpmākā laikposmā līdz pasākuma pabeigšanai (ja tas ir terminēts) | I5: Turpmāk katru gadu (ja pasākums nav terminēts) | J5: Sadalījums pa apakšprogrammām; budžeta programmas kods
B6: Ieņēmumi kopā, euro | D6: - | E6: - | F6: - | G6: - | H6: - | I6: -
B7: Izdevumi kopā, euro | D7: 0 | E7: =F23 -> 8187 | F7: =E23 -> 2729 | G7: 0 | H7: 0 | I7: 0 | J7: 20.02.00 Riska zinātniskā novērtēšana un references laboratorijas funkciju veikšana dzīvnieku veselības, pārtikas un dzīvnieku barības jomā
B10: 7. Laboratoriju kapacitātes stiprināšana
D11: Pasākuma īstenošanas gads (ja pasākuma īstenošana ir terminēta)
B12: 7.2 Rīcības virziens | C12: Dzīvnieku veselības jomā
B13: 7.2.1. Apkopot un uzglabāt AMR izmeklējumu datus | C13: 1.1. Izstrādāts mehānismu valstī veikto AMR izmeklējumu rezultātu apkopošanai | D13: No 2024. gada I pusgada
B16: Izdevumu pozīcija
B17: Eksperta atlīdzība uzdevumu izpildei (0,3 slodze) | E17: 2024 | F17: Skatīt zemāk | H17: =F23 -> 8187
B18: Eksperta atlīdzība uzdevumu izpildei (0,1 slodze) | E18: 2025 | F18: Skatīt zemāk | H18: =E23 -> 2729
B20: Ekspertu izdevumi* | C20: Euro/mēnesī | D20: Euro/gadā | E20: 0,1 slodze/ gadā | F20: 0,3 slodzes/gadā
B21: L4 kategorijas pieredz.eksperta Max mēnešalga | C21: 1840 | D21: =C21*12 -> 22080 | E21: =D21*0.1 -> 2208 | F21: =D21*0.3 -> 6624
B22: Darba dēvēja sociālais nodoklis (23,59%) | C22: =C21*0.2359 -> 434.056 | D22: =C22*12 -> 5208.672 | E22: =D22*0.1 -> 520.8672 | F22: =D22*0.3 -> 1562.6016
B23: Kopā atlīdzība | C23: =ROUND(SUM(C21:C22),0) -> 2274 | D23: =ROUND(SUM(D21:D22),0) -> 27289 | E23: =ROUND(SUM(E21:E22),0) -> 2729 | F23: =ROUND(SUM(F21:F22),0) -> 8187

Sheet 7.2.1.(1.3)
E1: 32. Pielikums Antimikrobiālās rezistences ierobežošanas un piesardzīgas antibiotiku lietošanas plānam “Viena veselība” 2023.-2027. gadam
B3: 7. Laboratoriju kapacitātes stiprināšana: apkopoti un uzglabāti AMR izmeklējumu dati dzīvnieku veselības jomā
B5: Finanšu rādītāji | D5: 2023.gads | E5: 2024.gads | F5: 2025.gads | G5: 2026.gads | H5: Turpmākā laikposmā līdz pasākuma pabeigšanai (ja tas ir terminēts) | I5: Turpmāk katru gadu (ja pasākums nav terminēts) | J5: Sadalījums pa apakšprogrammām; budžeta programmas kods
B6: Ieņēmumi kopā, euro | D6: - | E6: - | F6: - | G6: - | H6: - | I6: -
B7: Izdevumi kopā, euro | D7: 0 | E7: =I13 -> 1123 | F7: =I13 -> 1123 | G7: =I14 -> 2247 | H7: 0 | I7: =I14 -> 2247 | J7: 20.02.00 Riska zinātniskā novērtēšana un references laboratorijas funkciju veikšana dzīvnieku veselības, pārtikas un dzīvnieku barības jomā
D9: Pasākuma īstenošanas gads (ja pasākuma īstenošana ir terminēta)
B10: 7.2 Rīcības virziens | C10: Pasākums 1.3. Apzinātas mikrobioloģojas laboratoriju tīkls, tostarp vet.medicīniskās prakses iestādes, kas veic AMR izmeklējumus dzīvnieku veselības jomā un nodrošināta to metodiskā vadība | D10: 2024. II pusgads Patstāvīgi
C12: Izdevumu pozīcija
C13: Eksperta atlīdzība uzdevumu izpildei (0,1 slodze) | F13: 2024-2025 | G13: Skatīt zemāk | I13: =E19 -> 1123
C14: Eksperta atlīdzība uzdevumu izpildei (0,1 slodze) | F14: 2026 | G14: Skatīt zemāk | I14: =F19 -> 2247
B16: Ekspertu izdevumi* | C16: Euro/mēnesī | D16: Euro/gadā | E16: 0,05 slodze/ gadā | F16: 0,1 slodze/ gadā
B17: L4 kategorijas pieredzējuša eksperta vid. mēnešalga | C17: 1515 | D17: =C17*12 -> 18180 | E17: =D17*0.05 -> 909 | F17: =D17*0.1 -> 1818
B18: Darba dēvēja sociālais nodoklis (23,59%) | C18: =C17*0.2359 -> 357.3885 | D18: =C18*12 -> 4288.662 | E18: =D18*0.05 -> 214.4331 | F18: =D18*0.1 -> 428.8662
B19: Kopā atlīdzība | C19: =ROUND(SUM(C17:C18),0) -> 1872 | D19: =ROUND(SUM(D17:D18),0) -> 22469 | E19: =ROUND(SUM(E17:E18),0) -> 1123 | F19: =ROUND(SUM(F17:F18),0) -> 2247

Sheet 7.2.1.(1.4.-1.5.)
E1: 33. Pielikums Antimikrobiālās rezistences ierobežošanas un piesardzīgas antibiotiku lietošanas plānam “Viena veselība” 2023.-2027. gadam
B3: 7. Laboratoriju kapacitātes stiprināšana: AMR izmeklējumu rezultātu uzkrāšana un analīze
B5: Finanšu rādītāji | D5: 2023.gads | E5: 2024.gads | F5: 2025.gads | G5: 2026.gads | H5: Turpmākā laikposmā līdz pasākuma pabeigšanai (ja tas ir terminēts) | I5: Turpmāk katru gadu (ja pasākums nav terminēts) | J5: Sadalījums pa apakšprogrammām; budžeta programmas kods
B6: Ieņēmumi kopā, euro | D6: - | E6: - | F6: - | G6: - | H6: - | I6: -
B7: Izdevumi kopā, euro | D7: 0 | E7: 0 | F7: =D16 -> 32128 | G7: =F16 -> 49146 | H7: 0 | I7: =F16 -> 49146 | J7: 20.02.00 Riska zinātniskā novērtēšana un references laboratorijas funkciju veikšana dzīvnieku veselības, pārtikas un dzīvnieku barības jomā
B10: 7. Laboratoriju kapacitātes stiprināšana
B11: Uzdevums | C11: Pasākums | D11: Pasākuma īstenošanas gads
D12: 2025 | E12: Turpmākajā laikposmā līdz pasākuma pabeigšanai (ja pasākuma īstenošana ir terminēta) | F12: Turpmāk ik gadu (ja pasākuma izpilde nav terminēta)
B13: 7.2 Rīcības virziens | C13: Dzīvnieku veselības jomā
B14: 7.2.1. Apkopot un uzglabāt AMR izmeklējumu datus | C14: 1.4. Iesniegti izolāti un AMR izmeklējumu rezultāti BIOR | D14: =E25 -> 4494 | F14: =E25 -> 4494 | G14: 2025. II pusgads, pēc tam pastāvīgi
C15: 1.5. AMR izmeklējumu rezultātu uzkrāšana un analīze | D15: =H30 -> 27634 | F15: =H32 -> 44652
D16: =SUM(D14:D15) -> 32128 | E16: =SUM(E14:E15) -> 0 | F16: =SUM(F14:F15) -> 49146
B19: Izdevumu pozīcija
B20: Eksperta atlīdzība uzdevumu izpildei (0,2 slodzes/gadā) | E20: skatīt zemāk | H20: =E25 -> 4494
B22: Ekspertu izdevumi | C22: Euro/mēnesī | D22: Euro/gadā | E22: 0,2 slodzes/gadā
B23: L4 kategorijas pieredz.eksperta Vid. mēnešalga | C23: 1515 | D23: =C23*12 -> 18180 | E23: =D23*0.2 -> 3636
B24: Darba dēvēja sociālais nodoklis (23,59%) | C24: =C23*0.2359 -> 357.3885 | D24: =C24*12 -> 4288.662 | E24: =D24*0.2 -> 857.7324
B25: Kopā atlīdzība | C25: =ROUND(SUM(C23:C24),0) -> 1872 | D25: =ROUND(SUM(D23:D24),0) -> 22469 | E25: =ROUND(SUM(E23:E24),0) -> 4494
B28: Papildus finansējums materiāliem, diagnostikumiem, reaģentiem AMR izolātu fenotipiskai un genotipiskai raksturošanai
B29: Gads | C29: Uzdevums pasākuma realizēšanai | D29: Izdevumi | E29: Cena (EUR) | F29: Prognozē-jams skaits | G29: Summa (EUR) | H29: Kopsumma (EUR)
B30: 2025.g. | C30: Izolātu fenotipiskā raksturošana ar Mikroatšķaidīšanas metodi (MIC) | D30: Materiāliem, diagnostikumiem, reaģentiem | E30: 42.13 | F30: 200 | G30: =E30*F30 -> 8426 | H30: =ROUND(SUM(G30:G31),0) -> 27634
C31: Izolātu genotipiskā raksturošana ar Pilna genoma sekvenēšanas metodi (NGS) | D31: Materiāliem, diagnostikumiem, reaģentiem | E31: 320.13 | F31: 60 | G31: =E31*F31 -> 19207.8
B32: No 2026.gada turpmāk ik gadu | C32: Izolātu fenotipiskā raksturošana ar Mikroatšķaidīšanas metodi (MIC) | D32: Materiāliem, diagnostikumiem, reaģentiem | E32: 42.13 | F32: 300 | G32: =E32*F32 -> 12639 | H32: =ROUND(SUM(G32:G33),0) -> 44652
C33: Izolātu genotipiskā raksturošana ar Pilna genoma sekvenēšanas metodi (NGS) | D33: Materiāliem, diagnostikumiem, reaģentiem | E33: 320.13 | F33: 100 | G33: =E33*F33 -> 32013

Sheet 7.2.1.(2.1.)
E1: 34. Pielikums Antimikrobiālās rezistences ierobežošanas un piesardzīgas antibiotiku lietošanas plānam “Viena veselība” 2023.-2027. gadam
B3: 7. Laboratoriju kapacitātes stiprināšana: izstrādāta specifikācija AMR datu bāzes izveidošanai, uzturēšanai un aktualizēšanai
B5: Finanšu rādītāji | D5: 2023.gads | E5: 2024.gads | F5: 2025.gads | G5: 2026.gads | H5: Turpmākā laikposmā līdz pasākuma pabeigšanai (ja tas ir terminēts) | I5: Turpmāk katru gadu (ja pasākums nav terminēts) | J5: Sadalījums pa apakšprogrammām; budžeta programmas kods
B6: Ieņēmumi kopā, euro | D6: - | E6: - | F6: - | G6: - | H6: - | I6: -
B7: Izdevumi kopā, euro | D7: 0 | E7: =D15 -> 2729 | F7: =E15 -> 2729 | G7: 0 | H7: 0 | I7: 0 | J7: 20.02.00 Riska zinātniskā novērtēšana un references laboratorijas funkciju veikšana dzīvnieku veselības, pārtikas un dzīvnieku barības jomā
B10: 7. Laboratoriju kapacitātes stiprināšana
B11: Uzdevums | C11: Pasākums | D11: Gads | H11: Pasākuma īstenošanas gads
D12: 2024 | E12: 2025 | F12: Turpmākajā laikposmā līdz pasākuma pabeigšanai (ja pasākuma īstenošana ir terminēta) | G12: Turpmāk ik gadu (ja pasākuma izpilde nav terminēta)
B13: 7.2 Rīcības virziens | C13: Dzīvnieku veselības jomā
B14: 7.2.1. Apkopot un uzglabāt AMR izmeklējumu datus | C14: 2.1. Izstrādāta specifikācija AMR datu bāzes izveidošanai, uzturēšanai un aktualizēšanai | D14: =H18 -> 2729 | E14: =H18 -> 2729 | H14: 2024. II pusgads
D15: =D14 -> 2729 | E15: =E14 -> 2729 | F15: =SUM(F13:F14) -> 0 | G15: =SUM(G13:G14) -> 0
B17: Izdevumu pozīcija
B18: Eksperta atlīdzība uzdevumu izpildei - specifikācijas izstrādei (0,1 slodzes/gadā) | E18: skatīt zemāk | H18: =E23 -> 2729
B20: Ekspertu izdevumi | C20: Euro/mēnesī | D20: Euro/gadā | E20: 0,2 slodzes/gadā
B21: L4 kategorijas pieredz.eksperta Max mēnešalga | C21: 1840 | D21: =C21*12 -> 22080 | E21: =D21*0.1 -> 2208
B22: Darba dēvēja sociālais nodoklis (23,59%) | C22: =C21*0.2359 -> 434.056 | D22: =C22*12 -> 5208.672 | E22: =D22*0.1 -> 520.8672
B23: kopā atlīdzība | C23: =ROUND(SUM(C21:C22),0) -> 2274 | D23: =ROUND(SUM(D21:D22),0) -> 27289 | E23: =ROUND(SUM(E21:E22),0) -> 2729

Sheet 7.2.1.(2.2.-2.4.)
F1: 35. Pielikums Antimikrobiālās rezistences ierobežošanas un piesardzīgas antibiotiku lietošanas plānam “Viena veselība” 2023.-2027. gadam
B3: 7. Laboratoriju kapacitātes stiprināšana: AMR datu bāzes IT programmatūras izstrāde, datubāzes ieviešana, uzturēšana un regulāra aktualizēšana
B5: Finanšu rādītāji | D5: 2023.gads | E5: 2024.gads | F5: 2025.gads | G5: 2026.gads | H5: Turpmākā laikposmā līdz pasākuma pabeigšanai (ja tas ir terminēts) | I5: Turpmāk katru gadu (ja pasākums nav terminēts) | J5: Sadalījums pa apakšprogrammām; budžeta programmas kods
B6: Ieņēmumi kopā, euro | D6: - | E6: - | F6: - | H6: - | I6: -
B7: Izdevumi kopā, euro | D7: 0 | E7: 0 | F7: 140000 | H7: 5457.72 | I7: 14000 | J7: 20.02.00 Riska zinātniskā novērtēšana un references laboratorijas funkciju veikšana dzīvnieku veselības, pārtikas un dzīvnieku barības jomā
B10: 7. Laboratoriju kapacitātes stiprināšana
B11: Uzdevums | C11: Pasākums | D11: Budžeta programmas (apakšprogrammas) kods un nosaukums | E11: Gads | I11: Pasākuma īstenošanas gads
E12: 2025 | F12: 2026 | G12: Turpmākajā laikposmā līdz pasākuma pabeigšanai (ja pasākuma īstenošana ir terminēta) | H12: Turpmāk ik gadu (ja pasākuma izpilde nav terminēta)
B13: 7.2 Rīcības virziens | C13: Dzīvnieku veselības jomā
B14: 7.2.1. Apkopot un uzglabāt AMR izmeklējumu datus | C14: 2.2. AMR datu bāzes IT programmas izstrāde* | E14: 140000 | F14: 0 | G14: 0 | H14: 0 | I14: 2025.g.
C15: 2.3. AMR datu bāzes ieviešana | E15: 0 | F15: =H22 -> 5458 | G15: 0 | H15: 0 | I15: 2026.g.
C16: 2.4. AMR datu bāzes uzturēšana un regulāra aktualizēšana** | E16: 0 | F16: 0 | G16: 0 | H16: 14000 | I16: 2027.g.
D17: KOPĀ: | E17: 140000 | F17: 5457.72 | G17: 0 | H17: 14000
B18: * pakalpojuma prognozējamā līguma cena, kas prognozēta no institūta pieredzes par līdzīgo IT programmas iegādi + 10% inflācija
B19: ** AMR datu bāzes programmas uzurēšana un aktualizēšana (10% no IT programmas summas gadā)
B21: Izdevumu pozīcija
B22: Eksperta atlīdzība uzdevumu izpildei - IT programmas aprobācijai/korekciju veikšanai izstrādes laikā, AMR datu bāzes uzturēšanai un aktualizēšanai (0,2 slodzes/gadā) | E22: Skatīt zemāk | H22: =E27 -> 5458
B24: Ekspertu izdevumi* | C24: Euro/mēnesī | D24: Euro/gadā | E24: 0,2 slodzes/gadā
B25: L4 kategorijas pieredz.eksperta Max mēnešalga | C25: 1840 | D25: =C25*12 -> 22080 | E25: =D25*0.2 -> 4416
B26: Darba dēvēja sociālais nodoklis (23,59%) | C26: =C25*0.2359 -> 434.056 | D26: =C26*12 -> 5208.672 | E26: =D26*0.2 -> 1041.7344
B27: Kopā atlīdzība | C27: =ROUND(C25+C26,0) -> 2274 | D27: =ROUND(D25+D26,0) -> 27289 | E27: =ROUND(E25+E26,0) -> 5458

Sheet 7.2.1.(3.)
E1: 36. Pielikums Antimikrobiālās rezistences ierobežošanas un piesardzīgas antibiotiku lietošanas plānam “Viena veselība” 2023.-2027. gadam
B3: 7. Laboratoriju kapacitātes stiprināšana: regulāra datu ievadīšana un regulāra analīze AMR dzīvnieku veslības datu bāzē
B5: Finanšu rādītāji | D5: 2023.gads | E5: 2024.gads | F5: 2025.gads | G5: 2026.gads | H5: Turpmākā laikposmā līdz pasākuma pabeigšanai (ja tas ir terminēts) | I5: Turpmāk katru gadu (ja pasākums nav terminēts) | J5: Sadalījums pa apakšprogrammām, budžeta programmas kods
B6: Ieņēmumi kopā, euro | D6: - | E6: - | F6: - | G6: - | H6: - | I6: -
B7: Izdevumi kopā, euro | D7: 0 | E7: 0 | F7: 0 | G7: 0 | H7: 0 | I7: =H15 -> 4494 | J7: 20.02.00 Riska zinātniskā novērtēšana un references laboratorijas funkciju veikšana dzīvnieku veselības, pārtikas un dzīvnieku barības jomā
B10: 7. Laboratoriju kapacitātes stiprināšana
B11: Uzdevums | C11: Pasākums | D11: Budžeta programmas (apakšprogrammas) kods un nosaukums | E11: Gads | I11: Pasākuma īstenošanas gads (ja pasākuma īstenošana ir terminēta)
E12: 2026 | F12: 2027 | G12: Turpmākajā laikposmā līdz pasākuma pabeigšanai (ja pasākuma īstenošana ir terminēta) | H12: Turpmāk ik gadu (ja pasākuma izpilde nav terminēta)
B13: 7.2 Rīcības virziens | C13: Dzīvnieku veselības jomā
B14: 7.2.1. Apkopot un uzglabāt AMR izmeklējumu datus | C14: 3.Uzsākts darbs pie regulāras datu ievadīšanas un regulāras analīzes AMR datu bāzē | E14: 0 | F14: =E23 -> 4494 | H14: =E23 -> 4494 | I14: 2027.g., pēc tam pastavīgi
D15: KOPĀ: | E15: =SUM(E14:E14) -> 0 | F15: =SUM(F14:F14) -> 4494 | G15: =SUM(G14:G14) -> 0 | H15: =SUM(H14:H14) -> 4494
B17: Izdevumu pozīcija
B18: Eksperta atlīdzība uzdevumu izpildei (0,2 slodze/gadā) | E18: Skatīt zemāk | H18: =E23 -> 4494
B20: Ekspertu izdevumi | C20: Euro/mēnesī | D20: Euro/gadā | E20: 0,2 slodzes/gadā
B21: L4 kategorijas pieredz.eksperta Vid. mēnešalga | C21: 1515 | D21: =C21*12 -> 18180 | E21: =D21*0.2 -> 3636
B22: Darba dēvēja sociālais nodoklis (23,59%) | C22: =C21*0.2359 -> 357.3885 | D22: =C22*12 -> 4288.662 | E22: =D22*0.2 -> 857.7324
B23: Kopā atlīdzība | C23: =ROUND(SUM(C21:C22),0) -> 1872 | D23: =ROUND(SUM(D21:D22),0) -> 22469 | E23: =ROUND(SUM(E21:E22),0) -> 4494

Sheet 7.2.2.(1.1.)
D1: 37. Pielikums Antimikrobiālās rezistences ierobežošanas un piesardzīgas antibiotiku lietošanas plānam “Viena veselība” 2023.-2027. gadam
A3: 7. Laboratoriju kapacitātes stiprināšana: jaunu metožu izmantošana laboratorijas darbā
A5: Finanšu rādītāji | C5: 2023.gads | D5: 2024.gads | E5: 2025.gads | F5: 2026.gads | G5: Turpmākā laikposmā līdz pasākuma pabeigšanai (ja tas ir terminēts) | H5: Turpmāk katru gadu (ja pasākums nav terminēts) | I5: Sadalījums pa apakšprogrammām; budžeta programmas kods
A6: Ieņēmumi kopā, euro | C6: - | D6: - | E6: - | F6: - | G6: - | H6: -
A7: Izdevumi kopā, euro | C7: 0 | D7: 0 | E7: 0 | F7: =C16 -> 3729 | G7: =D16 -> 6458 | H7: 0 | I7: 20.02.00 Riska zinātniskā novērtēšana un references laboratorijas funkciju veikšana dzīvnieku veselības, pārtikas un dzīvnieku barības jomā
A10: 7. Laboratoriju kapacitātes stiprināšana
A11: Uzdevums | B11: Pasākums | C11: Gads
C12: 2026 | D12: 2027 | E12: Turpmākajā laikposmā līdz pasākuma pabeigšanai (ja pasākuma īstenošana ir terminēta) | F12: Turpmāk ik gadu (ja pasākuma izpilde nav terminēta)
A13: 7.2 Rīcības virziens | B13: Dzīvnieku veselības jomā
A14: 7.2.2. Pilnveidot AMR noteikšanas metodes | B14: 1.1.Veicināta jaunāko metožu AMR izmeklēšanai un rezistento gēnu noteikšanai (piem, molekulāri ģenētiskās, pilna genoma sekvenēšanas metodes) ieviešana Nacionālas refernces laboratorijas ikdienas darbā | C14: =D25 -> 2729 | D14: =E25 -> 5458
B15: Metožu validēšana (prognozējamais finansējums) | C15: 1000 | D15: 1000
B16: KOPĀ | C16: =C14+C15 -> 3729 | D16: =D14+D15 -> 6458 | E16: 0 | F16: 0
A18: Izdevumu pozīcija
A19: Eksperta atlīdzība uzdevumu izpildei - (0,1 slodze/gadā) | D19: 2026 | E19: Skatīt zemāk | G19: =E24 -> 1041.7344
A20: Eksperta atlīdzība uzdevumu izpildei - (0,2 slodze/gadā) | D20: 2027 | E20: Skatīt zemāk | G20: =E25 -> 5458
A22: Ekspertu izdevumi* | B22: Euro/mēnesī | C22: Euro/gadā | D22: 0,1 slodzes/gadā | E22: 0,2 slodzes/gadā
A23: L4 kategorijas pieredz. eksperta Max mēnešalga | B23: 1840 | C23: =B23*12 -> 22080 | D23: =C23*0.1 -> 2208 | E23: =C23*0.2 -> 4416
A24: Darba dēvēja sociālais nodoklis (23,59%) | B24: =B23*0.2359 -> 434.056 | C24: =B24*12 -> 5208.672 | D24: =C24*0.1 -> 520.8672 | E24: =C24*0.2 -> 1041.7344
A25: Kopā atlīdzība | B25: =ROUND(B23+B24,0) -> 2274 | C25: =ROUND(C23+C24,0) -> 27289 | D25: =ROUND(D23+D24,0) -> 2729 | E25: =ROUND(E23+E24,0) -> 5458

Sheet 7.2.2.(1.2.)
E1: 38. Pielikums Antimikrobiālās rezistences ierobežošanas un piesardzīgas antibiotiku lietošanas plānam “Viena veselība” 2023.-2027. gadam
B3: 7. Laboratoriju kapacitātes stiprināšana: izstrādāti ieteikumui par AMR noteikšanas metodēm
B5: Finanšu rādītāji | D5: 2023.gads | E5: 2024.gads | F5: 2025.gads | G5: 2026.gads | H5: Turpmākā laikposmā līdz pasākuma pabeigšanai (ja tas ir terminēts) | I5: Turpmāk katru gadu (ja pasākums nav terminēts) | J5: Sadalījums pa apakšprogrammām; budžeta programmas kods
B6: Ieņēmumi kopā, euro | D6: - | E6: - | F6: - | G6: - | H6: - | I6: -
B7: Izdevumi kopā, euro | D7: 0 | E7: =D15 -> 2729 | F7: =E15 -> 3213 | G7: 0 | H7: 0 | I7: 0 | J7: 20.02.00 Riska zinātniskā novērtēšana un references laboratorijas funkciju veikšana dzīvnieku veselības, pārtikas un dzīvnieku barības jomā
B9: 7. Laboratoriju kapacitātes stiprināšana
B10: Uzdevums | C10: Pasākums | D10: Gads | H10: Pasākuma īstenošanas gads (ja pasākuma īstenošana ir terminēta)
D11: 2024 | E11: 2025 | F11: Turpmākajā laikposmā līdz pasākuma pabeigšanai (ja pasākuma īstenošana ir terminēta) | G11: Turpmāk ik gadu (ja pasākuma izpilde nav terminēta)
B12: 7.2 Rīcības virziens | C12: Dzīvnieku veselības jomā
B13: 7.2.2. Pilnveidot AMR noteikšanas metodes | C13: 1.2. Izstrādāti ieteikumui par AMR noteikšanas metodēm, lai nodrošinātu ātru, ticamu un efektīvu mikroorganismu rezistences noteikšanu | D13: =E23 -> 2729 | E13: =E23 -> 2729 | H13: 2025. gada II pusgads, pēc tam atbilstoši situācijai
C14: Ieteikumu publicēšana | D14: 0 | E14: =E29 -> 484
B15: KOPĀ: | D15: =SUM(D13:D14) -> 2729 | E15: =SUM(E13:E14) -> 3213
B17: Izdevumu pozīcija
B18: Eksperta atlīdzība uzdevumu izpildei - ieteikumu izstrāde (0,1 slodze/gadā) | E18: Skatīt zemāk | H18: =E23 -> 2729
B20: Ekspertu izdevumi | C20: Euro/mēnesī | D20: Euro/gadā | E20: 0,1 slodze/gadā
B21: L4 kategorijas pieredz.eksperta Max mēnešalga | C21: 1840 | D21: =C21*12 -> 22080 | E21: =D21*0.1 -> 2208
B22: Darba dēvēja sociālais nodoklis (23,59%) | C22: =C21*0.2359 -> 434.056 | D22: =C22*12 -> 5208.672 | E22: =D22*0.1 -> 520.8672
B23: Kopā atlīdzība | C23: =ROUND(C21+C22,0) -> 2274 | D23: =ROUND(D21+D22,0) -> 27289 | E23: =ROUND(E21+E22,0) -> 2729
B25: Prognozējamais finansējums vadlīniju publicēšanai 2025.g. | E25: (3.tabula)
B26: Izdevumu pozīcija | C26: Prognozējama cena (EUR) | D26: Skaits | E26: Summa (EUR)
B27: Dizaina izveide, maketēšana, korektūra | C27: 190 | D27: 1 | E27: =D27*C27 -> 190
B28: Poligrāfijas drukas darbi (A4 formāts, krāsains, iekļaujot fotogrāfijas, līdz 30 lpp., 50 eksemplāri) | C28: 294.33 | D28: 1 | E28: =D28*C28 -> 294.33
B29: Izdevumi kopā: | E29: =ROUND(SUM(E27:E28),0) -> 484

Sheet Sheet2

Sheet 7.2.2.(2.1.-2.2.)
E1: 39. Pielikums Antimikrobiālās rezistences ierobežošanas un piesardzīgas antibiotiku lietošanas plānam “Viena veselība” 2023.-2027. gadam
B3: 7. Laboratoriju kapacitātes stiprināšana: izstrādātas programmas un veikta AMR laboratorijas tīkla personāla apmācība
B5: Finanšu rādītāji | D5: 2023.gads | E5: 2024.gads | F5: 2025.gads | G5: 2026.gads | H5: Turpmākā laikposmā līdz pasākuma pabeigšanai (ja tas ir terminēts) | I5: Turpmāk katru gadu (ja pasākums nav terminēts) | J5: Sadalījums pa apakšprogrammām, budžeta programmas kods
B6: Ieņēmumi kopā, euro | D6: - | E6: - | F6: - | G6: - | H6: - | I6: -
B7: Izdevumi kopā, euro | D7: 0 | E7: =D17 -> 1364 | F7: =E17 -> 4586 | G7: =F17 -> 0 | H7: 0 | I7: =H17 -> 3222 | J7: 20.02.00 Riska zinātniskā novērtēšana un references laboratorijas funkciju veikšana dzīvnieku veselības, pārtikas un dzīvnieku barības jomā
B9: 7. Laboratoriju kapacitātes stiprināšana
B10: Uzdevums | C10: Pasākums | D10: Gads
D11: 2024 | E11: 2025 | F11: 2026 | G11: Turpmākajā laikposmā līdz pasākuma pabeigšanai (ja pasākuma īstenošana ir terminēta) | H11: Turpmāk ik gadu (ja pasākuma izpilde nav terminēta)
B12: 7.2 Rīcības virziens | C12: Dzīvnieku veselības jomā
B13: 7.2.2. Pilnveidot AMR noteikšanas metodes | C13: 2.1. Izstrādāti ieteikumi/ apmācības programmas par mikroorganismu un to AMR noteikšanas metodēm un biodrošības pasākumiem laboratorijā | D13: =E26 -> 1364 | E13: =E26 -> 1364 | F13: 0 | G13: 0 | H13: 0 | I13: 2024.gada I.pusgads
C14: 2.2. KOPĀ | D14: =D15+D16 -> 0 | E14: =E15+E16 -> 3222 | F14: =F15+F16 -> 0 | G14: =G15+G16 -> 0 | H14: =H15+H16 -> 3222
C15: 2.2. Uzsākta AMR laboratoriju tīkla personāla informēšana/apmācības par mikroorganismu un to AMR noteikšanas metodēm un biodrošības pasākumiem laboratoriskajā diagnostikā | D15: 0 | E15: =H20 -> 2729 | F15: 0 | G15: 0 | H15: =H20 -> 2729 | I15: 2025. gads, pēc tam pastāvīgi katru otro gadu
C16: Apmācību tehniskajai nodrošināšanai | D16: 0 | E16: =F37 -> 493 | F16: 0 | G16: 0 | H16: =F37 -> 493
D17: =D13+D15+D16 -> 1364 | E17: =E13+E15+E16 -> 4586 | F17: =F13+F15+F16 -> 0 | G17: =G13+G15+G16 -> 0 | H17: =H13+H15+H16 -> 3222
B19: Izdevumu pozīcija
B20: Eksperta atlīdzība uzdevumu izpildei (0,1 slodze/gadā) | E20: Skatīt zemāk | H20: =F26 -> 2729
B21: Eksperta atlīdzība uzdevumu izpildei (0,05 slodze/gadā) | E21: Skatīt zemāk | H21: =E26 -> 1364
B23: Ekspertu izdevumi | C23: Euro/mēnesī | D23: Euro/gadā | E23: 0,05 slodze/gadā | F23: 0,1 slodze/gadā
B24: L4 kategorijas pieredz.eksperta Max mēnešalga | C24: 1840 | D24: =C24*12 -> 22080 | E24: =D24*0.05 -> 1104 | F24: =D24*0.1 -> 2208
B25: Darba dēvēja sociālais nodoklis (23,59%) | C25: =C24*0.2359 -> 434.056 | D25: =C25*12 -> 5208.672 | E25: =D25*0.05 -> 260.4336 | F25: =D25*0.1 -> 520.8672
B26: Kopā atlīdzība | C26: =ROUND(SUM(C24:C25),0) -> 2274 | D26: =ROUND(SUM(D24:D25),0) -> 27289 | E26: =ROUND(SUM(E24:E25),0) -> 1364 | F26: =ROUND(SUM(F24:F25),0) -> 2729
B29: Prognozējamais finansējums semināra/apmācību tehniskajai nodrošināšanai (3.tabula)
B30: 1 vienas dienas seminārs (50 dalībnieki), izmaksas vienam semināram (BIOR telpās):
B32: Izdevumu pozīcija | C32: Papildus informācija | D32: Prognozējama cena (EUR) | E32: Skaits | F32: Izmaksas, Euro
B33: Lektors (2) | C33: 2 lektori (1 st. uzstāšana +4 st. sagatavošanas darbi = 1+4 x 2) | D33: 18.25 | E33: 10 | F33: =D33*E33 -> 182.5
B34: Izdales materiāli, elektroniskie | D34: 2.5 | E34: 50 | F34: =D34*E34 -> 125
B35: Kancelejas materiāli | C35: A4 lapas, pildspalvas u.c. | D35: 0.3 | E35: 50 | F35: =D35*E35 -> 15
B36: Kafijas pauzes (2) | C36: 2 kafijas pauzes (1 no rīta +1 pēcpusdienā) | D36: 1.7 | E36: 100 | F36: =D36*E36 -> 170
B37: Izdevumu kopsumma | F37: =ROUND(SUM(F33:F36),0) -> 493

Sheet 7.2.2.(3.)
E1: 40. Pielikums Antimikrobiālās rezistences ierobežošanas un piesardzīgas antibiotiku lietošanas plānam “Viena veselība” 2023.-2027. gadam
B3: Laboratoriju kapacitātes stiprināšana: pilnveidotas AMR noteikšanas metodes veterinārmedicīnas prakses vietās
B5: Finanšu rādītāji | D5: 2023.gads | E5: 2024.gads | F5: 2025.gads | G5: 2026.gads | H5: Turpmākā laikposmā līdz pasākuma pabeigšanai (ja tas ir terminēts) | I5: Turpmāk katru gadu (ja pasākums nav terminēts) | J5: Sadalījums pa apakšprogrammām; budžeta programmas kods
B6: Ieņēmumi kopā, euro | D6: - | E6: - | F6: - | H6: - | I6: -
B7: Izdevumi kopā, euro | D7: 0 | E7: =D18 -> 1364 | F7: =E18 -> 3222 | G7: =F18 -> 3222 | H7: - | I7: =H18 -> 3222 | J7: 20.02.00 Riska zinātniskā novērtēšana un references laboratorijas funkciju veikšana dzīvnieku veselības, pārtikas un dzīvnieku barības jomā
B8: Izdevumi kopā, euro | D8: 0 | E8: =D23 -> 6300 | F8: =E23 -> 3000 | G8: =F23 -> 3000 | H8: - | I8: =H23 -> 3000 | J8: 22.05.00 Dotācija SIA "Latvijas Lauku konsultāciju un izglītības centrs" informācijas analīzes un apmaiņas sistēmai
B10: 7. Laboratoriju kapacitātes stiprināšana
B11: Uzdevums | C11: Pasākums | D11: Gads
D12: 2024 | E12: 2025 | F12: 2026 | G12: Turpmākajā laikposmā līdz pasākuma pabeigšanai (ja pasākuma īstenošana ir terminēta) | H12: Turpmāk ik gadu (ja pasākuma izpilde nav terminēta)
B13: 7.2 Rīcības virziens | C13: Dzīvnieku veselības jomā
B14: 1. PASĀKUMS BIOR
B15: 7.2.2. Pilnveidot AMR noteikšanas metodes | C15: 3. Nodrošināta veterinārmedicīnas prakses iestāžu informēšana, lai veicinātu dzīvnieku bakteriālo infekcijas slimību ierosinātāju diagnostikas metožu korektu lietošanu un to rezultātu interpretāciju | D15: =H28 -> 1364 | E15: =H29 -> 2729 | F15: =H29 -> 2729 | G15: 0 | H15: =H29 -> 2729
C17: Apmācību tehniskajai nodrošināšanai | D17: 0 | E17: =F45 -> 493 | F17: =F45 -> 493 | G17: 0 | H17: =F45 -> 493
C18: KOPĀ | D18: =D15+D17 -> 1364 | E18: =E15+E17 -> 3222 | F18: =F15+F17 -> 3222 | G18: =G15+G17 -> 0 | H18: =H15+H17 -> 3222
B19: 2.PASĀKUMS - LLKC
B20: 7.2.2. Pilnveidot AMR noteikšanas metodes | C20: 3.1. Informatīvais materiāls drukāts visiem praktizējošiem veterinārārstiem | D20: =E67 -> 3300 | E20: 0 | F20: 0 | G20: 0 | H20: 0
C22: Apmācību nodoršināšana | D22: =E87 -> 3000 | E22: =E87 -> 3000 | F22: =E87 -> 3000 | G22: 0 | H22: =E87 -> 3000
C23: KOPĀ | D23: =D20+D22 -> 6300 | E23: =E20+E22 -> 3000 | F23: =F20+F22 -> 3000 | G23: =G20+G22 -> 0 | H23: =H20+H22 -> 3000
B25: 1. PASĀKUMS - BIOR
B27: Izdevumu pozīcija
B28: Eksperta atlīdzība uzdevumu izpildei (0,05 slodze/gadā) | E28: 2024 | F28: Skatīt zemāk | H28: =E34 -> 1364
B29: Eksperta atlīdzība uzdevumu izpildei (0,1 slodze/gadā) | E29: 2025- un turpmāk | F29: Skatīt zemāk | H29: =F34 -> 2729
B31: Ekspertu izdevumi | C31: Euro/mēnesī | D31: Euro/gadā | E31: 0,05 slodzes/gadā | F31: 0,1 slodze/gadā
B32: L4 kategorijas pieredz.eksperta Max mēnešalga | C32: 1840 | D32: =C32*12 -> 22080 | E32: =D32*0.05 -> 1104 | F32: =D32*0.1 -> 2208
B33: Darba dēvēja sociālais nodoklis (23,59%) | C33: =C32*0.2359 -> 434.056 | D33: =C33*12 -> 5208.672 | E33: =D33*0.05 -> 260.4336 | F33: =D33*0.1 -> 520.8672
B34: Kopā atlīdzība | C34: =ROUND(SUM(C32:C33),0) -> 2274 | D34: =ROUND(SUM(D32:D33),0) -> 27289 | E34: =ROUND(SUM(E32:E33),0) -> 1364 | F34: =ROUND(SUM(F32:F33),0) -> 2729
B37: Prognozējamais finansējums semināra/apmācību tehniskajai nodrošināšanai (3.tabula)
B38: 1 vienas dienas seminārs (50 dalībnieki), izmaksas vienam semināram (BIOR telpās):
B40: Izdevumu pozīcija | C40: Papildus informācija | D40: Prognozējama cena (EUR) | E40: Skaits | F40: Izmaksas, Euro
B41: Lektors (2) | C41: 2 lektori (1 st. uzstāšana +4 st. sagatavošanas darbi = 1+4 x 2) | D41: 18.25 | E41: 10 | F41: =D41*E41 -> 182.5
B42: Izdales materiāli, elektroniskie | D42: 2.5 | E42: 50 | F42: =D42*E42 -> 125
B43: Kancelejas materiāli | C43: A4 lapas, pildspalvas u.c. | D43: 0.3 | E43: 50 | F43: =D43*E43 -> 15
B44: Kafijas pauzes (2) | C44: 2 kafijas pauzes (1 no rīta +1 pēcpusdienā) | D44: 1.7 | E44: 100 | F44: =D44*E44 -> 170
B45: Izdevumu kopsumma | F45: =ROUND(SUM(F41:F44),0) -> 493
B48: 2. PASĀKUMS - LLKC
A50: Informatīvais materiāls drukāts visiem praktizējošiem veterinārārstiem (1000 eksemplāri)
A51: Nr. p.k. | B51: Izmaksu postenis | C51: Skaits | D51: Cena, EUR | E51: Summa, EUR
A52: 1. | B52: Darba samaksa | E52: =SUM(E53:E56) -> 352.8392
A53: 1.1. | B53: rediģēšana | C53: 1 | D53: 110 | E53: =D53*C53 -> 110
A54: 1.2. | B54: maketēšana | C54: 1 | D54: 100 | E54: =D54*C54 -> 100
A55: 1.3. | B55: koordinēšana | C55: 1.8412 | D55: 41 | E55: =D55*C55 -> 75.4892
A56: 1.4. | B56: DDSAOI - 23,59% | E56: =ROUND((E53+E54+E55)*0.2359,2) -> 67.35
A57: 2. | B57: Mainīgās izmaksas | E57: =SUM(E58:E60) -> 2813.08
A58: 2.1. | B58: autoratlīdzība | C58: 3 | D58: =400*1.2359 -> 494.36 | E58: =C58*D58 -> 1483.08
A59: 2.2. | B59: dizaina izveide | C59: 1 | D59: 130 | E59: =D59*C59 -> 130
A60: 2.3. | B60: drukāšana | C60: 1000 | D60: 1.2 | E60: =D60*C60 -> 1200
A61: 3. | B61: Fiksētās izmaksas | E61: =E62+E63+E64+E65+E66 -> 134.08
A62: 3.1. | B62: Speciālistu attīstības izmaksas - apmācība, prakse, pieredzes apmaiņa | C62: 0.08 | E62: =ROUND(E52*C62,2) -> 28.23
A63: 3.2. | B63: Administrācijas izmaksas | C63: 0.15 | E63: =ROUND(E52*C63,2) -> 52.93
A64: 3.3. | B64: IT infrastruktūras izmaksas | C64: 0.04 | E64: =ROUND(E52*C64,2) -> 14.11
A65: 3.4. | B65: Biroja izdevumi | C65: 0.07 | E65: =ROUND(E52*C65,2) -> 24.7
A66: 3.5. | B66: Nolietojums | C66: 0.04 | E66: =ROUND(E52*C66,2) -> 14.11
A67: 4. | B67: KOPĀ | E67: =ROUND(E52+E57+E61,0) -> 3300
A69: Apmācība 20 cilvēku grupai
A70: Nr.p.k. | B70: Izmaksu postenis | C70: Skaits | D70: Cena, EUR | E70: Summa, EUR
A71: 1. | B71: Darba samaksa | E71: =E72+E73 -> 658.73
A72: 1.1. | B72: Organizators | C72: 13 | D72: 41 | E72: =C72*D72 -> 533
A73: 1.2. | B73: DDSAOI - 23,59% | E73: =ROUND((E72)*0.2359,2) -> 125.73
A74: 2. | B74: Mainīgās izmaksas | E74: =SUM(E75:E80) -> 2090.9515
A75: 2.1. | B75: Lektora atalgojums un nodokļi | C75: 8 | D75: =63.107*1.2359 -> 77.993941 | E75: =C75*D75 -> 623.95153
A76: 2.2. | B76: Mācību un tehniskie materiāli | C76: 1 | D76: 250 | E76: =D76*C76 -> 250
A77: 2.3. | B77: Specapģērbi,dezinfekcijas līdzekļi, gab | C77: 22 | D77: 3.5 | E77: =D77*C77 -> 77
A78: 2.4. | B78: Filmēšana, ierakstu veidošana | C78: 1 | D78: 500 | E78: =D78*C78 -> 500
A79: 2.5. | B79: Kafijas pauzes, gab | C79: 2 | D79: 160 | E79: =D79*C79 -> 320
A80: 2.6. | B80: Telpu, aprīkojuma noma, h | C80: 8 | D80: 40 | E80: =D80*C80 -> 320
A81: 3. | B81: Fiksētās izmaksas | E81: =E82+E83+E84+E85+E86 -> 250.32
A82: 3.1. | B82: Speciālistu attīstības izmaksas - apmācība, prakse, pieredzes apmaiņa | C82: 0.08 | E82: =ROUND(E71*C82,2) -> 52.7
A83: 3.2. | B83: Administrācijas izmaksas | C83: 0.15 | E83: =ROUND(E71*C83,2) -> 98.81
A84: 3.3. | B84: IT infrastruktūras izmaksas | C84: 0.04 | E84: =ROUND(E71*C84,2) -> 26.35
A85: 3.4. | B85: Biroja izdevumi | C85: 0.07 | E85: =ROUND(E71*C85,2) -> 46.11
A86: 3.5. | B86: Nolietojums | C86: 0.04 | E86: =ROUND(E71*C86,2) -> 26.35
B87: KOPĀ | E87: =ROUND(E71+E74+E81,0) -> 3000
B88: Uz 1 dalībnieku | E88: =E87/20 -> 150

Sheet 7.2.2.(4.)
D1: 41. Pielikums Antimikrobiālās rezistences ierobežošanas un piesardzīgas antibiotiku lietošanas plānam “Viena veselība” 2023.-2027. gadam
A3: 7. Laboratoriju kapacitātes stiprināšana: Ieviesta MIC metode AMR noteikšanai rutīniem izmeklējumiem, veikta metožu validēšana
B4: Finanšu rādītāji | D4: 2023.gads | E4: 2024.gads | F4: 2025.gads | G4: 2026.gads | H4: Turpmākā laikposmā līdz pasākuma pabeigšanai (ja tas ir terminēts) | I4: Turpmāk katru gadu (ja pasākums nav terminēts) | J4: Sadalījums pa apakšprogrammām; budžeta programmas kods
B5: Ieņēmumi kopā, euro | D5: - | E5: - | F5: - | G5: - | H5: - | I5: -
B6: Izdevumi kopā, euro | D6: 0 | E6: =C12 -> 2364 | F6: =D12 -> 2729 | G6: 0 | H6: 0 | I6: 0 | J6: 20.02.00 Riska zinātniskā novērtēšana un references laboratorijas funkciju veikšana dzīvnieku veselības, pārtikas un dzīvnieku barības jomā
A8: Uzdevums | B8: Pasākums | C8: Gads
C9: 2024 | D9: 2025 | E9: 2026 | F9: Turpmākajā laikposmā līdz pasākuma pabeigšanai (ja pasākuma īstenošana ir terminēta) | G9: Turpmāk ik gadu (ja pasākuma izpilde nav terminēta)
A10: 7.2.2. Pilnveidot AMR noteikšanas metodes | B10: 4.Ieviesta MIC metode AMR noteikšanai rutīniem izmeklējumiem | C10: =G16 -> 1364 | D10: =G17 -> 2729 | E10: 0 | F10: 0 | G10: 0 | H10: 2025. I pusgads
B11: Metožu validēšana (prognozētais finansējums) | C11: 1000 | D11: 0 | E11: 0 | F11: 0 | G11: 0
C12: =SUM(C10:C11) -> 2364 | D12: =SUM(D10:D11) -> 2729 | E12: =SUM(E10:E11) -> 0 | F12: =SUM(F10:F11) -> 0 | G12: =SUM(G10:G11) -> 0
A15: Izdevumu pozīcija
A16: Eksperta atlīdzība uzdevumu izpildei (0,05 slodze/gadā) | D16: 2024 | E16: Skatīt zemāk | G16: =D22 -> 1364
A17: Eksperta atlīdzība uzdevumu izpildei (0,1 slodze/gadā) | D17: 2025 | E17: Skatīt zemāk | G17: =E22 -> 2729
A19: Ekspertu izdevumi* | B19: Euro/mēnesī | C19: Euro/gadā | D19: 0,05 slodzes/gadā | E19: 0,1 slodze/gadā
A20: L4 kategorijas pieredz.eksperta Max mēnešalga | B20: 1840 | C20: =B20*12 -> 22080 | D20: =C20*0.05 -> 1104 | E20: =C20*0.1 -> 2208
A21: Darba dēvēja sociālais nodoklis (23,59%) | B21: =B20*0.2359 -> 434.056 | C21: =B21*12 -> 5208.672 | D21: =C21*0.05 -> 260.4336 | E21: =C21*0.1 -> 520.8672
A22: Kopā atlīdzība | B22: =ROUND(SUM(B20:B21),0) -> 2274 | C22: =ROUND(SUM(C20:C21),0) -> 27289 | D22: =ROUND(SUM(D20:D21),0) -> 1364 | E22: =ROUND(SUM(E20:E21),0) -> 2729

Sheet 7.2.3. (1.-3.)
D1: 42. Pielikums Antimikrobiālās rezistences ierobežošanas un piesardzīgas antibiotiku lietošanas plānam “Viena veselība” 2023.-2027. gadam
A3: 7.2.3. Stiprināt NRL kapacitāti AMR uzraudzības funkciju nodrošināšanai dzīvnieku veselības jomā
B5: Finanšu rādītāji | D5: 2023.gads | E5: 2024.gads | F5: 2025.gads | G5: 2026.gads | H5: Turpmākā laikposmā līdz pasākuma pabeigšanai (ja tas ir terminēts) | I5: Turpmāk katru gadu (ja pasākums nav terminēts) | J5: Sadalījums pa apakšprogrammām; budžeta programmas kods
B6: Ieņēmumi kopā, euro | D6: - | E6: - | F6: - | G6: - | H6: - | I6: -
B7: Izdevumi kopā, euro | D7: 0 | E7: =E14 -> 5457 | F7: =F14 -> 1364 | G7: =G14 -> 1364 | H7: 0 | I7: =H14 -> 1364 | J7: 20.02.00 Riska zinātniskā novērtēšana un references laboratorijas funkciju veikšana dzīvnieku veselības, pārtikas un dzīvnieku barības jomā
A10: Uzdevums | C10: Pamatojums | D10: 2023.gads | E10: 2024.gads | F10: 2025.gads | G10: 2026.gads | H10: Turpmāk katru gadu (ja pasākums nav terminēts) | I10: Turpmākā laikposmā līdz pasākuma pabeigšanai (ja tas ir terminēts)
A11: 1.Sagatavot priekšlikumus NRL kapacitātes stiprināšanas finansēšanai AMR laboratoriskās uzraudzības funkciju izpildei | C11: ZM rīkojums Nr.72 (11.05.2017.), p.1.3.2. | E11: =F17 -> 1364 | I11: 2024.gada I pusgads
A12: 2.Sagatavot ikgadējo references atskaiti par AMR | E12: =F17 -> 1364 | F12: =F17 -> 1364 | G12: =F17 -> 1364 | H12: =F17 -> 1364 | I12: No 2024.gada I.pusgada, pēc tam regulāri
A13: 3.Sagatavot priekšlikumus AMR datu bāzes izveidošanas, uzturēšanas un aktualizēšanas finansēšanai | E13: =F18 -> 2729 | I13: 2024. gada II pusgads
A14: KOPĀ | D14: =SUM(D11:D13) -> 0 | E14: =SUM(E11:E13) -> 5457 | F14: =SUM(F11:F13) -> 1364 | G14: =SUM(G11:G13) -> 1364 | H14: =SUM(H11:H13) -> 1364
A16: Izdevumu pozīcija
A17: Eksperta atlīdzība uzdevumu izpildei (0,05 slodze/gadā) | D17: Skatīt zemāk | F17: =D23 -> 1364
A18: Eksperta atlīdzība uzdevumu izpildei (0,1 slodze/gadā) | D18: Skatīt zemāk | F18: =E23 -> 2729
A20: Ekspertu izdevumi | B20: Euro/mēnesī | C20: Euro/gadā | D20: 0,05 slodzes/ gadā | E20: 0,1 slodze/gadā
A21: L4 kategorijas pieredz. eksperta Max mēnešalga | B21: 1840 | C21: =B21*12 -> 22080 | D21: =C21*0.05 -> 1104 | E21: =C21*0.1 -> 2208
A22: Darba dēvēja sociālais nodoklis (23,59%) | B22: =B21*0.2359 -> 434.056 | C22: =B22*12 -> 5208.672 | D22: =C22*0.05 -> 260.4336 | E22: =C22*0.1 -> 520.8672
A23: Kopā atlīdzība | B23: =ROUND(SUM(B21:B22),0) -> 2274 | C23: =ROUND(SUM(C21:C22),0) -> 27289 | D23: =ROUND(SUM(D21:D22),0) -> 1364 | E23: =ROUND(SUM(E21:E22),0) -> 2729

Sheet 8.1.
E1: 43. Pielikums Antimikrobiālās rezistences ierobežošanas un piesardzīgas antibiotiku lietošanas plānam “Viena veselība” 2023.-2027. gadam
B3: 8.1. Izveidots veselības aprūpes kompetences centrs no 4 darbiniekiem* infekcijas slimību profilakses un uzraudzības jomā, kā arī atbildīgas un piesardzības antibiotiku lietošanas jautājumos
B5: Finanšu rādītāji | D5: 2023.gads | E5: 2024.gads | F5: 2025.gads | G5: 2026.gads | H5: Turpmākā laikposmā līdz pasākuma pabeigšanai (ja tas ir terminēts) | I5: Turpmāk katru gadu (ja pasākums nav terminēts) | J5: Sadalījums pa apakšprogrammām; budžeta programmas kods
B6: Ieņēmumi kopā, euro | D6: - | E6: - | F6: - | G6: - | H6: - | I6: -
B7: Izdevumi kopā, euro | D7: 0 | E7: =D26 -> 72539 | F7: =E26 -> 141077 | G7: =F26 -> 141077 | I7: =F26 -> 141077 | J7: 33.16.00 "Pārējo ambulatoro veselības aprūpes pakalpojumu nodrošināšana"
B10: AMR kompetences centra izdevumu aprēķins
B12: Amata nosaukums | C12: Slodžu skaits | D12: Atalgojums | E12: DD VSAOI | F12: Atalgojuma mainīgā daļa, 5% | G12: Atvaļinājuma rezerve | H12: Kopā mēnesī, ņemot vērā slodžu skaitu
B13: Infektolgs ar pieredzi ar AMR jomā | C13: 1 | D13: 2624 | E13: =(D13+F13+G13)*0.2359 -> 701.44216 | F13: =D13*0.05 -> 131.2 | G13: =((D13+F13)/21.08)*1.67 -> 218.27249 | H13: =SUM(D13:G13) -> 3674.9146
B14: Epidemiologs ar pieredzi ar veselības aprūpi saistītu infekcijas slimību uzraudzībā | C14: 1 | D14: 2177 | E14: =(D14+F14+G14)*0.2359 -> 581.95106 | F14: =D14*0.05 -> 108.85 | G14: =((D14+F14)/21.08)*1.67 -> 181.08963 | H14: =SUM(D14:G14) -> 3048.8907
B15: Klīniskais farmaceits | C15: 1 | D15: 1650 | E15: =(D15+F15+G15)*0.2359 -> 441.07453 | F15: =D15*0.05 -> 82.5 | G15: =((D15+F15)/21.08)*1.67 -> 137.25213 | H15: =SUM(D15:G15) -> 2310.8267
B16: Medicīnas māsa ar pieredzi ar veselības aprūpi saistītu infecijas slimību uzraudzībā | C16: 1 | D16: 1640 | E16: =(D16+F16+G16)*0.2359 -> 438.40135 | F16: =D16*0.05 -> 82 | G16: =((D16+F16)/21.08)*1.67 -> 136.4203 | H16: =SUM(D16:G16) -> 2296.8217
B17: KOPĀ | C17: =SUM(C13:C16) -> 4 | D17: =SUM(D13:D16) -> 8091 | E17: =SUM(E13:E16) -> 2162.8691 | F17: =SUM(F13:F16) -> 404.55 | G17: =SUM(G13:G16) -> 673.03456 | H17: =ROUND(SUM(H13:H16),2) -> 11331.45
B19: Plānots, ka veselības aprūpes kompetences centrs darbību uzsāks 2024.gada 2.pusgadā
B21: Nr.p.k. | C21: Izmaksu veids | D21: 2024.gads | E21: 2025.gads | F21: 2026.gads
B22: 1 | C22: Darba alga, ieskaitot DD nodokļus | D22: =H17*6 -> 67988.7 | E22: =H17*12 -> 135977.4 | F22: =H17*12 -> 135977.4
B23: 2 | C23: Darba vietas aprīkošana un uzturēšana | D23: 2000 | E23: 0 | F23: 0
B24: 3 | C24: Dalība izglītojošos pasākumos un pasākumu rīkošana | D24: =5000/2 -> 2500 | E24: 5000 | F24: 5000
B25: 4 | C25: Kancelejas preces | D25: =100/2 -> 50 | E25: 100 | F25: 100
B26: Kopā, euro: | D26: =ROUND(SUM(D22:D25),0) -> 72539 | E26: =ROUND(SUM(E22:E25),0) -> 141077 | F26: =ROUND(SUM(F22:F25),0) -> 141077
B28: * PSKUS darbinieki, atlīdzība paredzama PSKUS ar NVD slēgtā līguma ietvaros

Sheet 8.3. (1.-2.)
D1: 44. Pielikums Antimikrobiālās rezistences ierobežošanas un piesardzīgas antibiotiku lietošanas plānam “Viena veselība” 2023.-2027. gadam
B4: Izvērtētas ārstniecības personu izglītības programmas visos izglītības līmeņos, nosakot tajās iekļauto prasmju un zināšanu tvērumu par AMR un piesardzīgas antibiotiku lietošanas jautājumiem un izstrādāta vienota metodika AMR un atbildīgas un piesardzīgas AB lietošanas jautājumu ietveršanai veselības aprūpes speciālistu profesionālās izglītības programmās.
B6: Finanšu rādītāji | D6: 2024.gads | E6: 2025.gads | F6: 2026.gads | G6: Turpmākā laikposmā līdz pasākuma pabeigšanai (ja tas ir terminēts) | H6: Turpmāk katru gadu (ja pasākums nav terminēts) | I6: Sadalījums pa apakšprogrammām; budžeta programmas kods
B7: Ieņēmumi kopā, euro | D7: - | E7: - | F7: - | G7: - | H7: -
B8: Izdevumi kopā, euro | F8: =H18 -> 79999.998 | I8: 02.03.00 Augstākā medicīnas izglītība
B10: *Izglītības programmu izvērtēšana AMR un piesardzīgas AB lietošanas jautājumu apjoma noteikšanai ārstniecības personu turpmākajā darbā nepieciešamo prasmju un zināšanu nodrošināšanai
B12: Amata nosaukums | C12: PDV skaits | D12: Atalgojums | E12: Atvaļinājuma kompensācija | F12: Kopā atalgojums un atvaļinājuma kompensācija | G12: DD VSAOI | H12: Kopā
B13: Profesors | C13: 270 | D13: =C13*45 -> 12150 | E13: =(12150*16)/100 -> 1944 | F13: =D13+E13 -> 14094 | G13: =(14094*23.59)/100 -> 3324.7746 | H13: =F13+G13 -> 17418.775
B14: Profesors | C14: 270 | D14: =C14*45 -> 12150 | E14: =(12150*16)/100 -> 1944 | F14: =D14+E14 -> 14094 | G14: =(14094*23.59)/100 -> 3324.7746 | H14: =F14+G14 -> 17418.775
B15: Profesors | C15: 270 | D15: =C15*45 -> 12150 | E15: =(12150*16)/100 -> 1944 | F15: =D15+E15 -> 14094 | G15: =(14094*23.59)/100 -> 3324.7746 | H15: =F15+G15 -> 17418.775
B16: Profesors | C16: 270 | D16: =C16*45 -> 12150 | E16: =(12150*16)/100 -> 1944 | F16: =D16+E16 -> 14094 | G16: =(14094*23.59)/100 -> 3324.7746 | H16: =F16+G16 -> 17418.775
B17: Infrastruktūras un atbalsta funkciju izdevumi | H17: 10324.9
B18: KOPĀ | C18: =SUM(C13:C16) -> 1080 | D18: =SUM(D13:D16) -> 48600 | E18: 7776 | F18: =SUM(F13:F17) -> 56376 | G18: =SUM(G13:G17) -> 13299.098 | H18: =SUM(H13:H17) -> 79999.998

Sheet 8.4. 
F1: 45. Pielikums Antimikrobiālās rezistences ierobežošanas un piesardzīgas antibiotiku lietošanas plānam “Viena veselība” 2023.-2027. gadam
B3: 8.4. Ārsti apguvuši jaunas zināšanas par atbildīgu un piesardzīgu AB izmantošanu pediatrijā
B5: Finanšu rādītāji | D5: 2023.gads | E5: 2024.gads | F5: 2025.gads | G5: 2026.gads | H5: Turpmākā laikposmā līdz pasākuma pabeigšanai (ja tas ir terminēts) | I5: Turpmāk katru gadu (ja pasākums nav terminēts) | J5: Sadalījums pa apakšprogrammām; budžeta programmas kods
B6: Ieņēmumi kopā, euro | D6: - | E6: - | F6: - | G6: - | H6: - | I6: -
B7: Izdevumi kopā, euro | E7: 11000 | J7: 46.03.00 Slimību profilakses nodrošināšana
B10: Izvērtētas Latvijā pieejamās AB lietošanas rekomendācijas un izstrādātas jaunas rekomendācijas atbildīgas un piesardzīgas AB lietošanai pediatrijā. Izstrādāti un ārstniecības iestādēm izsūtīti materiāli par atbildīgu un piesardzīgu AB lietošanu ārsta praksē.
B12: Pozīcijas | H12: Summs | I12: Budžeta programmas kods un nosaukums
B13: Ārējo ekspertu - pediatrijā, infekciju kontroles peciālista - pakalpojumi: metodiskā materiāla satura izstrāde un saskaņošana. Tiek slēgti pakalpojuma līgumi, bet samaksa par gabaldarbu | H13: 10000 | I13: 46.03.00 Slimību profilakses nodrošināšana
B14: Materiāla dizaina izstrāde | H14: 1000
B15: Kopā: | H15: 11000

Sheet 8.5. 
E1: 46. Pielikums Antimikrobiālās rezistences ierobežošanas un piesardzīgas antibiotiku lietošanas plānam “Viena veselība” 2023.-2027. gadam
B3: Ikgadēji sabiedrības informēšanas pasākumi Eiropas antibiotiku informācijas dienā
B5: Finanšu rādītāji | D5: 2023.gads | E5: 2024.gads | F5: 2025.gads | G5: 2026.gads | H5: Turpmākā laikposmā līdz pasākuma pabeigšanai (ja tas ir terminēts) | I5: Turpmāk katru gadu (ja pasākums nav terminēts) | J5: Sadalījums pa apakšprogrammām; budžeta programmas kods
B6: Ieņēmumi kopā, euro | D6: - | E6: - | F6: - | G6: - | H6: - | I6: -
B7: Izdevumi kopā, euro | E7: 20000 | F7: 20000 | G7: 20000 | I7: 20000 | J7: 46.03.00 Slimību profilakses nodrošināšana
B10: Uzlabota sabiedrības un pacientu organizāciju izpratne par AMR problēmjautājumiem cilvēku veselības un dzīvnieku veselības jomās, informācijas nedēļas pasākumos nodrošinot starpsektoru sadarbību
B12: Pozīcijas | H12: Summs | I12: Budžeta programmas kods un nosaukums
B13: Ārējo ekspertu - pediatrijā, infekciju kontroles peciālista - pakalpojumi: informatīvā materiāla satura izstrāde, saskaņošana un pasākumu plānošana. Tiek slēgti pakalpojuma līgumi, bet samaksa par gabaldarbu | H13: 19000 | I13: 46.03.00 Slimību profilakses nodrošināšana
B14: Informatīvā materiāla satura un dizaina izstrāde | H14: 1000
B15: Kopā: | H15: =SUM(H13:H14) -> 20000

Sheet 8.7.
E1: 47. Pielikums Antimikrobiālās rezistences ierobežošanas un piesardzīgas antibiotiku lietošanas plānam “Viena veselība” 2023.-2027. gadam
B3: 8.7. Sagatavots informatīvs materiāls sabiedrībai par atbildīgu un piesardzīgu AB lietošanu.
B5: Finanšu rādītāji | D5: 2023.gads | E5: 2024.gads | F5: 2025.gads | G5: 2026.gads | H5: Turpmākā laikposmā līdz pasākuma pabeigšanai (ja tas ir terminēts) | I5: Turpmāk katru gadu (ja pasākums nav terminēts) | J5: Sadalījums pa apakšprogrammām; budžeta programmas kods
B6: Ieņēmumi kopā, euro | D6: - | E6: - | F6: - | G6: - | H6: - | I6: -
B7: Izdevumi kopā, euro | E7: 11000 | J7: 46.03.00 Slimību profilakses nodrošināšana
B9: Pozīcijas | H9: Summs | I9: Budžeta programmas kods un nosaukums
B10: Ārējo ekspertu - pakalpojumi: metodiskā materiāla satura izstrāde un saskaņošana. Tiek slēgti pakalpojuma līgumi, bet samaksa par gabaldarbu | H10: 10000 | I10: 46.03.00 Slimību profilakses nodrošināšana
B11: Materiāla dizaina izstrāde | H11: 1000
B12: Kopā: | H12: 11000

Sheet 8.8.
E1: 48. Pielikums Antimikrobiālās rezistences ierobežošanas un piesardzīgas antibiotiku lietošanas plānam “Viena veselība” 2023.-2027. gadam
B3: 8.8. Informatīva kampaņa vecāku izglītošanai par atbildīgu un piesardzīgu AB lietošanu bērnu slimību ārstēšanā
B5: Finanšu rādītāji | D5: 2023.gads | E5: 2024.gads | F5: 2025.gads | G5: 2026.gads | H5: Turpmākā laikposmā līdz pasākuma pabeigšanai (ja tas ir terminēts) | I5: Turpmāk katru gadu (ja pasākums nav terminēts) | J5: Sadalījums pa apakšprogrammām; budžeta programmas kods
B6: Ieņēmumi kopā, euro | D6: - | E6: - | F6: - | G6: - | H6: - | I6: -
B7: Izdevumi kopā, euro | F7: =I13 -> 50000 | G7: =I17 -> 20000 | I7: =I18 -> 20000 | J7: 46.03.00 Slimību profilakses nodrošināšana
B12: Gads | C12: Pozīcijas | I12: Summs
B13: 2025.gads | C13: Sabiedrības informēšanas kampaņa | I13: =SUM(I14:I16) -> 50000
C14: Reklāmas izvietojums internetā, radio, TV, vidē | I14: 20000
C15: Speciālistu iesaiste *(atlīdzība iesaistītajiem ekspertiem un viedokļa līderiem) | I15: 10000
C16: Reklāmas materiālu izstrāde (audio, video, vides, interneta reklāmas izveide) | I16: 20000
B17: 2026.gads | C17: Reklāmas materiālu izstrāde (audio, video, vides, interneta reklāmas izveide) | I17: 20000
B18: Turpmāk ik gadu | C18: Reklāmas materiālu izstrāde (audio, video, vides, interneta reklāmas izveide) | I18: 20000
B20: * ārpakalpojums

Sheet 9.1. (2.1)
E1: 49. Pielikums Antimikrobiālās rezistences ierobežošanas un piesardzīgas antibiotiku lietošanas plānam “Viena veselība” 2023.-2027. gadam
A3: 9.1. Pilnveidot veterinārārstu izglītību par AMR ierobežošanu dzīvnieku veselības jomā
A4: 2.1. Izstrādātas un aktualizētas apmācību programmas praktizējošiem veterinārārstiem par antimikrobiālo līdzekļu piesardzīgu lietošanu
B6: Finanšu rādītāji | D6: 2023.gads | E6: 2024.gads | F6: 2025.gads | G6: 2026.gads | H6: Turpmākā laikposmā līdz pasākuma pabeigšanai (ja tas ir terminēts) | I6: Turpmāk katru gadu (ja pasākums nav terminēts) | J6: Sadalījums pa apakšprogrammām; budžeta programmas kods
B7: Ieņēmumi kopā, euro | D7: - | E7: - | F7: - | G7: - | H7: - | I7: -
B8: Izdevumi kopā, euro | D8: 0 | E8: =C20 -> 5378 | F8: 0 | G8: 0 | H8: 0 | I8: 0 | J8: 22.02.00 Augstākā izglītība
A11: Amata nosaukums | B11: Slodžu skaits | C11: Atalgojums | D11: DD VSAOI | E11: Atalgojuma mainīgā daļa, 5% | F11: Atvaļinājuma rezerve | G11: Kopā mēnesī, ņemot vērā slodžu skaitu
A12: Pētnieks (LBTU) | B12: 0.25 | C12: 960 | D12: =(C12+E12+F12)*0.2359 -> 256.62518 | E12: =C12*0.05 -> 48 | F12: =((C12+E12)/21.08)*1.67 -> 79.855787 | G12: =SUM(C12:F12) -> 1344.481
A13: Pētnieks (LBTU) | B13: 0.25 | C13: 960 | D13: =(C13+E13+F13)*0.2359 -> 256.62518 | E13: =C13*0.05 -> 48 | F13: =((C13+E13)/21.08)*1.67 -> 79.855787 | G13: =SUM(C13:F13) -> 1344.481
A14: Pētnieks (LBTU) | B14: 0.25 | C14: 960 | D14: =(C14+E14+F14)*0.2359 -> 256.62518 | E14: =C14*0.05 -> 48 | F14: =((C14+E14)/21.08)*1.67 -> 79.855787 | G14: =SUM(C14:F14) -> 1344.481
A15: Pētnieks (LBTU) | B15: 0.25 | C15: 960 | D15: =(C15+E15+F15)*0.2359 -> 256.62518 | E15: =C15*0.05 -> 48 | F15: =((C15+E15)/21.08)*1.67 -> 79.855787 | G15: =SUM(C15:F15) -> 1344.481
A16: KOPĀ | B16: =SUM(B12:B15) -> 1 | C16: =SUM(C12:C15) -> 3840 | D16: =SUM(D12:D15) -> 1026.5007 | E16: =SUM(E12:E15) -> 192 | F16: =SUM(F12:F15) -> 319.42315 | G16: =SUM(G12:G15) -> 5377.9239
A18: Izmaksu veids | C18: 2024.gads
A19: Darba alga, ieskaitot DD nodokļus
A20: Kopā, euro: | C20: =ROUND(G16,0) -> 5378

Sheet 9.1.(2.2)
E1: 50. Pielikums Antimikrobiālās rezistences ierobežošanas un piesardzīgas antibiotiku lietošanas plānam “Viena veselība” 2023.-2027. gadam
A3: 9.1. Pilnveidot veterinārārstu izglītību par AMR ierobežošanu dzīvnieku veselības jomā
A4: 2.2. Apmācīti praktizējošie veterinārārsti par antimikrobiālo līdzekļu piesardzīgu lietošanu
B6: Finanšu rādītāji | D6: 2023.gads | E6: 2024.gads | F6: 2025.gads | G6: 2026.gads | H6: Turpmākā laikposmā līdz pasākuma pabeigšanai (ja tas ir terminēts) | I6: Turpmāk katru gadu (ja pasākums nav terminēts) | J6: Sadalījums pa apakšprogrammām; budžeta programmas kods
B7: Ieņēmumi kopā, euro | D7: - | E7: - | F7: - | G7: - | H7: - | I7: -
B8: Izdevumi kopā, euro | D8: 0 | E8: =C22 -> 1544 | F8: =D22 -> 1544 | G8: =E22 -> 1544 | H8: 0 | I8: =E22 -> 1544 | J8: 22.02.00 Augstākā izglītība
A11: Amata nosaukums | B11: Slodžu skaits | C11: Atalgojums | D11: DD VSAOI | E11: Atalgojuma mainīgā daļa, 5% | F11: Atvaļinājuma rezerve | G11: Kopā mēnesī, ņemot vērā slodžu skaitu
A12: Pētnieks (LBTU) | B12: 0.1 | C12: 240 | D12: =(C12+E12+F12)*0.2359 -> 64.156295 | E12: =C12*0.05 -> 12 | F12: =((C12+E12)/21.08)*1.67 -> 19.963947 | G12: =SUM(C12:F12) -> 336.12024
A13: Pētnieks (LBTU) | B13: 0.1 | C13: 240 | D13: =(C13+E13+F13)*0.2359 -> 64.156295 | E13: =C13*0.05 -> 12 | F13: =((C13+E13)/21.08)*1.67 -> 19.963947 | G13: =SUM(C13:F13) -> 336.12024
A14: Pētnieks (LBTU) | B14: 0.1 | C14: 240 | D14: =(C14+E14+F14)*0.2359 -> 64.156295 | E14: =C14*0.05 -> 12 | F14: =((C14+E14)/21.08)*1.67 -> 19.963947 | G14: =SUM(C14:F14) -> 336.12024
A15: Pētnieks (LBTU) | B15: 0.1 | C15: 240 | D15: =(C15+E15+F15)*0.2359 -> 64.156295 | E15: =C15*0.05 -> 12 | F15: =((C15+E15)/21.08)*1.67 -> 19.963947 | G15: =SUM(C15:F15) -> 336.12024
A16: KOPĀ | B16: =SUM(B12:B15) -> 0.4 | C16: =SUM(C12:C15) -> 960 | D16: =SUM(D12:D15) -> 256.62518 | E16: =SUM(E12:E15) -> 48 | F16: =SUM(F12:F15) -> 79.855787 | G16: =SUM(G12:G15) -> 1344.481
A19: Nr.p.k. | B19: Izmaksu veids | C19: 2024.gads | D19: 2025.gads | E19: 2026.gads
A20: 1 | B20: Darba alga, ieskaitot DD nodokļus | C20: =G16 -> 1344.481 | D20: =G16 -> 1344.481 | E20: =G16 -> 1344.481
A21: 2 | B21: Pasākuma organizēšanas izmaksas | C21: 200 | D21: 200 | E21: 200
A22: Kopā, euro: | C22: =ROUND(SUM(C20:C21),0) -> 1544 | D22: =ROUND(SUM(D20:D21),0) -> 1544 | E22: =ROUND(SUM(E20:E21),0) -> 1544

Sheet 9.2.(1.1.-1.2.)
E1: 51. Pielikums Antimikrobiālās rezistences ierobežošanas un piesardzīgas antibiotiku lietošanas plānam “Viena veselība” 2023.-2027. gadam
C3: Īstenota praktizējošu veterinārārstu un dzīvnieku īpašnieku apmācība
C5: Finanšu rādītāji | E5: 2023.gads | F5: 2024.gads | G5: 2025.gads | H5: 2026.gads | I5: Turpmākā laikposmā līdz pasākuma pabeigšanai (ja tas ir terminēts) | J5: Turpmāk katru gadu (ja pasākums nav terminēts) | K5: Sadalījums pa apakšprogrammām; budžeta programmas kods
C6: Ieņēmumi kopā, euro | E6: - | F6: - | G6: - | I6: - | J6: -
C7: Izdevumi kopā, euro | F7: =F12+F15 -> 1857 | G7: =G12+G15 -> 1857 | H7: =H12+H15 -> 1857 | I7: 0 | J7: =I12+I15 -> 1857 | K7: 20.02.00 Riska zinātniskā novērtēšana un references laboratorijas funkciju veikšana dzīvnieku veselības, pārtikas un dzīvnieku barības jomā
C9: 9.2. Pilnveidot veterinārārstu zināšanas par paraugu ņemšanu un mikroorganismu jutības noteikšanu pret dažādiem AML
B10: Pozīcijas | E10: 2023.gads | F10: 2024.gads | G10: 2025.gads | H10: 2026.gads | I10: Turpmākā laikposmā līdz pasākuma pabeigšanai (ja tas ir terminēts)
B11: 1.1. Izstrādāta un aktualizēta apmācības programma praktizējošiem veterinārārstiem par paraugu ņemšanu un uzglabāšanu | F11: =H19 -> 682 | G11: =H19 -> 682 | H11: =H19 -> 682 | I11: =H19 -> 682
B12: KOPĀ: | F12: =F11 -> 682 | G12: =G11 -> 682 | H12: =H11 -> 682 | I12: =I11 -> 682
B13: 1.2. Apmācīti vismaz 50 praktizējošie veterinārārsti gadā par paraugu ņemšanu un uzglabāšanu | F13: =H19 -> 682 | G13: =H19 -> 682 | H13: =H19 -> 682 | I13: =H19 -> 682
B14: Apmācību tehniskajai nodrošināšanai | F14: =F34 -> 493 | G14: =F34 -> 493 | H14: =F34 -> 493 | I14: =F34 -> 493
B15: KOPĀ: | F15: =SUM(F13:F14) -> 1175 | G15: =SUM(G13:G14) -> 1175 | H15: =SUM(H13:H14) -> 1175 | I15: =SUM(I13:I14) -> 1175
B17: Izdevumu pozīcija
B18: Eksperta atlīdzība uzdevumu izpildei (0,05 slodzes/gadā) | E18: Skatīt zemāk | H18: =F24 -> 1364
B19: Eksperta atlīdzība uzdevumu izpildei (0,025 slodzes/gadā) | E19: Skatīt zemāk | H19: =E24 -> 682
B21: Ekspertu izdevumi* | C21: Euro/ mēnesī | D21: Euro/ gadā | E21: 0,025 slodzes/gadā | F21: 0,05 slodzes/gadā
B22: L4 kategorijas pieredz.eksperta Max mēnešalga | C22: 1840 | D22: =C22*12 -> 22080 | E22: =D22*0.025 -> 552 | F22: =D22*0.05 -> 1104
B23: Darba dēvēja sociālais nodoklis (23,59%) | C23: =C22*0.2359 -> 434.056 | D23: =C23*12 -> 5208.672 | E23: =D23*0.025 -> 130.2168 | F23: =D23*0.05 -> 260.4336
B24: Kopā atlīdzība | C24: =ROUND(SUM(C22:C23),0) -> 2274 | D24: =ROUND(SUM(D22:D23),0) -> 27289 | E24: =ROUND(SUM(E22:E23),0) -> 682 | F24: =ROUND(SUM(F22:F23),0) -> 1364
B26: Prognozējamais finansējums semināra/apmācību tehniskajai nodrošināšanai
B27: 1 vienas dienas seminārs (50 dalībnieki), izmaksas vienam semināram (BIOR telpās):
B29: Izdevumu pozīcija | C29: Papildus informācija | D29: Prognozējama cena (EUR) | E29: Skaits | F29: Izmaksas, Euro
B30: Lektors (2) | C30: 2 lektori (1 st. uzstāšana +4 st. sagatavošanas darbi = 1+4 x 2) | D30: 18.25 | E30: 10 | F30: 182.5
B31: Izdales materiāli, elektroniskie | D31: 2.5 | E31: 50 | F31: 125
B32: Kancelejas materiāli | C32: A4 lapas, pildspalvas u.c. | D32: 0.3 | E32: 50 | F32: 15
B33: Kafijas pauzes (2) | C33: 2 kafijas pauzes (1 no rīta +1 pēcpusdienā) | D33: 1.7 | E33: 100 | F33: 170
B34: Izdevumu kopsumma | F34: =ROUND(492.5,0) -> 493

Sheet 9.2.(2.1.-2.2.)
E1: 52. Pielikums Antimikrobiālās rezistences ierobežošanas un piesardzīgas antibiotiku lietošanas plānam “Viena veselība” 2023.-2027. gadam
A3: 9.2. Pilnveidot veterinārārstu zināšanas par paraugu ņemšanu un mikroorgansimu jutības noteikšanu pret dažādiem AML
B6: Finanšu rādītāji | D6: 2023.gads | E6: 2024.gads | F6: 2025.gads | G6: 2026.gads | H6: Turpmākā laikposmā līdz pasākuma pabeigšanai (ja tas ir terminēts) | I6: Turpmāk katru gadu (ja pasākums nav terminēts) | J6: Sadalījums pa apakšprogrammām; budžeta programmas kods
B7: Ieņēmumi kopā, euro1 | D7: - | E7: - | F7: - | G7: - | H7: - | I7: -
B8: Izdevumi kopā, euro | D8: 0 | E8: =E13+D38 -> 10896.192 | F8: =E14+D39 -> 7632.064 | G8: =E15+D40 -> 7632.064 | H8: 0 | I8: =G8 -> 7632.064 | J8: 22.05.00 Dotācija SIA "Latvijas Lauku konsultāciju un izglītības centrs" informācijas analīzes un apmaiņas sistēmai
A10: 2.1. Izstrādāta un aktualizēta apmācību programma par slimību ierosinātāju jutības noteikšanu pret dažādiem AML
A12: Nr. p.k. | B12: Gads | C12: Mēneši | D12: Darba h mēnesī | E12: Kopā, eiro
A13: 1 | B13: 2024.g. (izstrāde) | C13: 3 | D13: 32 | E13: =C13*D13*E31 -> 4896.192
A14: 2 | B14: 2025.g. (aktualizēšana) | C14: 1 | D14: 32 | E14: =C14*D14*E31 -> 1632.064
A15: 3 | B15: 2026.g. (aktualizēšana) | C15: 1 | D15: 32 | E15: =C15*D15*E31 -> 1632.064
A17: LLKC konsultantu darba stundas izmaksas
A18: Nr. p.k. | B18: Izmaksu postenis | C18: Skaits | D18: Cena, EUR | E18: Summa, EUR
A19: 1. | B19: Darba samaksa | E19: =E20+E21+E22 -> 35.73
A20: 1.1. | B20: darba alga (A2*), stundas | C20: 1 | D20: 28.91 | E20: =C20*D20 -> 28.91
D21: 28.91 | E21: =C21*D21 -> 0
A22: 1.2. | B22: DDSAOI - 23,59% | E22: =ROUND((E20+E21)*0.2359,2) -> 6.82
A23: 2. | B23: Mainīgās izmaksas | E23: =E24 -> 1.692
A24: 2.1. | B24: Transports, km | C24: 4.7 | D24: 0.36 | E24: =D24*C24 -> 1.692
A25: 3. | B25: Fiksētās izmaksas | E25: =E26+E27+E28+E29+E30 -> 13.58
A26: 3.1. | B26: Speciālistu attīstības izmaksas - apmācība, prakse, pieredzes apmaiņa | C26: 0.08 | E26: =ROUND(E19*C26,2) -> 2.86
A27: 3.2. | B27: Administrācijas izmaksas | C27: 0.15 | E27: =ROUND(E19*C27,2) -> 5.36
A28: 3.3. | B28: IT infrastruktūras izmaksas | C28: 0.04 | E28: =ROUND(E19*C28,2) -> 1.43
A29: 3.4. | B29: Biroja izdevumi | C29: 0.07 | E29: =ROUND(E19*C29,2) -> 2.5
A30: 3.5. | B30: Nolietojums | C30: 0.04 | E30: =ROUND(E19*C30,2) -> 1.43
A31: 4. | B31: KOPĀ | E31: =E19+E23+E25 -> 51.002
B32: * - Darbu izpildes kvalifikācijas kods atbilstoši valdes apstiprinātai kalkulācijai
B33: DDSAOI - darba devēja sociālās apdrošināšanas obligātā iemaksa
A35: 2.2 Apmācīti praktizējošie veterinārārsti par slimību ierosinātāju jutības noteikšanu pret dažādiem AML
A37: Nr. p.k. | B37: Gads | C37: Grupu skaits | D37: Kopā, eiro
A38: 1 | B38: 2024.g. | C38: 2 | D38: 6000
A39: 2 | B39: 2025.g. | C39: 2 | D39: 6000
A40: 3 | B40: 2026.g. | C40: 2 | D40: 6000
A43: Apmācība 20 cilvēku grupai
A44: Nr. p.k. | B44: Izmaksu postenis | C44: Skaits | D44: Cena, EUR | E44: Summa, EUR
A45: 1. | B45: Darba samaksa | E45: =E46+E47 -> 658.73
A46: 1.1. | B46: Organizators | C46: 13 | D46: 41 | E46: =C46*D46 -> 533
A47: 1.2. | B47: DDSAOI - 23,59% | E47: =ROUND((E46)*0.2359,2) -> 125.73
A48: 2. | B48: Mainīgās izmaksas | E48: =SUM(E49:E54) -> 2090.9515
A49: 2.1. | B49: Lektora atalgojums un nodokļi | C49: 8 | D49: =63.107*1.2359 -> 77.993941 | E49: =C49*D49 -> 623.95153
A50: 2.2. | B50: Mācību un tehniskie materiāli | C50: 1 | D50: 250 | E50: =D50*C50 -> 250
A51: 2.3. | B51: Specapģērbi,dezinfekcijas līdzekļi, gab | C51: 22 | D51: 3.5 | E51: =D51*C51 -> 77
A52: 2.4. | B52: Filmēšana, ierakstu veidošana | C52: 1 | D52: 500 | E52: =D52*C52 -> 500
A53: 2.5. | B53: Kafijas pauzes, gab | C53: 2 | D53: 160 | E53: =D53*C53 -> 320
A54: 2.6. | B54: Telpu, aprīkojuma noma, h | C54: 8 | D54: 40 | E54: =D54*C54 -> 320
A55: 3. | B55: Fiksētās izmaksas | E55: =E56+E57+E58+E59+E60 -> 250.32
A56: 3.1. | B56: Speciālistu attīstības izmaksas - apmācība, prakse, pieredzes apmaiņa | C56: 0.08 | E56: =ROUND(E45*C56,2) -> 52.7
A57: 3.2. | B57: Administrācijas izmaksas | C57: 0.15 | E57: =ROUND(E45*C57,2) -> 98.81
A58: 3.3. | B58: IT infrastruktūras izmaksas | C58: 0.04 | E58: =ROUND(E45*C58,2) -> 26.35
A59: 3.4. | B59: Biroja izdevumi | C59: 0.07 | E59: =ROUND(E45*C59,2) -> 46.11
A60: 3.5. | B60: Nolietojums | C60: 0.04 | E60: =ROUND(E45*C60,2) -> 26.35
A61: 4. | B61: KOPĀ | E61: =E45+E48+E55 -> 3000.0015
B62: uz 1 dalībnieku | E62: =E61/20 -> 150.00008

Sheet 9.3.(1.)
E1: 53. Pielikums Antimikrobiālās rezistences ierobežošanas un piesardzīgas antibiotiku lietošanas plānam “Viena veselība” 2023.-2027. gadam
A3: 9.3.Pilnveidot veterinārārstu zināšanas par dzīvnieku veselības sekmīgu parvaldību ganāmpulkā
A4: 1. Izstrādāta un aktualizēta apmācību programma praktizējošiem veterinārārstiem par lauksaimniecības dzīvnieku ganāmpulku veselības plānu izstrādi un dzīvniekveselības apmeklējumiem
B6: Finanšu rādītāji | D6: 2023.gads | E6: 2024.gads | F6: 2025.gads | G6: 2026.gads | H6: Turpmākā laikposmā līdz pasākuma pabeigšanai (ja tas ir terminēts) | I6: Turpmāk katru gadu (ja pasākums nav terminēts) | J6: Sadalījums pa apakšprogrammām; budžeta programmas kods
B7: Ieņēmumi kopā, euro | D7: - | E7: - | F7: - | G7: - | H7: - | I7: -
B8: Izdevumi kopā, euro | D8: 0 | E8: =C20 -> 5378 | F8: 0 | G8: 0 | H8: 0 | I8: 0 | J8: 22.02.00 Augstākā izglītība
A10: Amata nosaukums | B10: Slodžu skaits | C10: Atalgojums | D10: DD VSAOI | E10: Atalgojuma mainīgā daļa, 5% | F10: Atvaļinājuma rezerve | G10: Kopā mēnesī, ņemot vērā slodžu skaitu
A11: Pētnieks (LBTU) | B11: 0.25 | C11: 960 | D11: =(C11+E11+F11)*0.2359 -> 256.62518 | E11: =C11*0.05 -> 48 | F11: =((C11+E11)/21.08)*1.67 -> 79.855787 | G11: =SUM(C11:F11) -> 1344.481
A12: Pētnieks (LBTU) | B12: 0.25 | C12: 960 | D12: =(C12+E12+F12)*0.2359 -> 256.62518 | E12: =C12*0.05 -> 48 | F12: =((C12+E12)/21.08)*1.67 -> 79.855787 | G12: =SUM(C12:F12) -> 1344.481
A13: Pētnieks (LBTU) | B13: 0.25 | C13: 960 | D13: =(C13+E13+F13)*0.2359 -> 256.62518 | E13: =C13*0.05 -> 48 | F13: =((C13+E13)/21.08)*1.67 -> 79.855787 | G13: =SUM(C13:F13) -> 1344.481
A14: Pētnieks (LBTU) | B14: 0.25 | C14: 960 | D14: =(C14+E14+F14)*0.2359 -> 256.62518 | E14: =C14*0.05 -> 48 | F14: =((C14+E14)/21.08)*1.67 -> 79.855787 | G14: =SUM(C14:F14) -> 1344.481
A15: KOPĀ | B15: =SUM(B11:B14) -> 1 | C15: =SUM(C11:C14) -> 3840 | D15: =SUM(D11:D14) -> 1026.5007 | E15: =SUM(E11:E14) -> 192 | F15: =SUM(F11:F14) -> 319.42315 | G15: =SUM(G11:G14) -> 5377.9239
A18: Izmaksu veids | C18: 2024.gads
A19: Darba alga, ieskaitot DD nodokļus
A20: Kopā, euro: | C20: =ROUND(G15,0) -> 5378

Sheet 9.3.(2.)
E1: 54. Pielikums Antimikrobiālās rezistences ierobežošanas un piesardzīgas antibiotiku lietošanas plānam “Viena veselība” 2023.-2027. gadam
A3: 9.3. Pilnveidot veterinārārstu zināšanas par dzīvnieku veselības sekmīgu parvaldību ganāmpulkā
A4: 2. Apmācīti praktizējoši veterinārārsti par lauksaimniecības dzīvnieku ganāmpulku veselības plānu izstrādi un dzīvniekveselības apmeklējumiem
B6: Finanšu rādītāji | D6: 2023.gads | E6: 2024.gads | F6: 2025.gads | G6: 2026.gads | H6: Turpmākā laikposmā līdz pasākuma pabeigšanai (ja tas ir terminēts) | I6: Turpmāk katru gadu (ja pasākums nav terminēts) | J6: Sadalījums pa apakšprogrammām; budžeta programmas kods
B7: Ieņēmumi kopā, euro | D7: - | E7: - | F7: - | G7: - | H7: - | I7: -
B8: Izdevumi kopā, euro | D8: 0 | E8: =C25 -> 1544 | F8: =D25 -> 1544 | G8: =E25 -> 1544 | H8: 0 | I8: =E25 -> 1544 | J8: 22.02.00 Augstākā izglītība
B9: Izdevumi kopā, euro | D9: 0 | E9: =B44 -> 25000 | F9: =C44 -> 25000 | G9: =D44 -> 25000 | H9: 1 | I9: =F44 -> 25000 | J9: 20.01.00 Pārtikas drošības un veterinārmedicīnas valsts uzraudzība un kontrole
A11: 1. PASĀKUMS
A13: Amata nosaukums | B13: Slodžu skaits | C13: Atalgojums | D13: DD VSAOI | E13: Atalgojuma mainīgā daļa, 5% | F13: Atvaļinājuma rezerve | G13: Kopā mēnesī, ņemot vērā slodžu skaitu
A14: Pētnieks (LBTU) | B14: 0.1 | C14: 240 | D14: =(C14+E14+F14)*0.2359 -> 64.156295 | E14: =C14*0.05 -> 12 | F14: =((C14+E14)/21.08)*1.67 -> 19.963947 | G14: =SUM(C14:F14) -> 336.12024
A15: Pētnieks (LBTU) | B15: 0.1 | C15: 240 | D15: =(C15+E15+F15)*0.2359 -> 64.156295 | E15: =C15*0.05 -> 12 | F15: =((C15+E15)/21.08)*1.67 -> 19.963947 | G15: =SUM(C15:F15) -> 336.12024
A16: Pētnieks (LBTU) | B16: 0.1 | C16: 240 | D16: =(C16+E16+F16)*0.2359 -> 64.156295 | E16: =C16*0.05 -> 12 | F16: =((C16+E16)/21.08)*1.67 -> 19.963947 | G16: =SUM(C16:F16) -> 336.12024
A17: Pētnieks (LBTU) | B17: 0.1 | C17: 240 | D17: =(C17+E17+F17)*0.2359 -> 64.156295 | E17: =C17*0.05 -> 12 | F17: =((C17+E17)/21.08)*1.67 -> 19.963947 | G17: =SUM(C17:F17) -> 336.12024
A18: KOPĀ | B18: =SUM(B14:B17) -> 0.4 | C18: =SUM(C14:C17) -> 960 | D18: =SUM(D14:D17) -> 256.62518 | E18: =SUM(E14:E17) -> 48 | F18: =SUM(F14:F17) -> 79.855787 | G18: =SUM(G14:G17) -> 1344.481
A22: Izmaksu veids | C22: 2024.gads | D22: 2025.gads | E22: 2026.gads
A23: Darba alga, ieskaitot DD nodokļus | C23: =G18 -> 1344.481 | D23: =G18 -> 1344.481 | E23: =G18 -> 1344.481
A24: Pasākuma organizēšanas izmaksas | C24: 200 | D24: 200 | E24: 200
A25: Kopā, euro: | C25: =ROUND(SUM(C23:C24),0) -> 1544 | D25: =ROUND(SUM(D23:D24),0) -> 1544 | E25: =ROUND(SUM(E23:E24),0) -> 1544
A29: 2. PASĀKUMS - Apmācīti praktizējoši veterinārārsti par lauksaimniecības dzīvnieku ganāmpulku veselības plāniem un dzīvniekveselības apmeklējumiem (150 apmācāmie)
A31: Pozīcijas | B31: Nepieciešamais papildu finansējums
B32: 2024.gads | C32: 2025.gads | D32: 2026.gads | E32: Turpmākajā laikposmā līdz pasākuma pabeigšanai (ja pasākuma īstenošana ir terminēta) | F32: Turpmāk ik gadu, ja pasākuma izpilde nav terminēta
A33: 1. Semināru organizēšana
A34: 1.1. Telpu noma | B34: =40*120 -> 4800 | C34: =40*120 -> 4800 | D34: =40*120 -> 4800 | F34: =40*120 -> 4800
A35: 1.3.ēdināšana | B35: =10*150 -> 1500 | C35: =10*150 -> 1500 | D35: =10*150 -> 1500 | F35: =10*150 -> 1500
A36: 1.4. mācību materiāli, kanceleja | B36: =150*3.16 -> 474 | C36: =150*3.16 -> 474 | D36: =150*3.16 -> 474 | F36: =150*3.16 -> 474
A37: 2. Darba alga
A38: 2.1. Atlīdzība lektoriem (16 h lekcija, 8 h materiālu gatavošana, konsultēšana, atbilžu sniegšana) | B38: 9600 | C38: 9600 | D38: 9600 | F38: 9600
A39: 2.2. Administrācijas izdevumi | B39: 2165.75 | C39: 2165.75 | D39: 2165.75 | F39: 2165.75
A40: 2.3. Darba devēja VSAOI adminisrtācijas izdevumiem (23.59%) | B40: 510.9 | C40: 510.9 | D40: 510.9 | F40: 510.9
A41: Semināra organizātors 10% | B41: 2500 | C41: 2500 | D41: 2500 | F41: 2500
A42: 3.Tehniskais nodrošinājums
A43: Filmēšana, IT pakalpojumu nodrošinājums, tehnikas noma | B43: 3449.1 | C43: 3449.1 | D43: 3449.1 | F43: 3449.1
A44: Kopā | B44: =ROUND(SUM(B34:B43),0) -> 25000 | C44: =ROUND(SUM(C34:C43),0) -> 25000 | D44: =ROUND(SUM(D34:D43),0) -> 25000 | F44: =ROUND(SUM(F34:F43),0) -> 25000
A46: Telpu noma 40.00 eiro/h tai skaitā PVN. Lekcijas+ sagatavošanās lekcijām un diskusiju laiks. Paredzētas darba stundas projekta ietvaros 120h
A47: Kafijas pauzes apmācību dienā 10.00 eiro uz cilvēku
A48: Papīrs, toneri printeriem, rakstāmpiederumi, laminēšanas pakalpojumi sertifikātu izgatavošanai, vāki, kopā 3.16 uz katru apmācāmo personu
A49: Semināru un apmācību tehniskais nodrošinājums. Reklāmas veidošana, filmēšana, 800.00 aparatūras noma, 200.00x5, IT specialista izmaksas 1649.10- ārpakalpojuma līgums, samaksa par gabaldarbu

Sheet 9.4. (1.-2.)
E1: 55. Pielikums Antimikrobiālās rezistences ierobežošanas un piesardzīgas antibiotiku lietošanas plānam “Viena veselība” 2023.-2027. gadam
A3: 9.4. Pilnveidot dzīvnieku īpašnieku izglītību par AMR ierobežošanu dzīvnieku veselības jomā
B5: Finanšu rādītāji | D5: 2023.gads | E5: 2024.gads | F5: 2025.gads | G5: 2026.gads | H5: Turpmākā laikposmā līdz pasākuma pabeigšanai (ja tas ir terminēts) | I5: Turpmāk katru gadu (ja pasākums nav terminēts) | J5: Sadalījums pa apakšprogrammām, budžeta programmas kods
B6: Ieņēmumi kopā, euro | D6: - | E6: - | F6: - | G6: - | H6: - | I6: -
B7: Izdevumi kopā, euro | D7: 0 | E7: =E11+D36 -> 8448 | F7: =E12+D37 -> 6816 | G7: =E13+D38 -> 6816 | H7: 0 | I7: =G7 -> 6816 | J7: 22.05.00 Dotācija SIA "Latvijas Lauku konsultāciju un izglītības centrs" informācijas analīzes un apmaiņas sistēmai
A9: 1. Programmu izstrāde
A10: Nr. p.k. | B10: Gads | C10: Mēneši | D10: Darba h mēnesī | E10: Kopā, eiro
A11: 1 | B11: 2024.g. (programmas izstrāde) | C11: 1 | D11: 48 | E11: =ROUND(C11*D11*$E$29,0) -> 2448
A12: 2 | B12: 2025.g. (aktualizēšana) | C12: 1 | D12: 16 | E12: =ROUND(C12*D12*$E$29,0) -> 816
A13: 3 | B13: 2026.g. (aktualizēšana) | C13: 1 | D13: 16 | E13: =ROUND(C13*D13*$E$29,0) -> 816
A15: LLKC konsultantu darba stundas izmaksas
A16: Nr. p.k. | B16: Izmaksu postenis | C16: Skaits | D16: Cena, EUR | E16: Summa, EUR
A17: 1. | B17: Darba samaksa | E17: =E18+E19+E20 -> 35.73
A18: 1.1. | B18: darba alga (A2*), stundas | C18: 1 | D18: 28.91 | E18: =C18*D18 -> 28.91
D19: 28.91 | E19: =C19*D19 -> 0
A20: 1.2. | B20: DDSAOI - 23,59% | E20: =ROUND((E18+E19)*0.2359,2) -> 6.82
A21: 2. | B21: Mainīgās izmaksas | E21: =E22 -> 1.692
A22: 2.1. | B22: Transports, km | C22: 4.7 | D22: 0.36 | E22: =D22*C22 -> 1.692
A23: 3. | B23: Fiksētās izmaksas | E23: =E24+E25+E26+E27+E28 -> 13.58
A24: 3.1. | B24: Speciālistu attīstības izmaksas - apmācība, prakse, pieredzes apmaiņa | C24: 0.08 | E24: =ROUND(E17*C24,2) -> 2.86
A25: 3.2. | B25: Administrācijas izmaksas | C25: 0.15 | E25: =ROUND(E17*C25,2) -> 5.36
A26: 3.3. | B26: IT infrastruktūras izmaksas | C26: 0.04 | E26: =ROUND(E17*C26,2) -> 1.43
A27: 3.4. | B27: Biroja izdevumi | C27: 0.07 | E27: =ROUND(E17*C27,2) -> 2.5
A28: 3.5. | B28: Nolietojums | C28: 0.04 | E28: =ROUND(E17*C28,2) -> 1.43
A29: 4. | B29: KOPĀ | E29: =E17+E21+E23 -> 51.002
B30: * - Darbu izpildes kvalifikācijas kods atbilstoši valdes apstiprinātai kalkulācijai
B31: DDSAOI - darba devēja sociālās apdrošināšanas obligātā iemaksa
A33: 2. Apmācīti dzīvnieku īpašnieki par atbildīgas zāļu lietošanas pamatprincipiem un zāļu uzskaiti
A35: Nr. p.k. | B35: Gads | C35: Grupu skaits | D35: Kopā, eiro
A36: 1 | B36: 2024.g. (2 grupas katrā 8 h programmā) | C36: 2 | D36: =3000*C36 -> 6000
A37: 2 | B37: 2025.g. (2 grupas katrā 8 h programmā) | C37: 2 | D37: =3000*C37 -> 6000
A38: 3 | B38: 2026.g. (2 grupas katrā 8 h programmā) | C38: 2 | D38: =3000*C38 -> 6000
A41: Apmācība 20 cilv.grupai- 8h
A42: Nr. p.k. | B42: Izmaksu postenis | C42: Skaits | D42: Cena, EUR | E42: Summa, EUR
A43: 1. | B43: Darba samaksa | E43: =E44+E45 -> 658.73
A44: 1.1. | B44: Organizators | C44: 13 | D44: 41 | E44: =C44*D44 -> 533
A45: 1.2. | B45: DDSAOI - 23,59% | E45: =ROUND((E44)*0.2359,2) -> 125.73
A46: 2. | B46: Mainīgās izmaksas | E46: =SUM(E47:E52) -> 2090.9515
A47: 2.1. | B47: Lektora atalgojums un nodokļi | C47: 8 | D47: =63.107*1.2359 -> 77.993941 | E47: =C47*D47 -> 623.95153
A48: 2.2. | B48: Mācību un tehniskie materiāli | C48: 1 | D48: 250 | E48: =D48*C48 -> 250
A49: 2.3. | B49: Specapģērbi,dezinfekcijas līdzekļi, gab | C49: 22 | D49: 3.5 | E49: =D49*C49 -> 77
A50: 2.4. | B50: Filmēšana, ierakstu veidošana | C50: 1 | D50: 500 | E50: =D50*C50 -> 500
A51: 2.5. | B51: Kafijas pauzes, gab | C51: 2 | D51: 160 | E51: =D51*C51 -> 320
A52: 2.6. | B52: Telpu, aprīkojuma noma, h | C52: 8 | D52: 40 | E52: =D52*C52 -> 320
A53: 3. | B53: Fiksētās izmaksas | E53: =E54+E55+E56+E57+E58 -> 250.32
A54: 3.1. | B54: Speciālistu attīstības izmaksas - apmācība, prakse, pieredzes apmaiņa | C54: 0.08 | E54: =ROUND(E43*C54,2) -> 52.7
A55: 3.2. | B55: Administrācijas izmaksas | C55: 0.15 | E55: =ROUND(E43*C55,2) -> 98.81
A56: 3.3. | B56: IT infrastruktūras izmaksas | C56: 0.04 | E56: =ROUND(E43*C56,2) -> 26.35
A57: 3.4. | B57: Biroja izdevumi | C57: 0.07 | E57: =ROUND(E43*C57,2) -> 46.11
A58: 3.5. | B58: Nolietojums | C58: 0.04 | E58: =ROUND(E43*C58,2) -> 26.35
A59: 4. | B59: KOPĀ | E59: =E43+E46+E53 -> 3000.0015
B60: uz 1 dalībnieku | E60: =E59/20 -> 150.00008

Sheet 9.5. (1.-2.)
E1: 56. Pielikums Antimikrobiālās rezistences ierobežošanas un piesardzīgas antibiotiku lietošanas plānam “Viena veselība” 2023.-2027. gadam
A3: 9.5.Pilnveidot dzīvnieku īpašnieku zināšanas par biodrošību
B5: Finanšu rādītāji | D5: 2023.gads | E5: 2024.gads | F5: 2025.gads | G5: 2026.gads | H5: Turpmākā laikposmā līdz pasākuma pabeigšanai (ja tas ir terminēts) | I5: Turpmāk katru gadu (ja pasākums nav terminēts) | J5: Sadalījums pa apakšprogrammām, budžeta programmas kods
B6: Ieņēmumi kopā, euro | D6: - | E6: - | F6: - | G6: - | H6: - | I6: -
B7: Izdevumi kopā, euro | D7: 0 | E7: =E11+D36 -> 8448 | F7: =E12+D37 -> 6816 | G7: =E13+D38 -> 6816 | H7: 0 | I7: =G7 -> 6816 | J7: 22.05.00 Dotācija SIA "Latvijas Lauku konsultāciju un izglītības centrs" informācijas analīzes un apmaiņas sistēmai
A9: 1. Programmu izstrāde
A10: Nr. p.k. | B10: Gads | C10: Mēneši | D10: Darba h mēnesī | E10: Kopā, eiro
A11: 1 | B11: 2024.g. (programmas izstrāde) | C11: 1 | D11: 48 | E11: =ROUND(C11*D11*$E$29,0) -> 2448
A12: 2 | B12: 2025.g. (aktualizēšana) | C12: 1 | D12: 16 | E12: =ROUND(C12*D12*$E$29,0) -> 816
A13: 3 | B13: 2026.g. (aktualizēšana) | C13: 1 | D13: 16 | E13: =ROUND(C13*D13*$E$29,0) -> 816
A15: LLKC konsultantu darba stundas izmaksas
A16: Nr. p.k. | B16: Izmaksu postenis | C16: Skaits | D16: Cena, EUR | E16: Summa, EUR
A17: 1. | B17: Darba samaksa | E17: =E18+E19+E20 -> 35.73
A18: 1.1. | B18: darba alga (A2*), stundas | C18: 1 | D18: 28.91 | E18: =C18*D18 -> 28.91
D19: 28.91 | E19: =C19*D19 -> 0
A20: 1.2. | B20: DDSAOI - 23,59% | E20: =ROUND((E18+E19)*0.2359,2) -> 6.82
A21: 2. | B21: Mainīgās izmaksas | E21: =E22 -> 1.692
A22: 2.1. | B22: Transports, km | C22: 4.7 | D22: 0.36 | E22: =D22*C22 -> 1.692
A23: 3. | B23: Fiksētās izmaksas | E23: =E24+E25+E26+E27+E28 -> 13.58
A24: 3.1. | B24: Speciālistu attīstības izmaksas - apmācība, prakse, pieredzes apmaiņa | C24: 0.08 | E24: =ROUND(E17*C24,2) -> 2.86
A25: 3.2. | B25: Administrācijas izmaksas | C25: 0.15 | E25: =ROUND(E17*C25,2) -> 5.36
A26: 3.3. | B26: IT infrastruktūras izmaksas | C26: 0.04 | E26: =ROUND(E17*C26,2) -> 1.43
A27: 3.4. | B27: Biroja izdevumi | C27: 0.07 | E27: =ROUND(E17*C27,2) -> 2.5
A28: 3.5. | B28: Nolietojums | C28: 0.04 | E28: =ROUND(E17*C28,2) -> 1.43
A29: 4. | B29: KOPĀ | E29: =E17+E21+E23 -> 51.002
B30: * - Darbu izpildes kvalifikācijas kods atbilstoši valdes apstiprinātai kalkulācijai
B31: DDSAOI - darba devēja sociālās apdrošināšanas obligātā iemaksa
A33: 2. Apmācīti dzīvnieku īpašnieki par biodrošības pasākumu kopumu novietnē
A35: Nr. p.k. | B35: Gads | C35: Grupu skaits | D35: Kopā, eiro
A36: 1 | B36: 2024.g. (2 grupas katrā 8 h programmā) | C36: 2 | D36: =3000*C36 -> 6000
A37: 2 | B37: 2025.g. (2 grupas katrā 8 h programmā) | C37: 2 | D37: =3000*C37 -> 6000
A38: 3 | B38: 2026.g. (2 grupas katrā 8 h programmā) | C38: 2 | D38: =3000*C38 -> 6000
A41: Apmācība 20 cilv.grupai- 8h
A42: Nr. p.k. | B42: Izmaksu postenis | C42: Skaits | D42: Cena, EUR | E42: Summa, EUR
A43: 1. | B43: Darba samaksa | E43: =E44+E45 -> 658.73
A44: 1.1. | B44: Organizators | C44: 13 | D44: 41 | E44: =C44*D44 -> 533
A45: 1.2. | B45: DDSAOI - 23,59% | E45: =ROUND((E44)*0.2359,2) -> 125.73
A46: 2. | B46: Mainīgās izmaksas | E46: =SUM(E47:E52) -> 2090.9515
A47: 2.1. | B47: Lektora atalgojums un nodokļi | C47: 8 | D47: =63.107*1.2359 -> 77.993941 | E47: =C47*D47 -> 623.95153
A48: 2.2. | B48: Mācību un tehniskie materiāli | C48: 1 | D48: 250 | E48: =D48*C48 -> 250
A49: 2.3. | B49: Specapģērbi,dezinfekcijas līdzekļi, gab | C49: 22 | D49: 3.5 | E49: =D49*C49 -> 77
A50: 2.4. | B50: Filmēšana, ierakstu veidošana | C50: 1 | D50: 500 | E50: =D50*C50 -> 500
A51: 2.5. | B51: Kafijas pauzes, gab | C51: 2 | D51: 160 | E51: =D51*C51 -> 320
A52: 2.6. | B52: Telpu, aprīkojuma noma, h | C52: 8 | D52: 40 | E52: =D52*C52 -> 320
A53: 3. | B53: Fiksētās izmaksas | E53: =E54+E55+E56+E57+E58 -> 250.32
A54: 3.1. | B54: Speciālistu attīstības izmaksas - apmācība, prakse, pieredzes apmaiņa | C54: 0.08 | E54: =ROUND(E43*C54,2) -> 52.7
A55: 3.2. | B55: Administrācijas izmaksas | C55: 0.15 | E55: =ROUND(E43*C55,2) -> 98.81
A56: 3.3. | B56: IT infrastruktūras izmaksas | C56: 0.04 | E56: =ROUND(E43*C56,2) -> 26.35
A57: 3.4. | B57: Biroja izdevumi | C57: 0.07 | E57: =ROUND(E43*C57,2) -> 46.11
A58: 3.5. | B58: Nolietojums | C58: 0.04 | E58: =ROUND(E43*C58,2) -> 26.35
A59: 4. | B59: KOPĀ | E59: =E43+E46+E53 -> 3000.0015
B60: uz 1 dalībnieku | E60: =E59/20 -> 150.00008

Sheet 9.6.(1.-2.)
E1: 57. Pielikums Antimikrobiālās rezistences ierobežošanas un piesardzīgas antibiotiku lietošanas plānam “Viena veselība” 2023.-2027. gadam
A3: 9.6.Pilnveidot dzīvnieku īpašnieku zināšanas par par ganāmpulkta veselības sekmīgu pārvaldību
B5: Finanšu rādītāji | D5: 2023.gads | E5: 2024.gads | F5: 2025.gads | G5: 2026.gads | H5: Turpmākā laikposmā līdz pasākuma pabeigšanai (ja tas ir terminēts) | I5: Turpmāk katru gadu (ja pasākums nav terminēts) | J5: Sadalījums pa apakšprogrammām, budžeta programmas kods
B6: Ieņēmumi kopā, euro | D6: - | E6: - | F6: - | G6: - | H6: - | I6: -
B7: Izdevumi kopā, euro | D7: 0 | E7: =E11+D36 -> 26448 | F7: =E12+D37 -> 24816 | G7: =E13+D38 -> 24816 | H7: 0 | I7: =G7 -> 24816 | J7: 22.05.00 Dotācija SIA "Latvijas Lauku konsultāciju un izglītības centrs" informācijas analīzes un apmaiņas sistēmai
A9: 1. Programmu izstrāde
A10: Nr. p.k. | B10: Gads | C10: Mēneši | D10: Darba h mēnesī | E10: Kopā, eiro
A11: 1 | B11: 2024.g. (programmas izstrāde) | C11: 1 | D11: 48 | E11: =ROUND(C11*D11*$E$29,0) -> 2448
A12: 2 | B12: 2025.g. (aktualizēšana) | C12: 1 | D12: 16 | E12: =ROUND(C12*D12*$E$29,0) -> 816
A13: 3 | B13: 2026.g. (aktualizēšana) | C13: 1 | D13: 16 | E13: =ROUND(C13*D13*$E$29,0) -> 816
A15: LLKC konsultantu darba stundas izmaksas
A16: Nr. p.k. | B16: Izmaksu postenis | C16: Skaits | D16: Cena, EUR | E16: Summa, EUR
A17: 1. | B17: Darba samaksa | E17: =E18+E19+E20 -> 35.73
A18: 1.1. | B18: darba alga (A2*), stundas | C18: 1 | D18: 28.91 | E18: =C18*D18 -> 28.91
D19: 28.91 | E19: =C19*D19 -> 0
A20: 1.2. | B20: DDSAOI - 23,59% | E20: =ROUND((E18+E19)*0.2359,2) -> 6.82
A21: 2. | B21: Mainīgās izmaksas | E21: =E22 -> 1.692
A22: 2.1. | B22: Transports, km | C22: 4.7 | D22: 0.36 | E22: =D22*C22 -> 1.692
A23: 3. | B23: Fiksētās izmaksas | E23: =E24+E25+E26+E27+E28 -> 13.58
A24: 3.1. | B24: Speciālistu attīstības izmaksas - apmācība, prakse, pieredzes apmaiņa | C24: 0.08 | E24: =ROUND(E17*C24,2) -> 2.86
A25: 3.2. | B25: Administrācijas izmaksas | C25: 0.15 | E25: =ROUND(E17*C25,2) -> 5.36
A26: 3.3. | B26: IT infrastruktūras izmaksas | C26: 0.04 | E26: =ROUND(E17*C26,2) -> 1.43
A27: 3.4. | B27: Biroja izdevumi | C27: 0.07 | E27: =ROUND(E17*C27,2) -> 2.5
A28: 3.5. | B28: Nolietojums | C28: 0.04 | E28: =ROUND(E17*C28,2) -> 1.43
A29: 4. | B29: KOPĀ | E29: =E17+E21+E23 -> 51.002
B30: * - Darbu izpildes kvalifikācijas kods atbilstoši valdes apstiprinātai kalkulācijai
B31: DDSAOI - darba devēja sociālās apdrošināšanas obligātā iemaksa
A33: 2. Apmācīti dzīvnieku īpašnieki par sekmīgu ganāmpulka veselības pārvaldību t.sk. dzīvnieku turēšanu, barošanu
A35: Nr. p.k. | B35: Gads | C35: Grupu skaits | D35: Kopā, eiro
A36: 1 | B36: 2024.g. | C36: 4 | D36: =6000*C36 -> 24000
A37: 2 | B37: 2025.g. | C37: 4 | D37: =6000*C37 -> 24000
A38: 3 | B38: 2026.g. | C38: 4 | D38: =6000*C38 -> 24000
A40: Apmācība 20 cilv.grupai- 16h
A41: Nr. p.k. | B41: Izmaksu postenis | C41: Skaits | D41: Cena, EUR | E41: Summa, EUR
A42: 1. | B42: Darba samaksa | E42: =E43+E44 -> 810.75
A43: 1.1. | B43: Organizators | C43: 16 | D43: 41 | E43: =C43*D43 -> 656
A44: 1.2. | B44: DDSAOI - 23,59% | E44: =ROUND((E43)*0.2359,2) -> 154.75
A45: 2. | B45: Mainīgās izmaksas | E45: =SUM(E46:E52) -> 4881.1655
A46: 2.1. | B46: Lektora atalgojums un nodokļi | C46: 16 | D46: =84.107*1.2359 -> 103.94784 | E46: =D46*C46 -> 1663.1655
A47: 2.2. | B47: Mācību un tehniskie materiāli | C47: 1 | D47: 350 | E47: =D47*C47 -> 350
A48: 2.3. | B48: Specapģērbi,dezinfekcijas līdzekļi, gab | C48: 88 | D48: 3.5 | E48: =D48*C48 -> 308
A49: 2.4. | B49: Saimniecību apmeklējums, gab | C49: 4 | D49: 150 | E49: =D49*C49 -> 600
A50: 2.5. | B50: Kafijas pauzes, gab | C50: 4 | D50: 160 | E50: =D50*C50 -> 640
A51: 2.6. | B51: Transports (autobusa noma saimniecību apmeklējumam, lektoriem) | C51: 1 | D51: 1000 | E51: =D51*C51 -> 1000
A52: 2.7. | B52: Telpu, aprīkojuma noma, h | C52: 8 | D52: 40 | E52: =D52*C52 -> 320
A53: 3. | B53: Fiksētās izmaksas | E53: =E54+E55+E56+E57+E58 -> 308.08
A54: 3.1. | B54: Speciālistu attīstības izmaksas - apmācība, prakse, pieredzes apmaiņa | C54: 0.08 | E54: =ROUND(E42*C54,2) -> 64.86
A55: 3.2. | B55: Administrācijas izmaksas | C55: 0.15 | E55: =ROUND(E42*C55,2) -> 121.61
A56: 3.3. | B56: IT infrastruktūras izmaksas | C56: 0.04 | E56: =ROUND(E42*C56,2) -> 32.43
A57: 3.4. | B57: Biroja izdevumi | C57: 0.07 | E57: =ROUND(E42*C57,2) -> 56.75
A58: 3.5. | B58: Nolietojums | C58: 0.04 | E58: =ROUND(E42*C58,2) -> 32.43
A59: 4. | B59: KOPĀ | E59: =E42+E45+E53 -> 5999.9955

Sheet 9.7.(1.)
F1: 58. Pielikums Antimikrobiālās rezistences ierobežošanas un piesardzīgas antibiotiku lietošanas plānam “Viena veselība” 2023.-2027. gadam
A3: 9. Praktizējošu veterinārārstu un dzīvnieku īpašnieku apmācība, sabiedrības informētība par AMR jautājumiem dzīvnieku veselības jomā: sabiedrības informētība par AMR jautājumiem dzīvnieku veselības jomā
B5: Finanšu rādītāji | D5: 2023.gads | E5: 2024.gads | F5: 2025.gads | G5: 2026.gads | H5: Turpmākā laikposmā līdz pasākuma pabeigšanai (ja tas ir terminēts) | I5: Turpmāk katru gadu (ja pasākums nav terminēts) | J5: Sadalījums pa apakšprogrammām, budžeta programmas kods
B6: Ieņēmumi kopā, euro | D6: - | E6: - | F6: - | G6: - | H6: - | I6: -
B7: Izdevumi kopā, euro | D7: 0 | E7: =C13 -> 2729 | F7: =D13 -> 2729 | G7: 0 | H7: 0 | I7: 0 | J7: 20.02.00 Riska zinātniskā novērtēšana un references laboratorijas funkciju veikšana dzīvnieku veselības, pārtikas un dzīvnieku barības jomā
A10: Uzdevums | B10: Pasākums | C10: Gads
C11: 2024 | D11: 2025
A12: 9.7. Uzlabot komunikāciju un sabiedrības informētību par AMR jautājumiem dzīvnieku veselības jomā | B12: 1. Izstrādāt vienoto pieeju komunikācijai/ komunikācijas stratēģijai, lai informētu nozares profesionāļus un sabiedrību par AMR jautājumiem dzīvnieku veselības jomā | C12: =D21 -> 2729 | D12: =D21 -> 2729
C13: =SUM(C12:C12) -> 2729 | D13: =SUM(D12:D12) -> 2729
A15: Izdevumu pozīcija
A16: Eksperta atlīdzība uzdevumu izpildei (0,1 slodze/gadā) | D16: skatīt zemāk | G16: =D21 -> 2729
A18: Ekspertu izdevumi* | B18: Euro/mēnesī | C18: Euro/gadā | D18: 0,1 slodze/gadā
A19: L4 kategorijas pieredz.eksperta Max mēnešalga | B19: 1840 | C19: =B19*12 -> 22080 | D19: =C19*0.1 -> 2208
A20: Darba dēvēja sociālais nodoklis (23,59%) | B20: =B19*0.2359 -> 434.056 | C20: =B20*12 -> 5208.672 | D20: =C20*0.1 -> 520.8672
A21: Kopā atlīdzība | B21: =ROUND(SUM(B19:B20),0) -> 2274 | C21: =ROUND(SUM(C19:C20),0) -> 27289 | D21: =ROUND(SUM(D19:D20),0) -> 2729

Sheet 9.7.(2.)
G1: 59. Pielikums Antimikrobiālās rezistences ierobežošanas un piesardzīgas antibiotiku lietošanas plānam “Viena veselība” 2023.-2027. gadam
A3: 9.7. Organizēti pasākumi nozares profesionāļiem, dzīvnieku īpašniekiem un sabiedrībai par AMR jautājumiem dzīvnieku veselības jomā
B5: Finanšu rādītāji | D5: 2023.gads | E5: 2024.gads | F5: 2025.gads | G5: 2026.gads | H5: Turpmākā laikposmā līdz pasākuma pabeigšanai (ja tas ir terminēts) | I5: Turpmāk katru gadu (ja pasākums nav terminēts) | J5: Sadalījums pa apakšprogrammām; budžeta programmas kods
B6: Ieņēmumi kopā, euro | D6: - | E6: - | F6: - | G6: - | H6: - | I6: -
B7: Izdevumi kopā, euro | D7: - | E7: =D11+E77 -> 13200 | F7: =D12+E54 -> 23200 | G7: =D13+E77 -> 13200 | H7: - | I7: =D13+E54 -> 23200 | J7: 22.05.00 Dotācija SIA "Latvijas Lauku konsultāciju un izglītības centrs" informācijas analīzes un apmaiņas sistēmai
A10: Nr. p.k. | B10: Gads | C10: Publikāciju skaits | D10: Kopā, eiro
A11: 1 | B11: 2024.g. | C11: 4 | D11: =$E$29*C11 -> 3200
A12: 2 | B12: 2025.g. | C12: 4 | D12: =$E$29*C12 -> 3200
A13: 3 | B13: 2026.g. | C13: 4 | D13: =$E$29*C13 -> 3200
A15: Nr. p.k. | B15: Izmaksu postenis | C15: Skaits | D15: Cena, EUR | E15: Summa, EUR
A16: 1. | B16: Darba samaksa | E16: =SUM(E17:E20) -> 289.86
A17: 1.1. | B17: rediģēšana | C17: 1 | D17: 94 | E17: =D17*C17 -> 94
A18: 1.2. | B18: maketēšana | C18: 1 | D18: 99.53 | E18: =D18*C18 -> 99.53
A19: 1.3. | B19: koordinēšana | C19: 1 | D19: 41 | E19: =D19*C19 -> 41
A20: 1.4. | B20: DDSAOI - 23,59% | E20: =ROUND((E17+E18+E19)*0.2359,2) -> 55.33
A21: 2. | B21: Mainīgās izmaksas | E21: =SUM(E22) -> 400
A22: 2.1. | B22: autoratlīdzība | C22: 1 | D22: 400 | E22: =C22*D22 -> 400
A23: 3. | B23: Fiksētās izmaksas | E23: =E24+E25+E26+E27+E28 -> 110.14
A24: 3.1. | B24: Speciālistu attīstības izmaksas - apmācība, prakse, pieredzes apmaiņa | C24: 0.08 | E24: =ROUND(E16*C24,2) -> 23.19
A25: 3.2. | B25: Administrācijas izmaksas | C25: 0.15 | E25: =ROUND(E16*C25,2) -> 43.48
A26: 3.3. | B26: IT infrastruktūras izmaksas | C26: 0.04 | E26: =ROUND(E16*C26,2) -> 11.59
A27: 3.4. | B27: Biroja izdevumi | C27: 0.07 | E27: =ROUND(E16*C27,2) -> 20.29
A28: 3.5. | B28: Nolietojums | C28: 0.04 | E28: =ROUND(E16*C28,2) -> 11.59
A29: 4. | B29: KOPĀ | E29: =ROUND(E16+E21+E23,0) -> 800
B30: * - Darbu izpildes kvalifikācijas kods atbilstoši valdes apstiprinātai kalkulācijai
B31: DDSAOI - darba devēja sociālās apdrošināšanas obligātā iemaksa
A34: Starptautiskā konference 2025.gadā, un turpmāk katru otro gadu
A35: Nr. p.k. | B35: Izmaksu postenis | C35: Skaits | D35: Cena, EUR | E35: Summa, EUR
A36: 1. | B36: Darba samaksa | E36: =E37+E38 -> 1368.14
A37: 1.1. | B37: Organizators | C37: 27 | D37: 41 | E37: =C37*D37 -> 1107
A38: 1.2. | B38: DDSAOI - 23,59% | E38: =ROUND((E37)*0.2359,2) -> 261.14
A39: 2. | B39: Mainīgās izmaksas | E39: =SUM(E40:E47) -> 18111.956
A40: 2.1. | B40: Konferences materiāli | C40: 1 | D40: 1500 | E40: =D40*C40 -> 1500
A41: 2.2. | B41: Filmēšana, ierakstu veidošana | C41: 1 | D41: 1000 | E41: =D41*C41 -> 1000
A42: 2.3. | B42: Kafijas pauzes, ēdināšana gab | C42: 4 | D42: 800 | E42: =D42*C42 -> 3200
A43: 2.4. | B43: Lektors , ārzemju (t.sk. Lidojumi, viesnīcas) | C43: 2 | D43: 2000 | E43: =C43*D43 -> 4000
A44: 2.5. | B44: Tulki | C44: 4 | D44: =360*1.2359 -> 444.924 | E44: =C44*D44 -> 1779.696
A45: 2.6. | B45: Lektori, Latvijas | C45: 4 | D45: =548.847*1.2359 -> 678.32001 | E45: =C45*D45 -> 2713.28
A46: 2.7. | B46: Moderatori | C46: 2 | D46: =1100*1.2359 -> 1359.49 | E46: =C46*D46 -> 2718.98
A47: 2.8. | B47: Telpu, aprīkojuma noma, h | C47: 6 | D47: 200 | E47: =D47*C47 -> 1200
A48: 3 | B48: Fiksētās izmaksas | E48: =E49+E50+E51+E52+E53 -> 519.9
A49: 3.1. | B49: Speciālistu attīstības izmaksas - apmācība, prakse, pieredzes apmaiņa | C49: 0.08 | E49: =ROUND(E36*C49,2) -> 109.45
A50: 3.2. | B50: Administrācijas izmaksas | C50: 0.15 | E50: =ROUND(E36*C50,2) -> 205.22
A51: 3.3. | B51: IT infrastruktūras izmaksas | C51: 0.04 | E51: =ROUND(E36*C51,2) -> 54.73
A52: 3.4. | B52: Biroja izdevumi | C52: 0.07 | E52: =ROUND(E36*C52,2) -> 95.77
A53: 3.5. | B53: Nolietojums | C53: 0.04 | E53: =ROUND(E36*C53,2) -> 54.73
A54: 4. | B54: KOPĀ | E54: =ROUND(E36+E39+E48,0) -> 20000
A57: Semināri ar ārzemju lektoru piesaisti 2024.gadā gadā un turpmāk katru otro gadu
A58: Nr. p.k. | B58: Izmaksu postenis | C58: Skaits | D58: Cena, EUR | E58: Summa, EUR
A59: 1. | B59: Darba samaksa | E59: =E60+E61 -> 810.75
A60: 1.1. | B60: Organizators | C60: 16 | D60: 41 | E60: =C60*D60 -> 656
A61: 1.2. | B61: DDSAOI - 23,59% | E61: =ROUND((E60)*0.2359,2) -> 154.75
A62: 2. | B62: Mainīgās izmaksas | E62: =SUM(E63:E70) -> 8881.1664
A63: 2.1. | B63: Semināra materiāli | C63: 1 | D63: 500 | E63: =D63*C63 -> 500
A64: 2.2. | B64: Filmēšana, ierakstu veidošana | C64: 1 | D64: 1500 | E64: =D64*C64 -> 1500
A65: 2.3. | B65: Kafijas pauzes, ēdināšana gab | C65: 2 | D65: 800 | E65: =D65*C65 -> 1600
A66: 2.4. | B66: Lektors , ārzemju (tiešsaistē) | C66: 2 | D66: 800 | E66: =C66*D66 -> 1600
A67: 2.5. | B67: Tulki | C67: 2 | D67: =240*1.2359 -> 296.616 | E67: =C67*D67 -> 593.232
A68: 2.6. | B68: Lektori, Latvijas | C68: 2 | D68: =605.075*1.2359 -> 747.81219 | E68: =C68*D68 -> 1495.6244
A69: 2.7. | B69: Moderatori | C69: 1 | D69: =900*1.2359 -> 1112.31 | E69: =C69*D69 -> 1112.31
A70: 2.8. | B70: Telpu, aprīkojuma noma, h | C70: 6 | D70: 80 | E70: =D70*C70 -> 480
A71: 3. | B71: Fiksētās izmaksas | E71: =E72+E73+E74+E75+E76 -> 308.08
A72: 3.1. | B72: Speciālistu attīstības izmaksas - apmācība, prakse, pieredzes apmaiņa | C72: 0.08 | E72: =ROUND(E59*C72,2) -> 64.86
A73: 3.2. | B73: Administrācijas izmaksas | C73: 0.15 | E73: =ROUND(E59*C73,2) -> 121.61
A74: 3.3. | B74: IT infrastruktūras izmaksas | C74: 0.04 | E74: =ROUND(E59*C74,2) -> 32.43
A75: 3.4. | B75: Biroja izdevumi | C75: 0.07 | E75: =ROUND(E59*C75,2) -> 56.75
A76: 3.5. | B76: Nolietojums | C76: 0.04 | E76: =ROUND(E59*C76,2) -> 32.43
A77: 4. | B77: KOPĀ | E77: =ROUND(E59+E62+E71,0) -> 10000

Sheet 9.7.(3.1.-3.2.)
E1: 60. Pielikums Antimikrobiālās rezistences ierobežošanas un piesardzīgas antibiotiku lietošanas plānam “Viena veselība” 2023.-2027. gadam
A3: 9.7. Nodrošināta praktizējošo veterinārārstu līdzdalība sabiedrības informēšanā
A4: Finanšu rādītāji | C4: 2023.gads | D4: 2024.gads | E4: 2025.gads | F4: 2026.gads | G4: Turpmākā laikposmā līdz pasākuma pabeigšanai (ja tas ir terminēts) | H4: Turpmāk katru gadu (ja pasākums nav terminēts) | I4: Sadalījums pa apakšprogrammām; budžeta programmas kods
A5: Ieņēmumi kopā, euro | C5: - | D5: - | E5: - | G5: - | H5: -
A6: Izdevumi kopā, euro | C6: 0 | D6: =C20 -> 5000 | E6: =D20 -> 5000 | F6: =E20 -> 5000 | G6: 0 | H6: =E20 -> 5000 | I6: 20.01.00 Pārtikas drošības un veterinārmedicīnas valsts uzraudzība un kontrole
A8: Nodrošināta praktizējošo veterinārārstu līdzdalība sabiedrības informēšanā
B9: 3.1. Dzīvnieku īpašnieku informēšana par AB lietošanu un AMR problēmu
B10: 3.2. AMR problēmas risināšanas aktualizēšana veterinārmedicīnas prakšu atvēto durvju laikā (Pasaules Veterinārā diena – aprīļa pēdējā sestdienā)
A12: Pozīcijas | B12: Nepieciešamais papildu finansējums
B13: 2023.gads | C13: 2024.gads | D13: 2025.gads | E13: 2026.gads
