Workbook

Sheet 2_pielikums_2023
F1: 2. pielikums
F2: Jelgavas novada pašvaldības 2023. gada 26. aprīļa
F3: saistošajiem noteikumiem Nr. 8
A4: Jelgavas novada pašvaldības
A5: Ziedojumu un dāvinājumu ieņēmumu un izdevumu kopsavilkums 2023. gadam, EUR
A6: Klasifikācijas nosaukums | C6: Plāns | D6: Grozījumi kopā (+/-) | E6: Precizēts plāns 04.2023 | F6: Grozījumu iemesls
A7: I. | B7: Ieņēmumi | C7: =SUM(C8:C11) -> 150 | D7: =SUM(D8:D11) -> 5460 | E7: =C7+D7 -> 5610
A8: 19.100 | B8: Pašvaldības budžeta iekšējie transferti starp vienas pašvaldības budžeta veidiem | C8: =ZB_kopsavilkums_2023!AA10 -> 150 | E8: =C8+D8 -> 150
A9: 23.300 | B9: Procentu ieņēmumi par ziedojumu un dāvinājumu budžeta līdzekļu depozītā vai kontu atlikumiem | C9: 0 | E9: =C9+D9 -> 0
A10: 23.400 | B10: Ziedojumi un dāvinājumi, kas saņemti no juridiskajām personām | C10: =ZB_kopsavilkums_2023!AA11 -> 0 | D10: 3610 | E10: =C10+D10 -> 3610 | F10: 1.Saņemts ziedojums Staļģenes skolas pūcei 2.Saņemts ziedojums Ozolnieku vidusskolai - mācību līdzekļiem 3.Saņemts ziedojums Valgundes tautas nama materiāli tehniskās bāzes nodrošināšanai 4.Saņemti ziedojumi Ukrainas Rava-Ruskas pašvaldības iedzīvotājiem automašīnas iegādei
A11: 23.500 | B11: Ziedojumi un dāvinājumi, kas saņemti no fiziskajām personām | C11: =ZB_kopsavilkums_2023!AA12 -> 0 | D11: 1850 | E11: =C11+D11 -> 1850 | F11: 1.Saņemts ziedojums Staļģenes skolas pūcei 2.Saņemti ziedojumi Ukrainas Rava-Ruskas pašvaldības iedzīvotājiem automašīnas iegādei 3.Saņemts ziedojums Ozolnieku mūzikas skolai- mūzikas instrumentu iegādei
A12: II. | B12: IZDEVUMI KOPĀ | C12: =C13+C16+C20+C26+C31+C24 -> 30994 | D12: =D13+D16+D20+D26+D31+D24 -> 5460 | E12: =C12+D12 -> 36454
A13: 01.000 | B13: Vispārējie valdības dienesti | C13: =C14 -> 155 | D13: =D14 -> 0 | E13: =C13+D13 -> 155
B14: Administrācija | C14: =SUM(C15) -> 155 | D14: =SUM(D15) -> 0 | E14: =C14+D14 -> 155
A15: 2000 | B15: Preces un pakalpojumi | C15: =ZB_kopsavilkums_2023!C18 -> 155 | E15: =C15+D15 -> 155
A16: 04.000 | B16: Ekonomiskā darbība | C16: =C17 -> 4673 | D16: =D17 -> 0 | E16: =C16+D16 -> 4673
B17: Tūrisma informācijas centrs | C17: =SUM(C18:C19) -> 4673 | D17: =SUM(D18:D19) -> 0 | E17: =C17+D17 -> 4673
A18: 2000 | B18: Preces un pakalpojumi | C18: =ZB_kopsavilkums_2023!K14+ZB_kopsavilkums_2023!K22+ZB_kopsavilkums_2023!L14+ZB_kopsavilkums_2023!L22+ZB_kopsavilkums_2023!P14+ZB_kopsavilkums_2023!P22+ZB_kopsavilkums_2023!Q14+ZB_kopsavilkums_2023!Q22+ZB_kopsavilkums_2023!H14+ZB_kopsavilkums_2023!H22 -> 1297 | E18: =C18+D18 -> 1297
A19: 5000 | B19: Pamatkapitāla veidošana | C19: =ZB_kopsavilkums_2023!H34+ZB_kopsavilkums_2023!K34+ZB_kopsavilkums_2023!L34+ZB_kopsavilkums_2023!P34+ZB_kopsavilkums_2023!Q34 -> 3376 | E19: =C19+D19 -> 3376
A20: 06.000 | B20: Pašvaldības teritoriju un mājokļa apsaimniekošana | C20: =C21 -> 862 | D20: =D21 -> 0 | E20: =C20+D20 -> 862
B21: Īpašumu pārvaldības nodaļa | C21: =C22+C23 -> 862 | D21: =D22+D23 -> 0 | E21: =C21+D21 -> 862
A22: 2000 | B22: Preces un pakalpojumi | C22: =ZB_kopsavilkums_2023!T14+ZB_kopsavilkums_2023!U14+ZB_kopsavilkums_2023!V14+ZB_kopsavilkums_2023!T22+ZB_kopsavilkums_2023!U22+ZB_kopsavilkums_2023!V22 -> 862 | E22: =C22+D22 -> 862
A23: 5000 | B23: Pamatkapitāla veidošana | C23: =ZB_kopsavilkums_2023!T34+ZB_kopsavilkums_2023!U34+ZB_kopsavilkums_2023!V34 -> 0 | E23: =C23+D23 -> 0
A24: 08.000 | B24: Kultūras pārvalde | C24: =SUM(C25) -> 0 | D24: =SUM(D25) -> 150 | E24: =C24+D24 -> 150
A25: 2000 | B25: Preces un pakalpojumi | C25: 0 | D25: 150 | E25: =C25+D25 -> 150 | F25: Paliktnis kalvieru pārvietošanai Valgundes tautas namam
A26: 09.000 | B26: Izglītība | C26: =C27 -> 212 | D26: =D27 -> 3400 | E26: =C26+D26 -> 3612
B27: Izglītības iestādes | C27: =SUM(C28:C30) -> 212 | D27: =SUM(D28:D30) -> 3400 | E27: =C27+D27 -> 3612
A28: 2000 | B28: Preces un pakalpojumi | C28: =ZB_kopsavilkums_2023!X13+ZB_kopsavilkums_2023!Y13+ZB_kopsavilkums_2023!X21+ZB_kopsavilkums_2023!Y21 -> 212 | D28: 1000 | E28: =C28+D28 -> 1212 | F28: Ozolnieku vidusskolai - mācību līdzekļiem
A29: 5000 | B29: Pamatkapitāla veidošana | C29: 0 | D29: 2400 | E29: =C29+D29 -> 2400 | F29: Staļģenes skolas pūcei 2200 EUR, Ozolnieku mūzikas skolai- mūzikas instrumentu iegādei 200 EUR
A30: 6000 | B30: Sociālie pabalsti | C30: 0 | E30: =C30+D30 -> 0
A31: 10.000 | B31: Sociālā aizsardzība | C31: =C32+C35+C38 -> 25092 | D31: =D32+D35+D38 -> 1910 | E31: =C31+D31 -> 27002
B32: Labklājības pārvalde (Sociālās aprūpes un rehabilitācijas centri-pilngadīgo personu aprūpe) | C32: =SUM(C33:C34) -> 9211 | D32: =SUM(D33:D34) -> 0 | E32: =C32+D32 -> 9211
A33: 2000 | B33: Preces un pakalpojumi | C33: =ZB_kopsavilkums_2023!G14+ZB_kopsavilkums_2023!G22+ZB_kopsavilkums_2023!J14+ZB_kopsavilkums_2023!J22+ZB_kopsavilkums_2023!M14+ZB_kopsavilkums_2023!M22+ZB_kopsavilkums_2023!N14+ZB_kopsavilkums_2023!N22+ZB_kopsavilkums_2023!R14+ZB_kopsavilkums_2023!R22+ZB_kopsavilkums_2023!Z14+ZB_kopsavilkums_2023!Z22 -> 4957 | E33: =C33+D33 -> 4957
A34: 5000 | B34: Pamatkapitāla veidošana | C34: =ZB_kopsavilkums_2023!G34+ZB_kopsavilkums_2023!J34+ZB_kopsavilkums_2023!M34+ZB_kopsavilkums_2023!N34+ZB_kopsavilkums_2023!R34+ZB_kopsavilkums_2023!Z34 -> 4254 | E34: =C34+D34 -> 4254
B35: Labklājības pārvalde (Sociālās aprūpes un rehabilitācijas centri-nepilngadīgo personu aprūpe) | C35: =SUM(C36:C37) -> 5130 | D35: =SUM(D36:D37) -> 0 | E35: =C35+D35 -> 5130
A36: 2000 | B36: Preces un pakalpojumi | C36: =ZB_kopsavilkums_2023!F14+ZB_kopsavilkums_2023!F22+ZB_kopsavilkums_2023!I14+ZB_kopsavilkums_2023!I22+ZB_kopsavilkums_2023!O14+ZB_kopsavilkums_2023!O22+ZB_kopsavilkums_2023!S14+ZB_kopsavilkums_2023!S22 -> 2845 | E36: =C36+D36 -> 2845
A37: 5000 | B37: Pamatkapitāla veidošana | C37: =ZB_kopsavilkums_2023!F34+ZB_kopsavilkums_2023!I34+ZB_kopsavilkums_2023!O34+ZB_kopsavilkums_2023!S34 -> 2285 | E37: =C37+D37 -> 2285
B38: Labklājības pārvalde (Dažādi pakalpojumi) | C38: =SUM(C39:C40) -> 10751 | D38: =SUM(D39:D40) -> 1910 | E38: =C38+D38 -> 12661
A39: 2000 | B39: Preces un pakalpojumi | C39: =ZB_kopsavilkums_2023!D14+ZB_kopsavilkums_2023!D22+ZB_kopsavilkums_2023!E14+ZB_kopsavilkums_2023!E22+ZB_kopsavilkums_2023!W14+ZB_kopsavilkums_2023!W22 -> 9251 | D39: 1910 | E39: =C39+D39 -> 11161 | F39: Palīdzība Ukrainas Rava-Ruskas pašvaldības iedzīvotājiem automašīnas iegādei
A40: 6000 | B40: Sociālie pabalsti | C40: =ZB_kopsavilkums_2023!D38+ZB_kopsavilkums_2023!E38+ZB_kopsavilkums_2023!W38 -> 1500 | E40: =C40+D40 -> 1500
A41: II.1 | B41: Izdevumi atbilstoši funkcionālajām kategorijām | C41: =SUM(C42:C47) -> 30994 | D41: =SUM(D42:D47) -> 5460 | E41: =C41+D41 -> 36454
A42: 01.000 | B42: Vispārējie valdības dienesti | C42: =C13 -> 155 | D42: =D13 -> 0 | E42: =C42+D42 -> 155
A43: 04.000 | B43: Ekonomiskā darbība | C43: =C16 -> 4673 | D43: =D16 -> 0 | E43: =C43+D43 -> 4673
A44: 06.000 | B44: Pašvaldības teritoriju un mājokļa apsaimniekošana | C44: =C20 -> 862 | D44: =D20 -> 0 | E44: =C44+D44 -> 862
A45: 08.000 | B45: Atpūta, kultūra un sports | C45: =C24 -> 0 | D45: =D24 -> 150 | E45: =C45+D45 -> 150
A46: 09.000 | B46: Izglītība | C46: =C26 -> 212 | D46: =D26 -> 3400 | E46: =C46+D46 -> 3612
A47: 10.000 | B47: Sociālā aizsardzība | C47: =C31 -> 25092 | D47: =D31 -> 1910 | E47: =C47+D47 -> 27002
A48: II.2 | B48: Izdevumi atbilstoši ekonomiskajām kategorijām | C48: =SUM(C49:C54) -> 30994 | D48: =SUM(D49:D54) -> 5460 | E48: =C48+D48 -> 36454
A49: 1000 | B49: Atlīdzība | C49: =SUMIF($A$14:$A$40,A49,$C$14:$C$40) -> 0 | D49: =SUMIF($A$14:$A$40,A49,$D$14:$D$40) -> 0 | E49: =C49+D49 -> 0
A50: 2000 | B50: Preces un pakalpojumi | C50: =SUMIF($A$14:$A$40,A50,$C$14:$C$40) -> 19579 | D50: =SUMIF($A$14:$A$40,A50,$D$14:$D$40) -> 3060 | E50: =C50+D50 -> 22639
A51: 3000 | B51: Subsīdijas un dotācijas | C51: =SUMIF($A$14:$A$40,A51,$C$14:$C$40) -> 0 | D51: =SUMIF($A$14:$A$40,A51,$D$14:$D$40) -> 0 | E51: =C51+D51 -> 0
A52: 5000 | B52: Pamatkapitāla veidošana | C52: =SUMIF($A$14:$A$40,A52,$C$14:$C$40) -> 9915 | D52: =SUMIF($A$14:$A$40,A52,$D$14:$D$40) -> 2400 | E52: =C52+D52 -> 12315
A53: 6000 | B53: Sociālie pabalsti | C53: =SUMIF($A$14:$A$40,A53,$C$14:$C$40) -> 1500 | D53: =SUMIF($A$14:$A$40,A53,$D$14:$D$40) -> 0 | E53: =C53+D53 -> 1500
A54: 8000 | B54: Dažādi izdevumi, kas veidojas pēc uzkrāšanas principa un nav klasificēti iepriekš | C54: 0 | E54: =C54+D54 -> 0
A55: III. | B55: Ieņēmumu pārsniegums (+) vai deficīts(-) | C55: =C7-C12 -> -30844 | D55: =D7-D12 -> 0 | E55: =C55+D55 -> -30844
A56: IV. | B56: Finansēšana | C56: =C57-C58 -> 30844 | D56: =D57-D58 -> 0 | E56: =C56+D56 -> 30844
A57: F20010000 AS | B57: Naudas līdzekļu un noguldījumu atlikums gada sākumā | C57: =ZB_kopsavilkums_2023!AA7 -> 30844 | D57: =ZB_kopsavilkums_2023!AB7 -> 0 | E57: =C57+D57 -> 30844
A58: F20010000 AB | B58: Naudas līdzekļu un noguldījumu atlikums perioda beigās | C58: =ZB_kopsavilkums_2023!AA40 -> 0 | D58: =ZB_kopsavilkums_2023!AB40 -> 0 | E58: =C58+D58 -> 0
B61: Sagatavoja D.Špele

Sheet 8_pielikums_2018
D1: 8.pielikums
D2: Jelgavas novada pašvaldības 2018.gada 31.janvāra
D3: saistošajiem noteikumiem Nr.1
B4: Jelgavas novada pašvaldības
B5: Ziedojumu un dāvinājumu ieņēmumu un izdevumu kopsavilkums 2018.gadam, EUR
D7: KOPĀ
B8: Ieņēmumi | D8: =SUM(D9:D12) -> 520
B9: 19.100 | C9: Pašvaldības budžeta iekšējie transferti starp vienas pašvaldības budžeta veidiem | D9: 20
B10: 23.300 | C10: Procentu ieņēmumi par ziedojumu un dāvinājumu budžeta līdzekļu depozītā vai kontu atlikumiem | D10: 0
B11: 23.400 | C11: Ziedojumi un dāvinājumi, kas saņemti no juridiskajām personām | D11: 0
B12: 23.500 | C12: Ziedojumi un dāvinājumi, kas saņemti no fiziskajām personām | D12: 500
B14: Izdevumi atbilstoši funkcionālajām kategorijām | D14: =SUM(D15:D20) -> 41265
B15: 01.000 | C15: Vispārējie valdības dienesti | D15: 21
B16: 04.000 | C16: Ekonomiskā darbība | D16: 653
B17: 06.000 | C17: Pašvaldības teritoriju un mājokļa apsaimniekošana | D17: 463
B18: 08.000 | C18: Atpūta, kultūra un sports | D18: 0
B19: 09.000 | C19: Izglītība | D19: 2682
B20: 10.000 | C20: Sociālā aizsardzība | D20: 37446
B21: Izdevumi atbilstoši ekonomiskajām kategorijām | D21: =SUM(D22:D27) -> 41265
B22: 1000 | C22: Atlīdzība | D22: 0
B23: 2000 | C23: Preces un pakalpojumi | D23: 28953
B24: 3000 | C24: Subsīdijas un dotācijas | D24: 0
B25: 5000 | C25: Pamatkapitāla veidošana | D25: 11030
B26: 6000 | C26: Sociālie pabalsti | D26: 1282
B27: 8000 | C27: Dažādi izdevumi, kas veidojas pēc uzkrāšanas principa un nav klasificēti iepriekš | D27: 0
B28: Ieņēmumu pārsniegums (+) vai deficīts(-) | D28: =D8-D14 -> -40745
B29: Finansēšana | D29: =D30-D31 -> 40745
B30: Pieprasījuma noguldījumi perioda sākumā | D30: 52692
B31: Pieprasījuma noguldījumi perioda beigās | D31: =D8+D30-D21 -> 11947

Sheet ZB_kopsavilkums_2023
A1: Jelgavas novada pašvaldības
A2: 2023.gada Ziedojumu un dāvinājumu budžeta izdevumiem pamatots aprēķins pa struktūrām un pasākumiem, EUR
C3: Administrācija | D3: Jaunsvirlaukas pp palīdzība iedzīvotājiem-gripas vakcīnām | E3: Jaunsvirlaukas pp palīdzība iedzīvotājiem-senioru Ziemassvētki | F3: SARC Eleja (Jauniešu māja) | G3: SARC Staļģene | H3: Lielplatones muižas telpu izpētei | I3: SARC Eleja (bērnu nodaļa) | J3: SARC Kalnciems | K3: Elejas tējas namiņš | L3: Vilces muižas vēsturisko elementu atjaunošanai | M3: SARC Eleja (pilngadīgie) | N3: Dāvinājumi SARC Eleja,bērnu un jauniešu vajadzībām (Neatpazīts dāvinājums) | O3: SARC Eleja (bērnu nodaļa) | P3: Lielplatones muižas telpu izpētei | Q3: Vilces muižas attīstībai | R3: SARC Eleja (pilngadīgie) | S3: SARC Eleja (bērnu nodaļa) | T3: Tīsu bāzes labiekārtošana | U3: Rotaļlaukuma atjaunošana Platones ciemā | V3: Cenu un Ozolnieku pagasta apvienības pārvalde | W3: Atbalsts Ukrainas iedzīvotājiem - Rava-Ruskas pilsētā | X3: Ozolnieku PII Pūcīte | Y3: Ozolnieku PII Zīlīte | Z3: SAC "Zemgale" | AA3: KOPĀ
B4: Finansējuma Nr. | C4: 31 | D4: 3109 | E4: 3111 | F4: 3113 | G4: 3114 | H4: 3115 | I4: 3116 | J4: 3117 | K4: 3123 | L4: 3125 | M4: 3132 | N4: 3136 | O4: 3137 | P4: 3141 | Q4: 3143 | R4: 3144 | S4: 3146 | T4: 3148 | U4: 3149 | V4: 3151 | W4: 3153 | X4: 3154 | Y4: 3157 | Z4: 3158
B5: Struktūrvienība | C5: 01.120001 | D5: 10.400004 | E5: 10.20000404 | F5: 10.700001 | G5: 10.2000022 | H5: 04.730006 | I5: 10.700001 | J5: 10.2000023 | K5: 04.730002 | L5: 04.730012 | M5: 10.2000021 | N5: 10.2000022 | O5: 10.700001 | P5: 04.730006 | Q5: 04.730012 | R5: 10.2000021 | S5: 10.700001 | T5: 06.60000306 | U5: 06.60000308 | V5: 06.60000315 | W5: 10.920002 | X5: 09.110151 | Y5: 09.110154 | Z5: 10.2000025
B6: Rīcību virziens | C6: P5ARV1 | D6: P1LRV1 | E6: P1LRV1 | F6: P1LRV1 | G6: P1LRV1 | H6: P4TRV2 | I6: P2LRV2 | J6: P2LRV2 | K6: P4TRV2 | L6: P4TRV2 | M6: P1LRV1 | N6: P2LRV2 | O6: P1LRV1 | P6: P4TRV2 | Q6: P4TRV2 | R6: P2LRV2 | S6: P1LRV1 | T6: P3VRV9 | U6: P3VRV9 | V6: P3VRV9 | W6: P1IRV1 | X6: P1IRV1 | Y6: P1IRV1 | Z6: P1LRV1
A7: Naudas līdzekļu atlikums uz gada sākumu | C7: 5 | D7: 3013 | E7: 4855 | F7: 720 | G7: 2264 | H7: 13 | I7: 2785 | J7: 0 | K7: 4376 | L7: 30 | M7: 0 | N7: 553 | O7: 500 | P7: 200 | Q7: 54 | R7: 6254 | S7: 1125 | T7: 150 | U7: 137 | V7: =25+550 -> 575 | W7: 2883 | X7: 192 | Y7: 20 | Z7: 140 | AA7: =SUM(C7:Z7) -> 30844
B8: Ieņēmumi | C8: =C9+C10+C11+C12 -> 150 | D8: =D9+D10+D11+D12 -> 0 | E8: =E9+E10+E11+E12 -> 0 | F8: =F9+F10+F11+F12 -> 0 | G8: =G9+G10+G11+G12 -> 0 | H8: =H9+H10+H11+H12 -> 0 | I8: =I9+I10+I11+I12 -> 0 | J8: =J9+J10+J11+J12 -> 0 | ... AA8: =AA9+AA10+AA11+AA12 -> 150
A9: 23.0.0.0 | B9: Saņemtie ziedojumi un dāvinājumi | C9: 0 | D9: =SUM(D10:D12) -> 0 | E9: =SUM(E10:E12) -> 0 | F9: 0 | G9: =SUM(G10:G12) -> 0 | H9: =SUM(H10:H12) -> 0 | I9: 0 | J9: 0 | K9: 0 | L9: =SUM(L10:L12) -> 0 | M9: =SUM(M10:M12) -> 0 | N9: =SUM(N10:N12) -> 0 | O9: =SUM(O10:O12) -> 0 | P9: =SUM(P10:P12) -> 0 | Q9: 0 | R9: =SUM(R10:R12) -> 0 | S9: =SUM(S10:S12) -> 0 | T9: =SUM(T10:T12) -> 0 | U9: =SUM(U10:U12) -> 0 | V9: =SUM(V10:V12) -> 0 | W9: =SUM(W10:W12) -> 0 | X9: =SUM(X10:X12) -> 0 | Y9: =SUM(Y10:Y12) -> 0 | Z9: =SUM(Z10:Z12) -> 0 | AA9: =SUM(C9:Z9) -> 0
A10: 19.100 | B10: Transferti dažādu budžetu ietvaros | C10: 150 | D10: 0 | E10: 0 | F10: 0 | G10: 0 | H10: 0 | I10: 0 | J10: 0 | K10: 0 | L10: 0 | M10: 0 | N10: 0 | O10: 0 | P10: 0 | Q10: 0 | R10: 0 | S10: 0 | U10: 0 | V10: 0 | W10: 0 | X10: 0 | Y10: 0 | Z10: 0 | AA10: =SUM(C10:Z10) -> 150
A11: 23.400 | B11: Ziedojumi un dāvinājumi, kas saņemti no juridiskajām personām | C11: 0 | D11: 0 | E11: 0 | F11: 0 | G11: 0 | H11: 0 | I11: 0 | J11: 0 | K11: 0 | L11: 0 | M11: 0 | N11: 0 | O11: 0 | P11: 0 | Q11: 0 | R11: 0 | S11: 0 | T11: 0 | U11: 0 | V11: 0 | W11: 0 | X11: 0 | Y11: 0 | Z11: 0 | AA11: =SUM(C11:Z11) -> 0
A12: 23.500 | B12: Ziedojumi un dāvinājumi, kas saņemti no fiziskajām personām | C12: 0 | D12: 0 | E12: 0 | F12: 0 | G12: 0 | H12: 0 | I12: 0 | J12: 0 | K12: 0 | L12: 0 | M12: 0 | N12: 0 | O12: 0 | P12: 0 | Q12: 0 | R12: 0 | S12: 0 | T12: 0 | U12: 0 | AA12: =SUM(C12:Z12) -> 0
B13: Izdevumi | C13: =C14+C22+C32+C34+C38 -> 155 | D13: =D14+D22+D32+D34+D38 -> 3013 | E13: =E14+E22+E32+E34+E38 -> 4855 | F13: =F14+F22+F32+F34+F38 -> 720 | G13: =G14+G22+G32+G34+G38 -> 2264 | H13: =H14+H22+H32+H34+H38 -> 13 | I13: =I14+I22+I32+I34+I38 -> 2785 | J13: =J14+J22+J32+J34+J38 -> 0 | ... Z13: =Z14+Z22+Z32+Z34+Z38 -> 140 | AA13: =SUM(C13:Z13) -> 30994
A14: 2200 | B14: Pakalpojumi | C14: =SUM(C15:C21) -> 155 | D14: =SUM(D15:D21) -> 3013 | E14: =SUM(E15:E21) -> 1600 | F14: =SUM(F15:F21) -> 0 | G14: =SUM(G15:G21) -> 0 | H14: =SUM(H15:H21) -> 0 | I14: =SUM(I15:I21) -> 0 | J14: =SUM(J15:J21) -> 0 | ... AA14: =SUM(AA15:AA21) -> 6393
A15: 2231 | B15: Izdevumi iestādes sabiedrisko aktivitāšu īstenošanai | E15: 1600 | O15: 500 | AA15: =SUM(C15:Z15) -> 2100
A16: 2233 | B16: Transporta pakalpojumi | AA16: =SUM(C16:Z16) -> 0
A17: 2234 | B17: Normatīvajos aktos noteiktie veselībasun fiziskās sagatavotības pārbaudes izdevumi | D17: 0 | AA17: =SUM(C17:Z17) -> 0
A18: 2236 | B18: Bankas pakalpojumi | C18: 155 | AA18: =SUM(C18:Z18) -> 155
A19: 2239 | B19: Pārējie iepriekš neklasificētie pakalpojumi | D19: 3013 | M19: 0 | R19: 0 | S19: 1125 | T19: 0 | U19: 0 | V19: 0 | W19: 0 | X19: 0 | Y19: 0 | Z19: 0 | AA19: =SUM(C19:Z19) -> 4138
A20: 2244 | B20: Nekustamā īpašuma uzturēšana | AA20: =SUM(C20:Z20) -> 0
A21: 2269 | B21: Pārējā noma | AA21: =SUM(C21:Z21) -> 0
A22: 2300 | B22: Krājumi, materiāli, energoresursi | C22: =SUM(C23:C31) -> 0 | D22: =SUM(D23:D31) -> 0 | E22: =SUM(E23:E31) -> 1755 | F22: =SUM(F23:F31) -> 720 | G22: =SUM(G23:G31) -> 2264 | H22: =SUM(H23:H31) -> 13 | I22: =SUM(I23:I31) -> 500 | J22: =SUM(J23:J31) -> 0 | ... AA22: =SUM(AA23:AA31) -> 13186
A23: 2311 | B23: Biroja preces | T23: 0 | U23: 0 | V23: 0 | W23: 0 | X23: 0 | Y23: 0 | Z23: 0 | AA23: =SUM(C23:Z23) -> 0
A24: 2312 | B24: Inventārs | F24: 720 | G24: 0 | H24: 13 | I24: 500 | J24: 0 | K24: 1000 | L24: 30 | M24: 0 | N24: 553 | P24: 0 | Q24: 54 | R24: 2000 | S24: 0 | T24: 150 | U24: 137 | V24: 0 | W24: 0 | X24: 0 | Y24: 0 | Z24: 0 | AA24: =SUM(C24:Z24) -> 5157
A25: 2314 | B25: Izdevumi par precēm iestādes administratīvās darbības nodrošināšanai | E25: 1755 | P25: 200 | V25: 575 | W25: 2883 | X25: 192 | Y25: 20 | Z25: 140 | AA25: =SUM(C25:Z25) -> 5765
A26: 2341 | B26: Zāles, ķimikālijas, laboratorijas preces | G26: 64 | AA26: =SUM(C26:Z26) -> 64
A27: 2361 | B27: Mīkstais inventārs | G27: 700 | AA27: =SUM(C27:Z27) -> 700
A28: 2362 | B28: Virtuves inventārs, trauki un galda piederumi | AA28: =SUM(C28:Z28) -> 0
A29: 2363 | B29: Ēdināšanas izdevumi | AA29: =SUM(C29:Z29) -> 0
A30: 2369 | B30: Pārējie valsts un pašvaldību aprūpē un apgādē esošo personu uzturēšanas izdevumi, kuri nav minēti koda 2360 apakškodos | G30: 1500 | AA30: =SUM(C30:Z30) -> 1500
A31: 2370 | B31: Mācību līdzekļi un materiāli | AA31: =SUM(C31:Z31) -> 0
A32: 3200 | B32: Dotācijas biedrībām | C32: =SUM(C33) -> 0 | D32: =SUM(D33) -> 0 | E32: =SUM(E33) -> 0 | F32: =SUM(F33) -> 0 | G32: =SUM(G33) -> 0 | H32: =SUM(H33) -> 0 | I32: =SUM(I33) -> 0 | J32: =SUM(J33) -> 0 | ... Z32: =SUM(Z33) -> 0 | AA32: =SUM(C32:Z32) -> 0
A33: 3263 | B33: Dotācija biedrībām un nodibinājumiem | AA33: =SUM(C33:Z33) -> 0
A34: 5000 | B34: Pamatkapitāla veidošana | C34: =SUM(C35:C37) -> 0 | D34: =SUM(D35:D37) -> 0 | E34: =SUM(E35:E37) -> 0 | F34: =SUM(F35:F37) -> 0 | G34: =SUM(G35:G37) -> 0 | H34: =SUM(H35:H37) -> 0 | I34: =SUM(I35:I37) -> 2285 | J34: =SUM(J35:J37) -> 0 | ... Z34: =SUM(Z35:Z37) -> 0 | AA34: =SUM(C34:Z34) -> 9915
A35: 5239 | B35: Pārējie iepriekš neklasificētie pamatlīdzekļi | C35: 0 | F35: 0 | G35: 0 | I35: 2285 | J35: 0 | K35: 3376 | L35: 0 | N35: 0 | O35: 0 | Q35: 0 | R35: 4254 | U35: 0 | V35: 0 | W35: 0 | X35: 0 | Y35: 0 | Z35: 0 | AA35: =SUM(C35:Z35) -> 9915
A36: 5262 | B36: Augļu dārzi un citi regulāri ražojošie stādījumi | C36: 0 | F36: 0 | I36: 0 | K36: 0 | L36: 0 | N36: 0 | O36: 0 | Q36: 0 | AA36: =SUM(C36:Z36) -> 0
A37: 5238 | B37: Biroja tehnika | C37: 0 | F37: 0 | G37: 0 | I37: 0 | K37: 0 | L37: 0 | N37: 0 | O37: 0 | Q37: 0 | AA37: =SUM(C37:Z37) -> 0
A38: 6400 | B38: Pārējie klasifikācijā neminētie maksājumi iedzīvotājiem natūrā un kompensācijas | C38: =SUM(C39) -> 0 | D38: =SUM(D39) -> 0 | E38: =SUM(E39) -> 1500 | F38: =SUM(F39) -> 0 | G38: =SUM(G39) -> 0 | H38: =SUM(H39) -> 0 | I38: =SUM(I39) -> 0 | J38: =SUM(J39) -> 0 | ... Z38: =SUM(Z39) -> 0 | AA38: =SUM(C38:Z38) -> 1500
A39: 6421 | B39: Maksājumi iedzīvotājiem natūrā | E39: 1500 | AA39: =SUM(C39:Z39) -> 1500
A40: Naudas līdzekļu atlikums uz gada beigām | C40: =C7+C8-C13 -> 0 | D40: =D7+D8-D13 -> 0 | E40: =E7+E8-E13 -> 0 | F40: =F7+F8-F13 -> 0 | G40: =G7+G8-G13 -> 0 | H40: =H7+H8-H13 -> 0 | I40: =I7+I8-I13 -> 0 | J40: =J7+J8-J13 -> 0 | ... Z40: =Z7+Z8-Z13 -> 0 | AA40: =SUM(C40:Z40) -> 0

Sheet ZB_kopsavilkums_2018
A1: Jelgavas novada pašvaldības
A2: 2018.gada Ziedojumu un dāvinājumu budžeta izdevumiem pamatots aprēķins pa struktūrām un pasākumiem, EUR
C3: Administrācija | D3: Svētes pagasta Kalnanšu kapsētai | E3: Vilces pagasta kapsētas kapu zvanam | F3: Vilces pagasta Vaiteņu kapu zvanam | G3: Jaunsvirlaukas pp palīdzība iedzīvotājiem-skolēnu ēdināšana | H3: Jaunsvirlaukas pp palīdzība iedzīvotājiem-gripas vakcīnām | I3: Jaunsvirlaukas pp palīdzība iedzīvotājiem-skolēnu ēdināšana | J3: Jaunsvirlaukas pp palīdzība iedzīvotājiem-senioru Ziemassvētki | K3: Sesavas pp palīdzība iedzīvotājiem-skolēniem Ziemassvētku dāvanām | L3: SARC Staļģene | M3: Lielplatones muižas telpu izpētei | N3: SARC Eleja (bērnu nodaļa) | O3: SARC Kalnciems | P3: Elejas tējas namiņš | Q3: Vilces muižas vēsturisko elementu atjaunošanai | R3: SARC Eleja (pilngadīgie) | S3: Šķibes pamatskolai | T3: Vilces pamatskolai | U3: Vircavas vsk.Platones filiālei sporta inventāra iegādei | V3: SARC Eleja (bērnu nodaļa) | W3: KOPĀ
B4: Finansējuma Nr. | C4: 31 | D4: 3102 | E4: 3103 | F4: 3105 | G4: 3108 | H4: 3109 | I4: 3110 | J4: 3111 | K4: 3112 | L4: 3114 | M4: 3115 | N4: 3116 | O4: 3117 | P4: 3123 | Q4: 3125 | R4: 3132 | S4: 3133 | T4: 3134 | U4: 3135 | V4: 3137
B5: Struktūrvienība | C5: 01.110001 | D5: 06.600004 | E5: 06.600004 | F5: 06.600004 | G5: 10.40000404 | H5: 10.40000404 | I5: 10.40000404 | J5: 10.20000404 | K5: 09.210101 | L5: 10.2000022 | M5: 04.730001 | N5: 10.700001 | O5: 10.2000023 | P5: 04.730001 | Q5: 04.730001 | R5: 10.2000021 | S5: 09.210051 | T5: 09.210121 | U5: 09.2101313 | V5: 10.700001
A6: Naudas līdzekļu atlikums uz gada sākumu | C6: 0.54 | D6: 142.29 | E6: 21.19 | F6: 300 | G6: 8005.9 | H6: 3704.62 | I6: 1.91 | J6: 4854.84 | K6: 136.86 | L6: 9278.23 | M6: 368.05 | N6: 11835.84 | O6: 10511.57 | P6: 158.29 | Q6: 126.92 | R6: 700 | S6: 165.23 | T6: 1880 | U6: 500 | V6: 0 | W6: =SUM(C6:V6) -> 52692.28
B7: Ieņēmumi | C7: =C8 -> 20 | D7: =D8 -> 0 | E7: =E8 -> 0 | F7: =F8 -> 0 | G7: =G8 -> 0 | H7: =H8 -> 0 | I7: =I8 -> 0 | J7: =J8 -> 0 | ... V7: =V8 -> 500 | W7: =SUM(C7:V7) -> 520
A8: 23.0.0.0 | B8: Saņemtie ziedojumi un dāvinājumi | C8: =SUM(C9:C10) -> 20 | D8: =SUM(D9:D10) -> 0 | E8: =SUM(E9:E10) -> 0 | F8: =SUM(F9:F10) -> 0 | G8: =SUM(G9:G10) -> 0 | H8: =SUM(H9:H10) -> 0 | I8: =SUM(I9:I10) -> 0 | J8: =SUM(J9:J10) -> 0 | ... V8: =SUM(V9:V10) -> 500 | W8: =SUM(C8:V8) -> 520
A9: 19.100 | B9: Transferti dažādu budžetu ietvaros | C9: 20 | W9: =SUM(C9:V9) -> 20
A10: 23.500 | B10: Ziedojumi un dāvinājumi, kas saņemti no fiziskajām personām | C10: 0 | V10: 500 | W10: =SUM(C10:V10) -> 500
B11: Izdevumi | C11: =C12+C18+C25+C27+C31 -> 21 | D11: =D12+D18+D25+D27+D31 -> 142 | E11: =E12+E18+E25+E27+E31 -> 21 | F11: =F12+F18+F25+F27+F31 -> 300 | G11: =G12+G18+G25+G27+G31 -> 8006 | H11: =H12+H18+H25+H27+H31 -> 3705 | I11: =I12+I18+I25+I27+I31 -> 2 | J11: =J12+J18+J25+J27+J31 -> 3620 | ... V11: =V12+V18+V25+V27+V31 -> 500 | W11: =SUM(C11:V11) -> 41265
A12: 2200 | B12: Pakalpojumi | C12: =SUM(C13:C17) -> 21 | D12: =SUM(D13:D17) -> 0 | E12: =SUM(E13:E17) -> 0 | F12: =SUM(F13:F17) -> 0 | G12: =SUM(G13:G17) -> 0 | H12: =SUM(H13:H17) -> 3705 | I12: =SUM(I13:I17) -> 0 | J12: =SUM(J13:J17) -> 2300 | ... V12: =SUM(V13:V17) -> 500 | W12: =SUM(C12:V12) -> 13767
A13: 2233 | B13: Transporta pakalpojumi | W13: =SUM(C13:V13) -> 0
A14: 2236 | B14: Bankas pakalpojumi | C14: 21 | W14: =SUM(C14:V14) -> 21
A15: 2244 | B15: Nekustamā īpašuma uzturēšana | L15: 4500 | W15: =SUM(C15:V15) -> 4500
A16: 2269 | B16: Pārējā noma | W16: =SUM(C16:V16) -> 0
A17: 2279 | B17: Pārējie pakalpojumi | H17: 3705 | J17: 2300 | L17: 600 | M17: 368 | N17: 946 | Q17: 127 | R17: 700 | V17: 500 | W17: =SUM(C17:V17) -> 9246
A18: 2300 | B18: Krājumi, materiāli, energoresursi | C18: =SUM(C19:C24) -> 0 | D18: =SUM(D19:D24) -> 142 | E18: =SUM(E19:E24) -> 21 | F18: =SUM(F19:F24) -> 0 | G18: =SUM(G19:G24) -> 8006 | H18: =SUM(H19:H24) -> 0 | I18: =SUM(I19:I24) -> 2 | J18: =SUM(J19:J24) -> 200 | ... V18: =SUM(V19:V24) -> 0 | W18: =SUM(C18:V18) -> 15186
A19: 2311 | B19: Biroja preces
A20: 2312 | B20: Inventārs | L20: 540 | N20: 280 | O20: 3225 | P20: 158 | U20: 500 | W20: =SUM(C20:V20) -> 4703
A21: 2314 | B21: Izdevumi par precēm iestādes administratīvās darbības nodrošināšanai | D21: 142 | E21: 21 | J21: 200 | N21: 400 | O21: 962 | S21: 140 | W21: =SUM(C21:V21) -> 1865
A22: 2361 | B22: Mīkstais inventārs | N22: 300 | W22: =SUM(C22:V22) -> 300
A23: 2363 | B23: Ēdināšanas izdevumi | G23: 8006 | I23: 2 | W23: =SUM(C23:V23) -> 8008
A24: 2370 | B24: Mācību līdzekļi un materiāli | N24: 310 | W24: =SUM(C24:V24) -> 310
A25: 3200 | B25: Dotācijas biedrībām | C25: =SUM(C26) -> 0 | D25: =SUM(D26) -> 0 | E25: =SUM(E26) -> 0 | F25: =SUM(F26) -> 0 | G25: =SUM(G26) -> 0 | H25: =SUM(H26) -> 0 | I25: =SUM(I26) -> 0 | J25: =SUM(J26) -> 0 | ... V25: =SUM(V26) -> 0 | W25: =SUM(C25:V25) -> 0
A26: 3263 | B26: Dotācija biedrībām un nodibinājumiem | W26: =SUM(C26:V26) -> 0
A27: 5000 | B27: Pamatkapitāla veidošana | C27: =SUM(C28:C30) -> 0 | D27: =SUM(D28:D30) -> 0 | E27: =SUM(E28:E30) -> 0 | F27: =SUM(F28:F30) -> 300 | G27: =SUM(G28:G30) -> 0 | H27: =SUM(H28:H30) -> 0 | I27: =SUM(I28:I30) -> 0 | J27: =SUM(J28:J30) -> 0 | ... V27: =SUM(V28:V30) -> 0 | W27: =SUM(C27:V27) -> 11030
A28: 5232 | B28: Saimniecības pamatlīdzekļi | C28: 0 | D28: 0 | E28: 0 | F28: 300 | N28: 2670 | O28: 5850 | P28: 0 | Q28: 0 | S28: 0 | T28: 0 | U28: 0 | V28: 0 | W28: =SUM(C28:V28) -> 8820
A29: 5262 | B29: Augļu dārzi un citi regulāri ražojošie stādījumi | C29: 0 | D29: 0 | E29: 0 | N29: 330 | P29: 0 | Q29: 0 | S29: 0 | T29: 0 | U29: 0 | V29: 0 | W29: =SUM(C29:V29) -> 330
A30: 5238 | B30: Biroja tehnika | C30: 0 | D30: 0 | E30: 0 | P30: 0 | Q30: 0 | S30: 0 | T30: 1880 | U30: 0 | V30: 0 | W30: =SUM(C30:V30) -> 1880
A31: 6400 | B31: Pārējie klasifikācijā neminētie maksājumi iedzīvotājiem natūrā un kompensācijas | C31: =SUM(C32) -> 0 | D31: =SUM(D32) -> 0 | E31: =SUM(E32) -> 0 | F31: =SUM(F32) -> 0 | G31: =SUM(G32) -> 0 | H31: =SUM(H32) -> 0 | I31: =SUM(I32) -> 0 | J31: =SUM(J32) -> 1120 | ... V31: =SUM(V32) -> 0 | W31: =SUM(C31:V31) -> 1282
A32: 6421 | B32: Maksājumi iedzīvotājiem natūrā | J32: 1120 | K32: 137 | S32: 25 | W32: =SUM(C32:V32) -> 1282
A33: Naudas līdzekļu atlikums uz gada beigām | C33: =C6+C7-C11 -> -0.46 | D33: =D6+D7-D11 -> 0.29 | E33: =E6+E7-E11 -> 0.19 | F33: =F6+F7-F11 -> 0 | G33: =G6+G7-G11 -> -0.1 | H33: =H6+H7-H11 -> -0.38 | I33: =I6+I7-I11 -> -0.09 | J33: =J6+J7-J11 -> 1234.84 | ... V33: =V6+V7-V11 -> 0 | W33: =SUM(C33:V33) -> 11947.28

Sheet 8_pielikums_2017
D1: 8.pielikums
D2: Jelgavas novada pašvaldības 2017.gada 31.janvāra
D3: saistošajiem noteikumiem Nr.1
B4: Jelgavas novada pašvaldības
B5: Ziedojumu un dāvinājumu ieņēmumu un izdevumu kopsavilkums 2017.gadam, EUR
D7: KOPĀ
B8: Ieņēmumi | D8: =SUM(D9:D11) -> 0
B9: 23.300 | C9: Procentu ieņēmumi par ziedojumu un dāvinājumu budžeta līdzekļu depozītā vai kontu atlikumiem | D9: 0
B10: 23.400 | C10: Ziedojumi un dāvinājumi, kas saņemti no juridiskajām personām | D10: 0
B11: 23.500 | C11: Ziedojumi un dāvinājumi, kas saņemti no fiziskajām personām | D11: 0
B13: Izdevumi atbilstoši funkcionālajām kategorijām | D13: =SUM(D14:D19) -> 46031
B14: 01.000 | C14: Vispārējie valdības dienesti | D14: 12
B15: 04.000 | C15: Ekonomiskā darbība | D15: 531
B16: 06.000 | C16: Pašvaldības teritoriju un mājokļa apsaimniekošana | D16: 463
B17: 08.000 | C17: Atpūta, kultūra un sports | D17: 0
B18: 09.000 | C18: Izglītība | D18: 1076
B19: 10.000 | C19: Sociālā aizsardzība | D19: 43949
B20: Izdevumi atbilstoši ekonomiskajām kategorijām | D20: =SUM(D21:D26) -> 46031
B21: 1000 | C21: Atlīdzība | D21: 0
B22: 2000 | C22: Preces un pakalpojumi | D22: 22612
B23: 3000 | C23: Subsīdijas un dotācijas | D23: 0
B24: 5000 | C24: Pamatkapitāla veidošana | D24: 20495
B25: 6000 | C25: Sociālie pabalsti | D25: 2924
B26: 8000 | C26: Dažādi izdevumi, kas veidojas pēc uzkrāšanas principa un nav klasificēti iepriekš | D26: 0
B27: Ieņēmumu pārsniegums (+) vai deficīts(-) | D27: =D8-D13 -> -46031
B28: Finansēšana | D28: =D29-D30 -> 46031
B29: Pieprasījuma noguldījumi perioda sākumā | D29: 55472
B30: Pieprasījuma noguldījumi perioda beigās | D30: 9441

Sheet ZB_kopsavilkums_2017
A1: Jelgavas novada pašvaldības
A2: 2017.gada Ziedojumu un dāvinājumu budžeta izdevumiem pamatots aprēķins pa struktūrām un pasākumiem, EUR
C3: Administrācija | D3: Svētes pagasta Kalnanšu kapsētai | E3: Vilces pagasta kapsētas kapu zvanam | F3: Vilces pagasta Vaiteņu kapu zvanam | G3: Jaunsvirlaukas pp palīdzība iedzīvotājiem-Skolēnu dramatiskais kolektīvs | H3: Jaunsvirlaukas pp palīdzība iedzīvotājiem-aukstam laikam | I3: Jaunsvirlaukas pp palīdzība iedzīvotājiem-gripas vakcīnām | J3: Jaunsvirlaukas pp palīdzība iedzīvotājiem-skolēnu ēdināšana | K3: Jaunsvirlaukas pp palīdzība iedzīvotājiem-senioru Ziemassvētki | L3: Sesavas pp palīdzība iedzīvotājiem-skolēniem Ziemassvētku dāvanām | M3: SARC Jaunsvirlaukas filiāle | N3: Lielplatones muižas telpu izpētei | O3: SARC Elejas filiāle (bērnu nodaļa) | P3: SARC Kalnciema filiāle | Q3: Vilces pamatskolai | R3: Elejas tējas namiņš | S3: Elejas pagasta vidusskolai | T3: Vilces muižas vēsturisko elementu atjaunošanai | U3: Sesavas pamatskolas skolēnu mācību motivēšanai | W3: KOPĀ
B4: Finansējuma Nr. | C4: 31 | D4: 3102 | E4: 3103 | F4: 3105 | G4: 3107 | H4: 3108 | I4: 3109 | J4: 3110 | K4: 3111 | L4: 3112 | M4: 3114 | N4: 3115 | O4: 3116 | P4: 3117 | Q4: 3119 | R4: 3123 | S4: 3124 | T4: 3125 | U4: 3128
B5: Struktūrvienība | C5: 01.110001 | D5: 06.600004 | E5: 06.600004 | F5: 06.600004 | G5: 09.210061 | H5: 10.40000404 | I5: 10.40000404 | J5: 10.40000404 | K5: 10.20000404 | L5: 09.210101 | M5: 10.2000022 | N5: 04.730001 | O5: 10.700001 | P5: 10.2000023 | Q5: 09.210121 | R5: 04.730001 | S5: 09.2100111 | T5: 04.730001 | U5: 09.210101
A6: Naudas līdzekļu atlikums uz gada sākumu | C6: 11.96 | D6: 142.29 | E6: 21.19 | F6: 300 | G6: 529.92 | H6: 8005.9 | I6: 3704.62 | J6: 1.91 | K6: 3920.18 | L6: 234.77 | M6: 6211.03 | N6: 368.05 | O6: 14492.43 | P6: 17054.17 | Q6: 98.67 | R6: 116.08 | S6: 142.29 | T6: 47 | U6: 70 | V6: 0 | W6: =SUM(C6:V10) -> 55472.46
B7: Ieņēmumi | C7: =C8 -> 0 | D7: =D8 -> 0 | E7: =E8 -> 0 | F7: =F8 -> 0 | G7: =G8 -> 0 | H7: =H8 -> 0 | I7: =I8 -> 0 | J7: =J8 -> 0 | ... V7: =V8 -> 0 | W7: =SUM(N7:V7) -> 0
A8: 23.0.0.0 | B8: Saņemtie ziedojumi un dāvinājumi | C8: =SUM(C9:C10) -> 0 | D8: =SUM(D9:D10) -> 0 | E8: =SUM(E9:E10) -> 0 | F8: =SUM(F9:F10) -> 0 | G8: =SUM(G9:G10) -> 0 | H8: =SUM(H9:H10) -> 0 | I8: =SUM(I9:I10) -> 0 | J8: =SUM(J9:J10) -> 0 | ... V8: =SUM(V9:V10) -> 0 | W8: =SUM(N8:V8) -> 0
A9: 23.400 | B9: Ziedojumi un dāvinājumi, kas saņemti no juridiskajām personām | W9: =SUM(N9:V9) -> 0
A10: 23.500 | B10: Ziedojumi un dāvinājumi, kas saņemti no fiziskajām personām | W10: =SUM(N10:V10) -> 0
B11: Izdevumi | C11: =C12+C18+C24+C26+C30 -> 12 | D11: =D12+D18+D24+D26+D30 -> 142 | E11: =E12+E18+E24+E26+E30 -> 21 | F11: =F12+F18+F24+F26+F30 -> 300 | G11: =G12+G18+G24+G26+G30 -> 530 | H11: =H12+H18+H24+H26+H30 -> 8006 | I11: =I12+I18+I24+I26+I30 -> 3705 | J11: =J12+J18+J24+J26+J30 -> 2 | ... V11: =V12+V18+V24+V26+V30 -> 0 | W11: =SUM(C11:V11) -> 46031
A12: 2200 | B12: Pakalpojumi | C12: =SUM(C13:C17) -> 12 | D12: =SUM(D13:D17) -> 0 | E12: =SUM(E13:E17) -> 0 | F12: =SUM(F13:F17) -> 0 | G12: =SUM(G13:G17) -> 0 | H12: =SUM(H13:H17) -> 4000 | I12: =SUM(I13:I17) -> 3705 | J12: =SUM(J13:J17) -> 0 | ... V12: =SUM(V13:V17) -> 0 | W12: =SUM(C12:V12) -> 15889
A13: 2233 | B13: Transporta pakalpojumi | W13: =SUM(C13:V13) -> 0
A14: 2236 | B14: Bankas pakalpojumi | C14: 12 | W14: =SUM(C14:V14) -> 12
A15: 2244 | B15: Ēku, būvju un telpu uzturēšana | M15: 4500 | W15: =SUM(C15:V15) -> 4500
A16: 2269 | B16: Pārējā noma | W16: =SUM(C16:V16) -> 0
A17: 2279 | B17: Pārējie pakalpojumi | H17: 4000 | I17: 3705 | K17: 1170 | N17: 368 | O17: 2087 | T17: 47 | W17: =SUM(C17:V17) -> 11377
A18: 2300 | B18: Krājumi, materiāli, energoresursi | C18: =SUM(C19:C23) -> 0 | D18: =SUM(D19:D23) -> 142 | E18: =SUM(E19:E23) -> 21 | F18: =SUM(F19:F23) -> 0 | G18: =SUM(G19:G23) -> 0 | H18: =SUM(H19:H23) -> 4006 | I18: =SUM(I19:I23) -> 0 | J18: =SUM(J19:J23) -> 2 | ... V18: =SUM(V19:V23) -> 0 | W18: =SUM(C18:V18) -> 6723
A19: 2311 | B19: Biroja preces
A20: 2312 | B20: Inventārs | H20: 4006 | O20: 180 | P20: 500 | R20: 116 | S20: 142 | W20: =SUM(C20:V21) -> 6211
A21: 2314 | B21: Izdevumi par precēm iestādes administratīvās darbības nodrošināšanai | D21: 142 | E21: 21 | K21: 200 | O21: 200 | P21: 704 | W21: =SUM(C21:V22) -> 1269
A22: 2363 | B22: Ēdināšanas izdevumi | J22: 2 | W22: =SUM(C22:V23) -> 512
A23: 2370 | B23: Mācību līdzekļi un materiāli | O23: 510 | W23: =SUM(N23:V23) -> 510
A24: 3200 | B24: Dotācijas biedrībām | C24: =SUM(C25) -> 0 | D24: =SUM(D25) -> 0 | E24: =SUM(E25) -> 0 | F24: =SUM(F25) -> 0 | G24: =SUM(G25) -> 0 | H24: =SUM(H25) -> 0 | I24: =SUM(I25) -> 0 | J24: =SUM(J25) -> 0 | ... V24: =SUM(V25) -> 0 | W24: =SUM(C24:V24) -> 0
A25: 3263 | B25: Dotācija biedrībām un nodibinājumiem | W25: =SUM(C25:V25) -> 0
A26: 5000 | B26: Pamatkapitāla veidošana | C26: =SUM(C27:C29) -> 0 | D26: =SUM(D27:D29) -> 0 | E26: =SUM(E27:E29) -> 0 | F26: =SUM(F27:F29) -> 300 | G26: =SUM(G27:G29) -> 530 | H26: =SUM(H27:H29) -> 0 | I26: =SUM(I27:I29) -> 0 | J26: =SUM(J27:J29) -> 0 | ... V26: =SUM(V27:V29) -> 0 | W26: =SUM(C26:V26) -> 20495
A27: 5232 | B27: Saimniecības pamatlīdzekļi | C27: 0 | D27: 0 | E27: 0 | F27: 300 | G27: 530 | H27: 0 | I27: 0 | J27: 0 | K27: 0 | L27: 0 | M27: 540 | N27: 0 | O27: 4300 | P27: 14650 | Q27: 0 | R27: 0 | S27: 0 | T27: 0 | U27: 0 | V27: 0 | W27: =SUM(C27:V27) -> 20320
A28: 5262 | B28: Augļu dārzi un citi regulāri ražojošie stādījumi | C28: 0 | D28: 0 | E28: 0 | F28: 0 | G28: 0 | H28: 0 | I28: 0 | J28: 0 | K28: 0 | L28: 0 | M28: 0 | N28: 0 | O28: 175 | P28: 0 | Q28: 0 | R28: 0 | S28: 0 | T28: 0 | U28: 0 | V28: 0 | W28: =SUM(C28:V28) -> 175
A29: 5238 | B29: Biroja tehnika | C29: 0 | D29: 0 | E29: 0 | F29: 0 | G29: 0 | H29: 0 | I29: 0 | J29: 0 | K29: 0 | L29: 0 | M29: 0 | N29: 0 | O29: 0 | P29: 0 | Q29: 0 | R29: 0 | S29: 0 | T29: 0 | U29: 0 | V29: 0 | W29: =SUM(C29:V29) -> 0
A30: 6400 | B30: Pārējie klasifikācijā neminētie maksājumi iedzīvotājiem natūrā un kompensācijas | C30: =SUM(C31) -> 0 | D30: =SUM(D31) -> 0 | E30: =SUM(E31) -> 0 | F30: =SUM(F31) -> 0 | G30: =SUM(G31) -> 0 | H30: =SUM(H31) -> 0 | I30: =SUM(I31) -> 0 | J30: =SUM(J31) -> 0 | ... V30: =SUM(V31) -> 0 | W30: =SUM(C30:V30) -> 2924
A31: 6421 | B31: Maksājumi iedzīvotājiem natūrā | K31: 1320 | L31: 235 | P31: 1200 | Q31: 99 | U31: 70 | W31: =SUM(C31:V31) -> 2924
A32: Naudas līdzekļu atlikums uz gada beigām | C32: =C6+C7-C11 -> -0.04 | D32: =D6+D7-D11 -> 0.29 | E32: =E6+E7-E11 -> 0.19 | F32: =F6+F7-F11 -> 0 | G32: =G6+G7-G11 -> -0.08 | H32: =H6+H7-H11 -> -0.1 | I32: =I6+I7-I11 -> -0.38 | J32: =J6+J7-J11 -> -0.09 | ... V32: =V6+V7-V11 -> 0 | W32: =SUM(C32:V32) -> 9441.46

Sheet 8_pielikums_2016
D1: 8.pielikums
D2: Jelgavas novada pašvaldības 2016.gada 27.janvāra
D3: saistošajiem noteikumiem Nr.1
B4: Jelgavas novada pašvaldības
B5: Ziedojumu un dāvinājumu ieņēmumu un izdevumu kopsavilkums 2016.gadam, EUR
D7: KOPĀ
B8: Ieņēmumi | D8: =SUM(D9:D11) -> 0
B9: 23.300 | C9: Procentu ieņēmumi par ziedojumu un dāvinājumu budžeta līdzekļu depozītā vai kontu atlikumiem | D9: 0
B10: 23.400 | C10: Ziedojumi un dāvinājumi, kas saņemti no juridiskajām personām | D10: 0
B11: 23.500 | C11: Ziedojumi un dāvinājumi, kas saņemti no fiziskajām personām | D11: 0
B13: Izdevumi atbilstoši funkcionālajām kategorijām | D13: =SUM(D14:D19) -> 40410
B14: 01.000 | C14: Vispārējie valdības dienesti | D14: 0
B15: 04.000 | C15: Ekonomiskā darbība | D15: 338
B16: 06.000 | C16: Pašvaldības teritoriju un mājokļa apsaimniekošana | D16: 0
B17: 08.000 | C17: Atpūta, kultūra un sports | D17: =2000+581 -> 2581
B18: 09.000 | C18: Izglītība | D18: 139
B19: 10.000 | C19: Sociālā aizsardzība | D19: =36+37316 -> 37352
B20: Izdevumi atbilstoši ekonomiskajām kategorijām | D20: =SUM(D21:D25) -> 40410
B21: 1000 | C21: Atlīdzība | D21: 0
B22: 2000 | C22: Preces un pakalpojumi | D22: 38410
B23: 3000 | C23: Subsīdijas un dotācijas | D23: 2000
B24: 5000 | C24: Pamatkapitāla veidošana | D24: 0
B25: 8000 | C25: Dažādi izdevumi, kas veidojas pēc uzkrāšanas principa un nav klasificēti iepriekš | D25: 0
B26: Ieņēmumu pārsniegums (+) vai deficīts(-) | D26: =D8-D13 -> -40410
B27: Finansēšana | D27: =D28-D29 -> 40410
B28: Pieprasījuma noguldījumi perioda sākumā | D28: 40873
B29: Pieprasījuma noguldījumi perioda beigās | D29: 463

Sheet Sheet1
