Workbook

Sheet 1.pielikums
E1: 1. pielikums
E2: Balvu novada domes
E3: 2023. gada 27. aprīļa saistošajiem noteikumiem Nr. 5/2023
E4: "Grozījumi Balvu novada domes 2023. gada 23. marta saistošajos noteikumos Nr. 4/2023
E5: "Par Balvu novada pašvaldības budžetu 2023.gadam""
E7: 1. pielikums
E8: Balvu novada domes
E9: 2023. gada 23. marta saistošajiem noteikumiem Nr. 4/2023
E10: "Par Balvu novada pašvaldības 2023. gada budžetu"
A13: Balvu novada pašvaldības pamatbudžets 2023. gadam ( EUR)
A15: Rādītāju nosaukumi | B15: Budžeta kategoriju kodi | C15: Apstiprināts 2023. gadam (EUR) | D15: Grozījumi (EUR) | E15: Apstiprināts ar grozījumiem 2023.gadam (EUR)
A16: I IEŅĒMUMI - kopā | C16: =C17+C19+C21+C25+C28+C30+C32+C35+C37+C39+C41+C23 -> 32075342 | E16: =C16+D16 -> 32075342
A17: IENĀKUMA NODOKĻI | B17: 1.0.0.0. | C17: =C18 -> 9705356 | E17: =C17+D17 -> 9705356
A18: Ieņēmumi no iedzīvotāju ienākuma nodokļa | B18: 1.1.0.0. | C18: =nemainās!F20 -> 9705356 | E18: =C18+D18 -> 9705356
A19: ĪPAŠUMA NODOKĻI | B19: 4.0.0.0. | C19: =C20 -> 1245954 | E19: =C19+D19 -> 1245954
A20: Nekustamā īpašuma nodoklis | B20: 4.1.0.0. | C20: =nemainās!F23 -> 1245954 | E20: =C20+D20 -> 1245954
A21: NODOKĻI PAR PAKALPOJUMIEM UN PRECĒM | B21: 5.0.0.0. | C21: =C22 -> 46000 | E21: =C21+D21 -> 46000
A22: Nodokļi un maksājumi par tiesībām lietot atsevišķas preces | B22: 5.5.0.0. | C22: =nemainās!F34 -> 46000 | E22: =C22+D22 -> 46000
A23: IEŅĒMUMI NO UZŅĒMĒJDARBĪBAS UN ĪPAŠUMA | B23: 8.0.0.0. | C23: =C24 -> 7080 | E23: =C23+D23 -> 7080
A24: Procentu ieņēmumi par depozītiem, kontu atlikumiem, valsts parāda vērtspapīriem un atlikto maksājumu | B24: 8.6.0.0. | C24: =nemainās!F41 -> 7080 | E24: =C24+D24 -> 7080
A25: VALSTS (PAŠVALDĪBU) NODEVAS UN KANCELEJAS NODEVAS | B25: 9.0.0.0. | C25: =C26+C27 -> 24840 | E25: =C25+D25 -> 24840
A26: Valsts nodevas, kuras ieskaita pašvaldību budžetā | B26: 9.4.0.0. | C26: =nemainās!F43 -> 12690 | E26: =C26+D26 -> 12690
A27: Pašvaldību nodevas | B27: 9.5.0.0. | C27: =nemainās!F47 -> 12150 | E27: =C27+D27 -> 12150
A28: NAUDAS SODI UN SANKCIJAS | B28: 10.0.0.0. | C28: =C29 -> 4000 | E28: =C28+D28 -> 4000
A29: Naudas sodi | B29: 10.1.0.0. | C29: =nemainās!F53 -> 4000 | E29: =C29+D29 -> 4000
A30: PĀRĒJIE NENODOKĻU IEŅĒMUMI | B30: 12.0.0.0. | C30: =C31 -> 133975 | E30: =C30+D30 -> 133975
A31: Citi dažādi nenodokļu ieņēmumi | B31: 12.3.0.0. | C31: =nemainās!F56 -> 133975 | E31: =C31+D31 -> 133975
A32: Ieņēmumi no valsts (pašvaldību) īpašuma iznomāšanas, pārdošanas un no nodokļu pamatparāda kapitalizācijas | B32: 13.0.0.0. | C32: =C33+C34 -> 420000 | E32: =C32+D32 -> 420000
A33: Ieņēmumi no ēku un būvju īpašuma pārdošanas | B33: 13.1.0.0. | C33: =nemainās!F59 -> 20000 | E33: =C33+D33 -> 20000
A34: Ieņēmumi no zemes, meža īpašuma pārdošanas | B34: 13.2.0.0. | C34: =nemainās!F60 -> 400000 | E34: =C34+D34 -> 400000
A35: No valsts budžeta daļēji finansēto atvasināto publisko personu un budžeta nefinansēto iestāžu transferti | B35: 17.0.0.0. | C35: =C36 -> 912778 | E35: =C35+D35 -> 912778
A36: Pašvaldību saņemtie transferti no valsts budžeta daļēji finansētām atvasinātām publiskām personām un no budžeta nefinansētām iestādēm | B36: 17.2.0.0. | C36: =nemainās!F62 -> 912778 | E36: =C36+D36 -> 912778
A37: Valsts budžeta transferti | B37: 18.0.0.0. | C37: =C38 -> 14303939 | E37: =C37+D37 -> 14303939
A38: Pašvaldību saņemtie transferti no valsts budžeta | B38: 18.6.0.0. | C38: =nemainās!F65 -> 14303939 | E38: =C38+D38 -> 14303939
A39: Pašvaldību budžetu transferti | B39: 19.0.0.0 | C39: =C40 -> 158500 | E39: =C39+D39 -> 158500
A40: Pašvaldību saņemtie transferti no citām pašvaldībām | B40: 19.2.0.0. | C40: =nemainās!F97 -> 158500 | E40: =C40+D40 -> 158500
A41: Budžeta iestāžu ieņēmumi | B41: 21.0.0.0. | C41: =SUM(C42:C43) -> 5112920 | E41: =C41+D41 -> 5112920
A42: Ieņēmumi no budžeta iestāžu sniegtajiem maksas pakalpojumiem un citi pašu ieņēmumi | B42: 21.3.0.0. | C42: =nemainās!F100 -> 4508265 | E42: =C42+D42 -> 4508265
A43: Pārējie 21.3.0.0.grupā neklasificētie budžeta iestāžu ieņēmumi par budžeta iestāžu sniegtajiem maksas pakalpojumiem un citi pašu ieņēmumi | B43: 21.4.0.0. | C43: =nemainās!F120 -> 604655 | E43: =C43+D43 -> 604655
A44: II IZDEVUMI - kopā | C44: =C45 -> 36798522 | D44: =D45 -> -135743 | E44: =C44+D44 -> 36662779
...

Sheet nemainās
F1: 2.pielikums
F2: Balvu novada domes
F3: 2023.gada 27.aprīļa saistošajiem noteikumiem Nr.__/2023
F4: "Grozījumi 2023.gada 23.marta saistošajos noteikumos Nr.4/2023
F5: "Par Balvu novada pašvaldības budžetu 2023.gadam""
F7: 2.pielikums
F8: Balvu novada domes
F9: 2023.gada 23.marta saistošajiem noteikumiem Nr.4/2023
F10: "Par Balvu novada pašvaldības 2023.gada budžetu"
A13: Balvu novada pašvaldības pamatbudžeta ieņēmumi 2023.gadam (EUR)
A15: Klasifikācijas kods | B15: Ieņēmumi | C15: Ieņēmumu veidi | F15: KOPĀ (EUR)
C16: Vispārējie pamatbudžeta ieņēmumi (EUR) | D16: Maksas pakalpojumi un pašu ieņēmumi (EUR) | E16: Valsts mērķdotācijas (EUR)
A17: I | B17: IEŅĒMUMI KOPĀ | C17: =C19+C22+C34+C42+C53+C58+C56+C40 -> 11587205 | D17: =D97+D100+D120 -> 5271420 | E17: =E65+E62 -> 15216717 | F17: =F19+F22+F34+F43+F47+F53+F56+F58+F96+F97+F99+F66+F62+F95+F40 -> 32075342
A18: 1 | B18: Nodokļu ieņēmumi | C18: =C19+C22+C34 -> 10997310 | F18: =C18 -> 10997310
A19: 1.0.0.0. | B19: IENĀKUMA NODOKĻI | C19: =C20 -> 9705356 | F19: =C19 -> 9705356
A20: 1.1.1.0 | B20: Iedzīvotāju ienākuma nodoklis | C20: =C21 -> 9705356 | F20: =C20 -> 9705356
A21: 1.1.1.2 | B21: Iedzīvotāju ienākuma nodoklis | C21: 9705356 | F21: =C21 -> 9705356
A22: 4.0.0.0. | B22: ĪPAŠUMA NODOKĻI | C22: =C23 -> 1245954 | F22: =C22 -> 1245954
A23: 4.1.0.0 | B23: Nekustamā īpašuma nodoklis | C23: =C24+C27+C31 -> 1245954 | F23: =C23 -> 1245954
A24: 4.1.1.0 | B24: Nekustamā īpašuma nodoklis par zemi | C24: =C25+C26 -> 1114475 | F24: =C24 -> 1114475
A25: 4.1.1.1 | B25: Nekustamā īpašuma nodokļa par zemi kārtējā saimnieciskā gada ieņēmumi | C25: =747119+300000 -> 1047119 | F25: =C25 -> 1047119
A26: 4.1.1.2 | B26: Nekustamā īpašuma nodoklis par zemi-iepriekšējo gadu parādi | C26: 67356 | F26: =C26 -> 67356
A27: 4.1.2.0 | B27: Nekustamā īpašuma nodokļi par ēkām | C27: =C28+C30 -> 81363 | F27: =C27 -> 81363
A28: 4.1.2.1 | B28: Nekustamā īpašuma nodoklis par ēkām kārtējā gada maksājumi | C28: 76097 | F28: =C28 -> 76097
B29: t.sk. par inženierbūvēm | C29: 4954 | F29: =C29 -> 4954
A30: 4.1.2.2 | B30: Nekustamā īpašuma nodoklis par ēkām-iepriekšējo gadu parādi | C30: 5266 | F30: =C30 -> 5266
A31: 4.1.3.0 | B31: Nekustamā īpašuma nodokļi par mājokļiem | C31: =C32+C33 -> 50116 | F31: =C31 -> 50116
A32: 4.1.3.1. | B32: Nekustamā īpašuma nodokļa par mājokļiem kārtējā saimnieciskā gada ieņēmumi | C32: 41969 | F32: =C32 -> 41969
A33: 4.1.3.2. | B33: Nekustamā īpašuma nodoklis par mājokļiem-iepriekšējo gadu parādi | C33: 8147 | F33: =C33 -> 8147
A34: 5.0.0.0. | B34: NODOKĻI PAR PAKALPOJUMIEM UN PRECĒM | C34: =C35+C37 -> 46000 | F34: =C34 -> 46000
A35: 5.4.0.0. | B35: Nodokļi par atsevišķām precēm un pakalpojumu veidiem | C35: =C36 -> 9000 | F35: =F36 -> 9000
A36: 5.4.1.0 | B36: Azartspēļu nodoklis | C36: 9000 | F36: =C36 -> 9000
A37: 5.5.0.0. | B37: Nodokļi un maksājumi par tiesībām lietot atsevišķas preces | C37: =C38 -> 37000 | F37: =F38 -> 37000
A38: 5.5.3.0. | B38: Dabas resursu nodoklis | C38: 37000 | F38: =C38 -> 37000
A39: 2 | B39: Nenodokļu ieņēmumi | C39: =C42+C53+C56+C58+C40 -> 589895 | F39: =C39 -> 589895
A40: 8.0.0.0. | B40: Ieņēmumi no uzņēmējdarbības un īpašuma | C40: =C41 -> 7080 | F40: =F41 -> 7080
A41: 8.6.0.0. | B41: Procentu ieņēmumi par depozītiem, kontu atlikumiem, valsts parāda vērtspapīriem un atlikto maksājumu | C41: 7080 | F41: =C41 -> 7080
A42: 9.0.0.0. | B42: VALSTS (PAŠVALDĪBU) NODEVAS UN KANCELEJAS NODEVAS | C42: =C43+C47 -> 24840 | F42: =C42 -> 24840
A43: 9.4.0.0. | B43: Valsts nodevas, kuras ieskaita valsts budžetā | C43: =C44+C45+C46 -> 12690 | F43: =C43 -> 12690
A44: 9.4.2.0. | B44: Valsts nodeva par apliecinājumiem un citu funkciju pildīšanu bāriņtiesās | C44: 11000 | F44: =C44 -> 11000
...

Sheet 2.pielikums
H1: 2. pielikums
H2: Balvu novada domes
H3: 2023. gada 27. aprīļa saistošajiem noteikumiem Nr. 5/2023
H4: "Grozījumi Balvu novada domes 2023. gada 23. marta saistošajos noteikumos Nr. 4/2023
H5: "Par Balvu novada pašvaldības budžetu 2023. gadam""
H7: 3. pielikums
H8: Balvu novada domes
H9: 2023. gada 23. marta saistošajiem noteikumiem Nr. 4/2023
H10: "Par Balvu novada pašvaldības 2023. gada budžetu"
B13: Balvu novada pašvaldības pamatbudžeta izdevumi 2023. gadam (EUR)
A15: Klasifikācijas kods | B15: Iestādes un pasākumi | D15: Finansēšanas avots | H15: Kopā
C16: Atlikums uz gada sākumu | D16: Vispārējie ieņēmumi | E16: Budžeta iestāžu ieņēmumi | F16: Valsts un pašvaldību transferti | G16: Aizņēmumi
C17: =C18+C50+C54+C113+C181+C196+C247+C319+C92 -> 1068637 | D17: =D18+D50+D54+D113+D181+D196+D247+D319+D92 -> 19555546 | E17: =E18+E50+E54+E113+E181+E196+E247+E319+E92 -> 4195457 | F17: =F18+F50+F54+F113+F181+F196+F247+F319+F92 -> 8462135 | G17: =G18+G50+G54+G113+G181+G196+G247+G319+G92 -> 3381003.6 | H17: =H18+H50+H54+H113+H181+H196+H247+H319+H92 -> 36662779
A18: 01.000 | B18: Vispārējie valdības dienesti | C18: =SUM(C19:C49) -> 0 | D18: =SUM(D19:D49) -> 3733183.8 | E18: =SUM(E19:E49) -> 19819 | F18: =SUM(F19:F49) -> 41187 | G18: =SUM(G19:G49) -> 667591.17 | H18: =SUM(H19:H49) -> 4461781
B19: Balvu novada administrācija | D19: =H19-E19-G19-F19-C19 -> 1584888 | H19: ='3.pielikums'!B18 -> 1584888
B20: Deputātu darba samaksa | D20: =H20-E20-G20-F20-C20 -> 155358 | H20: ='3.pielikums'!B19 -> 155358
B21: Bijušo pagastu padomju un pilsētu domju vadītāju pabalsti | D21: =H21-E21-G21-F21-C21 -> 250642 | H21: ='3.pielikums'!B20 -> 250642
B22: Komisiju darba samaksa | D22: =H22-E22-G22-F22-C22 -> 34578 | H22: ='3.pielikums'!B21 -> 34578
B23: Balvu pilsētas pārvalde | D23: =H23-E23-G23-F23-C23 -> 298102.83 | G23: =370452/1.15 -> 322132.17 | H23: ='3.pielikums'!B22 -> 620235
B24: Balvu pagasta pārvalde | D24: =H24-E24-G24-F24-C24 -> 34564 | H24: ='3.pielikums'!B24 -> 34564
B25: Baltinavas pagasta pārvalde | D25: =H25-E25-G25-F25-C25 -> 73892 | E25: =674+239 -> 913 | H25: ='3.pielikums'!B25 -> 74805
B26: Bērzkalnes pagasta pārvalde | D26: =H26-E26-G26-F26-C26 -> 34798 | H26: ='3.pielikums'!B26 -> 34798
B27: Bērzpils pagasta pārvalde | D27: =H27-E27-G27-F27-C27 -> 47875 | E27: =340+1380 -> 1720 | H27: ='3.pielikums'!B27 -> 49595
B28: Briežuciema pagasta pārvalde | D28: =H28-E28-G28-F28-C28 -> 40318 | H28: ='3.pielikums'!B28 -> 40318
B29: Krišjāņu pagasta pārvalde | D29: =H29-E29-G29-F29-C29 -> 39911 | E29: =85 -> 85 | H29: ='3.pielikums'!B29 -> 39996
B30: Kubulu pagasta pārvalde | D30: =H30-E30-G30-F30-C30 -> 43428 | E30: =12 -> 12 | H30: ='3.pielikums'!B30 -> 43440
B31: Kupravas pagasta pārvalde | D31: =H31-E31-G31-F31-C31 -> 35296 | E31: =150 -> 150 | H31: ='3.pielikums'!B31 -> 35446
B32: Lazdukalna pagasta pārvalde | D32: =H32-E32-G32-F32-C32 -> 36877 | H32: ='3.pielikums'!B32 -> 36877
B33: Lazdulejas pagasta pārvalde | D33: =H33-E33-G33-F33-C33 -> 23494 | H33: ='3.pielikums'!B33 -> 23494
B34: Medņevas pagasta pārvalde | D34: =H34-E34-G34-F34-C34 -> 42551 | H34: ='3.pielikums'!B34 -> 42551
B35: Rugāju pagasta pārvalde | D35: =H35-E35-G35-F35-C35 -> 48643 | E35: =1400 -> 1400 | H35: ='3.pielikums'!B35 -> 50043
B36: Susāju pagasta pārvalde | D36: =H36-E36-G36-F36-C36 -> 20658 | H36: ='3.pielikums'!B36 -> 20658
B37: Šķilbēnu pagasta pārvalde | D37: =H37-E37-G37-F37-C37 -> 48906 | H37: ='3.pielikums'!B37 -> 48906
B38: Tilžas pagasta pārvalde | D38: =H38-E38-G38-F38-C38 -> 43553 | E38: =500 -> 500 | H38: ='3.pielikums'!B38 -> 44053
B39: Vectilžas pagasta pārvalde | D39: =H39-E39-G39-F39-C39 -> 34012 | H39: ='3.pielikums'!B39 -> 34012
B40: Vecumu pagasta pārvalde | D40: =H40-E40-G40-F40-C40 -> 34090 | H40: ='3.pielikums'!B40 -> 34090
B41: Vīksnas pagasta pārvalde | D41: =H41-E41-G41-F41-C41 -> 39126 | E41: =67 -> 67 | H41: ='3.pielikums'!B41 -> 39193
B42: Viļakas pilsētas pārvalde | D42: =H42-E42-G42-F42-C42 -> 71616 | E42: =3693+2629 -> 6322 | H42: ='3.pielikums'!B42 -> 77938
B43: Žīguru pagasta pārvalde | D43: =H43-E43-G43-F43-C43 -> 37510 | H43: ='3.pielikums'!B43 -> 37510
B44: Rugāju pagasta pārvaldes ēkas energoefektivitātes paaugstināšana | D44: =H44-E44-G44-F44-C44 -> 491 | F44: 7207 | G44: 345459 | H44: ='3.pielikums'!B320 -> 353157
...

Sheet 3.pielikums
I1: 3. pielikums
I2: Balvu novada domes
I3: 2023. gada 27. aprīļa saistošajiem noteikumiem Nr .5/2023
I4: "Grozījumi Balvu novada domes 2023. gada 23. marta saistošajos noteikumos Nr .4/2023
I5: "Par Balvu novada pašvaldības budžetu 2023. gadam""
I7: 4. pielikums
I8: Balvu novada domes
I9: 2023. gada 23. marta saistošajiem noteikumiem Nr. 4/2023
I10: "Par Balvu novada pašvaldības 2023. gada budžetu"
A13: Balvu novada pašvaldības 2023. gada pamatbudžeta izdevumi atbilstoši ekonomiskajām kategorijām (EUR)
A15: Iestādes | B15: Apstiprināts 2023.gadam (EUR) | C15: Izdevumi pa ekonomiskās klasifikācijas kodiem (EUR)
C16: 1000 | D16: 2000 | E16: 3000 | F16: 4000 | G16: 5000 | H16: 6000 | I16: 7000
C17: Atlīdzība | D17: Preces un pakalpojumi | E17: Subsīdijas un dotācijas | F17: Procentu maksājumi | G17: Pamatkapitāla veidošana | H17: Sociālā rakstura maksājumi un kompensācijas | I17: Transferti
A18: Balvu novada administrācija | B18: =SUM(C18:I18) -> 1584888 | C18: 1385996 | D18: 197892 | G18: 1000
A19: Deputātu darba samaksa | B19: =SUM(C19:I19) -> 155358 | C19: 155358
A20: Bijušo pagastu padomju un pilsētu domju vadītāju pabalsti | B20: =SUM(C20:I20) -> 250642 | C20: 250642
A21: Komisiju darba samaksa | B21: =SUM(C21:I21) -> 34578 | C21: 34578
A22: Balvu pilsētas pārvalde | B22: =SUM(C22:I22) -> 620235 | C22: =35665+C23 -> 158924 | D22: =5868+D23 -> 85359 | E22: =+E23 -> 0 | F22: =+F23 -> 0 | G22: =5500+380374+125821+G23 -> 375952 | H22: =+H23 -> 0 | I22: =+I23 -> 0
A23: Grozījumi | B23: =SUM(C23:I23) -> 67007 | C23: 123259 | D23: 79491 | G23: =-(125821+9922) -> -135743
A24: Balvu pagasta pārvalde | B24: =SUM(C24:I24) -> 34564 | C24: 30978 | D24: 3586
A25: Baltinavas pagasta pārvalde | B25: =SUM(C25:I25) -> 74805 | C25: 47368 | D25: 27437
A26: Bērzkalnes pagasta pārvalde | B26: =SUM(C26:I26) -> 34798 | C26: 31299 | D26: 3499
A27: Bērzpils pagasta pārvalde | B27: =SUM(C27:I27) -> 49595 | C27: 36831 | D27: 12764
A28: Briežuciema pagasta pārvalde | B28: =SUM(C28:I28) -> 40318 | C28: 29342 | D28: 10976
A29: Krišjāņu pagasta pārvalde | B29: =SUM(C29:I29) -> 39996 | C29: 30631 | D29: 9365
A30: Kubulu pagasta pārvalde | B30: =SUM(C30:I30) -> 43440 | C30: 34818 | D30: 8622
A31: Kupravas pagasta pārvalde | B31: =SUM(C31:I31) -> 35446 | C31: 30502 | D31: 4944
A32: Lazdukalna pagasta pārvalde | B32: =SUM(C32:I32) -> 36877 | C32: 29109 | D32: 7768
A33: Lazdulejas pagasta pārvalde | B33: =SUM(C33:I33) -> 23494 | C33: 20880 | D33: 2614
A34: Medņevas pagasta pārvalde | B34: =SUM(C34:I34) -> 42551 | C34: 29340 | D34: 13211
A35: Rugāju pagasta pārvalde | B35: =SUM(C35:I35) -> 50043 | C35: 34703 | D35: 15340
... A44: Valsts un pašvaldības vienotais klientu apkalpošanas centrs | B44: =SUM(C44:I44) -> 102288 | C44: 88457 | D44: 13831
A45: Izdevumi neparedzētiem gadījumiem | B45: =SUM(C45:I45) -> 6000 | D45: 6000
A46: Biedru maksa | B46: =SUM(C46:I46) -> 45250 | D46: 41850 | E46: 3400
A47: Pašvaldības aizņēmumu apkalpošana un procentu maksa | B47: =SUM(C47:I47) -> 441606 | D47: 23776 | F47: 417830
A48: AS Balvu Enerģija akciju iegāde | B48: =SUM(C48:I48) -> 25492 | G48: 25492
A49: Dzimtsarakstu nodaļa | B49: =SUM(C49:I49) -> 85105 | C49: 67634 | D49: 17471
A50: Pašvaldības policija | B50: =SUM(C50:I50) -> 173642 | C50: 153754 | D50: 19888
A51: Atskurbtuves uzturēšana | B51: =SUM(C51:I51) -> 56921 | C51: 54104 | D51: 2817
A52: Būvvalde | B52: =SUM(C52:I52) -> 75147 | C52: 72469 | D52: 2678
...
