Workbook

Sheet 1.pielikums
E1: 1. pielikums
E2: Balvu novada domes
E3: 2023. gada 27. aprīļa saistošajiem noteikumiem Nr. 5/2023
E4: "Grozījumi Balvu novada domes 2023. gada 23. marta saistošajos noteikumos Nr. 4/2023
E5: "Par Balvu novada pašvaldības budžetu 2023.gadam""
E7: 1. pielikums
E8: Balvu novada domes
E9: 2023. gada 23. marta saistošajiem noteikumiem Nr. 4/2023
E10: "Par Balvu novada pašvaldības 2023. gada budžetu"
A13: Balvu novada pašvaldības pamatbudžets 2023. gadam ( EUR)
A15: Rādītāju nosaukumi | B15: Budžeta kategoriju kodi | C15: Apstiprināts 2023. gadam (EUR) | D15: Grozījumi (EUR) | E15: Apstiprināts ar grozījumiem 2023.gadam (EUR)
A16: I IEŅĒMUMI - kopā | C16: =C17+C19+C21+C25+C28+C30+C32+C35+C37+C39+C41+C23 -> 32075342 | E16: =C16+D16 -> 32075342
A17: IENĀKUMA NODOKĻI | B17: 1.0.0.0. | C17: =C18 -> 9705356 | E17: =C17+D17 -> 9705356
A18: Ieņēmumi no iedzīvotāju ienākuma nodokļa | B18: 1.1.0.0. | C18: =nemainās!F20 -> 9705356 | E18: =C18+D18 -> 9705356
A19: ĪPAŠUMA NODOKĻI | B19: 4.0.0.0. | C19: =C20 -> 1245954 | E19: =C19+D19 -> 1245954
A20: Nekustamā īpašuma nodoklis | B20: 4.1.0.0. | C20: =nemainās!F23 -> 1245954 | E20: =C20+D20 -> 1245954
A21: NODOKĻI PAR PAKALPOJUMIEM UN PRECĒM | B21: 5.0.0.0. | C21: =C22 -> 46000 | E21: =C21+D21 -> 46000
A22: Nodokļi un maksājumi par tiesībām lietot atsevišķas preces | B22: 5.5.0.0. | C22: =nemainās!F34 -> 46000 | E22: =C22+D22 -> 46000
A23: IEŅĒMUMI NO UZŅĒMĒJDARBĪBAS UN ĪPAŠUMA | B23: 8.0.0.0. | C23: =C24 -> 7080 | E23: =C23+D23 -> 7080
A24: Procentu ieņēmumi par depozītiem, kontu atlikumiem, valsts parāda vērtspapīriem un atlikto maksājumu | B24: 8.6.0.0. | C24: =nemainās!F41 -> 7080 | E24: =C24+D24 -> 7080
A25: VALSTS (PAŠVALDĪBU) NODEVAS UN KANCELEJAS NODEVAS | B25: 9.0.0.0. | C25: =C26+C27 -> 24840 | E25: =C25+D25 -> 24840
A26: Valsts nodevas, kuras ieskaita pašvaldību budžetā | B26: 9.4.0.0. | C26: =nemainās!F43 -> 12690 | E26: =C26+D26 -> 12690
A27: Pašvaldību nodevas | B27: 9.5.0.0. | C27: =nemainās!F47 -> 12150 | E27: =C27+D27 -> 12150
A28: NAUDAS SODI UN SANKCIJAS | B28: 10.0.0.0. | C28: =C29 -> 4000 | E28: =C28+D28 -> 4000
A29: Naudas sodi | B29: 10.1.0.0. | C29: =nemainās!F53 -> 4000 | E29: =C29+D29 -> 4000
A30: PĀRĒJIE NENODOKĻU IEŅĒMUMI | B30: 12.0.0.0. | C30: =C31 -> 133975 | E30: =C30+D30 -> 133975
A31: Citi dažādi nenodokļu ieņēmumi | B31: 12.3.0.0. | C31: =nemainās!F56 -> 133975 | E31: =C31+D31 -> 133975
A32: Ieņēmumi no valsts (pašvaldību) īpašuma iznomāšanas, pārdošanas un no nodokļu pamatparāda kapitalizācijas | B32: 13.0.0.0. | C32: =C33+C34 -> 420000 | E32: =C32+D32 -> 420000
A33: Ieņēmumi no ēku un būvju īpašuma pārdošanas | B33: 13.1.0.0. | C33: =nemainās!F59 -> 20000 | E33: =C33+D33 -> 20000
A34: Ieņēmumi no zemes, meža īpašuma pārdošanas | B34: 13.2.0.0. | C34: =nemainās!F60 -> 400000 | E34: =C34+D34 -> 400000
A35: No valsts budžeta daļēji finansēto atvasināto publisko personu un budžeta nefinansēto iestāžu transferti | B35: 17.0.0.0. | C35: =C36 -> 912778 | E35: =C35+D35 -> 912778
A36: Pašvaldību saņemtie transferti no valsts budžeta daļēji finansētām atvasinātām publiskām personām un no budžeta nefinansētām iestādēm | B36: 17.2.0.0. | C36: =nemainās!F62 -> 912778 | E36: =C36+D36 -> 912778
A37: Valsts budžeta transferti | B37: 18.0.0.0. | C37: =C38 -> 14303939 | E37: =C37+D37 -> 14303939
A38: Pašvaldību saņemtie transferti no valsts budžeta | B38: 18.6.0.0. | C38: =nemainās!F65 -> 14303939 | E38: =C38+D38 -> 14303939
A39: Pašvaldību budžetu transferti | B39: 19.0.0.0 | C39: =C40 -> 158500 | E39: =C39+D39 -> 158500
A40: Pašvaldību saņemtie transferti no citām pašvaldībām | B40: 19.2.0.0. | C40: =nemainās!F97 -> 158500 | E40: =C40+D40 -> 158500
A41: Budžeta iestāžu ieņēmumi | B41: 21.0.0.0. | C41: =SUM(C42:C43) -> 5112920 | E41: =C41+D41 -> 5112920
A42: Ieņēmumi no budžeta iestāžu sniegtajiem maksas pakalpojumiem un citi pašu ieņēmumi | B42: 21.3.0.0. | C42: =nemainās!F100 -> 4508265 | E42: =C42+D42 -> 4508265
A43: Pārējie 21.3.0.0.grupā neklasificētie budžeta iestāžu ieņēmumi par budžeta iestāžu sniegtajiem maksas pakalpojumiem un citi pašu ieņēmumi | B43: 21.4.0.0. | C43: =nemainās!F120 -> 604655 | E43: =C43+D43 -> 604655
A44: II IZDEVUMI - kopā | C44: =C45 -> 36798522 | D44: =D45 -> -135743 | E44: =C44+D44 -> 36662779
A45: Izdevumi atbilstoši funkcionālajām kategorijām | C45: =SUM(C46:C54) -> 36798522 | D45: =SUM(D46:D54) -> -135743 | E45: =C45+D45 -> 36662779
A46: Vispārējie valdības dienesti | B46: 01.000 | C46: 4394774 | D46: 67007 | E46: =C46+D46 -> 4461781
A47: Sabiedriskā kārtība un drošība | B47: 03.000 | C47: ='2.pielikums'!H50 -> 315668 | E47: =C47+D47 -> 315668
A48: Ekonomiskā darbība | B48: 04.000 | C48: ='2.pielikums'!H54 -> 2962888 | E48: =C48+D48 -> 2962888
A49: Vides aizsardzība | B49: 05.000 | C49: ='2.pielikums'!H92 -> 211308 | E49: =C49+D49 -> 211308
A50: Teritoriju un mājokļu apsaimniekošana | B50: 06.000 | C50: 4415221 | D50: -202750 | E50: =C50+D50 -> 4212471
A51: Veselība | B51: 07.000 | C51: ='2.pielikums'!H181 -> 224212 | E51: =C51+D51 -> 224212
A52: Atpūta, kultūra un reliģija | B52: 08.000 | C52: ='2.pielikums'!H196 -> 4325037 | E52: =C52+D52 -> 4325037
A53: Izglītība | B53: 09.000 | C53: ='2.pielikums'!H247 -> 13916699 | E53: =C53+D53 -> 13916699
A54: Sociālā aizsardzība | B54: 10.000 | C54: ='2.pielikums'!H319 -> 6032715 | E54: =C54+D54 -> 6032715
A55: Izdevumi atbilstoši ekonomiskajām kategorijām | C55: =C56+C57+C58+C59+C60+C61+C62 -> 36798522 | D55: =D56+D57+D58+D59+D60+D61+D62 -> -135743 | E55: =C55+D55 -> 36662779
A56: Atlīdzība | B56: 1000 | C56: 20147637 | E56: =C56+D56 -> 20147637
A57: Preces un pakalpojumi | B57: 2000 | C57: 8578659 | D57: -997 | E57: =C57+D57 -> 8577662
A58: Subsīdijas un dotācijas | B58: 3000 | C58: 61169 | E58: =C58+D58 -> 61169
A59: Procentu izdevumi | B59: 4000 | C59: 422480 | E59: =C59+D59 -> 422480
A60: Pamatkapitāla veidošana | B60: 5000 | C60: 5760201 | D60: -134746 | E60: =C60+D60 -> 5625455
A61: Sociālie pabalsti | B61: 6000 | C61: 1620864 | E61: =C61+D61 -> 1620864
A62: Transferti, uzturēšanas izdevumu transferti, pašu resursu maksājumi, starptautiskā sadarbība | B62: 7000 | C62: 207512 | E62: =C62+D62 -> 207512
E63: =C63+D63 -> 0
A64: III Ieņēmumu pārsniegums (+) deficīts (-) (I-II) | C64: =C16-C44 -> -4723180 | D64: =D16-D44 -> 135743 | E64: =C64+D64 -> -4587437
A65: IV FINANSĒŠANA - kopā | C65: =C66+C71 -> 4723180 | D65: =D66+D71 -> -135743 | E65: =C65+D65 -> 4587437
A66: Naudas līdzekļi un noguldījumi | B66: F20010000 | C66: =C67+C68 -> 2908300 | D66: =D67+D68 -> -17706 | E66: =C66+D66 -> 2890594
A67: Naudas līdzekļi | B67: F21010000 | C67: 5214 | D67: 0 | E67: =C67+D67 -> 5214
A68: Pieprasījuma noguldījumi | B68: F22010000 | C68: =C69-C70 -> 2903086 | D68: =D69-D70 -> -17706 | E68: =C68+D68 -> 2885380
A69: Pieprasījuma noguldījumu atlikums gada sākumā | B69: F22010000 AS | C69: 3385839 | D69: 0 | E69: =C69+D69 -> 3385839
A70: Pieprasījuma noguldījumu atlikums perioda beigās | B70: F22010000 PB | C70: =432613+50140 -> 482753 | D70: 17706 | E70: =C70+D70 -> 500459
A71: Aizņēmumi | B71: F40020000 | C71: =C72-C73 -> 1814880 | D71: =D72-D73 -> -118037 | E71: =C71+D71 -> 1696843
A72: Saņemtie aizņēmumi | B72: F40020010 | C72: 3499041 | D72: -118037 | E72: =C72+D72 -> 3381004
A73: Saņemto aizņēmumu atmaksa | B73: F40020020 | C73: 1684161 | D73: 0 | E73: =C73+D73 -> 1684161
A75: Domes priekšsēdētāja vietniece S.Kapteine

Sheet nemainās
F1: 2.pielikums
F2: Balvu novada domes
F3: 2023.gada 27.aprīļa saistošajiem noteikumiem Nr.__/2023
F4: "Grozījumi 2023.gada 23.marta saistošajos noteikumos Nr.4/2023
F5: "Par Balvu novada pašvaldības budžetu 2023.gadam""
F7: 2.pielikums
F8: Balvu novada domes
F9: 2023.gada 23.marta saistošajiem noteikumiem Nr.4/2023
F10: "Par Balvu novada pašvaldības 2023.gada budžetu"
A13: Balvu novada pašvaldības pamatbudžeta ieņēmumi 2023.gadam (EUR)
A15: Klasifikācijas kods | B15: Ieņēmumi | C15: Ieņēmumu veidi | F15: KOPĀ (EUR)
C16: Vispārējie pamatbudžeta ieņēmumi (EUR) | D16: Maksas pakalpojumi un pašu ieņēmumi (EUR) | E16: Valsts mērķdotācijas (EUR)
A17: I | B17: IEŅĒMUMI KOPĀ | C17: =C19+C22+C34+C42+C53+C58+C56+C40 -> 11587205 | D17: =D97+D100+D120 -> 5271420 | E17: =E65+E62 -> 15216717 | F17: =F19+F22+F34+F43+F47+F53+F56+F58+F96+F97+F99+F66+F62+F95+F40 -> 32075342
A18: 1 | B18: Nodokļu ieņēmumi | C18: =C19+C22+C34 -> 10997310 | F18: =C18 -> 10997310
A19: 1.0.0.0. | B19: IENĀKUMA NODOKĻI | C19: =C20 -> 9705356 | F19: =C19 -> 9705356
A20: 1.1.1.0 | B20: Iedzīvotāju ienākuma nodoklis | C20: =C21 -> 9705356 | F20: =C20 -> 9705356
A21: 1.1.1.2 | B21: Iedzīvotāju ienākuma nodoklis | C21: 9705356 | F21: =C21 -> 9705356
A22: 4.0.0.0. | B22: ĪPAŠUMA NODOKĻI | C22: =C23 -> 1245954 | F22: =C22 -> 1245954
A23: 4.1.0.0 | B23: Nekustamā īpašuma nodoklis | C23: =C24+C27+C31 -> 1245954 | F23: =C23 -> 1245954
A24: 4.1.1.0 | B24: Nekustamā īpašuma nodoklis par zemi | C24: =C25+C26 -> 1114475 | F24: =C24 -> 1114475
A25: 4.1.1.1 | B25: Nekustamā īpašuma nodokļa par zemi kārtējā saimnieciskā gada ieņēmumi | C25: =747119+300000 -> 1047119 | F25: =C25 -> 1047119
A26: 4.1.1.2 | B26: Nekustamā īpašuma nodoklis par zemi-iepriekšējo gadu parādi | C26: 67356 | F26: =C26 -> 67356
A27: 4.1.2.0 | B27: Nekustamā īpašuma nodokļi par ēkām | C27: =C28+C30 -> 81363 | F27: =C27 -> 81363
A28: 4.1.2.1 | B28: Nekustamā īpašuma nodoklis par ēkām kārtējā gada maksājumi | C28: 76097 | F28: =C28 -> 76097
B29: t.sk. par inženierbūvēm | C29: 4954 | F29: =C29 -> 4954
A30: 4.1.2.2 | B30: Nekustamā īpašuma nodoklis par ēkām-iepriekšējo gadu parādi | C30: 5266 | F30: =C30 -> 5266
A31: 4.1.3.0 | B31: Nekustamā īpašuma nodokļi par mājokļiem | C31: =C32+C33 -> 50116 | F31: =C31 -> 50116
A32: 4.1.3.1. | B32: Nekustamā īpašuma nodokļa par mājokļiem kārtējā saimnieciskā gada ieņēmumi | C32: 41969 | F32: =C32 -> 41969
A33: 4.1.3.2. | B33: Nekustamā īpašuma nodoklis par mājokļiem-iepriekšējo gadu parādi | C33: 8147 | F33: =C33 -> 8147
A34: 5.0.0.0. | B34: NODOKĻI PAR PAKALPOJUMIEM UN PRECĒM | C34: =C35+C37 -> 46000 | F34: =C34 -> 46000
A35: 5.4.0.0. | B35: Nodokļi par atsevišķām precēm un pakalpojumu veidiem | C35: =C36 -> 9000 | F35: =F36 -> 9000
A36: 5.4.1.0 | B36: Azartspēļu nodoklis | C36: 9000 | F36: =C36 -> 9000
A37: 5.5.0.0. | B37: Nodokļi un maksājumi par tiesībām lietot atsevišķas preces | C37: =C38 -> 37000 | F37: =F38 -> 37000
A38: 5.5.3.0. | B38: Dabas resursu nodoklis | C38: 37000 | F38: =C38 -> 37000
A39: 2 | B39: Nenodokļu ieņēmumi | C39: =C42+C53+C56+C58+C40 -> 589895 | F39: =C39 -> 589895
A40: 8.0.0.0. | B40: Ieņēmumi no uzņēmējdarbības un īpašuma | C40: =C41 -> 7080 | F40: =F41 -> 7080
A41: 8.6.0.0. | B41: Procentu ieņēmumi par depozītiem, kontu atlikumiem, valsts parāda vērtspapīriem un atlikto maksājumu | C41: 7080 | F41: =C41 -> 7080
A42: 9.0.0.0. | B42: VALSTS (PAŠVALDĪBU) NODEVAS UN KANCELEJAS NODEVAS | C42: =C43+C47 -> 24840 | F42: =C42 -> 24840
A43: 9.4.0.0. | B43: Valsts nodevas, kuras ieskaita valsts budžetā | C43: =C44+C45+C46 -> 12690 | F43: =C43 -> 12690
A44: 9.4.2.0. | B44: Valsts nodeva par apliecinājumiem un citu funkciju pildīšanu bāriņtiesās | C44: 11000 | F44: =C44 -> 11000
A45: 9.4.5.0. | B45: Valsts nodeva par civilstāvokļa aktu reģistrēšanu, grozīšanu un papildināšanu | C45: 1400 | F45: =C45 -> 1400
A46: 9.4.9.0. | B46: Pārējās valsts nodevas, kuras ieskaita pašvaldību budžetos | C46: 290 | F46: =C46 -> 290
A47: 9.5.0.0. | B47: Pašvaldības nodevas | C47: =C48+C49+C50+C51+C52 -> 12150 | F47: =C47 -> 12150
A48: 9.5.1.2. | B48: Pašvaldības nodeva par izklaidējoša rakstura pasākumu sarīkošanu publiskās vietās | C48: 1000 | F48: =C48 -> 1000
A49: 9.5.1.4. | B49: Pašvaldības nodeva par tirdzniecību publiskās vietās | C49: 1000 | F49: =C49 -> 1000
A50: 9.5.1.7. | B50: Pašvaldības nodeva par reklāmas, afišu un sludinājumu izvietošanu publiskajās vietās | C50: 50 | F50: =C50 -> 50
A51: 9.5.2.1. | B51: Pašvaldības nodeva par būvatļaujas izdošanu vai būvniecības ieceres akceptu | C51: 10000 | F51: =C51 -> 10000
A52: 9.5.2.9. | B52: Pārējās nodevas, ko uzliek pašvaldības | C52: 100 | F52: =C52 -> 100
A53: 10.0.0.0. | B53: NAUDAS SODI UN SANKCIJAS | C53: =C54+C55 -> 4000 | F53: =C53 -> 4000
A54: 10.1.4.0. | B54: Naudas sodi, ko uzliek pašvaldības | C54: 3500 | F54: =C54 -> 3500
A55: 10.1.5.0. | B55: Naudas sodi, ko uzliek pašvaldību institūcijas par pārkāpumiem ceļu satiksmē | C55: 500 | F55: =C55 -> 500
A56: 12.0.0.0. | B56: PĀRĒJIE NENODOKĻU IEŅĒMUMI | C56: =C57 -> 133975 | F56: =C56 -> 133975
A57: 12.3.9.9. | B57: Pārējie dažādi nenodokļu ieņēmumi, kas nav iepriekš klasificēti šajā klasifikācijā | C57: 133975 | F57: =C57 -> 133975
A58: 13.0.0.0. | B58: IEŅĒMUMI NO VALSTS (PAŠVALDĪBAS) ĪPAŠUMA IZNOMĀŠANAS PĀRDOŠANAS | C58: =C59+C60 -> 420000 | F58: =F59+F60 -> 420000
A59: 13.1.0.0. | B59: Ieņēmumi no ēku un būvju īpašuma pārdošanas | C59: 20000 | F59: =C59 -> 20000
A60: 13.2.0.0. | B60: Ieņēmumi no zemes, mežu īpašuma pārdošanas | C60: =C61 -> 400000 | F60: =C60 -> 400000
A61: 13.2.1.0. | B61: Ieņēmumi no zemes īpašuma pārdošanas | C61: 400000 | F61: =C61 -> 400000
A62: 17.0.0.0. | B62: NO VALSTS BUDŽETA DAĻĒJI FINANSĒTO PUBLISKO PERSONU UN BUDŽETA NEFINANSĒTO IESTĀŽU TRANSFERTI | E62: =E63+E64 -> 912778 | F62: =E62 -> 912778
A63: 17.2.0.0. | B63: Latgales plānošanas reģiona finansējums projektam "Deinstitucionalizācijas pasākumu īstenošana Latgales reģionā" | E63: 462678 | F63: =E63 -> 462678
A64: 17.2.0.0. | B64: Pašvaldību saņemtie transferti no valsts budžeta daļēji atvasinātām publiskām personām un no budžeta nefinansētām iestādēm | E64: 450100 | F64: =E64 -> 450100
A65: 18.0.0.0. | B65: VALSTS BUDŽETA TRANSFERTI | E65: =E66+E96+E95 -> 14303939 | F65: =E65 -> 14303939
A66: 18.6.2.0. | B66: Pašvaldības saņemtie valsts budžeta transferti noteiktam mērķim | E66: =E67+E68+E69+E70+E71+E72+E73+E74+E75+E76+E77+E78+E79+E80+E81+E82+E83+E84+E85+E86+E87+E88+E89+E90+E91+E92+E93+E94 -> 6853067 | F66: =E66 -> 6853067
A67: 18.6.2.0.02 | B67: Mērķdotācijas pašvaldību pamata un vispārējās izglītības iestāžu pedagogu darba samaksai un valsts sociālās apdrošināšanas obligātajām iemaksām | E67: 2803536 | F67: =E67 -> 2803536
A68: 18.6.2.0.02 | B68: Mērķdotācijas pašvaldību profesionālās pamatizglītības, arodizglītības un profesionālās vidējās izglītības programmu pedagogu darba samaksai un valsts sociālās apdrošināšanas obligātajām iemaksām | E68: 152480 | F68: =E68 -> 152480
A69: 18.6.2.0.02 | B69: Mērķdotācija interešu izglītības programmu pedagogu daļējai darba samaksai un valsts sociālās apdrošināšanas obligātajām iemaksām | E69: 128272 | F69: =E69 -> 128272
A70: 18.6.2.0.03 | B70: Mērķdotācijas pašvaldības izglītības iestāžu piecgadīgo un sešgadīgo bērnu apmācības pedagogu darba samaksai un valsts soc.apdrošināšanas obligātajām iemaksām | E70: 380944 | F70: =E70 -> 380944
A71: 18.6.2.0.04 | B71: Mērķdotācija audžuģimenēm par bērna uzturnaudas palielināšanu | E71: 25441 | F71: =E71 -> 25441
A72: 18.6.2.0.05 | B72: Valsts dotācija autoceļu (ielu) uzturēšanai | E72: 861695 | F72: =E72 -> 861695
A73: 18.6.2.0.06 | B73: Valsts dotācija sporta skolai | E73: 277541 | F73: =E73 -> 277541
A74: 18.6.2.0.07 | B74: Valsts dotācija mūzikas un mākslas skolām | E74: 434702 | F74: =E74 -> 434702
A75: 18.6.2.0.08 | B75: Valsts dotācija 1.-4.klašu brīvpusdienu daļējai apmaksai | E75: 114793 | F75: =E75 -> 114793
A76: 18.6.2.0.11 | B76: Valsts dotācija projektam "Pašvaldības infrastruktūras attīstība, uzlabojot pakalpojumu efektivitāti "Upītes Kultūrtelpā"" | E76: 142073 | F76: =E76 -> 142073
A77: 18.6.2.0.13 | B77: MD māksliniecisko kolektīvu vadītāju darba samaksai un valsts sociālās apdrošināšanas obligātajām iemaksām | E77: 23722 | F77: =E77 -> 23722
A78: 18.6.2.0.14 | B78: Valsts un pašvaldības vienotā klientu apkalpošanas centra uzturēšana | E78: 33980 | F78: =E78 -> 33980
B79: Latvijas Skolas soma | E79: 11861 | F79: =E79 -> 11861
A80: 18.6.2.0.18. | B80: Dotācija no līdzekļiem neparedzētiem gadījumiem atskurbtuves uzturēšanai | E80: 3690 | F80: =E80 -> 3690
A81: 18.6.2.0.23 | B81: Feldšerpunktu dotācija | E81: 94383 | F81: =E81 -> 94383
B82: Zobārstniecības kabinets (Rugāju pagastā) | E82: 34886 | F82: =E82 -> 34886
A83: 18.6.2.0.20 | B83: LM finansējums asistenta pakalpojumiem personām ar invaliditāti | E83: 484637 | F83: =E83 -> 484637
B84: Vides pieejamības veicināšana Balvu novada Nodarbinātības valsts aģentūrā | E84: 111000 | F84: =E84 -> 111000
B85: Ģimenei draudzīgākā pašvaldība 2022 | E85: 5000 | F85: =E85 -> 5000
B86: Dotācija asistentu pakalpojumu nodrošināšanai | E86: 96548 | F86: =E86 -> 96548
A87: 18.6.2.0.27 | B87: Algoti pagaidu sabiedriskie darbi | E87: 172800 | F87: =E87 -> 172800
A88: 18.6.2.0.30 | B88: Valsts dotācija sociālās aprūpes centru iemītniekiem | E88: =23256+7752 -> 31008 | F88: =E88 -> 31008
A89: 18.6.2.0.47 | B89: Atbalsts mājsaimniecībām apkures izdevumu kompensēšanai | E89: 9781 | F89: =E89 -> 9781
A90: 18.6.2.0.47 | B90: Valsts dotācija Ukrainas civiliedzīvotāju atbalstam | E90: 45466 | F90: =E90 -> 45466
A91: 18.6.2.0.47 | B91: Valsts dotācija Ukrainas civiliedzīvotāju izmitināšanas iespējām | E91: 42157 | F91: =E91 -> 42157
A92: 18.6.2.0.47 | B92: Ukrainas civiliedzīvotāju mērķdotācija pabalstu izmaksām | E92: 53978 | F92: =E92 -> 53978
A93: 18.6.2.0.52 | B93: Valsts atbalsts pašvaldībām sociālo darbinieku atlīdzības palielināšanai | E93: 44978 | F93: =E93 -> 44978
A94: 18.6.2.0.54 | B94: Valsts dotācija mājokļa pabalstam | E94: 231715 | F94: =E94 -> 231715
A95: 18.6.3.0. | B95: Pašvaldību no valsts budžeta iestādēm saņemtie transferti ES politiku instrumentu un pārējās ārvalstu finanšu palīdzības līdzfinansētajiem projektiem (pasākumiem) | E95: =627219+2800 -> 630019 | F95: =E95 -> 630019
A96: 18.6.4.0. | B96: Pašvaldību budžetā saņemta dotācijas no pašvaldības finanšu izlīdzināšanas fonda | E96: 6820853 | F96: =E96 -> 6820853
A97: 19.0.0.0. | B97: PAŠVALDĪBU BUDŽETU TRANSFERTI | D97: =D98 -> 158500 | F97: =C97+D97+E97 -> 158500
A98: 19.2.0.0.01. | B98: Ieņēmumi izglītības funkciju nodrošināšanai | D98: 158500 | F98: =C98+D98+E98 -> 158500
A99: 3 | B99: Maksas pakalpojumi un citi pašu ieņēmumi | D99: =D100+D120 -> 5112920 | F99: =D99 -> 5112920
A100: 21.3.0.0. | B100: Ieņēmumi no budžeta iestāžu sniegtajiem maksas pakalpojumiem un citi pašu ieņēmumi | D100: =D101+D102+D103+D108 -> 4508265 | F100: =D100 -> 4508265
A101: 21.3.5.0. | B101: Maksa par izglītības pakalpojumiem | D101: 145040 | F101: =D101 -> 145040
A102: 21.3.7.0. | B102: Ieņēmumi par dokumentu izsniegšanu un kancelejas pakalpojumiem | D102: 1140 | F102: =D102 -> 1140
A103: 21.3.8.0. | B103: Ieņēmumi par nomu un īri | D103: =D104+D105+D106+D107 -> 577925 | F103: =D103 -> 577925
A104: 21.3.8.1. | B104: Ieņēmumi par nedzīvojamā nekustamā īpašuma nomu | D104: 184956 | F104: =D104 -> 184956
...

Sheet 2.pielikums
H1: 2. pielikums
H2: Balvu novada domes
H3: 2023. gada 27. aprīļa saistošajiem noteikumiem Nr. 5/2023
H4: "Grozījumi Balvu novada domes 2023. gada 23. marta saistošajos noteikumos Nr. 4/2023
H5: "Par Balvu novada pašvaldības budžetu 2023. gadam""
H7: 3. pielikums
H8: Balvu novada domes
H9: 2023. gada 23. marta saistošajiem noteikumiem Nr. 4/2023
H10: "Par Balvu novada pašvaldības 2023. gada budžetu"
B13: Balvu novada pašvaldības pamatbudžeta izdevumi 2023. gadam (EUR)
A15: Klasifikācijas kods | B15: Iestādes un pasākumi | D15: Finansēšanas avots | H15: Kopā
C16: Atlikums uz gada sākumu | D16: Vispārējie ieņēmumi | E16: Budžeta iestāžu ieņēmumi | F16: Valsts un pašvaldību transferti | G16: Aizņēmumi
C17: =C18+C50+C54+C113+C181+C196+C247+C319+C92 -> 1068637 | D17: =D18+D50+D54+D113+D181+D196+D247+D319+D92 -> 19555546 | E17: =E18+E50+E54+E113+E181+E196+E247+E319+E92 -> 4195457 | F17: =F18+F50+F54+F113+F181+F196+F247+F319+F92 -> 8462135 | G17: =G18+G50+G54+G113+G181+G196+G247+G319+G92 -> 3381003.6 | H17: =H18+H50+H54+H113+H181+H196+H247+H319+H92 -> 36662779
A18: 01.000 | B18: Vispārējie valdības dienesti | C18: =SUM(C19:C49) -> 0 | D18: =SUM(D19:D49) -> 3733183.8 | E18: =SUM(E19:E49) -> 19819 | F18: =SUM(F19:F49) -> 41187 | G18: =SUM(G19:G49) -> 667591.17 | H18: =SUM(H19:H49) -> 4461781
B19: Balvu novada administrācija | D19: =H19-E19-G19-F19-C19 -> 1584888 | H19: ='3.pielikums'!B18 -> 1584888
B20: Deputātu darba samaksa | D20: =H20-E20-G20-F20-C20 -> 155358 | H20: ='3.pielikums'!B19 -> 155358
B21: Bijušo pagastu padomju un pilsētu domju vadītāju pabalsti | D21: =H21-E21-G21-F21-C21 -> 250642 | H21: ='3.pielikums'!B20 -> 250642
B22: Komisiju darba samaksa | D22: =H22-E22-G22-F22-C22 -> 34578 | H22: ='3.pielikums'!B21 -> 34578
B23: Balvu pilsētas pārvalde | D23: =H23-E23-G23-F23-C23 -> 298102.83 | G23: =370452/1.15 -> 322132.17 | H23: ='3.pielikums'!B22 -> 620235
B24: Balvu pagasta pārvalde | D24: =H24-E24-G24-F24-C24 -> 34564 | H24: ='3.pielikums'!B24 -> 34564
B25: Baltinavas pagasta pārvalde | D25: =H25-E25-G25-F25-C25 -> 73892 | E25: =674+239 -> 913 | H25: ='3.pielikums'!B25 -> 74805
B26: Bērzkalnes pagasta pārvalde | D26: =H26-E26-G26-F26-C26 -> 34798 | H26: ='3.pielikums'!B26 -> 34798
B27: Bērzpils pagasta pārvalde | D27: =H27-E27-G27-F27-C27 -> 47875 | E27: =340+1380 -> 1720 | H27: ='3.pielikums'!B27 -> 49595
B28: Briežuciema pagasta pārvalde | D28: =H28-E28-G28-F28-C28 -> 40318 | H28: ='3.pielikums'!B28 -> 40318
B29: Krišjāņu pagasta pārvalde | D29: =H29-E29-G29-F29-C29 -> 39911 | E29: =85 -> 85 | H29: ='3.pielikums'!B29 -> 39996
B30: Kubulu pagasta pārvalde | D30: =H30-E30-G30-F30-C30 -> 43428 | E30: =12 -> 12 | H30: ='3.pielikums'!B30 -> 43440
B31: Kupravas pagasta pārvalde | D31: =H31-E31-G31-F31-C31 -> 35296 | E31: =150 -> 150 | H31: ='3.pielikums'!B31 -> 35446
B32: Lazdukalna pagasta pārvalde | D32: =H32-E32-G32-F32-C32 -> 36877 | H32: ='3.pielikums'!B32 -> 36877
B33: Lazdulejas pagasta pārvalde | D33: =H33-E33-G33-F33-C33 -> 23494 | H33: ='3.pielikums'!B33 -> 23494
B34: Medņevas pagasta pārvalde | D34: =H34-E34-G34-F34-C34 -> 42551 | H34: ='3.pielikums'!B34 -> 42551
B35: Rugāju pagasta pārvalde | D35: =H35-E35-G35-F35-C35 -> 48643 | E35: =1400 -> 1400 | H35: ='3.pielikums'!B35 -> 50043
B36: Susāju pagasta pārvalde | D36: =H36-E36-G36-F36-C36 -> 20658 | H36: ='3.pielikums'!B36 -> 20658
B37: Šķilbēnu pagasta pārvalde | D37: =H37-E37-G37-F37-C37 -> 48906 | H37: ='3.pielikums'!B37 -> 48906
B38: Tilžas pagasta pārvalde | D38: =H38-E38-G38-F38-C38 -> 43553 | E38: =500 -> 500 | H38: ='3.pielikums'!B38 -> 44053
B39: Vectilžas pagasta pārvalde | D39: =H39-E39-G39-F39-C39 -> 34012 | H39: ='3.pielikums'!B39 -> 34012
B40: Vecumu pagasta pārvalde | D40: =H40-E40-G40-F40-C40 -> 34090 | H40: ='3.pielikums'!B40 -> 34090
B41: Vīksnas pagasta pārvalde | D41: =H41-E41-G41-F41-C41 -> 39126 | E41: =67 -> 67 | H41: ='3.pielikums'!B41 -> 39193
B42: Viļakas pilsētas pārvalde | D42: =H42-E42-G42-F42-C42 -> 71616 | E42: =3693+2629 -> 6322 | H42: ='3.pielikums'!B42 -> 77938
B43: Žīguru pagasta pārvalde | D43: =H43-E43-G43-F43-C43 -> 37510 | H43: ='3.pielikums'!B43 -> 37510
B44: Rugāju pagasta pārvaldes ēkas energoefektivitātes paaugstināšana | D44: =H44-E44-G44-F44-C44 -> 491 | F44: 7207 | G44: 345459 | H44: ='3.pielikums'!B320 -> 353157
B45: Valsts un pašvaldības vienotais klientu apkalpošanas centrs | D45: =H45-E45-G45-F45-C45 -> 59658 | E45: =4350+4300 -> 8650 | F45: 33980 | H45: ='3.pielikums'!B44 -> 102288
B46: Pašvaldības aizņēmumu apkalpošana un procentu maksa | D46: =H46-E46-G46-F46-C46 -> 441606 | H46: ='3.pielikums'!B47 -> 441606
B47: Izdevumi neparedzētiem gadījumiem | D47: =H47-E47-G47-F47-C47 -> 6000 | H47: ='3.pielikums'!B45 -> 6000
B48: Biedru maksa | D48: =H48-E48-G48-F48-C48 -> 45250 | H48: ='3.pielikums'!B46 -> 45250
B49: AS Balvu Enerģija akciju iegāde | D49: =H49-E49-G49-F49-C49 -> 25492 | H49: ='3.pielikums'!B48 -> 25492
A50: 03.000 | B50: Sabiedriskā kārtība un drošība | C50: =SUM(C51:C53) -> 0 | D50: =SUM(D51:D53) -> 287638 | E50: =SUM(E51:E53) -> 24340 | F50: =SUM(F51:F53) -> 3690 | G50: =SUM(G51:G53) -> 0 | H50: =SUM(H51:H53) -> 315668
B51: Dzimtsarakstu nodaļa | D51: =H51-E51-G51-F51-C51 -> 81365 | E51: =1400+1140+1200 -> 3740 | H51: ='3.pielikums'!B49 -> 85105
B52: Pašvaldības policija | D52: =H52-E52-G52-F52-C52 -> 171542 | E52: =2000+100 -> 2100 | H52: ='3.pielikums'!B50 -> 173642
B53: Atskurbtuves uzturēšana | D53: =H53-E53-G53-F53-C53 -> 34731 | E53: =18500 -> 18500 | F53: 3690 | H53: ='3.pielikums'!B51 -> 56921
A54: 04.000 | B54: Ekonomiskā darbība | C54: =SUM(C55:C91) -> 323002 | D54: =SUM(D55:D91) -> 630125.61 | E54: =SUM(E55:E91) -> 25750 | F54: =SUM(F55:F91) -> 1218990 | G54: =SUM(G55:G91) -> 765020.39 | H54: =SUM(H55:H91) -> 2962888
B55: Algoti pagaidu sabiedriskie darbi | C55: 3381 | D55: =H55-E55-G55-F55-C55 -> 425 | F55: 172800 | H55: ='3.pielikums'!B79 -> 176606
B56: Balvu novada Būvvalde | D56: =H56-E56-G56-F56-C56 -> 65147 | E56: =10000 -> 10000 | H56: ='3.pielikums'!B52 -> 75147
B57: Ziemeļlatgales biznesa un tūrisma centrs | D57: =H57-E57-G57-F57-C57 -> 106988 | E57: =4000+3500+1000 -> 8500 | F57: =68495 -> 68495 | H57: ='3.pielikums'!B55 -> 183983
B58: Balvu pilsētas autoceļu (ielu) uzturēšana | D58: =H58-E58-G58-F58-C58 -> 0 | F58: 117893 | H58: ='3.pielikums'!B57 -> 117893
B59: Baltinavas pagasta autoceļu (ielu) uzturēšana | D59: =H59-E59-G59-F59-C59 -> 0 | F59: 46305 | H59: ='3.pielikums'!B58 -> 46305
B60: Balvu pagasta autoceļu (ielu) uzturēšana | C60: 10778 | D60: =H60-E60-G60-F60-C60 -> 0 | F60: 23910 | H60: ='3.pielikums'!B59 -> 34688
B61: Bērzkalnes pagasta autoceļu (ielu) uzturēšana | D61: =H61-E61-G61-F61-C61 -> 0 | F61: 19249 | H61: ='3.pielikums'!B60 -> 19249
B62: Bērzpils pagasta autoceļu (ielu) uzturēšana | C62: 14413 | D62: =H62-E62-G62-F62-C62 -> 0 | F62: 39620 | H62: ='3.pielikums'!B61 -> 54033
B63: Briežuciema pagasta autoceļu (ielu) uzturēšana | C63: 10723 | D63: =H63-E63-G63-F63-C63 -> 0 | F63: 21659 | H63: ='3.pielikums'!B62 -> 32382
B64: Krišjāņu pagasta autoceļu (ielu) uzturēšana | C64: 14062 | D64: =H64-E64-G64-F64-C64 -> 0 | F64: 17112 | H64: ='3.pielikums'!B63 -> 31174
B65: Kubulu pagasta autoceļu (ielu) uzturēšana | D65: =H65-E65-G65-F65-C65 -> 0 | F65: 42118 | H65: ='3.pielikums'!B64 -> 42118
B66: Kupravas pagasta autoceļu (ielu) uzturēšana | C66: 3363 | D66: =H66-E66-G66-F66-C66 -> 0 | F66: 9815 | H66: ='3.pielikums'!B65 -> 13178
B67: Lazdulejas pagasta autoceļu (ielu) uzturēšana | D67: =H67-E67-G67-F67-C67 -> 0 | F67: 14853 | H67: ='3.pielikums'!B66 -> 14853
B68: Lazdukalna pagasta autoceļu (ielu) uzturēšana | C68: 21458 | D68: =H68-E68-G68-F68-C68 -> 0 | F68: 43712 | H68: ='3.pielikums'!B67 -> 65170
B69: Medņevas pagasta autoceļu (ielu) uzturēšana | D69: =H69-E69-G69-F69-C69 -> 0 | F69: 31380 | H69: ='3.pielikums'!B68 -> 31380
B70: Rugāju pagasta autoceļu (ielu) uzturēšana | C70: 160973 | D70: =H70-E70-G70-F70-C70 -> 0 | F70: 63137 | H70: ='3.pielikums'!B69 -> 224110
B71: Susāju pagasta autoceļu (ielu) uzturēšana | C71: 13693 | D71: =H71-E71-G71-F71-C71 -> 0 | F71: 27134 | H71: ='3.pielikums'!B70 -> 40827
B72: Šķilbēnu pagasta autoceļu (ielu) uzturēšana | C72: 22705 | D72: =H72-E72-G72-F72-C72 -> 0 | F72: 46312 | H72: ='3.pielikums'!B71 -> 69017
B73: Tilžas pagasta autoceļu (ielu) uzturēšana | C73: 2834 | D73: =H73-E73-G73-F73-C73 -> 0 | F73: 35901 | H73: ='3.pielikums'!B72 -> 38735
B74: Vectilžas pagasta autoceļu (ielu) uzturēšana | C74: 8787 | D74: =H74-E74-G74-F74-C74 -> 0 | F74: 11894 | H74: ='3.pielikums'!B73 -> 20681
B75: Vecumu pagasta autoceļu (ielu) uzturēšana | C75: 7130 | D75: =H75-E75-G75-F75-C75 -> 0 | F75: 21413 | H75: ='3.pielikums'!B74 -> 28543
B76: Vīksnas pagasta autoceļu (ielu) uzturēšana | C76: 4412 | D76: =H76-E76-G76-F76-C76 -> 0 | F76: 21303 | H76: ='3.pielikums'!B75 -> 25715
B77: Žīguru pagasta autoceļu (ielu) uzturēšana | C77: 484 | D77: =H77-E77-G77-F77-C77 -> 0 | F77: 8414 | H77: ='3.pielikums'!B76 -> 8898
B78: Viļakas pilsētas autoceļu (ielu) uzturēšana | C78: 12249 | D78: =H78-E78-G78-F78-C78 -> 0 | F78: 26222 | H78: ='3.pielikums'!B77 -> 38471
B79: Autoceļu (ielu) uzturēšanas līdzekļu rezerves fonds | D79: =H79-E79-G79-F79-C79 -> 0 | F79: 172339 | H79: ='3.pielikums'!B78 -> 172339
B80: Kubulu pagasta ielu pārbūve | D80: =H80-E80-G80-F80-C80 -> 33566.609 | G80: =257344/1.15 -> 223777.39 | H80: ='3.pielikums'!B308 -> 257344
B81: Vidzemes ielas pārbūve | D81: =H81-E81-G81-F81-C81 -> 138837 | H81: ='3.pielikums'!B307 -> 138837
B82: Balkanu Dabas parks | D82: =H82-E82-G82-F82-C82 -> 16110 | E82: =250+5500 -> 5750 | H82: ='3.pielikums'!B80 -> 21860
B83: Latgales speciālās ekonomiskās zonas atbalsts | D83: =H83-E83-G83-F83-C83 -> 3244 | H83: ='3.pielikums'!B54 -> 3244
B84: Pārējā ekonomiskā darbība (PVN) | D84: =H84-E84-G84-F84-C84 -> 96522 | H84: ='3.pielikums'!B53 -> 96522
B85: Biznesa ideju konkurss | D85: =H85-E85-G85-F85-C85 -> 50000 | H85: ='3.pielikums'!B56 -> 50000
B86: Balvu muižas apbūves tematiskā plānojuma izstrāde | D86: =H86-E86-G86-F86-C86 -> 20812 | H86: ='3.pielikums'!B305 -> 20812
B87: Degradēto teritoriju revitalizācija Austrumu pierobežā | D87: =H87-E87-G87-F87-C87 -> 63254 | G87: 541243 | H87: ='3.pielikums'!B310 -> 604497
B88: LV-LT pārrobežu sadarbības projekts "Amatu prasmes tūrisma telpā" | C88: 3057 | D88: =H88-E88-G88-F88-C88 -> 0 | H88: ='3.pielikums'!B81 -> 3057
B89: Projekts "Strengthening the entrepreneurial environment of the Balvi municipality" | C89: 8500 | D89: =H89-E89-G89-F89-C89 -> 11910 | E89: =1500 -> 1500 | H89: ='3.pielikums'!B82 -> 21910
B90: Vides pieejamības veicināšana Balvu novada Nodarbinātības valsts aģentūrā | D90: =H90-E90-G90-F90-C90 -> 23310 | F90: 111000 | H90: ='3.pielikums'!B83 -> 134310
B91: Ģimenei draudzīgākā pašvaldība 2022 | D91: =H91-E91-G91-F91-C91 -> 0 | F91: 5000 | H91: ='3.pielikums'!B317 -> 5000
A92: 05.000 | B92: Vides aizsardzība | C92: =SUM(C93:C112) -> 0 | D92: =SUM(D93:D112) -> 83005 | E92: =SUM(E93:E112) -> 128303 | F92: =SUM(F93:F112) -> 0 | G92: =SUM(G93:G112) -> 0 | H92: =SUM(H93:H112) -> 211308
B93: Vides piesārņojuma novēršana un samazināšana (dabas resursu nodoklis) | D93: =H93-E93-G93-F93-C93 -> 48012 | E93: 37000 | H93: ='3.pielikums'!B84 -> 85012
B94: Baltinavas komunālā saimniecība - notekūdeņu apsaimniekošana | D94: =H94-E94-G94-F94-C94 -> 7740 | E94: 2860 | H94: ='3.pielikums'!B85 -> 10600
B95: Bērzkalnes komunālā saimniecība - notekūdeņu apsaimniekošana | D95: =H95-E95-G95-F95-C95 -> 625 | E95: 6000 | H95: ='3.pielikums'!B86 -> 6625
B96: Bērzpils komunālā saimniecība -notekūdeņu apsaimniekošana | D96: =H96-E96-G96-F96-C96 -> 159 | E96: =5200 -> 5200 | H96: ='3.pielikums'!B87 -> 5359
B97: Briežuciema komunālā saimniecība - notekūdeņu apsaimniekošana | D97: =H97-E97-G97-F97-C97 -> 3239 | E97: 2300 | H97: ='3.pielikums'!B88 -> 5539
B98: Krišjāņu komunālā saimniecība -notekūdeņu apsaimniekošana | D98: =H98-E98-G98-F98-C98 -> 1997 | E98: =2045 -> 2045 | H98: ='3.pielikums'!B89 -> 4042
B99: Kubulu komunālā saimniecība -notekūdeņu apsaimniekošana | D99: =H99-E99-G99-F99-C99 -> 0 | E99: 6752 | H99: ='3.pielikums'!B90 -> 6752
B100: Kupravas komunālā saimniecība -notekūdeņu apsaimniekošana | D100: =H100-E100-G100-F100-C100 -> 0 | E100: 4700 | H100: ='3.pielikums'!B91 -> 4700
B101: Lazdukalna komunālā saimniecība - notekūdeņu apsaimniekošana | D101: =H101-E101-G101-F101-C101 -> 3179 | E101: =6765 -> 6765 | H101: ='3.pielikums'!B92 -> 9944
B102: Lazdulejas komunālā saimniecība - notekūdeņu apsaimniekošana | D102: =H102-E102-G102-F102-C102 -> 50 | E102: 500 | H102: ='3.pielikums'!B93 -> 550
B103: Medņevas komunālā saimniecība -notekūdeņu apsaimniekošana | D103: =H103-E103-G103-F103-C103 -> 5113 | E103: =4993 -> 4993 | H103: ='3.pielikums'!B94 -> 10106
B104: Rekavas komunālā saimniecība -notekūdeņu apsaimniekošana | D104: =H104-E104-G104-F104-C104 -> 763 | E104: =350+400 -> 750 | H104: ='3.pielikums'!B95 -> 1513
...

Sheet 3.pielikums
I1: 3. pielikums
I2: Balvu novada domes
I3: 2023. gada 27. aprīļa saistošajiem noteikumiem Nr .5/2023
I4: "Grozījumi Balvu novada domes 2023. gada 23. marta saistošajos noteikumos Nr .4/2023
I5: "Par Balvu novada pašvaldības budžetu 2023. gadam""
I7: 4. pielikums
I8: Balvu novada domes
I9: 2023. gada 23. marta saistošajiem noteikumiem Nr. 4/2023
I10: "Par Balvu novada pašvaldības 2023. gada budžetu"
A13: Balvu novada pašvaldības 2023. gada pamatbudžeta izdevumi atbilstoši ekonomiskajām kategorijām (EUR)
A15: Iestādes | B15: Apstiprināts 2023.gadam (EUR) | C15: Izdevumi pa ekonomiskās klasifikācijas kodiem (EUR)
C16: 1000 | D16: 2000 | E16: 3000 | F16: 4000 | G16: 5000 | H16: 6000 | I16: 7000
C17: Atlīdzība | D17: Preces un pakalpojumi | E17: Subsīdijas un dotācijas | F17: Procentu maksājumi | G17: Pamatkapitāla veidošana | H17: Sociālā rakstura maksājumi un kompensācijas | I17: Transferti
A18: Balvu novada administrācija | B18: =SUM(C18:I18) -> 1584888 | C18: 1385996 | D18: 197892 | G18: 1000
A19: Deputātu darba samaksa | B19: =SUM(C19:I19) -> 155358 | C19: 155358
A20: Bijušo pagastu padomju un pilsētu domju vadītāju pabalsti | B20: =SUM(C20:I20) -> 250642 | C20: 250642
A21: Komisiju darba samaksa | B21: =SUM(C21:I21) -> 34578 | C21: 34578
A22: Balvu pilsētas pārvalde | B22: =SUM(C22:I22) -> 620235 | C22: =35665+C23 -> 158924 | D22: =5868+D23 -> 85359 | E22: =+E23 -> 0 | F22: =+F23 -> 0 | G22: =5500+380374+125821+G23 -> 375952 | H22: =+H23 -> 0 | I22: =+I23 -> 0
A23: Grozījumi | B23: =SUM(C23:I23) -> 67007 | C23: 123259 | D23: 79491 | G23: =-(125821+9922) -> -135743
A24: Balvu pagasta pārvalde | B24: =SUM(C24:I24) -> 34564 | C24: 30978 | D24: 3586
A25: Baltinavas pagasta pārvalde | B25: =SUM(C25:I25) -> 74805 | C25: 47368 | D25: 27437
A26: Bērzkalnes pagasta pārvalde | B26: =SUM(C26:I26) -> 34798 | C26: 31299 | D26: 3499
A27: Bērzpils pagasta pārvalde | B27: =SUM(C27:I27) -> 49595 | C27: 36831 | D27: 12764
A28: Briežuciema pagasta pārvalde | B28: =SUM(C28:I28) -> 40318 | C28: 29342 | D28: 10976
A29: Krišjāņu pagasta pārvalde | B29: =SUM(C29:I29) -> 39996 | C29: 30631 | D29: 9365
A30: Kubulu pagasta pārvalde | B30: =SUM(C30:I30) -> 43440 | C30: 34818 | D30: 8622
A31: Kupravas pagasta pārvalde | B31: =SUM(C31:I31) -> 35446 | C31: 30502 | D31: 4944
A32: Lazdukalna pagasta pārvalde | B32: =SUM(C32:I32) -> 36877 | C32: 29109 | D32: 7768
A33: Lazdulejas pagasta pārvalde | B33: =SUM(C33:I33) -> 23494 | C33: 20880 | D33: 2614
A34: Medņevas pagasta pārvalde | B34: =SUM(C34:I34) -> 42551 | C34: 29340 | D34: 13211
A35: Rugāju pagasta pārvalde | B35: =SUM(C35:I35) -> 50043 | C35: 34703 | D35: 15340
... A44: Valsts un pašvaldības vienotais klientu apkalpošanas centrs | B44: =SUM(C44:I44) -> 102288 | C44: 88457 | D44: 13831
A45: Izdevumi neparedzētiem gadījumiem | B45: =SUM(C45:I45) -> 6000 | D45: 6000
A46: Biedru maksa | B46: =SUM(C46:I46) -> 45250 | D46: 41850 | E46: 3400
A47: Pašvaldības aizņēmumu apkalpošana un procentu maksa | B47: =SUM(C47:I47) -> 441606 | D47: 23776 | F47: 417830
A48: AS Balvu Enerģija akciju iegāde | B48: =SUM(C48:I48) -> 25492 | G48: 25492
A49: Dzimtsarakstu nodaļa | B49: =SUM(C49:I49) -> 85105 | C49: 67634 | D49: 17471
A50: Pašvaldības policija | B50: =SUM(C50:I50) -> 173642 | C50: 153754 | D50: 19888
A51: Atskurbtuves uzturēšana | B51: =SUM(C51:I51) -> 56921 | C51: 54104 | D51: 2817
A52: Būvvalde | B52: =SUM(C52:I52) -> 75147 | C52: 72469 | D52: 2678
A53: Pārējā ekonomiskā darbība (PVN) | B53: =SUM(C53:I53) -> 96522 | D53: 96522
A54: Latgales speciālās ekonomiskās zonas atbalsts | B54: =SUM(C54:I54) -> 3244 | I54: 3244
A55: Ziemeļlatgales biznesa un tūrisma centrs | B55: =SUM(C55:I55) -> 183983 | C55: 76014 | D55: 107969
A56: Biznesa ideju konkurss | B56: =SUM(C56:I56) -> 50000 | E56: 50000
A57: Balvu pilsētas autoceļu (ielu) uzturēšana | B57: =SUM(C57:I57) -> 117893 | D57: 114937 | G57: 2956
A58: Baltinavas pagasta autoceļu (ielu) uzturēšana | B58: =SUM(C58:I58) -> 46305 | D58: 46305
A59: Balvu pagasta autoceļu (ielu) uzturēšana | B59: =SUM(C59:I59) -> 34688 | D59: 34688
A60: Bērzkalnes pagasta autoceļu (ielu) uzturēšana | B60: =SUM(C60:I60) -> 19249 | D60: 19249
A61: Bērzpils pagasta autoceļu (ielu) uzturēšana | B61: =SUM(C61:I61) -> 54033 | D61: 47038 | G61: 6995
A62: Briežuciema pagasta autoceļu (ielu) uzturēšana | B62: =SUM(C62:I62) -> 32382 | D62: 32382
A63: Krišjāņu pagasta autoceļu (ielu) uzturēšana | B63: =SUM(C63:I63) -> 31174 | D63: 31174
A64: Kubulu pagasta autoceļu (ielu) uzturēšana | B64: =SUM(C64:I64) -> 42118 | D64: 42118
A65: Kupravas pagasta autoceļu (ielu) uzturēšana | B65: =SUM(C65:I65) -> 13178 | C65: 3041 | D65: 10137
A66: Lazdulejas pagasta autoceļu (ielu) uzturēšana | B66: =SUM(C66:I66) -> 14853 | D66: 14853
A67: Lazdukalna pagasta autoceļu (ielu) uzturēšana | B67: =SUM(C67:I67) -> 65170 | D67: 45170 | G67: 20000
A68: Medņevas pagasta autoceļu (ielu) uzturēšana | B68: =SUM(C68:I68) -> 31380 | D68: 31380
A69: Rugāju pagasta autoceļu (ielu) uzturēšana | B69: =SUM(C69:I69) -> 224110 | D69: 29110 | G69: 195000
A70: Susāju pagasta autoceļu (ielu) uzturēšana | B70: =SUM(C70:I70) -> 40827 | C70: 6797 | D70: 14030 | G70: 20000
A71: Šķilbēnu pagasta autoceļu (ielu) uzturēšana | B71: =SUM(C71:I71) -> 69017 | D71: 42017 | G71: 27000
A72: Tilžas pagasta autoceļu (ielu) uzturēšana | B72: =SUM(C72:I72) -> 38735 | D72: 38735
A73: Vectilžas pagasta autoceļu (ielu) uzturēšana | B73: =SUM(C73:I73) -> 20681 | D73: 20681
A74: Vecumu pagasta autoceļu (ielu) uzturēšana | B74: =SUM(C74:I74) -> 28543 | C74: 7014 | D74: 21529
A75: Vīksnas pagasta autoceļu (ielu) uzturēšana | B75: =SUM(C75:I75) -> 25715 | D75: 25715
A76: Žīguru pagasta autoceļu (ielu) uzturēšana | B76: =SUM(C76:I76) -> 8898 | D76: 8898
A77: Viļakas pilsētas autoceļu (ielu) uzturēšana | B77: =SUM(C77:I77) -> 38471 | D77: 38471
A78: Autoceļu (ielu) uzturēšanas līdzekļu rezerves fonds | B78: =SUM(C78:I78) -> 172339 | D78: 172339
A79: Algotie pagaidu sabiedriskie darbi | B79: =SUM(C79:I79) -> 176606 | C79: 2225 | H79: 171000 | I79: 3381
A80: Balkanu Dabas parks | B80: =SUM(C80:I80) -> 21860 | C80: 16336 | D80: 5524
A81: LV-LT pārrobežu sadarbības projekts "Amatu prasmes tūrisma telpā" | B81: =SUM(C81:I81) -> 3057 | G81: 3057
A82: Projekts "Strengthening the entrepreneurial environment of the Balvi municipality" | B82: =SUM(C82:I82) -> 21910 | D82: 21910
A83: Vides pieejamības veicināšana Balvu novada Nodarbinātības valsts aģentūrā | B83: =SUM(C83:I83) -> 134310 | G83: 134310
A84: Vides piesārņojuma novēršana un samazināšana (dabas resursu nodoklis) | B84: =SUM(C84:I84) -> 85012 | D84: 85012
A85: Baltinavas komunālā saimniecība - notekūdeņu apsaimniekošana | B85: =SUM(C85:I85) -> 10600 | D85: 10600
A86: Bērzkalnes komunālā saimniecība -notekūdeņu apsaimniekošana | B86: =SUM(C86:I86) -> 6625 | D86: 6625
A87: Bērzpils komunālā saimniecība -notekūdeņu apsaimniekošana | B87: =SUM(C87:I87) -> 5359 | D87: 5359
A88: Briežuciema komunālā saimniecība -notekūdeņu apsaimniekošana | B88: =SUM(C88:I88) -> 5539 | D88: 5539
A89: Krišjāņu komunālā saimniecība -notekūdeņu apsaimniekošana | B89: =SUM(C89:I89) -> 4042 | D89: 4042
A90: Kubulu komunālā saimniecība -notekūdeņu apsaimniekošana | B90: =SUM(C90:I90) -> 6752 | D90: 6752
A91: Kupravas komunālā saimniecība -notekūdeņu apsaimniekošana | B91: =SUM(C91:I91) -> 4700 | D91: 4700
A92: Lazdukalna komunālā saimniecība - notekūdeņu apsaimniekošana | B92: =SUM(C92:I92) -> 9944 | D92: 9944
A93: Lazdulejas komunālā saimniecība - notekūdeņu apsaimniekošana | B93: =SUM(C93:I93) -> 550 | D93: 550
A94: Medņevas komunālā saimniecība -notekūdeņu apsaimniekošana | B94: =SUM(C94:I94) -> 10106 | D94: 10106
A95: Rekavas komunālā saimniecība -notekūdeņu apsaimniekošana | B95: =SUM(C95:I95) -> 1513 | D95: 1513
... A103: Viļakas pilsētas komunālā saimniecība - atkritumu apsaimniekošana | B103: =SUM(C103:I103) -> 3510 | D103: 3510
A104: Ielu apgaismojums Balvu pilsētā | B104: =SUM(C104:I104) -> 138101 | D104: 119842 | G104: 18259
A105: Rugāju pagasta apgaismojuma un ietvju uzturēšana | B105: =SUM(C105:I105) -> 5541 | D105: 5541
A106: Lazdukalna pagasta apgaismojuma un ietvju uzturēšana | B106: =SUM(C106:I106) -> 3089 | D106: 3089
A107: Novada teritorijas īpašuma vadība | B107: =SUM(C107:I107) -> 95426 | D107: 95426
A108: Novada teritorijas apsaimniekošana | B108: =SUM(C108:I108) -> 148887 | D108: 103703 | G108: 6934 | H108: 38250
A109: Balvu pagasta komunālā saimniecība | B109: =SUM(C109:I109) -> 30049 | C109: 24958 | D109: 5091
A110: Bērzkalnes pagasta komunālā saimniecība | B110: =SUM(C110:I110) -> 64424 | C110: 40502 | D110: 23922
A111: Bērzpils pagasta komunālā saimniecība | B111: =SUM(C111:I111) -> 34205 | C111: 29649 | D111: 4556
A112: Briežuciema pagasta komunālā saimniecība | B112: =SUM(C112:I112) -> 41764 | C112: 32370 | D112: 9394
A113: Krišjāņu pagasta komunālā saimniecība | B113: =SUM(C113:I113) -> 21120 | C113: 12851 | D113: 8269
A114: Kubulu pagasta komunālā saimniecība | B114: =SUM(C114:I114) -> 65563 | C114: 53633 | D114: 11930
A115: Kupravas pagasta komunālā saimniecība | B115: =SUM(C115:I115) -> 78154 | C115: 26654 | D115: 51500
A116: Lazdukalna pagasta komunālā saimniecība | B116: =SUM(C116:I116) -> 88380 | C116: 65249 | D116: 23131
A117: Lazdulejas pagasta komunālā saimniecība | B117: =SUM(C117:I117) -> 52144 | C117: 37346 | D117: 14798
A118: Medņevas pagasta komunālā saimniecība | B118: =SUM(C118:I118) -> 8857 | C118: 5673 | D118: 3184
A119: Rugāju pagasta komunālā saimniecība | B119: =SUM(C119:I119) -> 200551 | C119: 163629 | D119: 36922
...
