Workbook

Sheet 2.1.1.1.c_Kopā_VB_PB
B1: 8. pielikums: 2.1.1.1.c - Atbalsta pasākumi pārejas uz mācībām latviešu valodā īstenošanai (atbalsts pirmsskolas izglītības iestādēm, pedagogiem, izglītojamiem ar speciālām vajadzībām u.c.).
A2: Nr. | B2: Atbalsta veids | C2: Budžeta resors | D2: Budžeta programma/apakšprogramma | E2: Nepieciešamais finansējums | K2: Piezīmes
E3: 2022.gads 4 mēneši (sept. - dec.) | F3: 2023.gads | G3: 2024.gads | H3: 2025.gads | I3: 2026.gads | J3: Turpmāk ik gadu
A4: 1. | B4: Valsts budžeta mērķdotācija pašvaldībām mazākumtautību valodas un kultūrvēstures interešu izglītības programmas īstenošanas izmaksu (pedagogu darba samaksa, valsts sociālās apdrošināšanas obligātās iemaksas, mācību līdzekļu iegāde) segšanai, kur mācību līdzekļu izmaksas 100% sedz valsts un pedagogu darba samaksu un VSAOI 50% sedz valsts un 50% pašvaldības. | C4: 62. resors "Mērķdotācijas pašvaldībām" | D4: 05.00.00. "Mērķdotācijas pašvaldībām – pašvaldību izglītības iestāžu pedagogu darba samaksai un valsts sociālās apdrošināšanas obligātajām iemaksām" | H4: =+'pegagogu DS_interešu'!D23 -> 3226180 | I4: =+'pegagogu DS_interešu'!E23 -> 3927708 | J4: =+I4 -> 3927708 | K4: Interešu izglītība - Pedagogu darba samaksai un valsts sociālās apdrošināšanas obligātajām iemaksām (50% valsts; 50% pašvaldība) Pirmsskola - 1,5 līdz 6 gadu vecumam (līdz pamatizglītības ieguves uzsākšanai); Skola 1. -9. klase
C5: Pašvaldību budžets | H5: =+'pegagogu DS_interešu'!D24 -> 3226180 | I5: =+'pegagogu DS_interešu'!E24 -> 3927708 | J5: =+I5 -> 3927708
C6: 15. resors "Izglītības un zinātnes ministrija" | D6: 01.14.00. "Mācību līdzekļu iegāde" | F6: =+'mācību līdzekļi'!D14 -> 92415 | G6: =+'mācību līdzekļi'!E14 -> 138171 | H6: =+'mācību līdzekļi'!F14 -> 183927 | K6: Interešu izglītība - Mācību līdzekļu iegāde Pirmsskola - 1,5 līdz 6 gadu vecumam (līdz pamatizglītības ieguves uzsākšanai); Skola 1. -9. klase
A7: 2. | B7: Mācību līdzekļu nodrošinājums latviešu valodā (1.-6.klases posmā, pārejot no mazākumtautību valodas mācību līdzekļiem uz mācību līdzekļiem latviešu valodā) | C7: 15. resors "Izglītības un zinātnes ministrija" | D7: 01.14.00. "Mācību līdzekļu iegāde" | F7: =+'mācību līdzekļi'!N14 -> 161194 | G7: =+'mācību līdzekļi'!O14 -> 161347 | H7: =+'mācību līdzekļi'!P14 -> 172550 | K7: Mācību līdzekļu iegāde - Mācību procesa nodrošināšanai skolās (1.-6.klase)
A8: 3. | B8: Pedagogu profesionālās kompetences pilnveides pasākumi | C8: 15. resors "Izglītības un zinātnes ministrija" | D8: 04.00.00. "Valsts valodas politika un pārvalde" | F8: =+LVA!E14 -> 120940 | G8: =+LVA!F14 -> 85420 | H8: =+LVA!G14 -> 81420 | I8: =+LVA!H14 -> 75420 | K8: LVA īstenotie atbalsta pasākumi
A9: 4. | B9: Atbalsts mazākumtautību izglītojamiem, kuri apgūst speciālās izglītības programmu | C9: 62. resors "Mērķdotācijas pašvaldībām" | D9: 05.00.00. "Mērķdotācijas pašvaldībām – pašvaldību izglītības iestāžu pedagogu darba samaksai un valsts sociālās apdrošināšanas obligātajām iemaksām" | F9: =+'pegagogu DS_atbalsts spec.'!B25 -> 138092 | G9: =+'pegagogu DS_atbalsts spec.'!C25 -> 484572 | H9: =+'pegagogu DS_atbalsts spec.'!D25 -> 704892 | I9: =+'pegagogu DS_atbalsts spec.'!E25 -> 864348 | J9: =+I9 -> 864348 | K9: Pedagogu darba samaksai un valsts sociālās apdrošināšanas obligātajām iemaksām Pirmsskola - 1,5 līdz līdz pamatizglītības ieguves uzsākšanai (no valsts budžeta 5-6gadus vieciem bērniem, no pašvaldvalsts budžeta 1,5 - 4 gadu vaciem bērniem); Skolām - 1. - 9. klasei
C10: Pašvaldību budžets | F10: =+'pegagogu DS_atbalsts spec.'!B26 -> 25772 | G10: =+'pegagogu DS_atbalsts spec.'!C26 -> 77316 | H10: =+'pegagogu DS_atbalsts spec.'!D26 -> 77316 | I10: =+'pegagogu DS_atbalsts spec.'!E26 -> 77316 | J10: =+I10 -> 77316
A11: Valsts budžeta finansējums | E11: =+E4+E6+E7+E8+E9 -> 0 | F11: =+F4+F6+F7+F8+F9 -> 512641 | G11: =+G4+G6+G7+G8+G9 -> 869510 | H11: =+H4+H6+H7+H8+H9 -> 4368969 | I11: =+I4+I6+I7+I8+I9 -> 4867476 | J11: =+J4+J6+J7+J8+J9 -> 4792056
A12: Pašvaldību budžeta finansējums | E12: =+E5+E10 -> 0 | F12: =+F5+F10 -> 25772 | G12: =+G5+G10 -> 77316 | H12: =+H5+H10 -> 3303496 | I12: =+I5+I10 -> 4005024 | J12: =+J5+J10 -> 4005024 | K12: (i) Interešu izglītība - Pedagogu darba samaksai un valsts sociālās apdrošināšanas obligātajām iemaksām (50% no kopējām izmaksām) (ii) Atbalsts mazākumtautību izglītojamiem no 1,5 - 4 gadu vacumam, kuri apgūst speciālās izglītības programmu
A13: KOPĀ pasākuma izmaksas | E13: =+E11+E12 -> 0 | F13: =+F11+F12 -> 538413 | G13: =+G11+G12 -> 946826 | H13: =+H11+H12 -> 7672465 | I13: =+I11+I12 -> 8872500 | J13: =+J11+J12 -> 8797080

Sheet pegagogu DS_interešu
A1: Aprēķini - pedagogu darba samaksai - interešu izglītba - 3 h nedēļā
B2: Pedagogu darba slodze nedēļā (h) | C2: Pedagogu darba samaksa par likmi (EUR) | D2: Izglītojamo skaits kopā | E2: no 01.09.2023. | O2: no 01.09.2024. | Y2: no 01.09.2025.
E3: Izglītojamo skaits Pirmsskola + Skola (1., 4., 7. kl.) | F3: Pedagogu (skolotāju) likmes par pilnu darba slodzi (1/10) | G3: Pedagogu (skolotāju) likmes par 3 h nedēļā | H3: Algas fonds | I3: Koef. par spec. progr. | J3: Algas fonds kopā ar piemaksu par spec. progr. | K3: VSAOI 23,59% | L3: Pavisam kopā atlīdzībai mēnesī | M3: Pavisam kopā atlīdzībai 2023. gada 4 mēnešiem | N3: Pavisam kopā atlīdzībai 2024. gada 12 mēnešiem | O3: Izglītojamo skaits Skola (2., 5., 8. kl.) | P3: Pedagogu (skolotāju) likmes par pilnu darba slodzi (1/10) | Q3: Pedagogu (skolotāju) likmes par 3 h nedēļā | R3: Algas fonds | S3: Koef. par spec. progr. | T3: Algas fonds kopā ar piemaksu par spec. progr. | U3: VSAOI 23,59% | V3: Pavisam kopā atlīdzībai mēnesī | W3: Pavisam kopā atlīdzībai 2024. gada 4 mēnešiem | X3: Pavisam kopā atlīdzībai 2025. gada 12 mēnešiem | Y3: Izglītojamo skaits Skola (3., 6., 9. kl.) | Z3: Pedagogu (skolotāju) likmes par pilnu darba slodzi (1/10) | AA3: Pedagogu (skolotāju) likmes par 3 h nedēļā | AB3: Algas fonds | AC3: Koef. par spec. progr. | AD3: Algas fonds kopā ar piemaksu par spec. progr. | AE3: VSAOI 23,59% | AF3: Pavisam kopā atlīdzībai mēnesī | AG3: Pavisam kopā atlīdzībai 2025. gada 4 mēnešiem | AH3: Pavisam kopā atlīdzībai 2026. gada 12 mēnešiem
A4: Pirmsskola (1,5-6 gadi) | B4: X | C4: 942 | D4: =SUM(D5:D8) -> 15553 | E4: =SUM(E5:E8) -> 15553 | F4: =SUM(F5:F8) -> 1555.3 | G4: =SUM(G5:G8) -> 116.649 | H4: =SUM(H5:H8) -> 109883 | I4: X | J4: =SUM(J5:J8) -> 112056 | K4: =SUM(K5:K8) -> 26434 | L4: =SUM(L5:L8) -> 138490 | M4: =SUM(M5:M8) -> 553960 | N4: =SUM(N5:N8) -> 1661880
A5: parastā programma | B5: 40 | C5: 942 | D5: =+E5+O5+Y5 -> 14267 | E5: 14267 | F5: =+E5/10 -> 1426.7 | G5: =+F5*3/B5 -> 107.003 | H5: =+G5*C5 -> 100797 | I5: 1 | J5: =+H5*I5 -> 100797 | K5: =+J5*23.59% -> 23778 | L5: =+J5+K5 -> 124575 | M5: =+L5*4 -> 498300 | N5: =+M5*3 -> 1494900
A6: Spec.programma (kodi 53, 54, 55, 57) | B6: 40 | C6: 942 | D6: =+E6+O6+Y6 -> 841 | E6: 841 | F6: =+E6/10 -> 84.1 | G6: =+F6*3/B6 -> 6.308 | H6: =+G6*C6 -> 5942 | I6: 1.2 | J6: =+H6*I6 -> 7130 | K6: =+J6*23.59% -> 1682 | L6: =+J6+K6 -> 8812 | M6: =+L6*4 -> 35248 | N6: =+M6*3 -> 105744
A7: Spec.programma (kodi 51, 52, 56, 58) | B7: 40 | C7: 942 | D7: =+E7+O7+Y7 -> 416 | E7: 416 | F7: =+E7/10 -> 41.6 | G7: =+F7*3/B7 -> 3.12 | H7: =+G7*C7 -> 2939 | I7: 1.3 | J7: =+H7*I7 -> 3821 | K7: =+J7*23.59% -> 901 | L7: =+J7+K7 -> 4722 | M7: =+L7*4 -> 18888 | N7: =+M7*3 -> 56664
A8: Spec.programma (kods 59) | B8: 40 | C8: 942 | D8: =+E8+O8+Y8 -> 29 | E8: 29 | F8: =+E8/10 -> 2.9 | G8: =+F8*3/B8 -> 0.218 | H8: =+G8*C8 -> 205 | I8: 1.5 | J8: =+H8*I8 -> 308 | K8: =+J8*23.59% -> 73 | L8: =+J8+K8 -> 381 | M8: =+L8*4 -> 1524 | N8: =+M8*3 -> 4572
A9: Skola (1.-9.kl.) | B9: X | C9: 900 | D9: =SUM(D10:D13) -> 45756 | E9: =SUM(E10:E13) -> 15098 | F9: =SUM(F10:F13) -> 1509.8 | G9: =SUM(G10:G13) -> 150.98 | H9: =SUM(H10:H13) -> 135882 | J9: =SUM(J10:J13) -> 137795 | K9: =SUM(K10:K13) -> 32506 | L9: =SUM(L10:L13) -> 170301 | M9: =SUM(M10:M13) -> 681204 | N9: =SUM(N10:N13) -> 2043612 | O9: =SUM(O10:O13) -> 15131 | P9: =SUM(P10:P13) -> 1513.1 | Q9: =SUM(Q10:Q13) -> 151.31 | R9: =SUM(R10:R13) -> 136179 | T9: =SUM(T10:T13) -> 137912 | U9: =SUM(U10:U13) -> 32533 | V9: =SUM(V10:V13) -> 170445 | W9: =SUM(W10:W13) -> 681780 | X9: =SUM(X10:X13) -> 2045340 | Y9: =SUM(Y10:Y13) -> 15527 | Z9: =SUM(Z10:Z13) -> 1552.7 | AA9: =SUM(AA10:AA13) -> 155.27 | AB9: =SUM(AB10:AB13) -> 139743 | AD9: =SUM(AD10:AD13) -> 141906 | AE9: =SUM(AE10:AE13) -> 33476 | AF9: =SUM(AF10:AF13) -> 175382 | AG9: =SUM(AG10:AG13) -> 701528 | AH9: =SUM(AH10:AH13) -> 2104584
A10: parastā programma | B10: 30 | C10: 900 | D10: =+E10+O10+Y10 -> 43238 | E10: =4605+4391+5270 -> 14266 | F10: =+E10/10 -> 1426.6 | G10: =+F10*3/B10 -> 142.66 | H10: =+G10*C10 -> 128394 | I10: 1 | J10: =+H10*I10 -> 128394 | K10: =+J10*23.59% -> 30288 | L10: =+J10+K10 -> 158682 | M10: =+L10*4 -> 634728 | N10: =+M10*3 -> 1904184 | O10: =4608+4387+5346 -> 14341 | P10: =+O10/10 -> 1434.1 | Q10: =+P10*3/B10 -> 143.41 | R10: =+Q10*C10 -> 129069 | S10: 1 | T10: =+R10*S10 -> 129069 | U10: =+T10*23.59% -> 30447 | V10: =+T10+U10 -> 159516 | W10: =+V10*4 -> 638064 | X10: =+W10*3 -> 1914192 | Y10: =4657+4929+5045 -> 14631 | Z10: =+Y10/10 -> 1463.1 | AA10: =+Z10*3/B10 -> 146.31 | AB10: =+AA10*C10 -> 131679 | AC10: 1 | AD10: =+AB10*AC10 -> 131679 | AE10: =+AD10*23.59% -> 31063 | AF10: =+AD10+AE10 -> 162742 | AG10: =+AF10*4 -> 650968 | AH10: =+AG10*3 -> 1952904
A11: Spec.programma (kodi 53, 54, 55, 56, 57) | B11: 30 | C11: 900 | D11: =+E11+O11+Y11 -> 1724 | E11: =143+189+226 -> 558 | F11: =+E11/10 -> 55.8 | G11: =+F11*3/B11 -> 5.58 | H11: =+G11*C11 -> 5022 | I11: 1.2 | J11: =+H11*I11 -> 6026 | K11: =+J11*23.59% -> 1422 | L11: =+J11+K11 -> 7448 | M11: =+L11*4 -> 29792 | N11: =+M11*3 -> 89376 | O11: =135+221+221 -> 577 | P11: =+O11/10 -> 57.7 | Q11: =+P11*3/B11 -> 5.77 | R11: =+Q11*C11 -> 5193 | S11: 1.2 | T11: =+R11*S11 -> 6232 | U11: =+T11*23.59% -> 1470 | V11: =+T11+U11 -> 7702 | W11: =+V11*4 -> 30808 | X11: =+W11*3 -> 92424 | Y11: =172+213+204 -> 589 | Z11: =+Y11/10 -> 58.9 | AA11: =+Z11*3/B11 -> 5.89 | AB11: =+AA11*C11 -> 5301 | AC11: 1.2 | AD11: =+AB11*AC11 -> 6361 | AE11: =+AD11*23.59% -> 1501 | AF11: =+AD11+AE11 -> 7862 | AG11: =+AF11*4 -> 31448 | AH11: =+AG11*3 -> 94344
A12: Spec.programma (kodi 51, 52, 58) | B12: 30 | C12: 900 | D12: =+E12+O12+Y12 -> 482 | E12: =39+58+83 -> 180 | F12: =+E12/10 -> 18 | G12: =+F12*3/B12 -> 1.8 | H12: =+G12*C12 -> 1620 | I12: 1.3 | J12: =+H12*I12 -> 2106 | K12: =+J12*23.59% -> 497 | L12: =+J12+K12 -> 2603 | M12: =+L12*4 -> 10412 | N12: =+M12*3 -> 31236 | O12: =53+39+55 -> 147 | P12: =+O12/10 -> 14.7 | Q12: =+P12*3/B12 -> 1.47 | R12: =+Q12*C12 -> 1323 | S12: 1.3 | T12: =+R12*S12 -> 1720 | U12: =+T12*23.59% -> 406 | V12: =+T12+U12 -> 2126 | W12: =+V12*4 -> 8504 | X12: =+W12*3 -> 25512 | Y12: =42+58+55 -> 155 | Z12: =+Y12/10 -> 15.5 | AA12: =+Z12*3/B12 -> 1.55 | AB12: =+AA12*C12 -> 1395 | AC12: 1.3 | AD12: =+AB12*AC12 -> 1814 | AE12: =+AD12*23.59% -> 428 | AF12: =+AD12+AE12 -> 2242 | AG12: =+AF12*4 -> 8968 | AH12: =+AG12*3 -> 26904
A13: Spec.programma (kods 59) | B13: 30 | C13: 900 | D13: =+E13+O13+Y13 -> 312 | E13: =29+28+37 -> 94 | F13: =+E13/10 -> 9.4 | G13: =+F13*3/B13 -> 0.94 | H13: =+G13*C13 -> 846 | I13: 1.5 | J13: =+H13*I13 -> 1269 | K13: =+J13*23.59% -> 299 | L13: =+J13+K13 -> 1568 | M13: =+L13*4 -> 6272 | N13: =+M13*3 -> 18816 | O13: =26+22+18 -> 66 | P13: =+O13/10 -> 6.6 | Q13: =+P13*3/B13 -> 0.66 | R13: =+Q13*C13 -> 594 | S13: 1.5 | T13: =+R13*S13 -> 891 | U13: =+T13*23.59% -> 210 | V13: =+T13+U13 -> 1101 | W13: =+V13*4 -> 4404 | X13: =+W13*3 -> 13212 | Y13: =43+36+73 -> 152 | Z13: =+Y13/10 -> 15.2 | AA13: =+Z13*3/B13 -> 1.52 | AB13: =+AA13*C13 -> 1368 | AC13: 1.5 | AD13: =+AB13*AC13 -> 2052 | AE13: =+AD13*23.59% -> 484 | AF13: =+AD13+AE13 -> 2536 | AG13: =+AF13*4 -> 10144 | AH13: =+AG13*3 -> 30432
A14: Kopā | B14: X | C14: X | D14: =+D4+D9 -> 61309 | E14: =+E4+E9 -> 30651 | F14: =+F4+F9 -> 3065.1 | G14: =+G4+G9 -> 267.629 | H14: =+H4+H9 -> 245765 | I14: X | J14: =+J4+J9 -> 249851 | K14: =+K4+K9 -> 58940 | L14: =+L4+L9 -> 308791 | M14: =+M4+M9 -> 1235164 | N14: =+N4+N9 -> 3705492 | O14: =+O4+O9 -> 15131 | P14: =+P4+P9 -> 1513.1 | Q14: =+Q4+Q9 -> 151.31 | R14: =+R4+R9 -> 136179 | S14: X | T14: =+T4+T9 -> 137912 | U14: =+U4+U9 -> 32533 | V14: =+V4+V9 -> 170445 | W14: =+W4+W9 -> 681780 | X14: =+X4+X9 -> 2045340 | Y14: =+Y4+Y9 -> 15527 | Z14: =+Z4+Z9 -> 1552.7 | AA14: =+AA4+AA9 -> 155.27 | AB14: =+AB4+AB9 -> 139743 | AC14: X | AD14: =+AD4+AD9 -> 141906 | AE14: =+AE4+AE9 -> 33476 | AF14: =+AF4+AF9 -> 175382 | AG14: =+AG4+AG9 -> 701528 | AH14: =+AH4+AH9 -> 2104584
A16: Finansējums pedagogu darba samaksai un valsts sociālās apdrošināšanas obligātajām iemaksām
B17: 2023. | C17: 2024. | D17: 2025. | E17: Turpmāk ik gadu
A18: no 01.09.2023. | B18: =+M14 -> 1235164 | C18: =+N14 -> 3705492 | D18: =+C18 -> 3705492 | E18: =+D18 -> 3705492
A19: no 01.09.2024. | B19: X | C19: =+W14 -> 681780 | D19: =+X14 -> 2045340 | E19: =+D19 -> 2045340
A20: no 01.09.2025. | B20: X | C20: X | D20: =AG14 -> 701528 | E20: =AH14 -> 2104584
A21: KOPĀ | B21: =SUM(B18:B20) -> 1235164 | C21: =SUM(C18:C20) -> 4387272 | D21: =SUM(D18:D20) -> 6452360 | E21: =SUM(E18:E20) -> 7855416
A22: no tiem:
A23: 50% valsts budžets | B23: =+B21/2 -> 617582 | C23: =+C21/2 -> 2193636 | D23: =+D21/2 -> 3226180 | E23: =+E21/2 -> 3927708
A24: 50% pašvaldību budžets | B24: =+B21-B23 -> 617582 | C24: =+C21-C23 -> 2193636 | D24: =+D21-D23 -> 3226180 | E24: =+E21-E23 -> 3927708

Sheet pegagogu DS_atbalsts spec.
A1: Aprēķini - pedagogu darba samaksai - speciālā izglītba - 6 h nedēļā (papildus mācību plānam, bez piemaksām par spec.progr., jo piemaksa jau ir iekļauta pamatalgā)
B2: Pedagogu darba slodze nedēļā (h) | C2: Pedagogu darba samaksa par likmi (EUR) | D2: Izglītojamo skaits kopā | E2: no 01.09.2023. | M2: no 01.09.2024. | U2: no 01.09.2025.
E3: Izglītojamo skaits Pirmsskola + Skola (1., 4., 7. kl.) | F3: Pedagogu (skolotāju) likmes par pilnu darba slodzi (1/10) | G3: Pedagogu (skolotāju) likmes par 6 h nedēļā | H3: Algas fonds | I3: VSAOI 23,59% | J3: Pavisam kopā atlīdzībai mēnesī | K3: Pavisam kopā atlīdzībai 2023. gada 4 mēnešiem | L3: Pavisam kopā atlīdzībai 2024. gada 12 mēnešiem | M3: Izglītojamo skaits Skola (2., 5., 8. kl.) | N3: Pedagogu (skolotāju) likmes par pilnu darba slodzi (1/10) | O3: Pedagogu (skolotāju) likmes par 6 h nedēļā | P3: Algas fonds | Q3: VSAOI 23,59% | R3: Pavisam kopā atlīdzībai mēnesī | S3: Pavisam kopā atlīdzībai 2024. gada 4 mēnešiem | T3: Pavisam kopā atlīdzībai 2025. gada 12 mēnešiem | U3: Izglītojamo skaits Skola (3., 6., 9. kl.) | V3: Pedagogu (skolotāju) likmes par pilnu darba slodzi (1/10) | W3: Pedagogu (skolotāju) likmes par 6 h nedēļā | X3: Algas fonds | Y3: VSAOI 23,59% | Z3: Pavisam kopā atlīdzībai mēnesī | AA3: Pavisam kopā atlīdzībai 2025. gada 4 mēnešiem | AB3: Pavisam kopā atlīdzībai 2026. gada 12 mēnešiem
A4: Pirmsskola (1,5-4 gadi) | B4: X | C4: 942 | D4: =SUM(D5:D7) -> 369 | E4: =SUM(E5:E7) -> 369 | F4: =SUM(F5:F7) -> 36.9 | G4: =SUM(G5:G7) -> 5.535 | H4: =SUM(H5:H7) -> 5213 | I4: =SUM(I5:I7) -> 1230 | J4: =SUM(J5:J7) -> 6443 | K4: =SUM(K5:K7) -> 25772 | L4: =SUM(L5:L7) -> 77316
A5: Spec.programma (kodi 53, 54, 55, 57) | B5: 40 | C5: 942 | D5: =+E5+M5+U5 -> 241 | E5: 241 | F5: =+E5/10 -> 24.1 | G5: =+F5*6/B5 -> 3.615 | H5: =+G5*C5 -> 3405 | I5: =+H5*23.59% -> 803 | J5: =+H5+I5 -> 4208 | K5: =+J5*4 -> 16832 | L5: =+K5*3 -> 50496
A6: Spec.programma (kodi 51, 52, 56, 58) | B6: 40 | C6: 942 | D6: =+E6+M6+U6 -> 119 | E6: 119 | F6: =+E6/10 -> 11.9 | G6: =+F6*6/B6 -> 1.785 | H6: =+G6*C6 -> 1681 | I6: =H6*23.59% -> 397 | J6: =+H6+I6 -> 2078 | K6: =+J6*4 -> 8312 | L6: =+K6*3 -> 24936
A7: Spec.programma (kods 59) | B7: 40 | C7: 942 | D7: =+E7+M7+U7 -> 9 | E7: 9 | F7: =+E7/10 -> 0.9 | G7: =+F7*6/B7 -> 0.135 | H7: =+G7*C7 -> 127 | I7: =H7*23.59% -> 30 | J7: =+H7+I7 -> 157 | K7: =+J7*4 -> 628 | L7: =+K7*3 -> 1884
A8: Pirmsskola 5-6 gadi) | B8: X | C8: 942 | D8: =SUM(D9:D11) -> 917 | E8: =SUM(E9:E11) -> 917 | F8: =SUM(F9:F11) -> 91.7 | G8: =SUM(G9:G11) -> 13.755 | H8: =SUM(H9:H11) -> 12958 | I8: =SUM(I9:I11) -> 3057 | J8: =SUM(J9:J11) -> 16015 | K8: =SUM(K9:K11) -> 64060 | L8: =SUM(L9:L11) -> 192180
A9: Spec.programma (kodi 53, 54, 55, 57) | B9: 40 | C9: 942 | D9: =+E9+M9+U9 -> 600 | E9: 600 | F9: =+E9/10 -> 60 | G9: =+F9*6/B9 -> 9 | H9: =+G9*C9 -> 8478 | I9: =+H9*23.59% -> 2000 | J9: =+H9+I9 -> 10478 | K9: =+J9*4 -> 41912 | L9: =+K9*3 -> 125736
A10: Spec.programma (kodi 51, 52, 56, 58) | B10: 40 | C10: 942 | D10: =+E10+M10+U10 -> 297 | E10: 297 | F10: =+E10/10 -> 29.7 | G10: =+F10*6/B10 -> 4.455 | H10: =+G10*C10 -> 4197 | I10: =H10*23.59% -> 990 | J10: =+H10+I10 -> 5187 | K10: =+J10*4 -> 20748 | L10: =+K10*3 -> 62244
A11: Spec.programma (kods 59) | B11: 40 | C11: 942 | D11: =+E11+M11+U11 -> 20 | E11: 20 | F11: =+E11/10 -> 2 | G11: =+F11*6/B11 -> 0.3 | H11: =+G11*C11 -> 283 | I11: =H11*23.59% -> 67 | J11: =+H11+I11 -> 350 | K11: =+J11*4 -> 1400 | L11: =+K11*3 -> 4200
A12: Skola (1.-9.kl.) | B12: X | C12: 900 | D12: =SUM(D13:D15) -> 2518 | E12: =SUM(E13:E15) -> 832 | F12: =SUM(F13:F15) -> 83.2 | G12: =SUM(G13:G15) -> 16.64 | H12: =SUM(H13:H15) -> 14976 | I12: =SUM(I13:I15) -> 3532 | J12: =SUM(J13:J15) -> 18508 | K12: =SUM(K13:K15) -> 74032 | ... AB12: =SUM(AB13:AB15) -> 239184
A13: Spec.programma (kodi 53, 54, 55, 56, 57) | B13: 30 | C13: 900 | D13: =+E13+M13+U13 -> 1724 | E13: =143+189+226 -> 558 | F13: =+E13/10 -> 55.8 | G13: =+F13*6/B13 -> 11.16 | H13: =+G13*C13 -> 10044 | I13: =+H13*23.59% -> 2369 | J13: =+H13+I13 -> 12413 | K13: =+J13*4 -> 49652 | L13: =+K13*3 -> 148956 | M13: 577 | N13: =+M13/10 -> 57.7 | O13: =+N13*6/B13 -> 11.54 | P13: =+O13*C13 -> 10386 | Q13: =+P13*23.59% -> 2450 | R13: =+P13+Q13 -> 12836 | S13: =+R13*4 -> 51344 | T13: =+S13*3 -> 154032 | U13: 589 | V13: =+U13/10 -> 58.9 | W13: =+V13*6/B13 -> 11.78 | X13: =+W13*C13 -> 10602 | Y13: =+X13*23.59% -> 2501 | Z13: =+X13+Y13 -> 13103 | AA13: =+Z13*4 -> 52412 | AB13: =+AA13*3 -> 157236
A14: Spec.programma (kodi 51, 52, 58) | B14: 30 | C14: 900 | D14: =+E14+M14+U14 -> 482 | E14: =39+58+83 -> 180 | F14: =+E14/10 -> 18 | G14: =+F14*6/B14 -> 3.6 | H14: =+G14*C14 -> 3240 | I14: =H14*23.59% -> 764 | J14: =+H14+I14 -> 4004 | K14: =+J14*4 -> 16016 | L14: =+K14*3 -> 48048 | M14: 147 | N14: =+M14/10 -> 14.7 | O14: =+N14*6/B14 -> 2.94 | P14: =+O14*C14 -> 2646 | Q14: =P14*23.59% -> 624 | R14: =+P14+Q14 -> 3270 | S14: =+R14*4 -> 13080 | T14: =+S14*3 -> 39240 | U14: 155 | V14: =+U14/10 -> 15.5 | W14: =+V14*6/B14 -> 3.1 | X14: =+W14*C14 -> 2790 | Y14: =X14*23.59% -> 658 | Z14: =+X14+Y14 -> 3448 | AA14: =+Z14*4 -> 13792 | AB14: =+AA14*3 -> 41376
A15: Spec.programma (kods 59) | B15: 30 | C15: 900 | D15: =+E15+M15+U15 -> 312 | E15: =29+28+37 -> 94 | F15: =+E15/10 -> 9.4 | G15: =+F15*6/B15 -> 1.88 | H15: =+G15*C15 -> 1692 | I15: =H15*23.59% -> 399 | J15: =+H15+I15 -> 2091 | K15: =+J15*4 -> 8364 | L15: =+K15*3 -> 25092 | M15: 66 | N15: =+M15/10 -> 6.6 | O15: =+N15*6/B15 -> 1.32 | P15: =+O15*C15 -> 1188 | Q15: =P15*23.59% -> 280 | R15: =+P15+Q15 -> 1468 | S15: =+R15*4 -> 5872 | T15: =+S15*3 -> 17616 | U15: 152 | V15: =+U15/10 -> 15.2 | W15: =+V15*6/B15 -> 3.04 | X15: =+W15*C15 -> 2736 | Y15: =X15*23.59% -> 645 | Z15: =+X15+Y15 -> 3381 | AA15: =+Z15*4 -> 13524 | AB15: =+AA15*3 -> 40572
A16: Kopā | B16: X | C16: X | D16: =+D4+D12+D8 -> 3804 | E16: =+E4+E12+E8 -> 2118 | F16: =+F4+F8+F12 -> 211.8 | G16: =+G4+G8+G12 -> 35.93 | H16: =+H4+H8+H12 -> 33147 | I16: =+I4+I8+I12 -> 7819 | J16: =+J4+J8+J12 -> 40966 | K16: =+K4+K8+K12 -> 163864 | L16: =+L4+L8+L12 -> 491592 | M16: =+M4+M12+M8 -> 790 | N16: =+N4+N8+N12 -> 79 | O16: =+O4+O8+O12 -> 15.8 | P16: =+P4+P8+P12 -> 14220 | Q16: =+Q4+Q8+Q12 -> 3354 | R16: =+R4+R8+R12 -> 17574 | S16: =+S4+S8+S12 -> 70296 | T16: =+T4+T8+T12 -> 210888 | U16: =+U4+U12+U8 -> 896 | V16: =+V4+V8+V12 -> 89.6 | W16: =+W4+W8+W12 -> 17.92 | X16: =+X4+X8+X12 -> 16128 | Y16: =+Y4+Y8+Y12 -> 3804 | Z16: =+Z4+Z8+Z12 -> 19932 | AA16: =+AA4+AA8+AA12 -> 79728 | AB16: =+AB4+AB8+AB12 -> 239184
A18: Finansējums pedagogu darba samaksai un valsts sociālās apdrošināšanas obligātajām iemaksām
B19: 2023. | C19: 2024. | D19: 2025. | E19: Turpmāk ik gadu
A20: no 01.09.2023. | B20: =+K16 -> 163864 | C20: =+L16 -> 491592 | D20: =+C20 -> 491592 | E20: =+D20 -> 491592
A21: no 01.09.2024. | B21: X | C21: =+S16 -> 70296 | D21: =+T16 -> 210888 | E21: =+D21 -> 210888
A22: no 01.09.2025. | B22: X | C22: X | D22: =+AA16 -> 79728 | E22: =+AB16 -> 239184
A23: KOPĀ | B23: =SUM(B20:B22) -> 163864 | C23: =SUM(C20:C22) -> 561888 | D23: =SUM(D20:D22) -> 782208 | E23: =SUM(E20:E22) -> 941664
A24: no tiem:
A25: valsts budžets pirmsskola no 5 gadu vecuma + skola | B25: =+B23-B26 -> 138092 | C25: =+C23-C26 -> 484572 | D25: =+D23-D26 -> 704892 | E25: =+E23-E26 -> 864348
A26: pašvaldību budžets pirmsskola no 1,5 gadu vecuma līdz 4 g. vecumam | B26: =+K4 -> 25772 | C26: =+L4 -> 77316 | D26: =+C26 -> 77316 | E26: =+D26 -> 77316

Sheet mācību līdzekļi
A1: Mācību līdzekļu iegādei
A2: Mācību līdzekļu iegādei - interešu izglītībai -> pirmsskola, skola (1.-9.klasei) (pastāvīga, neterminēta intervence) | K2: Mācību līdzekļi - skolām (1. - 6. klasei) (vienreizēja intervence – trīs gados tiek nomainīti visi attiecīgie mācību līdzekļi 1.-6.klašu posmā (katru gadu divām klasēm))
B3: Vienam izglīt. gadā | C3: Izglītojamo skaits kopā | D3: no 01.09.2023. | F3: no 01.09.2024. | H3: no 01.09.2025. | L3: Vienam izglīt. gadā | M3: Izglītojamo skaits kopā | N3: no 01.09.2023. | P3: no 01.09.2024. | R3: no 01.09.2025.
D4: Izglītojamo skaits Pirmsskola + Skola (1., 4., 7. kl.) | E4: Finansējums 2023. gadam | F4: Izglītojamo skaits Skola (2., 5., 8. kl.) | G4: Finansējums 2024. gadam | H4: Izglītojamo skaits Skola (3., 6., 9. kl.) | I4: Finansējums 2025. gadam | N4: Skola (1., 4.kl.) | O4: Finansējums 2023. gadam | P4: Skola (2., 5.kl.) | Q4: Finansējums 2024. gadam | R4: Skola (3., 6.kl.) | S4: Finansējums 2025. gadam
A5: Pirmsskola (1,5-6 gadi) | B5: 3 | C5: =+D5+F5+H5 -> 15553 | D5: 15553 | E5: =+D5*B5 -> 46659 | K5: Skola (1. - 6. kl.) | L5: 17 | M5: =+N5+P5+R5 -> 29123 | N5: 9482 | O5: =+N5*L5 -> 161194 | P5: 9491 | Q5: =+P5*L5 -> 161347 | R5: 10150 | S5: =+R5*L5 -> 172550
A6: Skola (1. - 9. kl.) | B6: =+B5 -> 3 | C6: =+D6+F6+H6 -> 45756 | D6: 15252 | E6: =+D6*B6 -> 45756 | F6: 15252 | G6: =+F6*B6 -> 45756 | H6: 15252 | I6: =+H6*B6 -> 45756
A7: KOPĀ | B7: =+B6 -> 3 | C7: =SUM(C5:C6) -> 61309 | D7: =SUM(D4:D6) -> 30805 | E7: =SUM(E4:E6) -> 92415 | F7: =SUM(F4:F6) -> 15252 | G7: =SUM(G4:G6) -> 45756 | H7: =SUM(H4:H6) -> 15252 | I7: =SUM(I4:I6) -> 45756
A9: Finansējums Mācību līdzekļu iegādei - interešu izglītībai | K9: Finansējums Mācību līdzekļu iegādei - skolām
D10: 2023.gads | E10: 2024.gads | F10: 2025.gads | G10: Turpmāk ik gadu | N10: 2023.gads | O10: 2024.gads | P10: 2025.gads | Q10: Turpmāk ik gadu
A11: no 01.09.2023. | D11: =+E7 -> 92415 | E11: =+D11 -> 92415 | F11: =+E11 -> 92415 | G11: =+F11 -> 92415 | K11: no 01.09.2023. | N11: =+O5 -> 161194
A12: no 01.09.2024. | E12: =+G7 -> 45756 | F12: =+E12 -> 45756 | G12: =+F12 -> 45756 | K12: no 01.09.2024. | O12: =+Q5 -> 161347
A13: no 01.09.2025. | F13: =+I7 -> 45756 | G13: =+F13 -> 45756 | K13: no 01.09.2025. | P13: =+S5 -> 172550
A14: KOPĀ | D14: =SUM(D11:D13) -> 92415 | E14: =SUM(E11:E13) -> 138171 | F14: =SUM(F11:F13) -> 183927 | G14: =SUM(G11:G13) -> 183927 | K14: KOPĀ | N14: =SUM(N11:N13) -> 161194 | O14: =SUM(O11:O13) -> 161347 | P14: =SUM(P11:P13) -> 172550 | Q14: =SUM(Q11:Q13) -> 0 | R14: =SUM(N14:Q14) -> 495091

Sheet LVA
A2: LVA īstenoto atbalsta pasākumu kopums izglītības iestādēm un pedagogiem pārejas uz mācībām valsts valodā nodrošināšanai
A4: N.p.k. | B4: Pasākums | C4: Darbības rezultāts un tā mērāmie rādītāji (2022-2026) | D4: 2022 (4 mēn.) | E4: 2023 | F4: 2024 | G4: 2025 | H4: 2026 | I4: Kopā | J4: Izpildes gala termiņš
A5: 4.1. | B5: Profesionālās pilnveides kursi (8h) latviskas vides veidošanā un integrētas latviešu valodas apguvē pirmsskolā, īpaši 5 – 6 gadīgo bērnu skolotājiem. | C5: Ir paaugstināta pedagogu profesionālā kompetence. Izglītoti 1500 pedagogi. 75 kursi. | D5: 10400 | E5: 16800 | F5: 12600 | G5: 12600 | H5: 12600 | I5: =SUM(D5:H5) -> 65000 | J5: 2023.-2026. gads (atlīdzība 46 000 EUR; nodrošinājums 15 000 EUR; programma 2000 EUR)
A6: 4.2. | B6: Vienoti profesionālās pilnveides kursi (12h) 5-6 gadīgo bērnu pirmsskolas pedagogiem un 1. klases pedagogiem, lai nodrošinātu bērnu sekmīgu iekļaušanos skolā. | C6: Ir paaugstināta pedagogu profesionālā kompetence. Izglītoti 240 pedagogu (12 kursi). | D6: 0 | E6: 4000 | F6: 3000 | G6: 3000 | H6: 3000 | I6: =SUM(D6:H6) -> 13000 | J6: 2023. – 2026. gads (atlīdzība 9360 EUR; nodrošinājums 2640 EUR, programma 1000EUR)
A7: 4.3. | B7: Metodikas un latviešu valodas prasmes pilnveides kursi pirmsskolas pedagogiem "Rotaļnodarbības latviski" (60h). | C7: Tiek sniegts atbalsts pirmsskolas pedagogiem latviskās vides nostiprināšanā un latviešu valodas prasmes pilnveidē profesionālajām vajadzībām. Izglītoti vismaz 500 pedagogi. | D7: 25456 | E7: 22320 | F7: 0 | G7: 0 | H7: 0 | I7: =SUM(D7:H7) -> 47776 | J7: 2022. – 2023. gads (atlīdzība 44 000 EUR, programma 1276 EUR, nodrošinājums 2500EUR).
A8: 4.4. | B8: Profesionālās pilnveides kursi (12h) par latviešu valodas apguvi konkrētā klasē (piemēram, latviešu valodas apguve 1. klasē) lingvistiski neviendabīgā vidē. | C8: Ir paaugstināta pedagogu profesionālā kompetence. Atbilstoši IZM ieviešanas plānam izglītoti 300 pedagogu. | D8: 0 | E8: 8000 | F8: 5000 | G8: 5000 | H8: 5000 | I8: =SUM(D8:H8) -> 23000 | J8: 2023. – 2026. gads (atlīdzība 14 400 EUR; nodrošinājums 5600 EUR).
A9: 4.5. | B9: Profesionālās pilnveides kursi dažādu mācību priekšmetu apguvē atbilstoši IZM latviešu valodas ieviešanas plānam.Izveidots latviešu valodas modulis (12h), ko integrē mācību priekšmetu pedagogu tālākizglītības programmās (sadarbībā ar VISC). Mazākumtautību skolu pedagogi apmeklē mācību priekšmetu metodikas kursus kopā ar latviešu mācībvalodu skolu pedagogiem. | C9: Ir paaugstināta pedagogu profesionālā kompetence latviešu valodas lietojumā. Izglītoti 300 mācību priekšmetu pedagogi. | D9: 0 | E9: 8000 | F9: 5000 | G9: 5000 | H9: 5000 | I9: =SUM(D9:H9) -> 23000 | J9: 2023. – 2026. gads (atlīdzība 14 400 EUR; nodrošinājums 5600 EUR).
A10: 4.6. | B10: Sadarbības pasākumi: “Ielūdz 5 – 6 gadus veci bērni” (pieredzes apmaiņa pirmsskolā (12h). Meistarklases (24h) pedagogu labākās pieredzes popularizēšanai un apkopošanai pamatskolā. | C10: Ir paaugstināta pedagogu profesionālā kompetence un nodrošināta pedagogu sadarbība. Pieredzi popularizējuši 20 bērnudārzi. Pieredzi popularizējuši katru gadu 80 pedagogu atbilstoši IZM plānam. Notikušas 24 meistarklases, izglītoti 480 pedagogi. | D10: 0 | E10: 19820 | F10: 19820 | G10: 19820 | H10: 19820 | I10: =SUM(D10:H10) -> 79280 | J10: 2023. – 2026. gads (atlīdzība 65 280 EUR; telpu noma un tehniskais nodrošinājums 14 000 EUR).
A11: 4.7. | B11: Metodikas skola “Pupa Latvijas pedagogiem” par konkrētiem pedagoģijas un metodikas jautājumiem. | C11: Ir paaugstināta pedagogu profesionālā kompetence. Notikuši 3 grupām 5 trīs stundu semināri vienā mācību gadā, izglītoti 240 pedagogi. | D11: 0 | E11: 4000 | F11: 4000 | G11: 4000 | H11: 4000 | I11: =SUM(D11:H11) -> 16000 | J11: 2023. – 2026. gads (4000 EUR gadā: atlīdzība 3000 EUR; nodrošinājums 1000 EUR).
A12: 4.8. | B12: Konsultācijas – mācīšanās kopienas skolotājiem kā atbalsts darbam neviendabīgā valodas vidē. Tiešsaistē. | C12: Profesionālo kompetenci pilnveidojuši vismaz 576 pedagogi. 2023. gads. – 24 pasākumi. 2024. gads. – 24 pasākumi. 2025. gads. – 24 pasākumi. 2026. gads. – 24 pasākumi. 1 pasākumā konsultēti vismaz 6 pedagogi. | D12: 0 | E12: 18000 | F12: 16000 | G12: 12000 | H12: 6000 | I12: =SUM(D12:H12) -> 52000 | J12: 2023. – 2026. gads
A13: 4.9. | B13: Atbalsta pasākumi iekļaujošās izglītības kontekstā latviešu valodas apguvei skolēniem, kuriem latviešu valoda nav dzimtā valoda, resp., mazākumtautību skolēniem un jauniebraucējiem (elektroniskie brīvpieejas materiāli un to ieviešana). | C13: Sagatavotas 3 vienības un īstenoti vismaz 6 ieviešanas pasākumi katru gadu. | D13: 0 | E13: 20000 | F13: 20000 | G13: 20000 | H13: 20000 | I13: =SUM(D13:H13) -> 80000 | J13: 2023. – 2026. gads
A14: Kopā: | D14: =SUM(D5:D13) -> 35856 | E14: =SUM(E5:E13) -> 120940 | F14: =SUM(F5:F13) -> 85420 | G14: =SUM(G5:G13) -> 81420 | H14: =SUM(H5:H13) -> 75420 | I14: =SUM(I5:I13) -> 399056
