Workbook

Sheet KOPSAVILKUMS
A1: Pielikums
A2: Sociālo pakalpojumu pilnveidošanas un attīstības plāns 2022.-2024.gadam
A3: Kopsavilkums par plānā iekļauto uzdevumu īstenošanai nepieciešamo valsts un pašvaldību budžeta finansējumu (euro)
A4: x | B4: Budžeta programmas (apakšprogrammas) kods un nosaukums | C4: Plānotais finansējums | F4: Nepieciešamais papildu finansējums
C5: 2022 | D5: 2023 | E5: 2024 | F5: 2023 | G5: 2024 | H5: 2025 | I5: turpmākajā laikposmā līdz pasākuma pabeigšanai (ja pasākuma īstenošana ir terminēta) | J5: turpmāk ik gadu (ja pasākuma izpilde nav terminēta)
A6: 1 | B6: 2 | C6: 3 | D6: 4 | E6: 5 | F6: 6 | G6: 7 | H6: 8 | I6: 9 | J6: 10
A7: Plāns sociālo pakalpojumu pilnveidošanai un attīstībai 2021.-2024.gadam Finansējums kopā | B7: x | C7: =C26+C222 -> 21044249 | D7: =D26+D222 -> 44064739 | E7: =E26+E222 -> 38633125 | F7: =F26+F222 -> 12909313 | G7: =G26+G222 -> 23174619 | H7: =H26+H222 -> 21552844 | I7: =I26+I222 -> 5610368.4 | J7: =J26+J222 -> 18290539
A8: Pašvaldību budžets | C8: =C27+C223 -> 0 | D8: =D27+D223 -> 0 | E8: =E27+E223 -> 0 | F8: =F27+F223 -> 0 | G8: =G27+G223 -> 0 | H8: =H27+H223 -> 0 | I8: =I27+I223 -> 0 | J8: =J27+J223 -> 0
A9: Vidēja termiņa budžeta ietvara likums, kopā, t.sk.: | C9: =C16+C19+C22 -> 21044249 | D9: =D16+D19+D22 -> 44064739 | E9: =E16+E19+E22 -> 38633125 | F9: =F16+F19+F22 -> 12909313 | G9: =G16+G19+G22 -> 23174619 | H9: =H16+H19+H22 -> 21552844 | I9: =I16+I19+I22 -> 5610368.4 | J9: =J16+J19+J22 -> 18290539
A10: valsts pamatfunkciju īstenošana | C10: =C17+C20+C23 -> 17780755 | D10: =D17+D20+D23 -> 9552364 | E10: =E17+E20+E23 -> 6193456 | F10: =F17+F20+F23 -> 7105504 | G10: =G17+G20+G23 -> 11551721 | H10: =H17+H20+H23 -> 18290539 | I10: =I17+I20+I23 -> 0 | J10: =J17+J20+J23 -> 18290539
A11: valsts sociālās apdrošināšanas speciālais budžets | C11: =C24 -> 0 | D11: =D24 -> 0 | E11: =E24 -> 0 | F11: =F24 -> 0 | G11: =G24 -> 0 | H11: =H24 -> 0 | I11: =I24 -> 0 | J11: =J24 -> 0
A12: Eiropas Savienības politiku instrumentu un pārējās ārvalstu finanšu palīdzības līdzfinansēto projektu un pasākumu īstenošana | C12: =C18+C21+C25 -> 3263494 | D12: =D18+D21+D25 -> 34512375 | E12: =E18+E21+E25 -> 32439669 | F12: =F18+F21+F25 -> 5803809 | G12: =G18+G21+G25 -> 11622898 | H12: =H18+H21+H25 -> 3262304.6 | I12: =I18+I21+I25 -> 5610368.4 | J12: =J18+J21+J25 -> 0
A13: =A32 -> 12.Ekonomikas ministrija | C13: =C32 -> 0 | D13: =D32 -> 0 | E13: =E32 -> 0 | F13: =F32 -> 0 | G13: =G32 -> 0 | H13: =H32 -> 0 | I13: =I32 -> 0 | J13: =J32 -> 0
A14: =A33 -> valsts pamatfunkciju īstenošana | C14: =C33 -> 0 | D14: =D33 -> 0 | E14: =E33 -> 0 | F14: =F33 -> 0 | G14: =G33 -> 0 | H14: =H33 -> 0 | I14: =I33 -> 0 | J14: =J33 -> 0
A15: =A34 -> Eiropas Savienības politiku instrumentu un pārējās ārvalstu finanšu palīdzības līdzfinansēto projektu un pasākumu īstenošana | C15: =C34 -> 0 | D15: =D34 -> 0 | E15: =E34 -> 0 | F15: =F34 -> 0 | G15: =G34 -> 0 | H15: =H34 -> 0 | I15: =I34 -> 0 | J15: =J34 -> 0
A16: 13.Finanšu ministrija | C16: =C228 -> 0 | D16: =D228 -> 0 | E16: =E228 -> 0 | F16: =F228 -> 0 | G16: =G228 -> 0 | H16: =H228 -> 0 | I16: =I228 -> 0 | J16: =J228 -> 0
A17: valsts pamatfunkciju īstenošana | C17: =C229 -> 0 | D17: =D229 -> 0 | E17: =E229 -> 0 | F17: =F229 -> 0 | G17: =G229 -> 0 | H17: =H229 -> 0 | I17: =I229 -> 0 | J17: =J229 -> 0
A18: Eiropas Savienības politiku instrumentu un pārējās ārvalstu finanšu palīdzības līdzfinansēto projektu un pasākumu īstenošana | C18: =C230 -> 0 | D18: =D230 -> 0 | E18: =E230 -> 0 | F18: =F230 -> 0 | G18: =G230 -> 0 | H18: =H230 -> 0 | I18: =I230 -> 0 | J18: =J230 -> 0
A19: 15. Izglītības un zinātnes ministrija | C19: =C35 -> 575064 | D19: =D35 -> 575064 | E19: =E35 -> 575064 | F19: =F35 -> 238836 | G19: =G35 -> 358253 | H19: =H35 -> 477671 | I19: =I35 -> 0 | J19: =J35 -> 477671
A20: valsts pamatfunkciju īstenošana | C20: =C36 -> 575064 | D20: =D36 -> 575064 | E20: =E36 -> 575064 | F20: =F36 -> 238836 | G20: =G36 -> 358253 | H20: =H36 -> 477671 | I20: =I36 -> 0 | J20: =J36 -> 477671
A21: Eiropas Savienības politiku instrumentu un pārējās ārvalstu finanšu palīdzības līdzfinansēto projektu un pasākumu īstenošana | C21: =C37 -> 0 | D21: =D37 -> 0 | E21: =E37 -> 0 | F21: =F37 -> 0 | G21: =G37 -> 0 | H21: =H37 -> 0 | I21: =I37 -> 0 | J21: =J37 -> 0
A22: 18. Labklājības ministrija | C22: =C23+C24+C25 -> 20469185 | D22: =D23+D24+D25 -> 43489675 | E22: =E23+E24+E25 -> 38058061 | F22: =F23+F24+F25 -> 12670477 | G22: =G23+G24+G25 -> 22816366 | H22: =H23+H24+H25 -> 21075173 | I22: =I23+I24+I25 -> 5610368.4 | J22: =J23+J24+J25 -> 17812868
A23: valsts pamatfunkciju īstenošana | C23: =C39+C232 -> 17205691 | D23: =D39+D232 -> 8977300 | E23: =E39+E232 -> 5618392 | F23: =F39+F232 -> 6866668 | G23: =G39+G232 -> 11193468 | H23: =H39+H232 -> 17812868 | I23: =I39+I232 -> 0 | J23: =J39+J232 -> 17812868
A24: valsts sociālās apdrošināšanas speciālais budžets | C24: =C40+C233 -> 0 | D24: =D40+D233 -> 0 | E24: =E40+E233 -> 0 | F24: =F40+F233 -> 0 | G24: =G40+G233 -> 0 | H24: =H40+H233 -> 0 | I24: =I40+I233 -> 0 | J24: =J40+J233 -> 0
A25: Eiropas Savienības politiku instrumentu un pārējās ārvalstu finanšu palīdzības līdzfinansēto projektu un pasākumu īstenošana | C25: =C41+C234 -> 3263494 | D25: =D41+D234 -> 34512375 | E25: =E41+E234 -> 32439669 | F25: =F41+F234 -> 5803809 | G25: =G41+G234 -> 11622898 | H25: =H41+H234 -> 3262304.6 | I25: =I41+I234 -> 5610368.4 | J25: =J41+J234 -> 0
A26: 1. Rīcības virziens Moderna un pieejama sociālo pakalpojumu sistēma, kas cita starpā uzlabo iedzīvotāju iespējas dzīvot neatkarīgi un dzīvot sabiedrībā, iekļauties izglītībā un darba tirgū Finansējums kopā | B26: x | C26: ='1.RĪCĪBAS VIRZIENS'!D8 -> 20609249 | D26: ='1.RĪCĪBAS VIRZIENS'!E8 -> 44064739 | E26: ='1.RĪCĪBAS VIRZIENS'!F8 -> 38633125 | F26: ='1.RĪCĪBAS VIRZIENS'!G8 -> 12153917 | G26: ='1.RĪCĪBAS VIRZIENS'!H8 -> 22383974 | H26: ='1.RĪCĪBAS VIRZIENS'!I8 -> 20762199 | I26: ='1.RĪCĪBAS VIRZIENS'!J8 -> 3898868.4 | J26: ='1.RĪCĪBAS VIRZIENS'!K8 -> 18290539
A27: ='1.RĪCĪBAS VIRZIENS'!B9 -> Pašvaldību budžets | C27: ='1.RĪCĪBAS VIRZIENS'!D9 -> 0 | D27: ='1.RĪCĪBAS VIRZIENS'!E9 -> 0 | E27: ='1.RĪCĪBAS VIRZIENS'!F9 -> 0 | F27: ='1.RĪCĪBAS VIRZIENS'!G9 -> 0 | G27: ='1.RĪCĪBAS VIRZIENS'!H9 -> 0 | H27: ='1.RĪCĪBAS VIRZIENS'!I9 -> 0 | I27: ='1.RĪCĪBAS VIRZIENS'!J9 -> 0 | J27: ='1.RĪCĪBAS VIRZIENS'!K9 -> 0
A28: ='1.RĪCĪBAS VIRZIENS'!B12 -> Vidēja termiņa budžeta ietvara likums, kopā, t.sk.: | C28: ='1.RĪCĪBAS VIRZIENS'!D12 -> 20609249 | D28: ='1.RĪCĪBAS VIRZIENS'!E12 -> 44064739 | E28: ='1.RĪCĪBAS VIRZIENS'!F12 -> 38633125 | F28: ='1.RĪCĪBAS VIRZIENS'!G12 -> 12153917 | G28: ='1.RĪCĪBAS VIRZIENS'!H12 -> 22383974 | H28: ='1.RĪCĪBAS VIRZIENS'!I12 -> 20762199 | I28: ='1.RĪCĪBAS VIRZIENS'!J12 -> 3898868.4 | J28: ='1.RĪCĪBAS VIRZIENS'!K12 -> 18290539
A29: ='1.RĪCĪBAS VIRZIENS'!B13 -> valsts pamatfunkciju īstenošana | C29: ='1.RĪCĪBAS VIRZIENS'!D13 -> 17780755 | D29: ='1.RĪCĪBAS VIRZIENS'!E13 -> 9552364 | E29: ='1.RĪCĪBAS VIRZIENS'!F13 -> 6193456 | F29: ='1.RĪCĪBAS VIRZIENS'!G13 -> 7105504 | G29: ='1.RĪCĪBAS VIRZIENS'!H13 -> 11551721 | H29: ='1.RĪCĪBAS VIRZIENS'!I13 -> 18290539 | I29: ='1.RĪCĪBAS VIRZIENS'!J13 -> 0 | J29: ='1.RĪCĪBAS VIRZIENS'!K13 -> 18290539
A30: ='1.RĪCĪBAS VIRZIENS'!B14 -> valsts sociālās apdrošināšanas speciālais budžets | C30: ='1.RĪCĪBAS VIRZIENS'!D14 -> 0 | D30: ='1.RĪCĪBAS VIRZIENS'!E14 -> 0 | E30: ='1.RĪCĪBAS VIRZIENS'!F14 -> 0 | F30: ='1.RĪCĪBAS VIRZIENS'!G14 -> 0 | G30: ='1.RĪCĪBAS VIRZIENS'!H14 -> 0 | H30: ='1.RĪCĪBAS VIRZIENS'!I14 -> 0 | I30: ='1.RĪCĪBAS VIRZIENS'!J14 -> 0 | J30: ='1.RĪCĪBAS VIRZIENS'!K14 -> 0
A31: ='1.RĪCĪBAS VIRZIENS'!B15 -> Eiropas Savienības politiku instrumentu un pārējās ārvalstu finanšu palīdzības līdzfinansēto projektu un pasākumu īstenošana | C31: ='1.RĪCĪBAS VIRZIENS'!D15 -> 2828494 | D31: ='1.RĪCĪBAS VIRZIENS'!E15 -> 34512375 | E31: ='1.RĪCĪBAS VIRZIENS'!F15 -> 32439669 | F31: ='1.RĪCĪBAS VIRZIENS'!G15 -> 5048413 | G31: ='1.RĪCĪBAS VIRZIENS'!H15 -> 10832253 | H31: ='1.RĪCĪBAS VIRZIENS'!I15 -> 2471659.6 | I31: ='1.RĪCĪBAS VIRZIENS'!J15 -> 3898868.4 | J31: ='1.RĪCĪBAS VIRZIENS'!K15 -> 0
A32: ='1.RĪCĪBAS VIRZIENS'!B17 -> 12.Ekonomikas ministrija | C32: ='1.RĪCĪBAS VIRZIENS'!D17 -> 0 | D32: ='1.RĪCĪBAS VIRZIENS'!E17 -> 0 | E32: ='1.RĪCĪBAS VIRZIENS'!F17 -> 0 | F32: ='1.RĪCĪBAS VIRZIENS'!G17 -> 0 | G32: ='1.RĪCĪBAS VIRZIENS'!H17 -> 0 | H32: ='1.RĪCĪBAS VIRZIENS'!I17 -> 0 | I32: ='1.RĪCĪBAS VIRZIENS'!J17 -> 0 | J32: ='1.RĪCĪBAS VIRZIENS'!K17 -> 0
A33: ='1.RĪCĪBAS VIRZIENS'!B18 -> valsts pamatfunkciju īstenošana | C33: ='1.RĪCĪBAS VIRZIENS'!D18 -> 0 | D33: ='1.RĪCĪBAS VIRZIENS'!E18 -> 0 | E33: ='1.RĪCĪBAS VIRZIENS'!F18 -> 0 | F33: ='1.RĪCĪBAS VIRZIENS'!G18 -> 0 | G33: ='1.RĪCĪBAS VIRZIENS'!H18 -> 0 | H33: ='1.RĪCĪBAS VIRZIENS'!I18 -> 0 | I33: ='1.RĪCĪBAS VIRZIENS'!J18 -> 0 | J33: ='1.RĪCĪBAS VIRZIENS'!K18 -> 0
A34: ='1.RĪCĪBAS VIRZIENS'!B19 -> Eiropas Savienības politiku instrumentu un pārējās ārvalstu finanšu palīdzības līdzfinansēto projektu un pasākumu īstenošana | C34: ='1.RĪCĪBAS VIRZIENS'!D19 -> 0 | D34: ='1.RĪCĪBAS VIRZIENS'!E19 -> 0 | E34: ='1.RĪCĪBAS VIRZIENS'!F19 -> 0 | F34: ='1.RĪCĪBAS VIRZIENS'!G19 -> 0 | G34: ='1.RĪCĪBAS VIRZIENS'!H19 -> 0 | H34: ='1.RĪCĪBAS VIRZIENS'!I19 -> 0 | I34: ='1.RĪCĪBAS VIRZIENS'!J19 -> 0 | J34: ='1.RĪCĪBAS VIRZIENS'!K19 -> 0
A35: ='1.RĪCĪBAS VIRZIENS'!B20 -> 15. Izglītības un zinātnes ministrija | C35: ='1.RĪCĪBAS VIRZIENS'!D20 -> 575064 | D35: ='1.RĪCĪBAS VIRZIENS'!E20 -> 575064 | E35: ='1.RĪCĪBAS VIRZIENS'!F20 -> 575064 | F35: ='1.RĪCĪBAS VIRZIENS'!G20 -> 238836 | G35: ='1.RĪCĪBAS VIRZIENS'!H20 -> 358253 | H35: ='1.RĪCĪBAS VIRZIENS'!I20 -> 477671 | I35: ='1.RĪCĪBAS VIRZIENS'!J20 -> 0 | J35: ='1.RĪCĪBAS VIRZIENS'!K20 -> 477671
A36: ='1.RĪCĪBAS VIRZIENS'!B21 -> valsts pamatfunkciju īstenošana | C36: ='1.RĪCĪBAS VIRZIENS'!D21 -> 575064 | D36: ='1.RĪCĪBAS VIRZIENS'!E21 -> 575064 | E36: ='1.RĪCĪBAS VIRZIENS'!F21 -> 575064 | F36: ='1.RĪCĪBAS VIRZIENS'!G21 -> 238836 | G36: ='1.RĪCĪBAS VIRZIENS'!H21 -> 358253 | H36: ='1.RĪCĪBAS VIRZIENS'!I21 -> 477671 | I36: ='1.RĪCĪBAS VIRZIENS'!J21 -> 0 | J36: ='1.RĪCĪBAS VIRZIENS'!K21 -> 477671
A37: ='1.RĪCĪBAS VIRZIENS'!B22 -> Eiropas Savienības politiku instrumentu un pārējās ārvalstu finanšu palīdzības līdzfinansēto projektu un pasākumu īstenošana | C37: ='1.RĪCĪBAS VIRZIENS'!D25 -> 0 | D37: ='1.RĪCĪBAS VIRZIENS'!E25 -> 0 | E37: ='1.RĪCĪBAS VIRZIENS'!F25 -> 0 | F37: ='1.RĪCĪBAS VIRZIENS'!G25 -> 0 | G37: ='1.RĪCĪBAS VIRZIENS'!H25 -> 0 | H37: ='1.RĪCĪBAS VIRZIENS'!I25 -> 0 | I37: ='1.RĪCĪBAS VIRZIENS'!J25 -> 0 | J37: ='1.RĪCĪBAS VIRZIENS'!K25 -> 0
A38: ='1.RĪCĪBAS VIRZIENS'!B23 -> 18. Labklājības ministrija | C38: ='1.RĪCĪBAS VIRZIENS'!D23 -> 20034185 | D38: ='1.RĪCĪBAS VIRZIENS'!E23 -> 43489675 | E38: ='1.RĪCĪBAS VIRZIENS'!F23 -> 38058061 | F38: ='1.RĪCĪBAS VIRZIENS'!G23 -> 11915081 | G38: ='1.RĪCĪBAS VIRZIENS'!H23 -> 22025721 | H38: ='1.RĪCĪBAS VIRZIENS'!I23 -> 20284528 | I38: ='1.RĪCĪBAS VIRZIENS'!J23 -> 3898868.4 | J38: ='1.RĪCĪBAS VIRZIENS'!K23 -> 17812868
A39: ='1.RĪCĪBAS VIRZIENS'!B24 -> valsts pamatfunkciju īstenošana | C39: ='1.RĪCĪBAS VIRZIENS'!D24 -> 17205691 | D39: ='1.RĪCĪBAS VIRZIENS'!E24 -> 8977300 | E39: ='1.RĪCĪBAS VIRZIENS'!F24 -> 5618392 | F39: ='1.RĪCĪBAS VIRZIENS'!G24 -> 6866668 | G39: ='1.RĪCĪBAS VIRZIENS'!H24 -> 11193468 | H39: ='1.RĪCĪBAS VIRZIENS'!I24 -> 17812868 | I39: ='1.RĪCĪBAS VIRZIENS'!J24 -> 0 | J39: ='1.RĪCĪBAS VIRZIENS'!K24 -> 17812868
A40: ='1.RĪCĪBAS VIRZIENS'!B25 -> valsts sociālās apdrošināšanas speciālais budžets | C40: ='1.RĪCĪBAS VIRZIENS'!D25 -> 0 | D40: ='1.RĪCĪBAS VIRZIENS'!E25 -> 0 | E40: ='1.RĪCĪBAS VIRZIENS'!F25 -> 0 | F40: ='1.RĪCĪBAS VIRZIENS'!G25 -> 0 | G40: ='1.RĪCĪBAS VIRZIENS'!H25 -> 0 | H40: ='1.RĪCĪBAS VIRZIENS'!I25 -> 0 | I40: ='1.RĪCĪBAS VIRZIENS'!J25 -> 0 | J40: ='1.RĪCĪBAS VIRZIENS'!K25 -> 0
A41: ='1.RĪCĪBAS VIRZIENS'!B26 -> Eiropas Savienības politiku instrumentu un pārējās ārvalstu finanšu palīdzības līdzfinansēto projektu un pasākumu īstenošana | C41: ='1.RĪCĪBAS VIRZIENS'!D26 -> 2828494 | D41: ='1.RĪCĪBAS VIRZIENS'!E26 -> 34512375 | E41: ='1.RĪCĪBAS VIRZIENS'!F26 -> 32439669 | F41: ='1.RĪCĪBAS VIRZIENS'!G26 -> 5048413 | G41: ='1.RĪCĪBAS VIRZIENS'!H26 -> 10832253 | H41: ='1.RĪCĪBAS VIRZIENS'!I26 -> 2471659.6 | I41: ='1.RĪCĪBAS VIRZIENS'!J26 -> 3898868.4 | J41: ='1.RĪCĪBAS VIRZIENS'!K26 -> 0
A42: ='1.RĪCĪBAS VIRZIENS'!B39 -> 1.Uzdevums. Palielināt sabiedrībā balstītu sociālo pakalpojumu pieejamību, efektivitāti un atbilstību mērķa grupas vajadzībām. Finansējums kopā | B42: x | C42: ='1.RĪCĪBAS VIRZIENS'!D39 -> 1170253 | D42: ='1.RĪCĪBAS VIRZIENS'!E39 -> 523067 | E42: ='1.RĪCĪBAS VIRZIENS'!F39 -> 523067 | F42: ='1.RĪCĪBAS VIRZIENS'!G39 -> 6342600 | G42: ='1.RĪCĪBAS VIRZIENS'!H39 -> 9185200 | H42: ='1.RĪCĪBAS VIRZIENS'!I39 -> 10627800 | I42: ='1.RĪCĪBAS VIRZIENS'!J39 -> 0 | J42: ='1.RĪCĪBAS VIRZIENS'!K39 -> 10627800
A43: ='1.RĪCĪBAS VIRZIENS'!B70 -> 1.1. Pasākums. Palielināt atbalstu un sabiedrībā balstītu sociālo pakalpojumu pieejamību bērniem un pilngadīgām personām ar funkcionāliem traucējumiem, t.sk. garīga rakstura traucējumiem vai multipliem traucējumiem, vecāka gada gājuma cilvēkiem, t.sk. cilvēkiem ar demenci, un sniedzot atbalstu viņu ģimenes locekļiem un neformālajiem aprūpētājiem, veicināt starpdisciplināru pieeju sociālajā aprūpē | B43: x | C43: ='1.RĪCĪBAS VIRZIENS'!D70 -> 93500 | D43: ='1.RĪCĪBAS VIRZIENS'!E70 -> 0 | E43: ='1.RĪCĪBAS VIRZIENS'!F70 -> 0 | F43: ='1.RĪCĪBAS VIRZIENS'!G70 -> 3542600 | G43: ='1.RĪCĪBAS VIRZIENS'!H70 -> 7085200 | H43: ='1.RĪCĪBAS VIRZIENS'!I70 -> 10627800 | I43: ='1.RĪCĪBAS VIRZIENS'!J70 -> 0 | J43: ='1.RĪCĪBAS VIRZIENS'!K70 -> 10627800
A44: ='1.RĪCĪBAS VIRZIENS'!B101 -> 1.1.1. apakšpasākums Nodrošināt valsts atbalstu pašvaldībām, kuras nodrošina pakalpojumus bērniem ar invaliditāti, kuriem noteikta īpašas kopšanas nepieciešamība *** | B44: ='1.RĪCĪBAS VIRZIENS'!C116 -> apakšprogramma 05.01.00 "Sociālās rehabilitācijas valsts programmas" | C44: ='1.RĪCĪBAS VIRZIENS'!D101 -> 0 | D44: ='1.RĪCĪBAS VIRZIENS'!E101 -> 0 | E44: ='1.RĪCĪBAS VIRZIENS'!F101 -> 0 | F44: ='1.RĪCĪBAS VIRZIENS'!G101 -> 3542600 | G44: ='1.RĪCĪBAS VIRZIENS'!H101 -> 7085200 | H44: ='1.RĪCĪBAS VIRZIENS'!I101 -> 10627800 | I44: ='1.RĪCĪBAS VIRZIENS'!J101 -> 0 | J44: ='1.RĪCĪBAS VIRZIENS'!K101 -> 10627800
A45: ='1.RĪCĪBAS VIRZIENS'!B132 -> 1.1.2. apakšpasākums Nodrošināt Starptautiskās funkcionēšanas, nespējas un veselības klasifikācijas bērniem un jauniešiem izmantošanu atbalsta apmēra noteikšanai bērniem ar funkcionāliem traucējumiem individuālā budžeta modeļa ietvaros | B45: ='1.RĪCĪBAS VIRZIENS'!C147 -> apakšprogramma 63.07.00 "Eiropas Sociālā fonda (ESF) projekti (2014–2020)" | C45: ='1.RĪCĪBAS VIRZIENS'!D132 -> 93500 | D45: ='1.RĪCĪBAS VIRZIENS'!E132 -> 0 | E45: ='1.RĪCĪBAS VIRZIENS'!F132 -> 0 | F45: ='1.RĪCĪBAS VIRZIENS'!G132 -> 0 | G45: ='1.RĪCĪBAS VIRZIENS'!H132 -> 0 | H45: ='1.RĪCĪBAS VIRZIENS'!I132 -> 0 | I45: ='1.RĪCĪBAS VIRZIENS'!J132 -> 0 | J45: ='1.RĪCĪBAS VIRZIENS'!K132 -> 0
A46: ='1.RĪCĪBAS VIRZIENS'!B163 -> 1.1.3. apakšpasākums Izvērtēt iespēju diferencēt un palielināt surdotulka stundas tarifa likmi izglītības iestādēs un saskarsmes nodrošināšanai*** | B46: ='1.RĪCĪBAS VIRZIENS'!C182 -> apakšprogramma 05.01.00 "Sociālās rehabilitācijas valsts programmas" | C46: ='1.RĪCĪBAS VIRZIENS'!D163 -> 0 | D46: ='1.RĪCĪBAS VIRZIENS'!E163 -> 0 | E46: ='1.RĪCĪBAS VIRZIENS'!F163 -> 0 | F46: ='1.RĪCĪBAS VIRZIENS'!G163 -> 0 | G46: ='1.RĪCĪBAS VIRZIENS'!H163 -> 0 | H46: ='1.RĪCĪBAS VIRZIENS'!I163 -> 0 | I46: ='1.RĪCĪBAS VIRZIENS'!J163 -> 0 | J46: ='1.RĪCĪBAS VIRZIENS'!K163 -> 0
B47: apakšprogramma 97.01.00 "Labklājības nozares vadība un politikas plānošana"** | C47: 0 | D47: 0 | E47: 0 | F47: 0 | G47: 0 | H47: 0 | I47: 0 | J47: 0
A48: ='1.RĪCĪBAS VIRZIENS'!B198 -> 1.1.4. apakšpasākums Izstrādāt surdotulka profesijas standartu** | B48: ='1.RĪCĪBAS VIRZIENS'!C213 -> apakšprogramma 05.37.00 "Sociālās integrācijas valsts aģentūras administrēšana un profesionālās un sociālās rehabilitācijas pakalpojumu nodrošināšana" | C48: ='1.RĪCĪBAS VIRZIENS'!D198 -> 0 | D48: ='1.RĪCĪBAS VIRZIENS'!E198 -> 0 | E48: ='1.RĪCĪBAS VIRZIENS'!F198 -> 0 | F48: ='1.RĪCĪBAS VIRZIENS'!G198 -> 0 | G48: ='1.RĪCĪBAS VIRZIENS'!H198 -> 0 | H48: ='1.RĪCĪBAS VIRZIENS'!I198 -> 0 | I48: ='1.RĪCĪBAS VIRZIENS'!J198 -> 0 | J48: ='1.RĪCĪBAS VIRZIENS'!K198 -> 0
A49: ='1.RĪCĪBAS VIRZIENS'!B229 -> 1.1.5. apakšpasākums Paaugstināt surdotulku profesionālo sagatavotību*** | B49: ='1.RĪCĪBAS VIRZIENS'!C244 -> apakšprogramma 05.37.00 "Sociālās integrācijas valsts aģentūras administrēšana un profesionālās un sociālās rehabilitācijas pakalpojumu nodrošināšana" | C49: ='1.RĪCĪBAS VIRZIENS'!D229 -> 0 | D49: ='1.RĪCĪBAS VIRZIENS'!E229 -> 0 | E49: ='1.RĪCĪBAS VIRZIENS'!F229 -> 0 | F49: ='1.RĪCĪBAS VIRZIENS'!G229 -> 0 | G49: ='1.RĪCĪBAS VIRZIENS'!H229 -> 0 | H49: ='1.RĪCĪBAS VIRZIENS'!I229 -> 0 | I49: ='1.RĪCĪBAS VIRZIENS'!J229 -> 0 | J49: ='1.RĪCĪBAS VIRZIENS'!K229 -> 0
A50: ='1.RĪCĪBAS VIRZIENS'!B260 -> 1.1.6. apakšpasākums Veicināt labās prakses pārnesi sociālo pakalpojumu plānošanā, kas balstīta uz personu individuālo vajadzību apzināšanu un analīzi ** | B50: ='1.RĪCĪBAS VIRZIENS'!C275 -> apakšprogramma 97.01.00 "Labklājības nozares vadība un politikas plānošana" | C50: ='1.RĪCĪBAS VIRZIENS'!D275 -> 0 | D50: ='1.RĪCĪBAS VIRZIENS'!E275 -> 0 | E50: ='1.RĪCĪBAS VIRZIENS'!F275 -> 0 | F50: ='1.RĪCĪBAS VIRZIENS'!G275 -> 0 | G50: ='1.RĪCĪBAS VIRZIENS'!H275 -> 0 | H50: ='1.RĪCĪBAS VIRZIENS'!I275 -> 0 | I50: ='1.RĪCĪBAS VIRZIENS'!J275 -> 0 | J50: ='1.RĪCĪBAS VIRZIENS'!K275 -> 0
A51: ='1.RĪCĪBAS VIRZIENS'!B291 -> 1.1.7. apakšpasākums Paplašināt sociālo pakalpojumu izveidei pieejamās aizdevumu iespējas ** | B51: ='1.RĪCĪBAS VIRZIENS'!C306 -> apakšprogramma 97.01.00 "Labklājības nozares vadība un politikas plānošana" | C51: ='1.RĪCĪBAS VIRZIENS'!D291 -> 0 | D51: ='1.RĪCĪBAS VIRZIENS'!E291 -> 0 | E51: ='1.RĪCĪBAS VIRZIENS'!F291 -> 0 | F51: ='1.RĪCĪBAS VIRZIENS'!G291 -> 0 | G51: ='1.RĪCĪBAS VIRZIENS'!H291 -> 0 | H51: ='1.RĪCĪBAS VIRZIENS'!I291 -> 0 | I51: ='1.RĪCĪBAS VIRZIENS'!J291 -> 0 | J51: ='1.RĪCĪBAS VIRZIENS'!K291 -> 0
A52: ='1.RĪCĪBAS VIRZIENS'!B322 -> 1.1.8. apakšpasākums Veidot atbalsta sistēmu bērniem ar autiskā spektra traucējumiem, nodrošinot valsts finansētu sociālo rehabilitāciju un pierādījumos balstītu agrīno intervenci*** | B52: ='1.RĪCĪBAS VIRZIENS'!C341 -> apakšprogramma 05.01.00 "Sociālās rehabilitācijas valsts programmas" | C52: ='1.RĪCĪBAS VIRZIENS'!D322 -> 0 | D52: ='1.RĪCĪBAS VIRZIENS'!E322 -> 0 | E52: ='1.RĪCĪBAS VIRZIENS'!F322 -> 0 | F52: ='1.RĪCĪBAS VIRZIENS'!G322 -> 0 | G52: ='1.RĪCĪBAS VIRZIENS'!H322 -> 0 | H52: ='1.RĪCĪBAS VIRZIENS'!I322 -> 0 | I52: ='1.RĪCĪBAS VIRZIENS'!J322 -> 0 | J52: ='1.RĪCĪBAS VIRZIENS'!K322 -> 0
B53: apakšprogramma 97.01.00 "Labklājības nozares vadība un politikas plānošana"** | C53: 0 | D53: 0 | E53: 0 | F53: 0 | G53: 0 | H53: 0 | I53: 0 | J53: 0
A54: ='1.RĪCĪBAS VIRZIENS'!B357 -> 1.2. Pasākums. Palielināt atbalstu un sabiedrībā balstītu sociālo pakalpojumu pieejamību bērniem un pilngadīgām personām ar funkcionāliem traucējumiem, t.sk. garīga rakstura traucējumiem vai multipliem traucējumiem, vecāka gada gājuma cilvēkiem, t.sk. cilvēkiem ar demenci, un sniedzot atbalstu viņu ģimenes locekļiem un neformālajiem aprūpētājiem, veicināt starpdisciplināru pieeju sociālajā aprūpē | B54: x | C54: ='1.RĪCĪBAS VIRZIENS'!D357 -> 939453 | D54: ='1.RĪCĪBAS VIRZIENS'!E357 -> 523067 | E54: ='1.RĪCĪBAS VIRZIENS'!F357 -> 523067 | F54: ='1.RĪCĪBAS VIRZIENS'!G357 -> 2800000 | G54: ='1.RĪCĪBAS VIRZIENS'!H357 -> 2100000 | H54: ='1.RĪCĪBAS VIRZIENS'!I357 -> 0 | I54: ='1.RĪCĪBAS VIRZIENS'!J357 -> 0 | J54: ='1.RĪCĪBAS VIRZIENS'!K357 -> 0
A55: ='1.RĪCĪBAS VIRZIENS'!B388 -> 1.2.1. apakšpasākums Izstrādāt pierādījumos balstītu hospisa aprūpes mājās pakalpojuma modeli pilngadīgām personām | B55: ='1.RĪCĪBAS VIRZIENS'!C403 -> apakšprogramma 05.01.00 "Sociālās rehabilitācijas valsts programmas" | C55: ='1.RĪCĪBAS VIRZIENS'!D388 -> 416386 | D55: ='1.RĪCĪBAS VIRZIENS'!E388 -> 0 | E55: ='1.RĪCĪBAS VIRZIENS'!F388 -> 0 | F55: ='1.RĪCĪBAS VIRZIENS'!G388 -> 0 | G55: ='1.RĪCĪBAS VIRZIENS'!H388 -> 0 | H55: ='1.RĪCĪBAS VIRZIENS'!I388 -> 0 | I55: ='1.RĪCĪBAS VIRZIENS'!J388 -> 0 | J55: ='1.RĪCĪBAS VIRZIENS'!K388 -> 0
A56: ='1.RĪCĪBAS VIRZIENS'!B419 -> 1.2.2. apakšpasākums Paplašināt atbalsta pieejamību paliatīvajā aprūpē esošiem bērniem, nepieciešamības gadījumā turpinot pakalpojuma sniegšanu līdz 24 gadu vecumam | B56: ='1.RĪCĪBAS VIRZIENS'!C434 -> apakšprogramma 05.01.00 "Sociālās rehabilitācijas valsts programmas" | C56: ='1.RĪCĪBAS VIRZIENS'!D419 -> 523067 | D56: ='1.RĪCĪBAS VIRZIENS'!E419 -> 523067 | E56: ='1.RĪCĪBAS VIRZIENS'!F419 -> 523067 | F56: ='1.RĪCĪBAS VIRZIENS'!G419 -> 0 | G56: ='1.RĪCĪBAS VIRZIENS'!H419 -> 0 | H56: ='1.RĪCĪBAS VIRZIENS'!I419 -> 0 | I56: ='1.RĪCĪBAS VIRZIENS'!J419 -> 0 | J56: ='1.RĪCĪBAS VIRZIENS'!K419 -> 0
A57: ='1.RĪCĪBAS VIRZIENS'!B450 -> 1.2.3. apakšpasākums Nodrošināt efektīvu atbalstu un paliatīvās aprūpes pakalpojuma pilnveidi, paaugstinot tā pieejamību pilngadīgām personām, kuru izārstēšana vairs nav iespējama * | B57: ='1.RĪCĪBAS VIRZIENS'!C465 -> **** | C57: ='1.RĪCĪBAS VIRZIENS'!D450 -> 0 | D57: ='1.RĪCĪBAS VIRZIENS'!E450 -> 0 | E57: ='1.RĪCĪBAS VIRZIENS'!F450 -> 0 | F57: ='1.RĪCĪBAS VIRZIENS'!G450 -> 2800000 | G57: ='1.RĪCĪBAS VIRZIENS'!H450 -> 2100000 | H57: ='1.RĪCĪBAS VIRZIENS'!I450 -> 0 | I57: ='1.RĪCĪBAS VIRZIENS'!J450 -> 0 | J57: ='1.RĪCĪBAS VIRZIENS'!K450 -> 0
A58: ='1.RĪCĪBAS VIRZIENS'!B481 -> 1.2.4. apakšpasākums Nodrošināt apmācības sociālo pakalpojumu sniedzējiem un neformālajiem aprūpētājiem par paliatīvās aprūpes pakalpojumiem* | B58: ='1.RĪCĪBAS VIRZIENS'!C496 -> **** | C58: ='1.RĪCĪBAS VIRZIENS'!D481 -> 0 | D58: ='1.RĪCĪBAS VIRZIENS'!E481 -> 0 | E58: ='1.RĪCĪBAS VIRZIENS'!F481 -> 0 | F58: ='1.RĪCĪBAS VIRZIENS'!G481 -> 0 | G58: ='1.RĪCĪBAS VIRZIENS'!H481 -> 0 | H58: ='1.RĪCĪBAS VIRZIENS'!I481 -> 0 | I58: ='1.RĪCĪBAS VIRZIENS'!J481 -> 0 | J58: ='1.RĪCĪBAS VIRZIENS'!K481 -> 0
A59: ='1.RĪCĪBAS VIRZIENS'!B512 -> 1.2.5. apakšpasākums Nodrošināt konsultatīvo, izglītojošo un psiholoģisko atbalstu sociālo pakalpojumu institūciju darbiniekiem, kuri sniedz paliatīvo aprūpi* | B59: ='1.RĪCĪBAS VIRZIENS'!C527 -> **** | C59: ='1.RĪCĪBAS VIRZIENS'!D512 -> 0 | D59: ='1.RĪCĪBAS VIRZIENS'!E512 -> 0 | E59: ='1.RĪCĪBAS VIRZIENS'!F512 -> 0 | F59: ='1.RĪCĪBAS VIRZIENS'!G512 -> 0 | G59: ='1.RĪCĪBAS VIRZIENS'!H512 -> 0 | H59: ='1.RĪCĪBAS VIRZIENS'!I512 -> 0 | I59: ='1.RĪCĪBAS VIRZIENS'!J512 -> 0 | J59: ='1.RĪCĪBAS VIRZIENS'!K512 -> 0
A60: ='1.RĪCĪBAS VIRZIENS'!B543 -> 1.2.6. apakšpasākums Nodrošināt psihoemocionālo atbalstu paliatīvās aprūpes pacientam un ģimenei viņa dzīvesvietā*** | B60: ='1.RĪCĪBAS VIRZIENS'!C562 -> apakšprogramma 05.01.00 "Sociālās rehabilitācijas valsts programmas" | C60: ='1.RĪCĪBAS VIRZIENS'!D543 -> 0 | D60: ='1.RĪCĪBAS VIRZIENS'!E543 -> 0 | E60: ='1.RĪCĪBAS VIRZIENS'!F543 -> 0 | F60: ='1.RĪCĪBAS VIRZIENS'!G543 -> 0 | G60: ='1.RĪCĪBAS VIRZIENS'!H543 -> 0 | H60: ='1.RĪCĪBAS VIRZIENS'!I543 -> 0 | I60: ='1.RĪCĪBAS VIRZIENS'!J543 -> 0 | J60: ='1.RĪCĪBAS VIRZIENS'!K543 -> 0
B61: apakšprogramma 97.01.00 "Labklājības nozares vadība un politikas plānošana"** | C61: 0 | D61: 0 | E61: 0 | F61: 0 | G61: 0 | H61: 0 | I61: 0 | J61: 0
A62: ='1.RĪCĪBAS VIRZIENS'!B578 -> 1.2.7. apakšpasākums Nodrošināt informāciju par atbalsta saņemšanas iespējām un paliatīvās aprūpes pakalpojumu pieejamību* | B62: ='1.RĪCĪBAS VIRZIENS'!C593 -> **** | C62: ='1.RĪCĪBAS VIRZIENS'!D578 -> 0 | D62: ='1.RĪCĪBAS VIRZIENS'!E578 -> 0 | E62: ='1.RĪCĪBAS VIRZIENS'!F578 -> 0 | F62: ='1.RĪCĪBAS VIRZIENS'!G578 -> 0 | G62: ='1.RĪCĪBAS VIRZIENS'!H578 -> 0 | H62: ='1.RĪCĪBAS VIRZIENS'!I578 -> 0 | I62: ='1.RĪCĪBAS VIRZIENS'!J578 -> 0 | J62: ='1.RĪCĪBAS VIRZIENS'!K578 -> 0
A63: ='1.RĪCĪBAS VIRZIENS'!B609 -> 1.2.8. apakšpasākums Apkopot informāciju par privātajām ilgstošas sociālās aprūpes institūcijām, kuras sniedz arī paliatīvās aprūpes pakalpojumu, reģionos. Veicināt informācijas izplatīšanu** | B63: ='1.RĪCĪBAS VIRZIENS'!C624 -> apakšprogramma 97.01.00 "Labklājības nozares vadība un politikas plānošana" | C63: ='1.RĪCĪBAS VIRZIENS'!D609 -> 0 | D63: ='1.RĪCĪBAS VIRZIENS'!E609 -> 0 | E63: ='1.RĪCĪBAS VIRZIENS'!F609 -> 0 | F63: ='1.RĪCĪBAS VIRZIENS'!G609 -> 0 | G63: ='1.RĪCĪBAS VIRZIENS'!H609 -> 0 | H63: ='1.RĪCĪBAS VIRZIENS'!I609 -> 0 | I63: ='1.RĪCĪBAS VIRZIENS'!J609 -> 0 | J63: ='1.RĪCĪBAS VIRZIENS'!K609 -> 0
A64: ='1.RĪCĪBAS VIRZIENS'!B640 -> 1.2.9. apakšpasākums Nodrošināt brīvprātīgā darba veicēju iesaisti un motivēšanu atbalsta sniegšanai paliatīvās aprūpes pacientiem un viņu ģimenes locekļiem* | B64: ='1.RĪCĪBAS VIRZIENS'!C655 -> **** | C64: ='1.RĪCĪBAS VIRZIENS'!D640 -> 0 | D64: ='1.RĪCĪBAS VIRZIENS'!E640 -> 0 | E64: ='1.RĪCĪBAS VIRZIENS'!F640 -> 0 | F64: ='1.RĪCĪBAS VIRZIENS'!G640 -> 0 | G64: ='1.RĪCĪBAS VIRZIENS'!H640 -> 0 | H64: ='1.RĪCĪBAS VIRZIENS'!I640 -> 0 | I64: ='1.RĪCĪBAS VIRZIENS'!J640 -> 0 | J64: ='1.RĪCĪBAS VIRZIENS'!K640 -> 0
A65: ='1.RĪCĪBAS VIRZIENS'!B671 -> 1.2.10. apakšpasākums Uzlabot bezmaksas mācību un informatīvo materiālu pieejamību par aprūpes praktiskajiem paņēmieniem ** | B65: ='1.RĪCĪBAS VIRZIENS'!C686 -> apakšprogramma 97.01.00 "Labklājības nozares vadība un politikas plānošana" | C65: ='1.RĪCĪBAS VIRZIENS'!D671 -> 0 | D65: ='1.RĪCĪBAS VIRZIENS'!E671 -> 0 | E65: ='1.RĪCĪBAS VIRZIENS'!F671 -> 0 | F65: ='1.RĪCĪBAS VIRZIENS'!G671 -> 0 | G65: ='1.RĪCĪBAS VIRZIENS'!H671 -> 0 | H65: ='1.RĪCĪBAS VIRZIENS'!I671 -> 0 | I65: ='1.RĪCĪBAS VIRZIENS'!J671 -> 0 | J65: ='1.RĪCĪBAS VIRZIENS'!K671 -> 0
A66: ='1.RĪCĪBAS VIRZIENS'!B702 -> 1.2.11. apakšpasākums Attīstīt sociālo pakalpojumu sistēmu paliatīvā aprūpē esošiem bērniem un viņu ģimenēm ** | B66: ='1.RĪCĪBAS VIRZIENS'!C717 -> apakšprogramma 97.01.00 "Labklājības nozares vadība un politikas plānošana" | C66: ='1.RĪCĪBAS VIRZIENS'!D702 -> 0 | D66: ='1.RĪCĪBAS VIRZIENS'!E702 -> 0 | E66: ='1.RĪCĪBAS VIRZIENS'!F702 -> 0 | F66: ='1.RĪCĪBAS VIRZIENS'!G702 -> 0 | G66: ='1.RĪCĪBAS VIRZIENS'!H702 -> 0 | H66: ='1.RĪCĪBAS VIRZIENS'!I702 -> 0 | I66: ='1.RĪCĪBAS VIRZIENS'!J702 -> 0 | J66: ='1.RĪCĪBAS VIRZIENS'!K702 -> 0
A67: ='1.RĪCĪBAS VIRZIENS'!B733 -> 1.3. Pasākums. Attīstīt atbalstu bērniem ar iespējamu vai esošu invaliditāti, tai skaitā, nodrošinot metodisku un praktisku atbalstu viņu aprūpē iesaistītajiem ģimenes locekļiem | B67: x | C67: ='1.RĪCĪBAS VIRZIENS'!D733 -> 137300 | D67: ='1.RĪCĪBAS VIRZIENS'!E733 -> 0 | E67: ='1.RĪCĪBAS VIRZIENS'!F733 -> 0 | F67: ='1.RĪCĪBAS VIRZIENS'!G733 -> 0 | G67: ='1.RĪCĪBAS VIRZIENS'!H733 -> 0 | H67: ='1.RĪCĪBAS VIRZIENS'!I733 -> 0 | I67: ='1.RĪCĪBAS VIRZIENS'!J733 -> 0 | J67: ='1.RĪCĪBAS VIRZIENS'!K733 -> 0
A68: ='1.RĪCĪBAS VIRZIENS'!B764 -> 1.3.1. apakšpasākums Nodrošināt bērnu aprūpes un pieskatīšanas pakalpojumu mājās ģimenēm ar bērniem ar smagiem funkcionāliem traucējumiem | B68: ='1.RĪCĪBAS VIRZIENS'!C779 -> apakšprogramma 63.07.00 "Eiropas Sociālā fonda (ESF) projekti (2014–2020)" | C68: ='1.RĪCĪBAS VIRZIENS'!D764 -> 137300 | D68: ='1.RĪCĪBAS VIRZIENS'!E764 -> 0 | E68: ='1.RĪCĪBAS VIRZIENS'!F764 -> 0 | F68: ='1.RĪCĪBAS VIRZIENS'!G764 -> 0 | G68: ='1.RĪCĪBAS VIRZIENS'!H764 -> 0 | H68: ='1.RĪCĪBAS VIRZIENS'!I764 -> 0 | I68: ='1.RĪCĪBAS VIRZIENS'!J764 -> 0 | J68: ='1.RĪCĪBAS VIRZIENS'!K764 -> 0
A69: ='1.RĪCĪBAS VIRZIENS'!B795 -> 1.3.2. apakšpasākums Izvērtēt atelpas brīža pakalpojuma mājās ieviešanu ģimenēm ar bērniem ar smagiem funkcionāliem traucējumiem * | B69: ='1.RĪCĪBAS VIRZIENS'!C810 -> apakšprogramma 63.07.00 "Eiropas Sociālā fonda (ESF) projekti (2014–2020)" | C69: ='1.RĪCĪBAS VIRZIENS'!D795 -> 0 | D69: ='1.RĪCĪBAS VIRZIENS'!E795 -> 0 | E69: ='1.RĪCĪBAS VIRZIENS'!F795 -> 0 | F69: ='1.RĪCĪBAS VIRZIENS'!G795 -> 0 | G69: ='1.RĪCĪBAS VIRZIENS'!H795 -> 0 | H69: ='1.RĪCĪBAS VIRZIENS'!I795 -> 0 | I69: ='1.RĪCĪBAS VIRZIENS'!J795 -> 0 | J69: ='1.RĪCĪBAS VIRZIENS'!K795 -> 0
A70: ='1.RĪCĪBAS VIRZIENS'!B826 -> 1.3.3. apakšpasākums Nodrošināt informācijas pieejamību par iespējamajiem atbalsta veidiem ģimenēm ar bērnu ar invaliditāti ** | B70: ='1.RĪCĪBAS VIRZIENS'!C841 -> apakšprogramma 97.01.00 "Labklājības nozares vadība un politikas plānošana" | C70: ='1.RĪCĪBAS VIRZIENS'!D826 -> 0 | D70: ='1.RĪCĪBAS VIRZIENS'!E826 -> 0 | E70: ='1.RĪCĪBAS VIRZIENS'!F826 -> 0 | F70: ='1.RĪCĪBAS VIRZIENS'!G826 -> 0 | G70: ='1.RĪCĪBAS VIRZIENS'!H826 -> 0 | H70: ='1.RĪCĪBAS VIRZIENS'!I826 -> 0 | I70: ='1.RĪCĪBAS VIRZIENS'!J826 -> 0 | J70: ='1.RĪCĪBAS VIRZIENS'!K826 -> 0
A71: ='1.RĪCĪBAS VIRZIENS'!B857 -> 1.3.4. apakšpasākums Nodrošināt psihosociālo rehabilitāciju vecākiem bērna ārstēšanās BKUS laikā *** | B71: ='1.RĪCĪBAS VIRZIENS'!C876 -> apakšprogramma 05.01.00 "Sociālās rehabilitācijas valsts programmas" | C71: ='1.RĪCĪBAS VIRZIENS'!D857 -> 0 | D71: ='1.RĪCĪBAS VIRZIENS'!E857 -> 0 | E71: ='1.RĪCĪBAS VIRZIENS'!F857 -> 0 | F71: ='1.RĪCĪBAS VIRZIENS'!G857 -> 0 | G71: ='1.RĪCĪBAS VIRZIENS'!H857 -> 0 | H71: ='1.RĪCĪBAS VIRZIENS'!I857 -> 0 | I71: ='1.RĪCĪBAS VIRZIENS'!J857 -> 0 | J71: ='1.RĪCĪBAS VIRZIENS'!K857 -> 0
B72: apakšprogramma 97.01.00 "Labklājības nozares vadība un politikas plānošana"** | C72: 0 | D72: 0 | E72: 0 | F72: 0 | G72: 0 | H72: 0 | I72: 0 | J72: 0
A73: ='1.RĪCĪBAS VIRZIENS'!B892 -> 1.4. Pasākums. Pilnveidot un ieviest jaunus sociālos pakalpojumus (gan akūtu problēmu risināšanai, gan ilgtermiņa atbalsta nodrošināšanai) bērniem un jauniešiem ar psihiskiem un uzvedības traucējumiem, tai skaitā atkarības vielu un procesu atkarībām un multiplām problēmām | B73: x | C73: ='1.RĪCĪBAS VIRZIENS'!D892 -> 0 | D73: ='1.RĪCĪBAS VIRZIENS'!E892 -> 0 | E73: ='1.RĪCĪBAS VIRZIENS'!F892 -> 0 | F73: ='1.RĪCĪBAS VIRZIENS'!G892 -> 0 | G73: ='1.RĪCĪBAS VIRZIENS'!H892 -> 0 | H73: ='1.RĪCĪBAS VIRZIENS'!I892 -> 0 | I73: ='1.RĪCĪBAS VIRZIENS'!J892 -> 0 | J73: ='1.RĪCĪBAS VIRZIENS'!K892 -> 0
A74: ='1.RĪCĪBAS VIRZIENS'!B923 -> 1.4.1. apakšpasākums Ieviest sadarbībā ar nozares ekspertiem sociālās rehabilitācijas pakalpojumus pusaudžiem un jauniešiem ar uzvedības traucējumiem *** | B74: ='1.RĪCĪBAS VIRZIENS'!C942 -> apakšprogramma 05.01.00 "Sociālās rehabilitācijas valsts programmas" | C74: ='1.RĪCĪBAS VIRZIENS'!D923 -> 0 | D74: ='1.RĪCĪBAS VIRZIENS'!E923 -> 0 | E74: ='1.RĪCĪBAS VIRZIENS'!F923 -> 0 | F74: ='1.RĪCĪBAS VIRZIENS'!G923 -> 0 | G74: ='1.RĪCĪBAS VIRZIENS'!H923 -> 0 | H74: ='1.RĪCĪBAS VIRZIENS'!I923 -> 0 | I74: ='1.RĪCĪBAS VIRZIENS'!J923 -> 0 | J74: ='1.RĪCĪBAS VIRZIENS'!K923 -> 0
B75: apakšprogramma 97.01.00 "Labklājības nozares vadība un politikas plānošana"** | C75: 0 | D75: 0 | E75: 0 | F75: 0 | G75: 0 | H75: 0 | I75: 0 | J75: 0
A76: ='1.RĪCĪBAS VIRZIENS'!B958 -> 1.4.2. apakšpasākums Plānot starpdisciplinārus un sociālās rehabilitācijas pakalpojumus bērniem ar psihiskās veselības traucējumiem īstenošanai stacionārās veselības aprūpes iestādēs** | B76: ='1.RĪCĪBAS VIRZIENS'!C973 -> apakšprogramma 97.01.00 "Labklājības nozares vadība un politikas plānošana" | C76: ='1.RĪCĪBAS VIRZIENS'!D958 -> 0 | D76: ='1.RĪCĪBAS VIRZIENS'!E958 -> 0 | E76: ='1.RĪCĪBAS VIRZIENS'!F958 -> 0 | F76: ='1.RĪCĪBAS VIRZIENS'!G958 -> 0 | G76: ='1.RĪCĪBAS VIRZIENS'!H958 -> 0 | H76: ='1.RĪCĪBAS VIRZIENS'!I958 -> 0 | I76: ='1.RĪCĪBAS VIRZIENS'!J958 -> 0 | J76: ='1.RĪCĪBAS VIRZIENS'!K958 -> 0
A77: ='1.RĪCĪBAS VIRZIENS'!B989 -> 1.4.3. apakšpasākums Veicināt labās prakses pārnesi, metodiski un organizatoriski atbalstot esošo pakalpojumu pārņemšanu citās pašvaldībās ** | B77: ='1.RĪCĪBAS VIRZIENS'!C1004 -> apakšprogramma 97.01.00 "Labklājības nozares vadība un politikas plānošana" | C77: ='1.RĪCĪBAS VIRZIENS'!D989 -> 0 | D77: ='1.RĪCĪBAS VIRZIENS'!E989 -> 0 | E77: ='1.RĪCĪBAS VIRZIENS'!F989 -> 0 | F77: ='1.RĪCĪBAS VIRZIENS'!G989 -> 0 | G77: ='1.RĪCĪBAS VIRZIENS'!H989 -> 0 | H77: ='1.RĪCĪBAS VIRZIENS'!I989 -> 0 | I77: ='1.RĪCĪBAS VIRZIENS'!J989 -> 0 | J77: ='1.RĪCĪBAS VIRZIENS'!K989 -> 0
A78: ='1.RĪCĪBAS VIRZIENS'!B1020 -> 2.Uzdevums. Veicināt personu pāreju uz sabiedrībā balstītu vai ģimeniskai videi pietuvinātu pakalpojumu saņemšanu, vienlaikus uzlabojot institucionālās aprūpes pakalpojumu kvalitāti. Finansējums kopā | B78: x | C78: ='1.RĪCĪBAS VIRZIENS'!D1020 -> 71346 | D78: ='1.RĪCĪBAS VIRZIENS'!E1020 -> 32425000 | E78: ='1.RĪCĪBAS VIRZIENS'!F1020 -> 32439669 | F78: ='1.RĪCĪBAS VIRZIENS'!G1020 -> 0 | G78: ='1.RĪCĪBAS VIRZIENS'!H1020 -> 0 | H78: ='1.RĪCĪBAS VIRZIENS'!I1020 -> 0 | I78: ='1.RĪCĪBAS VIRZIENS'!J1020 -> 0 | J78: ='1.RĪCĪBAS VIRZIENS'!K1020 -> 0
A79: ='1.RĪCĪBAS VIRZIENS'!B1051 -> 2.1. Pasākums. Veidot ģimeniskai videi pietuvinātas pakalpojumu sniegšanas vietas bērniem ar smagiem funkcionāliem traucējumiem | B79: x | C79: ='1.RĪCĪBAS VIRZIENS'!D1051 -> 0 | D79: ='1.RĪCĪBAS VIRZIENS'!E1051 -> 0 | E79: ='1.RĪCĪBAS VIRZIENS'!F1051 -> 0 | F79: ='1.RĪCĪBAS VIRZIENS'!G1051 -> 0 | G79: ='1.RĪCĪBAS VIRZIENS'!H1051 -> 0 | H79: ='1.RĪCĪBAS VIRZIENS'!I1051 -> 0 | I79: ='1.RĪCĪBAS VIRZIENS'!J1051 -> 0 | J79: ='1.RĪCĪBAS VIRZIENS'!K1051 -> 0
A80: ='1.RĪCĪBAS VIRZIENS'!B1082 -> 2.1.1. apakšpasākums Ieviest ģimeniskai videi pietuvinātu sociālo pakalpojumu bērnu SAC, VSAC** | B80: ='1.RĪCĪBAS VIRZIENS'!C1083 -> Pašvaldību budžets | C80: ='1.RĪCĪBAS VIRZIENS'!D1083 -> 0 | D80: ='1.RĪCĪBAS VIRZIENS'!E1083 -> 0 | E80: ='1.RĪCĪBAS VIRZIENS'!F1083 -> 0 | F80: ='1.RĪCĪBAS VIRZIENS'!G1083 -> 0 | G80: ='1.RĪCĪBAS VIRZIENS'!H1083 -> 0 | H80: ='1.RĪCĪBAS VIRZIENS'!I1083 -> 0 | I80: ='1.RĪCĪBAS VIRZIENS'!J1083 -> 0 | J80: ='1.RĪCĪBAS VIRZIENS'!K1083 -> 0
B81: ='1.RĪCĪBAS VIRZIENS'!C1101 -> 05.03.00 “Aprūpe valsts sociālās aprūpes institūcijās” | C81: ='1.RĪCĪBAS VIRZIENS'!D1101 -> 0 | D81: ='1.RĪCĪBAS VIRZIENS'!E1101 -> 0 | E81: ='1.RĪCĪBAS VIRZIENS'!F1101 -> 0 | F81: ='1.RĪCĪBAS VIRZIENS'!G1101 -> 0 | G81: ='1.RĪCĪBAS VIRZIENS'!H1101 -> 0 | H81: ='1.RĪCĪBAS VIRZIENS'!I1101 -> 0 | I81: ='1.RĪCĪBAS VIRZIENS'!J1101 -> 0 | J81: ='1.RĪCĪBAS VIRZIENS'!K1101 -> 0
B82: apakšprogramma 97.01.00 "Labklājības nozares vadība un politikas plānošana"** | C82: 0 | D82: 0 | E82: 0 | F82: 0 | G82: 0 | H82: 0 | I82: 0 | J82: 0
A83: ='1.RĪCĪBAS VIRZIENS'!B1148 -> 2.1.2. apakšpasākums Attīstīt sociālos pakalpojumus bērniem ar smagiem un ļoti smagiem funkcionāliem traucējumiem kopienā** | B83: ='1.RĪCĪBAS VIRZIENS'!C1149 -> Pašvaldību budžets | C83: ='1.RĪCĪBAS VIRZIENS'!D1149 -> 0 | D83: ='1.RĪCĪBAS VIRZIENS'!E1149 -> 0 | E83: ='1.RĪCĪBAS VIRZIENS'!F1149 -> 0 | F83: ='1.RĪCĪBAS VIRZIENS'!G1149 -> 0 | G83: ='1.RĪCĪBAS VIRZIENS'!H1149 -> 0 | H83: ='1.RĪCĪBAS VIRZIENS'!I1149 -> 0 | I83: ='1.RĪCĪBAS VIRZIENS'!J1149 -> 0 | J83: ='1.RĪCĪBAS VIRZIENS'!K1149 -> 0
B84: ='1.RĪCĪBAS VIRZIENS'!C1163 -> apakšprogramma 05.03.00 “Aprūpe valsts sociālās aprūpes institūcijās” | C84: ='1.RĪCĪBAS VIRZIENS'!D1163 -> 0 | D84: ='1.RĪCĪBAS VIRZIENS'!E1163 -> 0 | E84: ='1.RĪCĪBAS VIRZIENS'!F1163 -> 0 | F84: ='1.RĪCĪBAS VIRZIENS'!G1163 -> 0 | G84: ='1.RĪCĪBAS VIRZIENS'!H1163 -> 0 | H84: ='1.RĪCĪBAS VIRZIENS'!I1163 -> 0 | I84: ='1.RĪCĪBAS VIRZIENS'!J1163 -> 0 | J84: ='1.RĪCĪBAS VIRZIENS'!K1163 -> 0
A85: ='1.RĪCĪBAS VIRZIENS'!B1179 -> 2.1.3. apakšpasākums Popularizēt ģimeniskai videi pietuvināta pakalpojuma bez vecāku gādības palikušajiem bērniem pozitīvo pieredzi** | B85: ='1.RĪCĪBAS VIRZIENS'!C1180 -> Pašvaldību budžets | C85: ='1.RĪCĪBAS VIRZIENS'!D1180 -> 0 | D85: ='1.RĪCĪBAS VIRZIENS'!E1180 -> 0 | E85: ='1.RĪCĪBAS VIRZIENS'!F1180 -> 0 | F85: ='1.RĪCĪBAS VIRZIENS'!G1180 -> 0 | G85: ='1.RĪCĪBAS VIRZIENS'!H1180 -> 0 | H85: ='1.RĪCĪBAS VIRZIENS'!I1180 -> 0 | I85: ='1.RĪCĪBAS VIRZIENS'!J1180 -> 0 | J85: ='1.RĪCĪBAS VIRZIENS'!K1180 -> 0
B86: ='1.RĪCĪBAS VIRZIENS'!C1194 -> apakšprogramma 97.01.00 "Labklājības nozares vadība un politikas plānošana" | C86: ='1.RĪCĪBAS VIRZIENS'!D1194 -> 0 | D86: ='1.RĪCĪBAS VIRZIENS'!E1194 -> 0 | E86: ='1.RĪCĪBAS VIRZIENS'!F1194 -> 0 | F86: ='1.RĪCĪBAS VIRZIENS'!G1194 -> 0 | G86: ='1.RĪCĪBAS VIRZIENS'!H1194 -> 0 | H86: ='1.RĪCĪBAS VIRZIENS'!I1194 -> 0 | I86: ='1.RĪCĪBAS VIRZIENS'!J1194 -> 0 | J86: ='1.RĪCĪBAS VIRZIENS'!K1194 -> 0
A87: ='1.RĪCĪBAS VIRZIENS'!B1210 -> 2.1.4. apakšpasākums Izstrādāt prasības ģimeniskai videi pietuvinātam pakalpojumam ** | B87: ='1.RĪCĪBAS VIRZIENS'!C1225 -> apakšprogramma 97.01.00 "Labklājības nozares vadība un politikas plānošana" | C87: ='1.RĪCĪBAS VIRZIENS'!D1210 -> 0 | D87: ='1.RĪCĪBAS VIRZIENS'!E1210 -> 0 | E87: ='1.RĪCĪBAS VIRZIENS'!F1210 -> 0 | F87: ='1.RĪCĪBAS VIRZIENS'!G1210 -> 0 | G87: ='1.RĪCĪBAS VIRZIENS'!H1210 -> 0 | H87: ='1.RĪCĪBAS VIRZIENS'!I1210 -> 0 | I87: ='1.RĪCĪBAS VIRZIENS'!J1210 -> 0 | J87: ='1.RĪCĪBAS VIRZIENS'!K1210 -> 0
A88: ='1.RĪCĪBAS VIRZIENS'!B1241 -> 2.1.5. apakšpasākums Izvērtēt SAC pakalpojuma bērniem, kuru vecākiem nav ierobežotas aizgādības tiesības, pakalpojuma nodrošināšanas tiesiskos aspektus ** | B88: ='1.RĪCĪBAS VIRZIENS'!C1256 -> apakšprogramma 97.01.00 "Labklājības nozares vadība un politikas plānošana" | C88: ='1.RĪCĪBAS VIRZIENS'!D1241 -> 0 | D88: ='1.RĪCĪBAS VIRZIENS'!E1241 -> 0 | E88: ='1.RĪCĪBAS VIRZIENS'!F1241 -> 0 | F88: ='1.RĪCĪBAS VIRZIENS'!G1241 -> 0 | G88: ='1.RĪCĪBAS VIRZIENS'!H1241 -> 0 | H88: ='1.RĪCĪBAS VIRZIENS'!I1241 -> 0 | I88: ='1.RĪCĪBAS VIRZIENS'!J1241 -> 0 | J88: ='1.RĪCĪBAS VIRZIENS'!K1241 -> 0
A89: ='1.RĪCĪBAS VIRZIENS'!B1272 -> 2.2. Pasākums. Veidot ģimeniskai videi pietuvinātas pakalpojumu sniegšanas vietas pensijas vecuma personām, veicināt personas pašaprūpes spēju uzturēšanu. | B89: x | C89: ='1.RĪCĪBAS VIRZIENS'!D1272 -> 71346 | D89: ='1.RĪCĪBAS VIRZIENS'!E1272 -> 32425000 | E89: ='1.RĪCĪBAS VIRZIENS'!F1272 -> 32439669 | F89: ='1.RĪCĪBAS VIRZIENS'!G1272 -> 0 | G89: ='1.RĪCĪBAS VIRZIENS'!H1272 -> 0 | H89: ='1.RĪCĪBAS VIRZIENS'!I1272 -> 0 | I89: ='1.RĪCĪBAS VIRZIENS'!J1272 -> 0 | J89: ='1.RĪCĪBAS VIRZIENS'!K1272 -> 0
A90: ='1.RĪCĪBAS VIRZIENS'!B1303 -> 2.2.1. apakšpasākums Izstrādāt prasības ģimeniskai videi pietuvinātam pakalpojumam pilngadīgām personām** | B90: ='1.RĪCĪBAS VIRZIENS'!C1318 -> apakšprogramma 97.01.00 "Labklājības nozares vadība un politikas plānošana" | C90: ='1.RĪCĪBAS VIRZIENS'!D1303 -> 0 | D90: ='1.RĪCĪBAS VIRZIENS'!E1303 -> 0 | E90: ='1.RĪCĪBAS VIRZIENS'!F1303 -> 0 | F90: ='1.RĪCĪBAS VIRZIENS'!G1303 -> 0 | G90: ='1.RĪCĪBAS VIRZIENS'!H1303 -> 0 | H90: ='1.RĪCĪBAS VIRZIENS'!I1303 -> 0 | I90: ='1.RĪCĪBAS VIRZIENS'!J1303 -> 0 | J90: ='1.RĪCĪBAS VIRZIENS'!K1303 -> 0
A91: ='1.RĪCĪBAS VIRZIENS'!B1334 -> 2.2.2. apakšpasākums Izveidot ģimeniskai videi pietuvinātā pakalpojuma sniegšanas vietas pensijas vecuma personām. | B91: ='1.RĪCĪBAS VIRZIENS'!C1353 -> **** | C91: ='1.RĪCĪBAS VIRZIENS'!D1334 -> 71346 | D91: ='1.RĪCĪBAS VIRZIENS'!E1334 -> 32425000 | E91: ='1.RĪCĪBAS VIRZIENS'!F1334 -> 32439669 | F91: ='1.RĪCĪBAS VIRZIENS'!G1334 -> 0 | G91: ='1.RĪCĪBAS VIRZIENS'!H1334 -> 0 | H91: ='1.RĪCĪBAS VIRZIENS'!I1334 -> 0 | I91: ='1.RĪCĪBAS VIRZIENS'!J1334 -> 0 | J91: ='1.RĪCĪBAS VIRZIENS'!K1334 -> 0
B92: apakšprogramma 97.01.00 "Labklājības nozares vadība un politikas plānošana"** | C92: 0 | D92: 0 | E92: 0 | F92: 0 | G92: 0 | H92: 0 | I92: 0 | J92: 0
A93: ='1.RĪCĪBAS VIRZIENS'!B1369 -> 2.3. Pasākums. Uzlabot sociālās aprūpes institūcijās sniegto pakalpojumu kvalitāti (IKT risinājumi, optimāls klientu skaits iestādē), tai skaitā pielāgojot, uzlabojot un pilnveidojot institūciju infrastruktūru personas pašaprūpes veicināšanai, cieņpilnai aprūpei un epidemioloģiskā apdraudējuma novēršanai | B93: x | C93: ='1.RĪCĪBAS VIRZIENS'!D1369 -> 0 | D93: ='1.RĪCĪBAS VIRZIENS'!E1369 -> 0 | E93: ='1.RĪCĪBAS VIRZIENS'!F1369 -> 0 | F93: ='1.RĪCĪBAS VIRZIENS'!G1369 -> 0 | G93: ='1.RĪCĪBAS VIRZIENS'!H1369 -> 0 | H93: ='1.RĪCĪBAS VIRZIENS'!I1369 -> 0 | I93: ='1.RĪCĪBAS VIRZIENS'!J1369 -> 0 | J93: ='1.RĪCĪBAS VIRZIENS'!K1369 -> 0
A94: ='1.RĪCĪBAS VIRZIENS'!B1400 -> 2.3.1. apakšpasākums Uzlabota epidemioloģiskā drošība SAC un VSAC ** | B94: ='1.RĪCĪBAS VIRZIENS'!C1415 -> apakšprogramma 97.01.00 "Labklājības nozares vadība un politikas plānošana" | C94: ='1.RĪCĪBAS VIRZIENS'!D1415 -> 0 | D94: ='1.RĪCĪBAS VIRZIENS'!E1415 -> 0 | E94: ='1.RĪCĪBAS VIRZIENS'!F1415 -> 0 | F94: ='1.RĪCĪBAS VIRZIENS'!G1415 -> 0 | G94: ='1.RĪCĪBAS VIRZIENS'!H1415 -> 0 | H94: ='1.RĪCĪBAS VIRZIENS'!I1415 -> 0 | I94: ='1.RĪCĪBAS VIRZIENS'!J1415 -> 0 | J94: ='1.RĪCĪBAS VIRZIENS'!K1415 -> 0
A95: ='1.RĪCĪBAS VIRZIENS'!B1431 -> 2.3.2. apakšpasākums Veicināt brīvprātīgā darba veicēju iesaisti sociālo pakalpojumu jomā, jo īpaši VSAC un SAC ** | B95: ='1.RĪCĪBAS VIRZIENS'!C1446 -> apakšprogramma 97.01.00 "Labklājības nozares vadība un politikas plānošana" | C95: ='1.RĪCĪBAS VIRZIENS'!D1446 -> 0 | D95: ='1.RĪCĪBAS VIRZIENS'!E1446 -> 0 | E95: ='1.RĪCĪBAS VIRZIENS'!F1446 -> 0 | F95: ='1.RĪCĪBAS VIRZIENS'!G1446 -> 0 | G95: ='1.RĪCĪBAS VIRZIENS'!H1446 -> 0 | H95: ='1.RĪCĪBAS VIRZIENS'!I1446 -> 0 | I95: ='1.RĪCĪBAS VIRZIENS'!J1446 -> 0 | J95: ='1.RĪCĪBAS VIRZIENS'!K1446 -> 0
A96: ='1.RĪCĪBAS VIRZIENS'!B1462 -> 2.3.3. apakšpasākums Veicināt VSAC un SAC klientu cieņpilnu dzīvi** | B96: ='1.RĪCĪBAS VIRZIENS'!C1463 -> Pašvaldību budžets | C96: ='1.RĪCĪBAS VIRZIENS'!D1463 -> 0 | D96: ='1.RĪCĪBAS VIRZIENS'!E1463 -> 0 | E96: ='1.RĪCĪBAS VIRZIENS'!F1463 -> 0 | F96: ='1.RĪCĪBAS VIRZIENS'!G1463 -> 0 | G96: ='1.RĪCĪBAS VIRZIENS'!H1463 -> 0 | H96: ='1.RĪCĪBAS VIRZIENS'!I1463 -> 0 | I96: ='1.RĪCĪBAS VIRZIENS'!J1463 -> 0 | J96: ='1.RĪCĪBAS VIRZIENS'!K1463 -> 0
B97: ='1.RĪCĪBAS VIRZIENS'!C1481 -> apakšprogramma 05.03.00 “Aprūpe valsts sociālās aprūpes institūcijās” | C97: ='1.RĪCĪBAS VIRZIENS'!D1481 -> 0 | D97: ='1.RĪCĪBAS VIRZIENS'!E1481 -> 0 | E97: ='1.RĪCĪBAS VIRZIENS'!F1481 -> 0 | F97: ='1.RĪCĪBAS VIRZIENS'!G1481 -> 0 | G97: ='1.RĪCĪBAS VIRZIENS'!H1481 -> 0 | H97: ='1.RĪCĪBAS VIRZIENS'!I1481 -> 0 | I97: ='1.RĪCĪBAS VIRZIENS'!J1481 -> 0 | J97: ='1.RĪCĪBAS VIRZIENS'!K1481 -> 0
B98: apakšprogramma 97.01.00 "Labklājības nozares vadība un politikas plānošana"** | C98: 0 | D98: 0 | E98: 0 | F98: 0 | G98: 0 | H98: 0 | I98: 0 | J98: 0
A99: ='1.RĪCĪBAS VIRZIENS'!B1528 -> 3.Uzdevums. Nodrošināt līdzvērtīgu sociālo pakalpojumu pieejamību reģionos, nosakot iedzīvotājiem obligāti nodrošināmo sociālo pakalpojumu veidus novadu un valsts pilsētu pašvaldībās un tā ieviešanas nosacījumus (minimālie standarti) Finansējums kopā | B99: x | C99: ='1.RĪCĪBAS VIRZIENS'!D1528 -> 0 | D99: ='1.RĪCĪBAS VIRZIENS'!E1528 -> 0 | E99: ='1.RĪCĪBAS VIRZIENS'!F1528 -> 0 | F99: ='1.RĪCĪBAS VIRZIENS'!G1528 -> 0 | G99: ='1.RĪCĪBAS VIRZIENS'!H1528 -> 0 | H99: ='1.RĪCĪBAS VIRZIENS'!I1528 -> 0 | I99: ='1.RĪCĪBAS VIRZIENS'!J1528 -> 0 | J99: ='1.RĪCĪBAS VIRZIENS'!K1528 -> 0
A100: ='1.RĪCĪBAS VIRZIENS'!B1559 -> 3.1. Pasākums. Nodrošināt līdzvērtīgu sociālo pakalpojumu pieejamību reģionos, nosakot iedzīvotājiem obligāti nodrošināmo sociālo pakalpojumu veidus novadu un valsts pilsētu pašvaldībās un tā ieviešanas nosacījumus (minimālie standarti) | B100: x | C100: ='1.RĪCĪBAS VIRZIENS'!D1559 -> 0 | D100: ='1.RĪCĪBAS VIRZIENS'!E1559 -> 0 | E100: ='1.RĪCĪBAS VIRZIENS'!F1559 -> 0 | F100: ='1.RĪCĪBAS VIRZIENS'!G1559 -> 0 | G100: ='1.RĪCĪBAS VIRZIENS'!H1559 -> 0 | H100: ='1.RĪCĪBAS VIRZIENS'!I1559 -> 0 | I100: ='1.RĪCĪBAS VIRZIENS'!J1559 -> 0 | J100: ='1.RĪCĪBAS VIRZIENS'!K1559 -> 0
...

Sheet 1.RĪCĪBAS VIRZIENS
A1: Pielikums
A2: Plāns sociālo pakalpojumu pilnveidošanai un attīstībai 2022.-2024.gadam
A3: 1. Rīcības virzienā plānā iekļauto uzdevumu īstenošanai nepieciešamais valsts un pašvaldību budžeta finansējums (euro)
A4: 1. Rīcības virziens Moderna un pieejama sociālo pakalpojumu sistēma, kas cita starpā uzlabo iedzīvotāju iespējas dzīvot neatkarīgi un dzīvot sabiedrībā, iekļauties izglītībā un darba tirgū Finansējums kopā
B5: Pasākums | C5: Budžeta programmas (apakšprogrammas) kods un nosaukums | D5: Vidēja termiņa budžeta ietvara likumā plānotais finansējums | G5: Nepieciešamais papildu finansējums | L5: Pasākuma īstenošanas gads (ja pasākuma īstenošana ir terminēta)
D6: 2022 | E6: 2023 | F6: 2024 | G6: 2023 | H6: 2024 | I6: 2025 | J6: turpmākajā laikposmā līdz pasākuma pabeigšanai (ja pasākuma īstenošana ir terminēta) | K6: turpmāk ik gadu (ja pasākuma izpilde nav terminēta)
A7: 2 | B7: 1 | C7: 2 | D7: 3 | E7: 4 | F7: 5 | G7: 6 | H7: 7 | I7: 8 | J7: 9 | K7: 10 | L7: 11
A8: 1 | B8: Finansējums kopā 1. Rīcības virziens | D8: =D39+D1020+D1528+D1749+D3201+D3604+D5061 -> 20609249 | E8: =E39+E1020+E1528+E1749+E3201+E3604+E5061 -> 44064739 | F8: =F39+F1020+F1528+F1749+F3201+F3604+F5061 -> 38633125 | G8: =G39+G1020+G1528+G1749+G3201+G3604+G5061 -> 12153917 | H8: =H39+H1020+H1528+H1749+H3201+H3604+H5061 -> 22383974 | I8: =I39+I1020+I1528+I1749+I3201+I3604+I5061 -> 20762199 | J8: =J39+J1020+J1528+J1749+J3201+J3604+J5061 -> 3898868.4 | K8: =K39+K1020+K1528+K1749+K3201+K3604+K5061 -> 18290539
A9: 1 | B9: Pašvaldību budžets | D9: =D40+D1021+D1529+D1750+D3202+D3605+D5062 -> 0 | E9: =E40+E1021+E1529+E1750+E3202+E3605+E5062 -> 0 | F9: =F40+F1021+F1529+F1750+F3202+F3605+F5062 -> 0 | G9: =G40+G1021+G1529+G1750+G3202+G3605+G5062 -> 0 | H9: =H40+H1021+H1529+H1750+H3202+H3605+H5062 -> 0 | I9: =I40+I1021+I1529+I1750+I3202+I3605+I5062 -> 0 | J9: =J40+J1021+J1529+J1750+J3202+J3605+J5062 -> 0 | K9: =K40+K1021+K1529+K1750+K3202+K3605+K5062 -> 0
B10: Privātais sektors | D10: =D41+D1022+D1530+D1751+D3203+D3606+D5063 -> 0 | E10: =E41+E1022+E1530+E1751+E3203+E3606+E5063 -> 0 | F10: =F41+F1022+F1530+F1751+F3203+F3606+F5063 -> 0 | G10: =G41+G1022+G1530+G1751+G3203+G3606+G5063 -> 0 | H10: =H41+H1022+H1530+H1751+H3203+H3606+H5063 -> 0 | I10: =I41+I1022+I1530+I1751+I3203+I3606+I5063 -> 0 | J10: =J41+J1022+J1530+J1751+J3203+J3606+J5063 -> 0 | K10: =K41+K1022+K1530+K1751+K3203+K3606+K5063 -> 0
B11: Publiski atvasināto personu (izņemot pašvaldības) budžets | D11: =D42+D1023+D1531+D1752+D3204+D3607+D5064 -> 0 | E11: =E42+E1023+E1531+E1752+E3204+E3607+E5064 -> 0 | F11: =F42+F1023+F1531+F1752+F3204+F3607+F5064 -> 0 | G11: =G42+G1023+G1531+G1752+G3204+G3607+G5064 -> 0 | H11: =H42+H1023+H1531+H1752+H3204+H3607+H5064 -> 0 | I11: =I42+I1023+I1531+I1752+I3204+I3607+I5064 -> 0 | J11: =J42+J1023+J1531+J1752+J3204+J3607+J5064 -> 0 | K11: =K42+K1023+K1531+K1752+K3204+K3607+K5064 -> 0
A12: 1 | B12: Vidēja termiņa budžeta ietvara likums, kopā, t.sk.: | D12: =D43+D1024+D1532+D1753+D3205+D3608+D5065 -> 20609249 | E12: =E43+E1024+E1532+E1753+E3205+E3608+E5065 -> 44064739 | F12: =F43+F1024+F1532+F1753+F3205+F3608+F5065 -> 38633125 | G12: =G43+G1024+G1532+G1753+G3205+G3608+G5065 -> 12153917 | H12: =H43+H1024+H1532+H1753+H3205+H3608+H5065 -> 22383974 | I12: =I43+I1024+I1532+I1753+I3205+I3608+I5065 -> 20762199 | J12: =J43+J1024+J1532+J1753+J3205+J3608+J5065 -> 3898868.4 | K12: =K43+K1024+K1532+K1753+K3205+K3608+K5065 -> 18290539
A13: 1 | B13: valsts pamatfunkciju īstenošana | D13: =D44+D1025+D1533+D1754+D3206+D3609+D5066 -> 17780755 | E13: =E44+E1025+E1533+E1754+E3206+E3609+E5066 -> 9552364 | F13: =F44+F1025+F1533+F1754+F3206+F3609+F5066 -> 6193456 | G13: =G44+G1025+G1533+G1754+G3206+G3609+G5066 -> 7105504 | H13: =H44+H1025+H1533+H1754+H3206+H3609+H5066 -> 11551721 | I13: =I44+I1025+I1533+I1754+I3206+I3609+I5066 -> 18290539 | J13: =J44+J1025+J1533+J1754+J3206+J3609+J5066 -> 0 | K13: =K44+K1025+K1533+K1754+K3206+K3609+K5066 -> 18290539
A14: 1 | B14: valsts sociālās apdrošināšanas speciālais budžets | D14: =D45+D1026+D1534+D1755+D3207+D3610+D5067 -> 0 | E14: =E45+E1026+E1534+E1755+E3207+E3610+E5067 -> 0 | F14: =F45+F1026+F1534+F1755+F3207+F3610+F5067 -> 0 | G14: =G45+G1026+G1534+G1755+G3207+G3610+G5067 -> 0 | H14: =H45+H1026+H1534+H1755+H3207+H3610+H5067 -> 0 | I14: =I45+I1026+I1534+I1755+I3207+I3610+I5067 -> 0 | J14: =J45+J1026+J1534+J1755+J3207+J3610+J5067 -> 0 | K14: =K45+K1026+K1534+K1755+K3207+K3610+K5067 -> 0
A15: 1 | B15: Eiropas Savienības politiku instrumentu un pārējās ārvalstu finanšu palīdzības līdzfinansēto projektu un pasākumu īstenošana | D15: =D46+D1027+D1535+D1756+D3208+D3611+D5068 -> 2828494 | E15: =E46+E1027+E1535+E1756+E3208+E3611+E5068 -> 34512375 | F15: =F46+F1027+F1535+F1756+F3208+F3611+F5068 -> 32439669 | G15: =G46+G1027+G1535+G1756+G3208+G3611+G5068 -> 5048413 | H15: =H46+H1027+H1535+H1756+H3208+H3611+H5068 -> 10832253 | I15: =I46+I1027+I1535+I1756+I3208+I3611+I5068 -> 2471659.6 | J15: =J46+J1027+J1535+J1756+J3208+J3611+J5068 -> 3898868.4 | K15: =K46+K1027+K1535+K1756+K3208+K3611+K5068 -> 0
A16: 1 | B16: Informatīvi Sadalījumā pa budžeta resoriem | D16: x | E16: x | F16: x | G16: x | H16: x | I16: x | J16: x | K16: x
A17: 1 | B17: 12.Ekonomikas ministrija | D17: =D48+D1029+D1537+D1758+D3210+D3613+D5070 -> 0 | E17: =E48+E1029+E1537+E1758+E3210+E3613+E5070 -> 0 | F17: =F48+F1029+F1537+F1758+F3210+F3613+F5070 -> 0 | G17: =G48+G1029+G1537+G1758+G3210+G3613+G5070 -> 0 | H17: =H48+H1029+H1537+H1758+H3210+H3613+H5070 -> 0 | I17: =I48+I1029+I1537+I1758+I3210+I3613+I5070 -> 0 | J17: =J48+J1029+J1537+J1758+J3210+J3613+J5070 -> 0 | K17: =K48+K1029+K1537+K1758+K3210+K3613+K5070 -> 0
A18: 1 | B18: valsts pamatfunkciju īstenošana | D18: =D49+D1030+D1538+D1759+D3211+D3614+D5071 -> 0 | E18: =E49+E1030+E1538+E1759+E3211+E3614+E5071 -> 0 | F18: =F49+F1030+F1538+F1759+F3211+F3614+F5071 -> 0 | G18: =G49+G1030+G1538+G1759+G3211+G3614+G5071 -> 0 | H18: =H49+H1030+H1538+H1759+H3211+H3614+H5071 -> 0 | I18: =I49+I1030+I1538+I1759+I3211+I3614+I5071 -> 0 | J18: =J49+J1030+J1538+J1759+J3211+J3614+J5071 -> 0 | K18: =K49+K1030+K1538+K1759+K3211+K3614+K5071 -> 0
A19: 1 | B19: Eiropas Savienības politiku instrumentu un pārējās ārvalstu finanšu palīdzības līdzfinansēto projektu un pasākumu īstenošana | D19: =D50+D1031+D1539+D1760+D3212+D3615+D5072 -> 0 | E19: =E50+E1031+E1539+E1760+E3212+E3615+E5072 -> 0 | F19: =F50+F1031+F1539+F1760+F3212+F3615+F5072 -> 0 | G19: =G50+G1031+G1539+G1760+G3212+G3615+G5072 -> 0 | H19: =H50+H1031+H1539+H1760+H3212+H3615+H5072 -> 0 | I19: =I50+I1031+I1539+I1760+I3212+I3615+I5072 -> 0 | J19: =J50+J1031+J1539+J1760+J3212+J3615+J5072 -> 0 | K19: =K50+K1031+K1539+K1760+K3212+K3615+K5072 -> 0
A20: 1 | B20: 15. Izglītības un zinātnes ministrija | D20: =D51+D1032+D1540+D1761+D3213+D3616+D5073 -> 575064 | E20: =E51+E1032+E1540+E1761+E3213+E3616+E5073 -> 575064 | F20: =F51+F1032+F1540+F1761+F3213+F3616+F5073 -> 575064 | G20: =G51+G1032+G1540+G1761+G3213+G3616+G5073 -> 238836 | H20: =H51+H1032+H1540+H1761+H3213+H3616+H5073 -> 358253 | I20: =I51+I1032+I1540+I1761+I3213+I3616+I5073 -> 477671 | J20: =J51+J1032+J1540+J1761+J3213+J3616+J5073 -> 0 | K20: =K51+K1032+K1540+K1761+K3213+K3616+K5073 -> 477671
A21: 1 | B21: valsts pamatfunkciju īstenošana | D21: =D52+D1033+D1541+D1762+D3214+D3617+D5074 -> 575064 | E21: =E52+E1033+E1541+E1762+E3214+E3617+E5074 -> 575064 | F21: =F52+F1033+F1541+F1762+F3214+F3617+F5074 -> 575064 | G21: =G52+G1033+G1541+G1762+G3214+G3617+G5074 -> 238836 | H21: =H52+H1033+H1541+H1762+H3214+H3617+H5074 -> 358253 | I21: =I52+I1033+I1541+I1762+I3214+I3617+I5074 -> 477671 | J21: =J52+J1033+J1541+J1762+J3214+J3617+J5074 -> 0 | K21: =K52+K1033+K1541+K1762+K3214+K3617+K5074 -> 477671
A22: 1 | B22: Eiropas Savienības politiku instrumentu un pārējās ārvalstu finanšu palīdzības līdzfinansēto projektu un pasākumu īstenošana | D22: =D53+D1034+D1542+D1763+D3215+D3618+D5075 -> 0 | E22: =E53+E1034+E1542+E1763+E3215+E3618+E5075 -> 0 | F22: =F53+F1034+F1542+F1763+F3215+F3618+F5075 -> 0 | G22: =G53+G1034+G1542+G1763+G3215+G3618+G5075 -> 0 | H22: =H53+H1034+H1542+H1763+H3215+H3618+H5075 -> 0 | I22: =I53+I1034+I1542+I1763+I3215+I3618+I5075 -> 0 | J22: =J53+J1034+J1542+J1763+J3215+J3618+J5075 -> 0 | K22: =K53+K1034+K1542+K1763+K3215+K3618+K5075 -> 0
A23: 1 | B23: 18. Labklājības ministrija | D23: =D54+D1035+D1543+D1764+D3216+D3619+D5076 -> 20034185 | E23: =E54+E1035+E1543+E1764+E3216+E3619+E5076 -> 43489675 | F23: =F54+F1035+F1543+F1764+F3216+F3619+F5076 -> 38058061 | G23: =G54+G1035+G1543+G1764+G3216+G3619+G5076 -> 11915081 | H23: =H54+H1035+H1543+H1764+H3216+H3619+H5076 -> 22025721 | I23: =I54+I1035+I1543+I1764+I3216+I3619+I5076 -> 20284528 | J23: =J54+J1035+J1543+J1764+J3216+J3619+J5076 -> 3898868.4 | K23: =K54+K1035+K1543+K1764+K3216+K3619+K5076 -> 17812868
A24: 1 | B24: valsts pamatfunkciju īstenošana | D24: =D55+D1036+D1544+D1765+D3217+D3620+D5077 -> 17205691 | E24: =E55+E1036+E1544+E1765+E3217+E3620+E5077 -> 8977300 | F24: =F55+F1036+F1544+F1765+F3217+F3620+F5077 -> 5618392 | G24: =G55+G1036+G1544+G1765+G3217+G3620+G5077 -> 6866668 | H24: =H55+H1036+H1544+H1765+H3217+H3620+H5077 -> 11193468 | I24: =I55+I1036+I1544+I1765+I3217+I3620+I5077 -> 17812868 | J24: =J55+J1036+J1544+J1765+J3217+J3620+J5077 -> 0 | K24: =K55+K1036+K1544+K1765+K3217+K3620+K5077 -> 17812868
A25: 1 | B25: valsts sociālās apdrošināšanas speciālais budžets | D25: =D56+D1037+D1545+D1766+D3218+D3621+D5078 -> 0 | E25: =E56+E1037+E1545+E1766+E3218+E3621+E5078 -> 0 | F25: =F56+F1037+F1545+F1766+F3218+F3621+F5078 -> 0 | G25: =G56+G1037+G1545+G1766+G3218+G3621+G5078 -> 0 | H25: =H56+H1037+H1545+H1766+H3218+H3621+H5078 -> 0 | I25: =I56+I1037+I1545+I1766+I3218+I3621+I5078 -> 0 | J25: =J56+J1037+J1545+J1766+J3218+J3621+J5078 -> 0 | K25: =K56+K1037+K1545+K1766+K3218+K3621+K5078 -> 0
A26: 1 | B26: Eiropas Savienības politiku instrumentu un pārējās ārvalstu finanšu palīdzības līdzfinansēto projektu un pasākumu īstenošana | D26: =D57+D1038+D1546+D1767+D3219+D3622+D5079 -> 2828494 | E26: =E57+E1038+E1546+E1767+E3219+E3622+E5079 -> 34512375 | F26: =F57+F1038+F1546+F1767+F3219+F3622+F5079 -> 32439669 | G26: =G57+G1038+G1546+G1767+G3219+G3622+G5079 -> 5048413 | H26: =H57+H1038+H1546+H1767+H3219+H3622+H5079 -> 10832253 | I26: =I57+I1038+I1546+I1767+I3219+I3622+I5079 -> 2471659.6 | J26: =J57+J1038+J1546+J1767+J3219+J3622+J5079 -> 3898868.4 | K26: =K57+K1038+K1546+K1767+K3219+K3622+K5079 -> 0
B27: 19. Tieslietu ministrija | D27: =D58+D1039+D1547+D1768+D3220+D3623+D5080 -> 0 | E27: =E58+E1039+E1547+E1768+E3220+E3623+E5080 -> 0 | F27: =F58+F1039+F1547+F1768+F3220+F3623+F5080 -> 0 | G27: =G58+G1039+G1547+G1768+G3220+G3623+G5080 -> 0 | H27: =H58+H1039+H1547+H1768+H3220+H3623+H5080 -> 0 | I27: =I58+I1039+I1547+I1768+I3220+I3623+I5080 -> 0 | J27: =J58+J1039+J1547+J1768+J3220+J3623+J5080 -> 0 | K27: =K58+K1039+K1547+K1768+K3220+K3623+K5080 -> 0
B28: valsts pamatfunkciju īstenošana | D28: =D59+D1040+D1548+D1769+D3221+D3624+D5081 -> 0 | E28: =E59+E1040+E1548+E1769+E3221+E3624+E5081 -> 0 | F28: =F59+F1040+F1548+F1769+F3221+F3624+F5081 -> 0 | G28: =G59+G1040+G1548+G1769+G3221+G3624+G5081 -> 0 | H28: =H59+H1040+H1548+H1769+H3221+H3624+H5081 -> 0 | I28: =I59+I1040+I1548+I1769+I3221+I3624+I5081 -> 0 | J28: =J59+J1040+J1548+J1769+J3221+J3624+J5081 -> 0 | K28: =K59+K1040+K1548+K1769+K3221+K3624+K5081 -> 0
B29: Eiropas Savienības politiku instrumentu un pārējās ārvalstu finanšu palīdzības līdzfinansēto projektu un pasākumu īstenošana | D29: =D60+D1041+D1549+D1770+D3222+D3625+D5082 -> 0 | E29: =E60+E1041+E1549+E1770+E3222+E3625+E5082 -> 0 | F29: =F60+F1041+F1549+F1770+F3222+F3625+F5082 -> 0 | G29: =G60+G1041+G1549+G1770+G3222+G3625+G5082 -> 0 | H29: =H60+H1041+H1549+H1770+H3222+H3625+H5082 -> 0 | I29: =I60+I1041+I1549+I1770+I3222+I3625+I5082 -> 0 | J29: =J60+J1041+J1549+J1770+J3222+J3625+J5082 -> 0 | K29: =K60+K1041+K1549+K1770+K3222+K3625+K5082 -> 0
B30: 21.Vides aizsardzības un reģionālās attīstības ministrija | D30: =D61+D1042+D1550+D1771+D3223+D3626+D5083 -> 0 | E30: =E61+E1042+E1550+E1771+E3223+E3626+E5083 -> 0 | F30: =F61+F1042+F1550+F1771+F3223+F3626+F5083 -> 0 | G30: =G61+G1042+G1550+G1771+G3223+G3626+G5083 -> 0 | H30: =H61+H1042+H1550+H1771+H3223+H3626+H5083 -> 0 | I30: =I61+I1042+I1550+I1771+I3223+I3626+I5083 -> 0 | J30: =J61+J1042+J1550+J1771+J3223+J3626+J5083 -> 0 | K30: =K61+K1042+K1550+K1771+K3223+K3626+K5083 -> 0
B31: valsts pamatfunkciju īstenošana | D31: =D62+D1043+D1551+D1772+D3224+D3627+D5084 -> 0 | E31: =E62+E1043+E1551+E1772+E3224+E3627+E5084 -> 0 | F31: =F62+F1043+F1551+F1772+F3224+F3627+F5084 -> 0 | G31: =G62+G1043+G1551+G1772+G3224+G3627+G5084 -> 0 | H31: =H62+H1043+H1551+H1772+H3224+H3627+H5084 -> 0 | I31: =I62+I1043+I1551+I1772+I3224+I3627+I5084 -> 0 | J31: =J62+J1043+J1551+J1772+J3224+J3627+J5084 -> 0 | K31: =K62+K1043+K1551+K1772+K3224+K3627+K5084 -> 0
B32: Eiropas Savienības politiku instrumentu un pārējās ārvalstu finanšu palīdzības līdzfinansēto projektu un pasākumu īstenošana | D32: =D63+D1044+D1552+D1773+D3225+D3628+D5085 -> 0 | E32: =E63+E1044+E1552+E1773+E3225+E3628+E5085 -> 0 | F32: =F63+F1044+F1552+F1773+F3225+F3628+F5085 -> 0 | G32: =G63+G1044+G1552+G1773+G3225+G3628+G5085 -> 0 | H32: =H63+H1044+H1552+H1773+H3225+H3628+H5085 -> 0 | I32: =I63+I1044+I1552+I1773+I3225+I3628+I5085 -> 0 | J32: =J63+J1044+J1552+J1773+J3225+J3628+J5085 -> 0 | K32: =K63+K1044+K1552+K1773+K3225+K3628+K5085 -> 0
B33: 22.Kultūras ministrija | D33: =D64+D1045+D1553+D1774+D3226+D3629+D5086 -> 0 | E33: =E64+E1045+E1553+E1774+E3226+E3629+E5086 -> 0 | F33: =F64+F1045+F1553+F1774+F3226+F3629+F5086 -> 0 | G33: =G64+G1045+G1553+G1774+G3226+G3629+G5086 -> 0 | H33: =H64+H1045+H1553+H1774+H3226+H3629+H5086 -> 0 | I33: =I64+I1045+I1553+I1774+I3226+I3629+I5086 -> 0 | J33: =J64+J1045+J1553+J1774+J3226+J3629+J5086 -> 0 | K33: =K64+K1045+K1553+K1774+K3226+K3629+K5086 -> 0
B34: valsts pamatfunkciju īstenošana | D34: =D65+D1046+D1554+D1775+D3227+D3630+D5087 -> 0 | E34: =E65+E1046+E1554+E1775+E3227+E3630+E5087 -> 0 | F34: =F65+F1046+F1554+F1775+F3227+F3630+F5087 -> 0 | G34: =G65+G1046+G1554+G1775+G3227+G3630+G5087 -> 0 | H34: =H65+H1046+H1554+H1775+H3227+H3630+H5087 -> 0 | I34: =I65+I1046+I1554+I1775+I3227+I3630+I5087 -> 0 | J34: =J65+J1046+J1554+J1775+J3227+J3630+J5087 -> 0 | K34: =K65+K1046+K1554+K1775+K3227+K3630+K5087 -> 0
B35: Eiropas Savienības politiku instrumentu un pārējās ārvalstu finanšu palīdzības līdzfinansēto projektu un pasākumu īstenošana | D35: =D66+D1047+D1555+D1776+D3228+D3631+D5088 -> 0 | E35: =E66+E1047+E1555+E1776+E3228+E3631+E5088 -> 0 | F35: =F66+F1047+F1555+F1776+F3228+F3631+F5088 -> 0 | G35: =G66+G1047+G1555+G1776+G3228+G3631+G5088 -> 0 | H35: =H66+H1047+H1555+H1776+H3228+H3631+H5088 -> 0 | I35: =I66+I1047+I1555+I1776+I3228+I3631+I5088 -> 0 | J35: =J66+J1047+J1555+J1776+J3228+J3631+J5088 -> 0 | K35: =K66+K1047+K1555+K1776+K3228+K3631+K5088 -> 0
B36: 29.Veselības ministrija | D36: =D67+D1048+D1556+D1777+D3229+D3632+D5089 -> 0 | E36: =E67+E1048+E1556+E1777+E3229+E3632+E5089 -> 0 | F36: =F67+F1048+F1556+F1777+F3229+F3632+F5089 -> 0 | G36: =G67+G1048+G1556+G1777+G3229+G3632+G5089 -> 0 | H36: =H67+H1048+H1556+H1777+H3229+H3632+H5089 -> 0 | I36: =I67+I1048+I1556+I1777+I3229+I3632+I5089 -> 0 | J36: =J67+J1048+J1556+J1777+J3229+J3632+J5089 -> 0 | K36: =K67+K1048+K1556+K1777+K3229+K3632+K5089 -> 0
B37: valsts pamatfunkciju īstenošana | D37: =D68+D1049+D1557+D1778+D3230+D3633+D5090 -> 0 | E37: =E68+E1049+E1557+E1778+E3230+E3633+E5090 -> 0 | F37: =F68+F1049+F1557+F1778+F3230+F3633+F5090 -> 0 | G37: =G68+G1049+G1557+G1778+G3230+G3633+G5090 -> 0 | H37: =H68+H1049+H1557+H1778+H3230+H3633+H5090 -> 0 | I37: =I68+I1049+I1557+I1778+I3230+I3633+I5090 -> 0 | J37: =J68+J1049+J1557+J1778+J3230+J3633+J5090 -> 0 | K37: =K68+K1049+K1557+K1778+K3230+K3633+K5090 -> 0
B38: Eiropas Savienības politiku instrumentu un pārējās ārvalstu finanšu palīdzības līdzfinansēto projektu un pasākumu īstenošana | D38: =D69+D1050+D1558+D1779+D3231+D3634+D5091 -> 0 | E38: =E69+E1050+E1558+E1779+E3231+E3634+E5091 -> 0 | F38: =F69+F1050+F1558+F1779+F3231+F3634+F5091 -> 0 | G38: =G69+G1050+G1558+G1779+G3231+G3634+G5091 -> 0 | H38: =H69+H1050+H1558+H1779+H3231+H3634+H5091 -> 0 | I38: =I69+I1050+I1558+I1779+I3231+I3634+I5091 -> 0 | J38: =J69+J1050+J1558+J1779+J3231+J3634+J5091 -> 0 | K38: =K69+K1050+K1558+K1779+K3231+K3634+K5091 -> 0
A39: 1 | B39: 1.Uzdevums. Palielināt sabiedrībā balstītu sociālo pakalpojumu pieejamību, efektivitāti un atbilstību mērķa grupas vajadzībām. Finansējums kopā | D39: =+D70+D357+D733+D892 -> 1170253 | E39: =+E70+E357+E733+E892 -> 523067 | F39: =+F70+F357+F733+F892 -> 523067 | G39: =+G70+G357+G733+G892 -> 6342600 | H39: =+H70+H357+H733+H892 -> 9185200 | I39: =+I70+I357+I733+I892 -> 10627800 | J39: =+J70+J357+J733+J892 -> 0 | K39: =+K70+K357+K733+K892 -> 10627800
A40: 1 | B40: Pašvaldību budžets | D40: =+D71+D358+D734+D893 -> 0 | E40: =+E71+E358+E734+E893 -> 0 | F40: =+F71+F358+F734+F893 -> 0 | G40: =+G71+G358+G734+G893 -> 0 | H40: =+H71+H358+H734+H893 -> 0 | I40: =+I71+I358+I734+I893 -> 0 | J40: =+J71+J358+J734+J893 -> 0 | K40: =+K71+K358+K734+K893 -> 0
B41: Privātais sektors | D41: =+D72+D359+D735+D894 -> 0 | E41: =+E72+E359+E735+E894 -> 0 | F41: =+F72+F359+F735+F894 -> 0 | G41: =+G72+G359+G735+G894 -> 0 | H41: =+H72+H359+H735+H894 -> 0 | I41: =+I72+I359+I735+I894 -> 0 | J41: =+J72+J359+J735+J894 -> 0 | K41: =+K72+K359+K735+K894 -> 0
B42: Publiski atvasināto personu (izņemot pašvaldības) budžets | D42: =+D73+D360+D736+D895 -> 0 | E42: =+E73+E360+E736+E895 -> 0 | F42: =+F73+F360+F736+F895 -> 0 | G42: =+G73+G360+G736+G895 -> 0 | H42: =+H73+H360+H736+H895 -> 0 | I42: =+I73+I360+I736+I895 -> 0 | J42: =+J73+J360+J736+J895 -> 0 | K42: =+K73+K360+K736+K895 -> 0
A43: 1 | B43: Vidēja termiņa budžeta ietvara likums, kopā, t.sk.: | D43: =+D74+D361+D737+D896 -> 1170253 | E43: =+E74+E361+E737+E896 -> 523067 | F43: =+F74+F361+F737+F896 -> 523067 | G43: =+G74+G361+G737+G896 -> 6342600 | H43: =+H74+H361+H737+H896 -> 9185200 | I43: =+I74+I361+I737+I896 -> 10627800 | J43: =+J74+J361+J737+J896 -> 0 | K43: =+K74+K361+K737+K896 -> 10627800
A44: 1 | B44: valsts pamatfunkciju īstenošana | D44: =+D75+D362+D738+D897 -> 939453 | E44: =+E75+E362+E738+E897 -> 523067 | F44: =+F75+F362+F738+F897 -> 523067 | G44: =+G75+G362+G738+G897 -> 3542600 | H44: =+H75+H362+H738+H897 -> 7085200 | I44: =+I75+I362+I738+I897 -> 10627800 | J44: =+J75+J362+J738+J897 -> 0 | K44: =+K75+K362+K738+K897 -> 10627800
A45: 1 | B45: valsts sociālās apdrošināšanas speciālais budžets | D45: =+D76+D363+D739+D898 -> 0 | E45: =+E76+E363+E739+E898 -> 0 | F45: =+F76+F363+F739+F898 -> 0 | G45: =+G76+G363+G739+G898 -> 0 | H45: =+H76+H363+H739+H898 -> 0 | I45: =+I76+I363+I739+I898 -> 0 | J45: =+J76+J363+J739+J898 -> 0 | K45: =+K76+K363+K739+K898 -> 0
A46: 1 | B46: Eiropas Savienības politiku instrumentu un pārējās ārvalstu finanšu palīdzības līdzfinansēto projektu un pasākumu īstenošana | D46: =+D77+D364+D740+D899 -> 230800 | E46: =+E77+E364+E740+E899 -> 0 | F46: =+F77+F364+F740+F899 -> 0 | G46: =+G77+G364+G740+G899 -> 2800000 | H46: =+H77+H364+H740+H899 -> 2100000 | I46: =+I77+I364+I740+I899 -> 0 | J46: =+J77+J364+J740+J899 -> 0 | K46: =+K77+K364+K740+K899 -> 0
A47: 1 | B47: Informatīvi Sadalījumā pa budžeta resoriem | D47: X | E47: X | F47: X | G47: X | H47: X | I47: X | J47: X | K47: X
B48: 12.Ekonomikas ministrija | D48: =+D79+D366+D742+D901 -> 0 | E48: =+E79+E366+E742+E901 -> 0 | F48: =+F79+F366+F742+F901 -> 0 | G48: =+G79+G366+G742+G901 -> 0 | H48: =+H79+H366+H742+H901 -> 0 | I48: =+I79+I366+I742+I901 -> 0 | J48: =+J79+J366+J742+J901 -> 0 | K48: =+K79+K366+K742+K901 -> 0
B49: valsts pamatfunkciju īstenošana | D49: =+D80+D367+D743+D902 -> 0 | E49: =+E80+E367+E743+E902 -> 0 | F49: =+F80+F367+F743+F902 -> 0 | G49: =+G80+G367+G743+G902 -> 0 | H49: =+H80+H367+H743+H902 -> 0 | I49: =+I80+I367+I743+I902 -> 0 | J49: =+J80+J367+J743+J902 -> 0 | K49: =+K80+K367+K743+K902 -> 0
B50: Eiropas Savienības politiku instrumentu un pārējās ārvalstu finanšu palīdzības līdzfinansēto projektu un pasākumu īstenošana | D50: =+D81+D368+D744+D903 -> 0 | E50: =+E81+E368+E744+E903 -> 0 | F50: =+F81+F368+F744+F903 -> 0 | G50: =+G81+G368+G744+G903 -> 0 | H50: =+H81+H368+H744+H903 -> 0 | I50: =+I81+I368+I744+I903 -> 0 | J50: =+J81+J368+J744+J903 -> 0 | K50: =+K81+K368+K744+K903 -> 0
B51: 15. Izglītības un zinātnes ministrija | D51: =+D82+D369+D745+D904 -> 0 | E51: =+E82+E369+E745+E904 -> 0 | F51: =+F82+F369+F745+F904 -> 0 | G51: =+G82+G369+G745+G904 -> 0 | H51: =+H82+H369+H745+H904 -> 0 | I51: =+I82+I369+I745+I904 -> 0 | J51: =+J82+J369+J745+J904 -> 0 | K51: =+K82+K369+K745+K904 -> 0
B52: valsts pamatfunkciju īstenošana | D52: =+D83+D370+D746+D905 -> 0 | E52: =+E83+E370+E746+E905 -> 0 | F52: =+F83+F370+F746+F905 -> 0 | G52: =+G83+G370+G746+G905 -> 0 | H52: =+H83+H370+H746+H905 -> 0 | I52: =+I83+I370+I746+I905 -> 0 | J52: =+J83+J370+J746+J905 -> 0 | K52: =+K83+K370+K746+K905 -> 0
B53: Eiropas Savienības politiku instrumentu un pārējās ārvalstu finanšu palīdzības līdzfinansēto projektu un pasākumu īstenošana | D53: =+D84+D371+D747+D906 -> 0 | E53: =+E84+E371+E747+E906 -> 0 | F53: =+F84+F371+F747+F906 -> 0 | G53: =+G84+G371+G747+G906 -> 0 | H53: =+H84+H371+H747+H906 -> 0 | I53: =+I84+I371+I747+I906 -> 0 | J53: =+J84+J371+J747+J906 -> 0 | K53: =+K84+K371+K747+K906 -> 0
A54: 1 | B54: 18. Labklājības ministrija | D54: =+D85+D372+D748+D907 -> 1170253 | E54: =+E85+E372+E748+E907 -> 523067 | F54: =+F85+F372+F748+F907 -> 523067 | G54: =+G85+G372+G748+G907 -> 6342600 | H54: =+H85+H372+H748+H907 -> 9185200 | I54: =+I85+I372+I748+I907 -> 10627800 | J54: =+J85+J372+J748+J907 -> 0 | K54: =+K85+K372+K748+K907 -> 10627800
A55: 1 | B55: valsts pamatfunkciju īstenošana | D55: =+D86+D373+D749+D908 -> 939453 | E55: =+E86+E373+E749+E908 -> 523067 | F55: =+F86+F373+F749+F908 -> 523067 | G55: =+G86+G373+G749+G908 -> 3542600 | H55: =+H86+H373+H749+H908 -> 7085200 | I55: =+I86+I373+I749+I908 -> 10627800 | J55: =+J86+J373+J749+J908 -> 0 | K55: =+K86+K373+K749+K908 -> 10627800
A56: 1 | B56: valsts sociālās apdrošināšanas speciālais budžets | D56: =+D87+D374+D750+D909 -> 0 | E56: =+E87+E374+E750+E909 -> 0 | F56: =+F87+F374+F750+F909 -> 0 | G56: =+G87+G374+G750+G909 -> 0 | H56: =+H87+H374+H750+H909 -> 0 | I56: =+I87+I374+I750+I909 -> 0 | J56: =+J87+J374+J750+J909 -> 0 | K56: =+K87+K374+K750+K909 -> 0
A57: 1 | B57: Eiropas Savienības politiku instrumentu un pārējās ārvalstu finanšu palīdzības līdzfinansēto projektu un pasākumu īstenošana | D57: =+D88+D375+D751+D910 -> 230800 | E57: =+E88+E375+E751+E910 -> 0 | F57: =+F88+F375+F751+F910 -> 0 | G57: =+G88+G375+G751+G910 -> 2800000 | H57: =+H88+H375+H751+H910 -> 2100000 | I57: =+I88+I375+I751+I910 -> 0 | J57: =+J88+J375+J751+J910 -> 0 | K57: =+K88+K375+K751+K910 -> 0
B58: 19. Tieslietu ministrija | D58: =+D89+D376+D752+D911 -> 0 | E58: =+E89+E376+E752+E911 -> 0 | F58: =+F89+F376+F752+F911 -> 0 | G58: =+G89+G376+G752+G911 -> 0 | H58: =+H89+H376+H752+H911 -> 0 | I58: =+I89+I376+I752+I911 -> 0 | J58: =+J89+J376+J752+J911 -> 0 | K58: =+K89+K376+K752+K911 -> 0
B59: valsts pamatfunkciju īstenošana | D59: =+D90+D377+D753+D912 -> 0 | E59: =+E90+E377+E753+E912 -> 0 | F59: =+F90+F377+F753+F912 -> 0 | G59: =+G90+G377+G753+G912 -> 0 | H59: =+H90+H377+H753+H912 -> 0 | I59: =+I90+I377+I753+I912 -> 0 | J59: =+J90+J377+J753+J912 -> 0 | K59: =+K90+K377+K753+K912 -> 0
B60: Eiropas Savienības politiku instrumentu un pārējās ārvalstu finanšu palīdzības līdzfinansēto projektu un pasākumu īstenošana | D60: =+D91+D378+D754+D913 -> 0 | E60: =+E91+E378+E754+E913 -> 0 | F60: =+F91+F378+F754+F913 -> 0 | G60: =+G91+G378+G754+G913 -> 0 | H60: =+H91+H378+H754+H913 -> 0 | I60: =+I91+I378+I754+I913 -> 0 | J60: =+J91+J378+J754+J913 -> 0 | K60: =+K91+K378+K754+K913 -> 0
B61: 21.Vides aizsardzības un reģionālās attīstības ministrija | D61: =+D92+D379+D755+D914 -> 0 | E61: =+E92+E379+E755+E914 -> 0 | F61: =+F92+F379+F755+F914 -> 0 | G61: =+G92+G379+G755+G914 -> 0 | H61: =+H92+H379+H755+H914 -> 0 | I61: =+I92+I379+I755+I914 -> 0 | J61: =+J92+J379+J755+J914 -> 0 | K61: =+K92+K379+K755+K914 -> 0
B62: valsts pamatfunkciju īstenošana | D62: =+D93+D380+D756+D915 -> 0 | E62: =+E93+E380+E756+E915 -> 0 | F62: =+F93+F380+F756+F915 -> 0 | G62: =+G93+G380+G756+G915 -> 0 | H62: =+H93+H380+H756+H915 -> 0 | I62: =+I93+I380+I756+I915 -> 0 | J62: =+J93+J380+J756+J915 -> 0 | K62: =+K93+K380+K756+K915 -> 0
B63: Eiropas Savienības politiku instrumentu un pārējās ārvalstu finanšu palīdzības līdzfinansēto projektu un pasākumu īstenošana | D63: =+D94+D381+D757+D916 -> 0 | E63: =+E94+E381+E757+E916 -> 0 | F63: =+F94+F381+F757+F916 -> 0 | G63: =+G94+G381+G757+G916 -> 0 | H63: =+H94+H381+H757+H916 -> 0 | I63: =+I94+I381+I757+I916 -> 0 | J63: =+J94+J381+J757+J916 -> 0 | K63: =+K94+K381+K757+K916 -> 0
B64: 22.Kultūras ministrija | D64: =+D95+D382+D758+D917 -> 0 | E64: =+E95+E382+E758+E917 -> 0 | F64: =+F95+F382+F758+F917 -> 0 | G64: =+G95+G382+G758+G917 -> 0 | H64: =+H95+H382+H758+H917 -> 0 | I64: =+I95+I382+I758+I917 -> 0 | J64: =+J95+J382+J758+J917 -> 0 | K64: =+K95+K382+K758+K917 -> 0
B65: valsts pamatfunkciju īstenošana | D65: =+D96+D383+D759+D918 -> 0 | E65: =+E96+E383+E759+E918 -> 0 | F65: =+F96+F383+F759+F918 -> 0 | G65: =+G96+G383+G759+G918 -> 0 | H65: =+H96+H383+H759+H918 -> 0 | I65: =+I96+I383+I759+I918 -> 0 | J65: =+J96+J383+J759+J918 -> 0 | K65: =+K96+K383+K759+K918 -> 0
B66: Eiropas Savienības politiku instrumentu un pārējās ārvalstu finanšu palīdzības līdzfinansēto projektu un pasākumu īstenošana | D66: =+D97+D384+D760+D919 -> 0 | E66: =+E97+E384+E760+E919 -> 0 | F66: =+F97+F384+F760+F919 -> 0 | G66: =+G97+G384+G760+G919 -> 0 | H66: =+H97+H384+H760+H919 -> 0 | I66: =+I97+I384+I760+I919 -> 0 | J66: =+J97+J384+J760+J919 -> 0 | K66: =+K97+K384+K760+K919 -> 0
B67: 29.Veselības ministrija | D67: =+D98+D385+D761+D920 -> 0 | E67: =+E98+E385+E761+E920 -> 0 | F67: =+F98+F385+F761+F920 -> 0 | G67: =+G98+G385+G761+G920 -> 0 | H67: =+H98+H385+H761+H920 -> 0 | I67: =+I98+I385+I761+I920 -> 0 | J67: =+J98+J385+J761+J920 -> 0 | K67: =+K98+K385+K761+K920 -> 0
B68: valsts pamatfunkciju īstenošana | D68: =+D99+D386+D762+D921 -> 0 | E68: =+E99+E386+E762+E921 -> 0 | F68: =+F99+F386+F762+F921 -> 0 | G68: =+G99+G386+G762+G921 -> 0 | H68: =+H99+H386+H762+H921 -> 0 | I68: =+I99+I386+I762+I921 -> 0 | J68: =+J99+J386+J762+J921 -> 0 | K68: =+K99+K386+K762+K921 -> 0
B69: Eiropas Savienības politiku instrumentu un pārējās ārvalstu finanšu palīdzības līdzfinansēto projektu un pasākumu īstenošana | D69: =+D100+D387+D763+D922 -> 0 | E69: =+E100+E387+E763+E922 -> 0 | F69: =+F100+F387+F763+F922 -> 0 | G69: =+G100+G387+G763+G922 -> 0 | H69: =+H100+H387+H763+H922 -> 0 | I69: =+I100+I387+I763+I922 -> 0 | J69: =+J100+J387+J763+J922 -> 0 | K69: =+K100+K387+K763+K922 -> 0
A70: 1 | B70: 1.1. Pasākums. Palielināt atbalstu un sabiedrībā balstītu sociālo pakalpojumu pieejamību bērniem un pilngadīgām personām ar funkcionāliem traucējumiem, t.sk. garīga rakstura traucējumiem vai multipliem traucējumiem, vecāka gada gājuma cilvēkiem, t.sk. cilvēkiem ar demenci, un sniedzot atbalstu viņu ģimenes locekļiem un neformālajiem aprūpētājiem, veicināt starpdisciplināru pieeju sociālajā aprūpē | D70: =D101+D132+D163+D198+D229+D260+D291+D322 -> 93500 | E70: =E101+E132+E163+E198+E229+E260+E291+E322 -> 0 | F70: =F101+F132+F163+F198+F229+F260+F291+F322 -> 0 | G70: =G101+G132+G163+G198+G229+G260+G291+G322 -> 3542600 | H70: =H101+H132+H163+H198+H229+H260+H291+H322 -> 7085200 | I70: =I101+I132+I163+I198+I229+I260+I291+I322 -> 10627800 | J70: =J101+J132+J163+J198+J229+J260+J291+J322 -> 0 | K70: =K101+K132+K163+K198+K229+K260+K291+K322 -> 10627800
A71: 1 | B71: Pašvaldību budžets | D71: =D102+D133+D164+D199+D230+D261+D292+D323 -> 0 | E71: =E102+E133+E164+E199+E230+E261+E292+E323 -> 0 | F71: =F102+F133+F164+F199+F230+F261+F292+F323 -> 0 | G71: =G102+G133+G164+G199+G230+G261+G292+G323 -> 0 | H71: =H102+H133+H164+H199+H230+H261+H292+H323 -> 0 | I71: =I102+I133+I164+I199+I230+I261+I292+I323 -> 0 | J71: =J102+J133+J164+J199+J230+J261+J292+J323 -> 0 | K71: =K102+K133+K164+K199+K230+K261+K292+K323 -> 0
B72: Privātais sektors | D72: =D103+D134+D165+D200+D231+D262+D293+D324 -> 0 | E72: =E103+E134+E165+E200+E231+E262+E293+E324 -> 0 | F72: =F103+F134+F165+F200+F231+F262+F293+F324 -> 0 | G72: =G103+G134+G165+G200+G231+G262+G293+G324 -> 0 | H72: =H103+H134+H165+H200+H231+H262+H293+H324 -> 0 | I72: =I103+I134+I165+I200+I231+I262+I293+I324 -> 0 | J72: =J103+J134+J165+J200+J231+J262+J293+J324 -> 0 | K72: =K103+K134+K165+K200+K231+K262+K293+K324 -> 0
B73: Publiski atvasināto personu (izņemot pašvaldības) budžets | D73: =D104+D135+D166+D201+D232+D263+D294+D325 -> 0 | E73: =E104+E135+E166+E201+E232+E263+E294+E325 -> 0 | F73: =F104+F135+F166+F201+F232+F263+F294+F325 -> 0 | G73: =G104+G135+G166+G201+G232+G263+G294+G325 -> 0 | H73: =H104+H135+H166+H201+H232+H263+H294+H325 -> 0 | I73: =I104+I135+I166+I201+I232+I263+I294+I325 -> 0 | J73: =J104+J135+J166+J201+J232+J263+J294+J325 -> 0 | K73: =K104+K135+K166+K201+K232+K263+K294+K325 -> 0
A74: 1 | B74: Vidēja termiņa budžeta ietvara likums, kopā, t.sk.: | D74: =D105+D136+D167+D202+D233+D264+D295+D326 -> 93500 | E74: =E105+E136+E167+E202+E233+E264+E295+E326 -> 0 | F74: =F105+F136+F167+F202+F233+F264+F295+F326 -> 0 | G74: =G105+G136+G167+G202+G233+G264+G295+G326 -> 3542600 | H74: =H105+H136+H167+H202+H233+H264+H295+H326 -> 7085200 | I74: =I105+I136+I167+I202+I233+I264+I295+I326 -> 10627800 | J74: =J105+J136+J167+J202+J233+J264+J295+J326 -> 0 | K74: =K105+K136+K167+K202+K233+K264+K295+K326 -> 10627800
A75: 1 | B75: valsts pamatfunkciju īstenošana | D75: =D106+D137+D168+D203+D234+D265+D296+D327 -> 0 | E75: =E106+E137+E168+E203+E234+E265+E296+E327 -> 0 | F75: =F106+F137+F168+F203+F234+F265+F296+F327 -> 0 | G75: =G106+G137+G168+G203+G234+G265+G296+G327 -> 3542600 | H75: =H106+H137+H168+H203+H234+H265+H296+H327 -> 7085200 | I75: =I106+I137+I168+I203+I234+I265+I296+I327 -> 10627800 | J75: =J106+J137+J168+J203+J234+J265+J296+J327 -> 0 | K75: =K106+K137+K168+K203+K234+K265+K296+K327 -> 10627800
A76: 1 | B76: valsts sociālās apdrošināšanas speciālais budžets | D76: =D107+D138+D169+D204+D235+D266+D297+D328 -> 0 | E76: =E107+E138+E169+E204+E235+E266+E297+E328 -> 0 | F76: =F107+F138+F169+F204+F235+F266+F297+F328 -> 0 | G76: =G107+G138+G169+G204+G235+G266+G297+G328 -> 0 | H76: =H107+H138+H169+H204+H235+H266+H297+H328 -> 0 | I76: =I107+I138+I169+I204+I235+I266+I297+I328 -> 0 | J76: =J107+J138+J169+J204+J235+J266+J297+J328 -> 0 | K76: =K107+K138+K169+K204+K235+K266+K297+K328 -> 0
A77: 1 | B77: Eiropas Savienības politiku instrumentu un pārējās ārvalstu finanšu palīdzības līdzfinansēto projektu un pasākumu īstenošana | D77: =D108+D139+D170+D205+D236+D267+D298+D329 -> 93500 | E77: =E108+E139+E170+E205+E236+E267+E298+E329 -> 0 | F77: =F108+F139+F170+F205+F236+F267+F298+F329 -> 0 | G77: =G108+G139+G170+G205+G236+G267+G298+G329 -> 0 | H77: =H108+H139+H170+H205+H236+H267+H298+H329 -> 0 | I77: =I108+I139+I170+I205+I236+I267+I298+I329 -> 0 | J77: =J108+J139+J170+J205+J236+J267+J298+J329 -> 0 | K77: =K108+K139+K170+K205+K236+K267+K298+K329 -> 0
A78: 1 | B78: Informatīvi Sadalījumā pa budžeta resoriem | D78: x | E78: x | F78: x | G78: x | H78: x | I78: x | J78: x | K78: x
B79: 12.Ekonomikas ministrija | D79: =D110+D141+D172+D207+D238+D269+D300+D331 -> 0 | E79: =E110+E141+E172+E207+E238+E269+E300+E331 -> 0 | F79: =F110+F141+F172+F207+F238+F269+F300+F331 -> 0 | G79: =G110+G141+G172+G207+G238+G269+G300+G331 -> 0 | H79: =H110+H141+H172+H207+H238+H269+H300+H331 -> 0 | I79: =I110+I141+I172+I207+I238+I269+I300+I331 -> 0 | J79: =J110+J141+J172+J207+J238+J269+J300+J331 -> 0 | K79: =K110+K141+K172+K207+K238+K269+K300+K331 -> 0
B80: valsts pamatfunkciju īstenošana | D80: =D111+D142+D173+D208+D239+D270+D301+D332 -> 0 | E80: =E111+E142+E173+E208+E239+E270+E301+E332 -> 0 | F80: =F111+F142+F173+F208+F239+F270+F301+F332 -> 0 | G80: =G111+G142+G173+G208+G239+G270+G301+G332 -> 0 | H80: =H111+H142+H173+H208+H239+H270+H301+H332 -> 0 | I80: =I111+I142+I173+I208+I239+I270+I301+I332 -> 0 | J80: =J111+J142+J173+J208+J239+J270+J301+J332 -> 0 | K80: =K111+K142+K173+K208+K239+K270+K301+K332 -> 0
B81: Eiropas Savienības politiku instrumentu un pārējās ārvalstu finanšu palīdzības līdzfinansēto projektu un pasākumu īstenošana | D81: =D112+D143+D174+D209+D240+D271+D302+D333 -> 0 | E81: =E112+E143+E174+E209+E240+E271+E302+E333 -> 0 | F81: =F112+F143+F174+F209+F240+F271+F302+F333 -> 0 | G81: =G112+G143+G174+G209+G240+G271+G302+G333 -> 0 | H81: =H112+H143+H174+H209+H240+H271+H302+H333 -> 0 | I81: =I112+I143+I174+I209+I240+I271+I302+I333 -> 0 | J81: =J112+J143+J174+J209+J240+J271+J302+J333 -> 0 | K81: =K112+K143+K174+K209+K240+K271+K302+K333 -> 0
B82: 15. Izglītības un zinātnes ministrija | D82: =D113+D144+D175+D210+D241+D272+D303+D334 -> 0 | E82: =E113+E144+E175+E210+E241+E272+E303+E334 -> 0 | F82: =F113+F144+F175+F210+F241+F272+F303+F334 -> 0 | G82: =G113+G144+G175+G210+G241+G272+G303+G334 -> 0 | H82: =H113+H144+H175+H210+H241+H272+H303+H334 -> 0 | I82: =I113+I144+I175+I210+I241+I272+I303+I334 -> 0 | J82: =J113+J144+J175+J210+J241+J272+J303+J334 -> 0 | K82: =K113+K144+K175+K210+K241+K272+K303+K334 -> 0
B83: valsts pamatfunkciju īstenošana | D83: =D114+D145+D176+D211+D242+D273+D304+D335 -> 0 | E83: =E114+E145+E176+E211+E242+E273+E304+E335 -> 0 | F83: =F114+F145+F176+F211+F242+F273+F304+F335 -> 0 | G83: =G114+G145+G176+G211+G242+G273+G304+G335 -> 0 | H83: =H114+H145+H176+H211+H242+H273+H304+H335 -> 0 | I83: =I114+I145+I176+I211+I242+I273+I304+I335 -> 0 | J83: =J114+J145+J176+J211+J242+J273+J304+J335 -> 0 | K83: =K114+K145+K176+K211+K242+K273+K304+K335 -> 0
B84: Eiropas Savienības politiku instrumentu un pārējās ārvalstu finanšu palīdzības līdzfinansēto projektu un pasākumu īstenošana | D84: =D115+D146+D177+D212+D243+D274+D305+D336 -> 0 | E84: =E115+E146+E177+E212+E243+E274+E305+E336 -> 0 | F84: =F115+F146+F177+F212+F243+F274+F305+F336 -> 0 | G84: =G115+G146+G177+G212+G243+G274+G305+G336 -> 0 | H84: =H115+H146+H177+H212+H243+H274+H305+H336 -> 0 | I84: =I115+I146+I177+I212+I243+I274+I305+I336 -> 0 | J84: =J115+J146+J177+J212+J243+J274+J305+J336 -> 0 | K84: =K115+K146+K177+K212+K243+K274+K305+K336 -> 0
A85: 1 | B85: 18. Labklājības ministrija | D85: =D116+D147+D182+D213+D244+D275+D306+D341 -> 93500 | E85: =E116+E147+E182+E213+E244+E275+E306+E341 -> 0 | F85: =F116+F147+F182+F213+F244+F275+F306+F341 -> 0 | G85: =G116+G147+G182+G213+G244+G275+G306+G341 -> 3542600 | H85: =H116+H147+H182+H213+H244+H275+H306+H341 -> 7085200 | I85: =I116+I147+I182+I213+I244+I275+I306+I341 -> 10627800 | J85: =J116+J147+J182+J213+J244+J275+J306+J341 -> 0 | K85: =K116+K147+K182+K213+K244+K275+K306+K341 -> 10627800
A86: 1 | B86: valsts pamatfunkciju īstenošana | D86: =D117+D148+D183+D214+D245+D276+D307+D342 -> 0 | E86: =E117+E148+E183+E214+E245+E276+E307+E342 -> 0 | F86: =F117+F148+F183+F214+F245+F276+F307+F342 -> 0 | G86: =G117+G148+G183+G214+G245+G276+G307+G342 -> 3542600 | H86: =H117+H148+H183+H214+H245+H276+H307+H342 -> 7085200 | I86: =I117+I148+I183+I214+I245+I276+I307+I342 -> 10627800 | J86: =J117+J148+J183+J214+J245+J276+J307+J342 -> 0 | K86: =K117+K148+K183+K214+K245+K276+K307+K342 -> 10627800
A87: 1 | B87: valsts sociālās apdrošināšanas speciālais budžets | D87: =D118+D149+D184+D215+D246+D277+D308+D343 -> 0 | E87: =E118+E149+E184+E215+E246+E277+E308+E343 -> 0 | F87: =F118+F149+F184+F215+F246+F277+F308+F343 -> 0 | G87: =G118+G149+G184+G215+G246+G277+G308+G343 -> 0 | H87: =H118+H149+H184+H215+H246+H277+H308+H343 -> 0 | I87: =I118+I149+I184+I215+I246+I277+I308+I343 -> 0 | J87: =J118+J149+J184+J215+J246+J277+J308+J343 -> 0 | K87: =K118+K149+K184+K215+K246+K277+K308+K343 -> 0
A88: 1 | B88: Eiropas Savienības politiku instrumentu un pārējās ārvalstu finanšu palīdzības līdzfinansēto projektu un pasākumu īstenošana | D88: =D119+D150+D185+D216+D247+D278+D309+D344 -> 93500 | E88: =E119+E150+E185+E216+E247+E278+E309+E344 -> 0 | F88: =F119+F150+F185+F216+F247+F278+F309+F344 -> 0 | G88: =G119+G150+G185+G216+G247+G278+G309+G344 -> 0 | H88: =H119+H150+H185+H216+H247+H278+H309+H344 -> 0 | I88: =I119+I150+I185+I216+I247+I278+I309+I344 -> 0 | J88: =J119+J150+J185+J216+J247+J278+J309+J344 -> 0 | K88: =K119+K150+K185+K216+K247+K278+K309+K344 -> 0
B89: 19. Tieslietu ministrija | D89: =D120+D151+D186+D217+D248+D279+D310+D345 -> 0 | E89: =E120+E151+E186+E217+E248+E279+E310+E345 -> 0 | F89: =F120+F151+F186+F217+F248+F279+F310+F345 -> 0 | G89: =G120+G151+G186+G217+G248+G279+G310+G345 -> 0 | H89: =H120+H151+H186+H217+H248+H279+H310+H345 -> 0 | I89: =I120+I151+I186+I217+I248+I279+I310+I345 -> 0 | J89: =J120+J151+J186+J217+J248+J279+J310+J345 -> 0 | K89: =K120+K151+K186+K217+K248+K279+K310+K345 -> 0
B90: valsts pamatfunkciju īstenošana | D90: =D121+D152+D187+D218+D249+D280+D311+D346 -> 0 | E90: =E121+E152+E187+E218+E249+E280+E311+E346 -> 0 | F90: =F121+F152+F187+F218+F249+F280+F311+F346 -> 0 | G90: =G121+G152+G187+G218+G249+G280+G311+G346 -> 0 | H90: =H121+H152+H187+H218+H249+H280+H311+H346 -> 0 | I90: =I121+I152+I187+I218+I249+I280+I311+I346 -> 0 | J90: =J121+J152+J187+J218+J249+J280+J311+J346 -> 0 | K90: =K121+K152+K187+K218+K249+K280+K311+K346 -> 0
B91: Eiropas Savienības politiku instrumentu un pārējās ārvalstu finanšu palīdzības līdzfinansēto projektu un pasākumu īstenošana | D91: =D122+D153+D188+D219+D250+D281+D312+D347 -> 0 | E91: =E122+E153+E188+E219+E250+E281+E312+E347 -> 0 | F91: =F122+F153+F188+F219+F250+F281+F312+F347 -> 0 | G91: =G122+G153+G188+G219+G250+G281+G312+G347 -> 0 | H91: =H122+H153+H188+H219+H250+H281+H312+H347 -> 0 | I91: =I122+I153+I188+I219+I250+I281+I312+I347 -> 0 | J91: =J122+J153+J188+J219+J250+J281+J312+J347 -> 0 | K91: =K122+K153+K188+K219+K250+K281+K312+K347 -> 0
B92: 21.Vides aizsardzības un reģionālās attīstības ministrija | D92: =D123+D154+D189+D220+D251+D282+D313+D348 -> 0 | E92: =E123+E154+E189+E220+E251+E282+E313+E348 -> 0 | F92: =F123+F154+F189+F220+F251+F282+F313+F348 -> 0 | G92: =G123+G154+G189+G220+G251+G282+G313+G348 -> 0 | H92: =H123+H154+H189+H220+H251+H282+H313+H348 -> 0 | I92: =I123+I154+I189+I220+I251+I282+I313+I348 -> 0 | J92: =J123+J154+J189+J220+J251+J282+J313+J348 -> 0 | K92: =K123+K154+K189+K220+K251+K282+K313+K348 -> 0
B93: valsts pamatfunkciju īstenošana | D93: =D124+D155+D190+D221+D252+D283+D314+D349 -> 0 | E93: =E124+E155+E190+E221+E252+E283+E314+E349 -> 0 | F93: =F124+F155+F190+F221+F252+F283+F314+F349 -> 0 | G93: =G124+G155+G190+G221+G252+G283+G314+G349 -> 0 | H93: =H124+H155+H190+H221+H252+H283+H314+H349 -> 0 | I93: =I124+I155+I190+I221+I252+I283+I314+I349 -> 0 | J93: =J124+J155+J190+J221+J252+J283+J314+J349 -> 0 | K93: =K124+K155+K190+K221+K252+K283+K314+K349 -> 0
B94: Eiropas Savienības politiku instrumentu un pārējās ārvalstu finanšu palīdzības līdzfinansēto projektu un pasākumu īstenošana | D94: =D125+D156+D191+D222+D253+D284+D315+D350 -> 0 | E94: =E125+E156+E191+E222+E253+E284+E315+E350 -> 0 | F94: =F125+F156+F191+F222+F253+F284+F315+F350 -> 0 | G94: =G125+G156+G191+G222+G253+G284+G315+G350 -> 0 | H94: =H125+H156+H191+H222+H253+H284+H315+H350 -> 0 | I94: =I125+I156+I191+I222+I253+I284+I315+I350 -> 0 | J94: =J125+J156+J191+J222+J253+J284+J315+J350 -> 0 | K94: =K125+K156+K191+K222+K253+K284+K315+K350 -> 0
B95: 22.Kultūras ministrija | D95: =D126+D157+D192+D223+D254+D285+D316+D351 -> 0 | E95: =E126+E157+E192+E223+E254+E285+E316+E351 -> 0 | F95: =F126+F157+F192+F223+F254+F285+F316+F351 -> 0 | G95: =G126+G157+G192+G223+G254+G285+G316+G351 -> 0 | H95: =H126+H157+H192+H223+H254+H285+H316+H351 -> 0 | I95: =I126+I157+I192+I223+I254+I285+I316+I351 -> 0 | J95: =J126+J157+J192+J223+J254+J285+J316+J351 -> 0 | K95: =K126+K157+K192+K223+K254+K285+K316+K351 -> 0
B96: valsts pamatfunkciju īstenošana | D96: =D127+D158+D193+D224+D255+D286+D317+D352 -> 0 | E96: =E127+E158+E193+E224+E255+E286+E317+E352 -> 0 | F96: =F127+F158+F193+F224+F255+F286+F317+F352 -> 0 | G96: =G127+G158+G193+G224+G255+G286+G317+G352 -> 0 | H96: =H127+H158+H193+H224+H255+H286+H317+H352 -> 0 | I96: =I127+I158+I193+I224+I255+I286+I317+I352 -> 0 | J96: =J127+J158+J193+J224+J255+J286+J317+J352 -> 0 | K96: =K127+K158+K193+K224+K255+K286+K317+K352 -> 0
B97: Eiropas Savienības politiku instrumentu un pārējās ārvalstu finanšu palīdzības līdzfinansēto projektu un pasākumu īstenošana | D97: =D128+D159+D194+D225+D256+D287+D318+D353 -> 0 | E97: =E128+E159+E194+E225+E256+E287+E318+E353 -> 0 | F97: =F128+F159+F194+F225+F256+F287+F318+F353 -> 0 | G97: =G128+G159+G194+G225+G256+G287+G318+G353 -> 0 | H97: =H128+H159+H194+H225+H256+H287+H318+H353 -> 0 | I97: =I128+I159+I194+I225+I256+I287+I318+I353 -> 0 | J97: =J128+J159+J194+J225+J256+J287+J318+J353 -> 0 | K97: =K128+K159+K194+K225+K256+K287+K318+K353 -> 0
B98: 29.Veselības ministrija | D98: =D129+D160+D195+D226+D257+D288+D319+D354 -> 0 | E98: =E129+E160+E195+E226+E257+E288+E319+E354 -> 0 | F98: =F129+F160+F195+F226+F257+F288+F319+F354 -> 0 | G98: =G129+G160+G195+G226+G257+G288+G319+G354 -> 0 | H98: =H129+H160+H195+H226+H257+H288+H319+H354 -> 0 | I98: =I129+I160+I195+I226+I257+I288+I319+I354 -> 0 | J98: =J129+J160+J195+J226+J257+J288+J319+J354 -> 0 | K98: =K129+K160+K195+K226+K257+K288+K319+K354 -> 0
B99: valsts pamatfunkciju īstenošana | D99: =D130+D161+D196+D227+D258+D289+D320+D355 -> 0 | E99: =E130+E161+E196+E227+E258+E289+E320+E355 -> 0 | F99: =F130+F161+F196+F227+F258+F289+F320+F355 -> 0 | G99: =G130+G161+G196+G227+G258+G289+G320+G355 -> 0 | H99: =H130+H161+H196+H227+H258+H289+H320+H355 -> 0 | I99: =I130+I161+I196+I227+I258+I289+I320+I355 -> 0 | J99: =J130+J161+J196+J227+J258+J289+J320+J355 -> 0 | K99: =K130+K161+K196+K227+K258+K289+K320+K355 -> 0
B100: Eiropas Savienības politiku instrumentu un pārējās ārvalstu finanšu palīdzības līdzfinansēto projektu un pasākumu īstenošana | D100: =D131+D162+D197+D228+D259+D290+D321+D356 -> 0 | E100: =E131+E162+E197+E228+E259+E290+E321+E356 -> 0 | F100: =F131+F162+F197+F228+F259+F290+F321+F356 -> 0 | G100: =G131+G162+G197+G228+G259+G290+G321+G356 -> 0 | H100: =H131+H162+H197+H228+H259+H290+H321+H356 -> 0 | I100: =I131+I162+I197+I228+I259+I290+I321+I356 -> 0 | J100: =J131+J162+J197+J228+J259+J290+J321+J356 -> 0 | K100: =K131+K162+K197+K228+K259+K290+K321+K356 -> 0
...

Sheet 2.RĪCĪBAS VIRZIENS
A1: 1.2. pielikums
A2: Plāns sociālo pakalpojumu pilnveidošanai un attīstībai 2022.-2024.gadam
A3: 2. Rīcības virzienā plānā iekļauto uzdevumu īstenošanai nepieciešamais valsts un pašvaldību budžeta finansējums (euro)
A4: 2. Rīcības virziens Sociālo pakalpojumu jomas pārvaldības stiprināšana. Finansējums kopā
B5: Pasākums | C5: Budžeta programmas (apakšprogrammas) kods un nosaukums | D5: Vidēja termiņa budžeta ietvara likumā plānotais finansējums | G5: Nepieciešamais papildu finansējums | L5: Pasākuma īstenošanas gads (ja pasākuma īstenošana ir terminēta)
D6: 2022 | E6: 2023 | F6: 2024 | G6: 2023 | H6: 2024 | I6: 2025 | J6: turpmākajā laikposmā līdz pasākuma pabeigšanai (ja pasākuma īstenošana ir terminēta) | K6: turpmāk ik gadu (ja pasākuma izpilde nav terminēta)
B7: 1 | C7: 2 | D7: 3 | E7: 4 | F7: 5 | G7: 6 | H7: 7 | I7: 8 | J7: 9 | K7: 10 | L7: 11
A8: 1 | B8: Finansējums kopā 2. Rīcības virziens | D8: =D39+D132+D256+D380+D442+D535+D628 -> 435000 | E8: =E39+E132+E256+E380+E442+E535+E628 -> 0 | F8: =F39+F132+F256+F380+F442+F535+F628 -> 0 | G8: =G39+G132+G256+G380+G442+G535+G628 -> 755396 | H8: =H39+H132+H256+H380+H442+H535+H628 -> 790645 | I8: =I39+I132+I256+I380+I442+I535+I628 -> 790645 | J8: =J39+J132+J256+J380+J442+J535+J628 -> 1711500 | K8: =K39+K132+K256+K380+K442+K535+K628 -> 0
A9: 1 | B9: Pašvaldību budžets | D9: =D40+D133+D257+D381+D443+D536+D629 -> 0 | E9: =E40+E133+E257+E381+E443+E536+E629 -> 0 | F9: =F40+F133+F257+F381+F443+F536+F629 -> 0 | G9: =G40+G133+G257+G381+G443+G536+G629 -> 0 | H9: =H40+H133+H257+H381+H443+H536+H629 -> 0 | I9: =I40+I133+I257+I381+I443+I536+I629 -> 0 | J9: =J40+J133+J257+J381+J443+J536+J629 -> 0 | K9: =K40+K133+K257+K381+K443+K536+K629 -> 0
B10: Privātais sektors | D10: =D41+D134+D258+D382+D444+D537+D630 -> 0 | E10: =E41+E134+E258+E382+E444+E537+E630 -> 0 | F10: =F41+F134+F258+F382+F444+F537+F630 -> 0 | G10: =G41+G134+G258+G382+G444+G537+G630 -> 0 | H10: =H41+H134+H258+H382+H444+H537+H630 -> 0 | I10: =I41+I134+I258+I382+I444+I537+I630 -> 0 | J10: =J41+J134+J258+J382+J444+J537+J630 -> 0 | K10: =K41+K134+K258+K382+K444+K537+K630 -> 0
B11: Publiski atvasināto personu (izņemot pašvaldības) budžets | D11: =D42+D135+D259+D383+D445+D538+D631 -> 0 | E11: =E42+E135+E259+E383+E445+E538+E631 -> 0 | F11: =F42+F135+F259+F383+F445+F538+F631 -> 0 | G11: =G42+G135+G259+G383+G445+G538+G631 -> 0 | H11: =H42+H135+H259+H383+H445+H538+H631 -> 0 | I11: =I42+I135+I259+I383+I445+I538+I631 -> 0 | J11: =J42+J135+J259+J383+J445+J538+J631 -> 0 | K11: =K42+K135+K259+K383+K445+K538+K631 -> 0
A12: 1 | B12: Vidēja termiņa budžeta ietvara likums, kopā, t.sk.: | D12: =D43+D136+D260+D384+D446+D539+D632 -> 435000 | E12: =E43+E136+E260+E384+E446+E539+E632 -> 0 | F12: =F43+F136+F260+F384+F446+F539+F632 -> 0 | G12: =G43+G136+G260+G384+G446+G539+G632 -> 755396 | H12: =H43+H136+H260+H384+H446+H539+H632 -> 790645 | I12: =I43+I136+I260+I384+I446+I539+I632 -> 790645 | J12: =J43+J136+J260+J384+J446+J539+J632 -> 1711500 | K12: =K43+K136+K260+K384+K446+K539+K632 -> 0
A13: 1 | B13: valsts pamatfunkciju īstenošana | D13: =D44+D137+D261+D385+D447+D540+D633 -> 0 | E13: =E44+E137+E261+E385+E447+E540+E633 -> 0 | F13: =F44+F137+F261+F385+F447+F540+F633 -> 0 | G13: =G44+G137+G261+G385+G447+G540+G633 -> 0 | H13: =H44+H137+H261+H385+H447+H540+H633 -> 0 | I13: =I44+I137+I261+I385+I447+I540+I633 -> 0 | J13: =J44+J137+J261+J385+J447+J540+J633 -> 0 | K13: =K44+K137+K261+K385+K447+K540+K633 -> 0
A14: 1 | B14: valsts sociālās apdrošināšanas speciālais budžets | D14: =D45+D138+D262+D386+D448+D541+D634 -> 0 | E14: =E45+E138+E262+E386+E448+E541+E634 -> 0 | F14: =F45+F138+F262+F386+F448+F541+F634 -> 0 | G14: =G45+G138+G262+G386+G448+G541+G634 -> 0 | H14: =H45+H138+H262+H386+H448+H541+H634 -> 0 | I14: =I45+I138+I262+I386+I448+I541+I634 -> 0 | J14: =J45+J138+J262+J386+J448+J541+J634 -> 0 | K14: =K45+K138+K262+K386+K448+K541+K634 -> 0
A15: 1 | B15: Eiropas Savienības politiku instrumentu un pārējās ārvalstu finanšu palīdzības līdzfinansēto projektu un pasākumu īstenošana | D15: =D46+D139+D263+D387+D449+D542+D635 -> 435000 | E15: =E46+E139+E263+E387+E449+E542+E635 -> 0 | F15: =F46+F139+F263+F387+F449+F542+F635 -> 0 | G15: =G46+G139+G263+G387+G449+G542+G635 -> 755396 | H15: =H46+H139+H263+H387+H449+H542+H635 -> 790645 | I15: =I46+I139+I263+I387+I449+I542+I635 -> 790645 | J15: =J46+J139+J263+J387+J449+J542+J635 -> 1711500 | K15: =K46+K139+K263+K387+K449+K542+K635 -> 0
A16: 1 | B16: Informatīvi Sadalījumā pa budžeta resoriem | D16: X | E16: X | F16: X | G16: X | H16: X | I16: X | J16: X | K16: X
A17: 1 | B17: 13.Finanšu ministrija | D17: =D48+D141+D265+D389+D451+D544+D637 -> 0 | E17: =E48+E141+E265+E389+E451+E544+E637 -> 0 | F17: =F48+F141+F265+F389+F451+F544+F637 -> 0 | G17: =G48+G141+G265+G389+G451+G544+G637 -> 0 | H17: =H48+H141+H265+H389+H451+H544+H637 -> 0 | I17: =I48+I141+I265+I389+I451+I544+I637 -> 0 | J17: =J48+J141+J265+J389+J451+J544+J637 -> 0 | K17: =K48+K141+K265+K389+K451+K544+K637 -> 0
A18: 1 | B18: valsts pamatfunkciju īstenošana | D18: =D49+D142+D266+D390+D452+D545+D638 -> 0 | E18: =E49+E142+E266+E390+E452+E545+E638 -> 0 | F18: =F49+F142+F266+F390+F452+F545+F638 -> 0 | G18: =G49+G142+G266+G390+G452+G545+G638 -> 0 | H18: =H49+H142+H266+H390+H452+H545+H638 -> 0 | I18: =I49+I142+I266+I390+I452+I545+I638 -> 0 | J18: =J49+J142+J266+J390+J452+J545+J638 -> 0 | K18: =K49+K142+K266+K390+K452+K545+K638 -> 0
A19: 1 | B19: Eiropas Savienības politiku instrumentu un pārējās ārvalstu finanšu palīdzības līdzfinansēto projektu un pasākumu īstenošana | D19: =D50+D143+D267+D391+D453+D546+D639 -> 0 | E19: =E50+E143+E267+E391+E453+E546+E639 -> 0 | F19: =F50+F143+F267+F391+F453+F546+F639 -> 0 | G19: =G50+G143+G267+G391+G453+G546+G639 -> 0 | H19: =H50+H143+H267+H391+H453+H546+H639 -> 0 | I19: =I50+I143+I267+I391+I453+I546+I639 -> 0 | J19: =J50+J143+J267+J391+J453+J546+J639 -> 0 | K19: =K50+K143+K267+K391+K453+K546+K639 -> 0
B20: 15. Izglītības un zinātnes ministrija | D20: =D51+D144+D268+D392+D454+D547+D640 -> 0 | E20: =E51+E144+E268+E392+E454+E547+E640 -> 0 | F20: =F51+F144+F268+F392+F454+F547+F640 -> 0 | G20: =G51+G144+G268+G392+G454+G547+G640 -> 0 | H20: =H51+H144+H268+H392+H454+H547+H640 -> 0 | I20: =I51+I144+I268+I392+I454+I547+I640 -> 0 | J20: =J51+J144+J268+J392+J454+J547+J640 -> 0 | K20: =K51+K144+K268+K392+K454+K547+K640 -> 0
B21: valsts pamatfunkciju īstenošana | D21: =D52+D145+D269+D393+D455+D548+D641 -> 0 | E21: =E52+E145+E269+E393+E455+E548+E641 -> 0 | F21: =F52+F145+F269+F393+F455+F548+F641 -> 0 | G21: =G52+G145+G269+G393+G455+G548+G641 -> 0 | H21: =H52+H145+H269+H393+H455+H548+H641 -> 0 | I21: =I52+I145+I269+I393+I455+I548+I641 -> 0 | J21: =J52+J145+J269+J393+J455+J548+J641 -> 0 | K21: =K52+K145+K269+K393+K455+K548+K641 -> 0
B22: Eiropas Savienības politiku instrumentu un pārējās ārvalstu finanšu palīdzības līdzfinansēto projektu un pasākumu īstenošana | D22: =D53+D146+D270+D394+D456+D549+D642 -> 0 | E22: =E53+E146+E270+E394+E456+E549+E642 -> 0 | F22: =F53+F146+F270+F394+F456+F549+F642 -> 0 | G22: =G53+G146+G270+G394+G456+G549+G642 -> 0 | H22: =H53+H146+H270+H394+H456+H549+H642 -> 0 | I22: =I53+I146+I270+I394+I456+I549+I642 -> 0 | J22: =J53+J146+J270+J394+J456+J549+J642 -> 0 | K22: =K53+K146+K270+K394+K456+K549+K642 -> 0
A23: 1 | B23: 18. Labklājības ministrija | D23: =D54+D147+D271+D395+D457+D550+D643 -> 435000 | E23: =E54+E147+E271+E395+E457+E550+E643 -> 0 | F23: =F54+F147+F271+F395+F457+F550+F643 -> 0 | G23: =G54+G147+G271+G395+G457+G550+G643 -> 755396 | H23: =H54+H147+H271+H395+H457+H550+H643 -> 790645 | I23: =I54+I147+I271+I395+I457+I550+I643 -> 790645 | J23: =J54+J147+J271+J395+J457+J550+J643 -> 1711500 | K23: =K54+K147+K271+K395+K457+K550+K643 -> 0
A24: 1 | B24: valsts pamatfunkciju īstenošana | D24: =D55+D148+D272+D396+D458+D551+D644 -> 0 | E24: =E55+E148+E272+E396+E458+E551+E644 -> 0 | F24: =F55+F148+F272+F396+F458+F551+F644 -> 0 | G24: =G55+G148+G272+G396+G458+G551+G644 -> 0 | H24: =H55+H148+H272+H396+H458+H551+H644 -> 0 | I24: =I55+I148+I272+I396+I458+I551+I644 -> 0 | J24: =J55+J148+J272+J396+J458+J551+J644 -> 0 | K24: =K55+K148+K272+K396+K458+K551+K644 -> 0
A25: 1 | B25: valsts sociālās apdrošināšanas speciālais budžets | D25: =D56+D149+D273+D397+D459+D552+D645 -> 0 | E25: =E56+E149+E273+E397+E459+E552+E645 -> 0 | F25: =F56+F149+F273+F397+F459+F552+F645 -> 0 | G25: =G56+G149+G273+G397+G459+G552+G645 -> 0 | H25: =H56+H149+H273+H397+H459+H552+H645 -> 0 | I25: =I56+I149+I273+I397+I459+I552+I645 -> 0 | J25: =J56+J149+J273+J397+J459+J552+J645 -> 0 | K25: =K56+K149+K273+K397+K459+K552+K645 -> 0
A26: 1 | B26: Eiropas Savienības politiku instrumentu un pārējās ārvalstu finanšu palīdzības līdzfinansēto projektu un pasākumu īstenošana | D26: =D57+D150+D274+D398+D460+D553+D646 -> 435000 | E26: =E57+E150+E274+E398+E460+E553+E646 -> 0 | F26: =F57+F150+F274+F398+F460+F553+F646 -> 0 | G26: =G57+G150+G274+G398+G460+G553+G646 -> 755396 | H26: =H57+H150+H274+H398+H460+H553+H646 -> 790645 | I26: =I57+I150+I274+I398+I460+I553+I646 -> 790645 | J26: =J57+J150+J274+J398+J460+J553+J646 -> 1711500 | K26: =K57+K150+K274+K398+K460+K553+K646 -> 0
B27: 19. Tieslietu ministrija | D27: =D58+D151+D275+D399+D461+D554+D647 -> 0 | E27: =E58+E151+E275+E399+E461+E554+E647 -> 0 | F27: =F58+F151+F275+F399+F461+F554+F647 -> 0 | G27: =G58+G151+G275+G399+G461+G554+G647 -> 0 | H27: =H58+H151+H275+H399+H461+H554+H647 -> 0 | I27: =I58+I151+I275+I399+I461+I554+I647 -> 0 | J27: =J58+J151+J275+J399+J461+J554+J647 -> 0 | K27: =K58+K151+K275+K399+K461+K554+K647 -> 0
B28: valsts pamatfunkciju īstenošana | D28: =D59+D152+D276+D400+D462+D555+D648 -> 0 | E28: =E59+E152+E276+E400+E462+E555+E648 -> 0 | F28: =F59+F152+F276+F400+F462+F555+F648 -> 0 | G28: =G59+G152+G276+G400+G462+G555+G648 -> 0 | H28: =H59+H152+H276+H400+H462+H555+H648 -> 0 | I28: =I59+I152+I276+I400+I462+I555+I648 -> 0 | J28: =J59+J152+J276+J400+J462+J555+J648 -> 0 | K28: =K59+K152+K276+K400+K462+K555+K648 -> 0
B29: Eiropas Savienības politiku instrumentu un pārējās ārvalstu finanšu palīdzības līdzfinansēto projektu un pasākumu īstenošana | D29: =D60+D153+D277+D401+D463+D556+D649 -> 0 | E29: =E60+E153+E277+E401+E463+E556+E649 -> 0 | F29: =F60+F153+F277+F401+F463+F556+F649 -> 0 | G29: =G60+G153+G277+G401+G463+G556+G649 -> 0 | H29: =H60+H153+H277+H401+H463+H556+H649 -> 0 | I29: =I60+I153+I277+I401+I463+I556+I649 -> 0 | J29: =J60+J153+J277+J401+J463+J556+J649 -> 0 | K29: =K60+K153+K277+K401+K463+K556+K649 -> 0
B30: 21.Vides aizsardzības un reģionālās attīstības ministrija | D30: =D61+D154+D278+D402+D464+D557+D650 -> 0 | E30: =E61+E154+E278+E402+E464+E557+E650 -> 0 | F30: =F61+F154+F278+F402+F464+F557+F650 -> 0 | G30: =G61+G154+G278+G402+G464+G557+G650 -> 0 | H30: =H61+H154+H278+H402+H464+H557+H650 -> 0 | I30: =I61+I154+I278+I402+I464+I557+I650 -> 0 | J30: =J61+J154+J278+J402+J464+J557+J650 -> 0 | K30: =K61+K154+K278+K402+K464+K557+K650 -> 0
B31: valsts pamatfunkciju īstenošana | D31: =D62+D155+D279+D403+D465+D558+D651 -> 0 | E31: =E62+E155+E279+E403+E465+E558+E651 -> 0 | F31: =F62+F155+F279+F403+F465+F558+F651 -> 0 | G31: =G62+G155+G279+G403+G465+G558+G651 -> 0 | H31: =H62+H155+H279+H403+H465+H558+H651 -> 0 | I31: =I62+I155+I279+I403+I465+I558+I651 -> 0 | J31: =J62+J155+J279+J403+J465+J558+J651 -> 0 | K31: =K62+K155+K279+K403+K465+K558+K651 -> 0
B32: Eiropas Savienības politiku instrumentu un pārējās ārvalstu finanšu palīdzības līdzfinansēto projektu un pasākumu īstenošana | D32: =D63+D156+D280+D404+D466+D559+D652 -> 0 | E32: =E63+E156+E280+E404+E466+E559+E652 -> 0 | F32: =F63+F156+F280+F404+F466+F559+F652 -> 0 | G32: =G63+G156+G280+G404+G466+G559+G652 -> 0 | H32: =H63+H156+H280+H404+H466+H559+H652 -> 0 | I32: =I63+I156+I280+I404+I466+I559+I652 -> 0 | J32: =J63+J156+J280+J404+J466+J559+J652 -> 0 | K32: =K63+K156+K280+K404+K466+K559+K652 -> 0
B33: 22.Kultūras ministrija | D33: =D64+D157+D281+D405+D467+D560+D653 -> 0 | E33: =E64+E157+E281+E405+E467+E560+E653 -> 0 | F33: =F64+F157+F281+F405+F467+F560+F653 -> 0 | G33: =G64+G157+G281+G405+G467+G560+G653 -> 0 | H33: =H64+H157+H281+H405+H467+H560+H653 -> 0 | I33: =I64+I157+I281+I405+I467+I560+I653 -> 0 | J33: =J64+J157+J281+J405+J467+J560+J653 -> 0 | K33: =K64+K157+K281+K405+K467+K560+K653 -> 0
B34: valsts pamatfunkciju īstenošana | D34: =D65+D158+D282+D406+D468+D561+D654 -> 0 | E34: =E65+E158+E282+E406+E468+E561+E654 -> 0 | F34: =F65+F158+F282+F406+F468+F561+F654 -> 0 | G34: =G65+G158+G282+G406+G468+G561+G654 -> 0 | H34: =H65+H158+H282+H406+H468+H561+H654 -> 0 | I34: =I65+I158+I282+I406+I468+I561+I654 -> 0 | J34: =J65+J158+J282+J406+J468+J561+J654 -> 0 | K34: =K65+K158+K282+K406+K468+K561+K654 -> 0
B35: Eiropas Savienības politiku instrumentu un pārējās ārvalstu finanšu palīdzības līdzfinansēto projektu un pasākumu īstenošana | D35: =D66+D159+D283+D407+D469+D562+D655 -> 0 | E35: =E66+E159+E283+E407+E469+E562+E655 -> 0 | F35: =F66+F159+F283+F407+F469+F562+F655 -> 0 | G35: =G66+G159+G283+G407+G469+G562+G655 -> 0 | H35: =H66+H159+H283+H407+H469+H562+H655 -> 0 | I35: =I66+I159+I283+I407+I469+I562+I655 -> 0 | J35: =J66+J159+J283+J407+J469+J562+J655 -> 0 | K35: =K66+K159+K283+K407+K469+K562+K655 -> 0
B36: 29.Veselības ministrija | D36: =D67+D160+D284+D408+D470+D563+D656 -> 0 | E36: =E67+E160+E284+E408+E470+E563+E656 -> 0 | F36: =F67+F160+F284+F408+F470+F563+F656 -> 0 | G36: =G67+G160+G284+G408+G470+G563+G656 -> 0 | H36: =H67+H160+H284+H408+H470+H563+H656 -> 0 | I36: =I67+I160+I284+I408+I470+I563+I656 -> 0 | J36: =J67+J160+J284+J408+J470+J563+J656 -> 0 | K36: =K67+K160+K284+K408+K470+K563+K656 -> 0
B37: valsts pamatfunkciju īstenošana | D37: =D68+D161+D285+D409+D471+D564+D657 -> 0 | E37: =E68+E161+E285+E409+E471+E564+E657 -> 0 | F37: =F68+F161+F285+F409+F471+F564+F657 -> 0 | G37: =G68+G161+G285+G409+G471+G564+G657 -> 0 | H37: =H68+H161+H285+H409+H471+H564+H657 -> 0 | I37: =I68+I161+I285+I409+I471+I564+I657 -> 0 | J37: =J68+J161+J285+J409+J471+J564+J657 -> 0 | K37: =K68+K161+K285+K409+K471+K564+K657 -> 0
B38: Eiropas Savienības politiku instrumentu un pārējās ārvalstu finanšu palīdzības līdzfinansēto projektu un pasākumu īstenošana | D38: =D69+D162+D286+D410+D472+D565+D658 -> 0 | E38: =E69+E162+E286+E410+E472+E565+E658 -> 0 | F38: =F69+F162+F286+F410+F472+F565+F658 -> 0 | G38: =G69+G162+G286+G410+G472+G565+G658 -> 0 | H38: =H69+H162+H286+H410+H472+H565+H658 -> 0 | I38: =I69+I162+I286+I410+I472+I565+I658 -> 0 | J38: =J69+J162+J286+J410+J472+J565+J658 -> 0 | K38: =K69+K162+K286+K410+K472+K565+K658 -> 0
A39: 1 | B39: 1.Uzdevums. Attīstīt uz personu ar funkcionēšanas ierobežojumiem vajadzībām mērķētu atbalsta pasākumu sistēmu (t.sk. starpnozaru līmenī), primāri tādās jomās kā nodarbinātība, veselība, izglītība, publiskās vides un sabiedriskā transporta pieejamība. Finansējums kopā | D39: =D70+D101 -> 0 | E39: =E70+E101 -> 0 | F39: =F70+F101 -> 0 | G39: =G70+G101 -> 0 | H39: =H70+H101 -> 0 | I39: =I70+I101 -> 0 | J39: =J70+J101 -> 0 | K39: =K70+K101 -> 0
B40: Pašvaldību budžets | D40: =D71+D102 -> 0 | E40: =E71+E102 -> 0 | F40: =F71+F102 -> 0 | G40: =G71+G102 -> 0 | H40: =H71+H102 -> 0 | I40: =I71+I102 -> 0 | J40: =J71+J102 -> 0 | K40: =K71+K102 -> 0
B41: Privātais sektors | D41: =D72+D103 -> 0 | E41: =E72+E103 -> 0 | F41: =F72+F103 -> 0 | G41: =G72+G103 -> 0 | H41: =H72+H103 -> 0 | I41: =I72+I103 -> 0 | J41: =J72+J103 -> 0 | K41: =K72+K103 -> 0
B42: Publiski atvasināto personu (izņemot pašvaldības) budžets | D42: =D73+D104 -> 0 | E42: =E73+E104 -> 0 | F42: =F73+F104 -> 0 | G42: =G73+G104 -> 0 | H42: =H73+H104 -> 0 | I42: =I73+I104 -> 0 | J42: =J73+J104 -> 0 | K42: =K73+K104 -> 0
A43: 1 | B43: Vidēja termiņa budžeta ietvara likums, kopā, t.sk.: | D43: =D74+D105 -> 0 | E43: =E74+E105 -> 0 | F43: =F74+F105 -> 0 | G43: =G74+G105 -> 0 | H43: =H74+H105 -> 0 | I43: =I74+I105 -> 0 | J43: =J74+J105 -> 0 | K43: =K74+K105 -> 0
A44: 1 | B44: valsts pamatfunkciju īstenošana | D44: =D75+D106 -> 0 | E44: =E75+E106 -> 0 | F44: =F75+F106 -> 0 | G44: =G75+G106 -> 0 | H44: =H75+H106 -> 0 | I44: =I75+I106 -> 0 | J44: =J75+J106 -> 0 | K44: =K75+K106 -> 0
A45: 1 | B45: valsts sociālās apdrošināšanas speciālais budžets | D45: =D76+D107 -> 0 | E45: =E76+E107 -> 0 | F45: =F76+F107 -> 0 | G45: =G76+G107 -> 0 | H45: =H76+H107 -> 0 | I45: =I76+I107 -> 0 | J45: =J76+J107 -> 0 | K45: =K76+K107 -> 0
A46: 1 | B46: Eiropas Savienības politiku instrumentu un pārējās ārvalstu finanšu palīdzības līdzfinansēto projektu un pasākumu īstenošana | D46: =D77+D108 -> 0 | E46: =E77+E108 -> 0 | F46: =F77+F108 -> 0 | G46: =G77+G108 -> 0 | H46: =H77+H108 -> 0 | I46: =I77+I108 -> 0 | J46: =J77+J108 -> 0 | K46: =K77+K108 -> 0
A47: 1 | B47: Informatīvi Sadalījumā pa budžeta resoriem | D47: X | E47: X | F47: X | G47: X | H47: X | I47: X | J47: X | K47: X
A48: 1 | B48: 13.Finanšu ministrija | D48: =D79+D110 -> 0 | E48: =E79+E110 -> 0 | F48: =F79+F110 -> 0 | G48: =G79+G110 -> 0 | H48: =H79+H110 -> 0 | I48: =I79+I110 -> 0 | J48: =J79+J110 -> 0 | K48: =K79+K110 -> 0
A49: 1 | B49: valsts pamatfunkciju īstenošana | D49: =D80+D111 -> 0 | E49: =E80+E111 -> 0 | F49: =F80+F111 -> 0 | G49: =G80+G111 -> 0 | H49: =H80+H111 -> 0 | I49: =I80+I111 -> 0 | J49: =J80+J111 -> 0 | K49: =K80+K111 -> 0
A50: 1 | B50: Eiropas Savienības politiku instrumentu un pārējās ārvalstu finanšu palīdzības līdzfinansēto projektu un pasākumu īstenošana | D50: =D81+D112 -> 0 | E50: =E81+E112 -> 0 | F50: =F81+F112 -> 0 | G50: =G81+G112 -> 0 | H50: =H81+H112 -> 0 | I50: =I81+I112 -> 0 | J50: =J81+J112 -> 0 | K50: =K81+K112 -> 0
B51: 15. Izglītības un zinātnes ministrija | D51: =D82+D113 -> 0 | E51: =E82+E113 -> 0 | F51: =F82+F113 -> 0 | G51: =G82+G113 -> 0 | H51: =H82+H113 -> 0 | I51: =I82+I113 -> 0 | J51: =J82+J113 -> 0 | K51: =K82+K113 -> 0
B52: valsts pamatfunkciju īstenošana | D52: =D83+D114 -> 0 | E52: =E83+E114 -> 0 | F52: =F83+F114 -> 0 | G52: =G83+G114 -> 0 | H52: =H83+H114 -> 0 | I52: =I83+I114 -> 0 | J52: =J83+J114 -> 0 | K52: =K83+K114 -> 0
B53: Eiropas Savienības politiku instrumentu un pārējās ārvalstu finanšu palīdzības līdzfinansēto projektu un pasākumu īstenošana | D53: =D84+D115 -> 0 | E53: =E84+E115 -> 0 | F53: =F84+F115 -> 0 | G53: =G84+G115 -> 0 | H53: =H84+H115 -> 0 | I53: =I84+I115 -> 0 | J53: =J84+J115 -> 0 | K53: =K84+K115 -> 0
A54: 1 | B54: 18. Labklājības ministrija | D54: =D85+D116 -> 0 | E54: =E85+E116 -> 0 | F54: =F85+F116 -> 0 | G54: =G85+G116 -> 0 | H54: =H85+H116 -> 0 | I54: =I85+I116 -> 0 | J54: =J85+J116 -> 0 | K54: =K85+K116 -> 0
A55: 1 | B55: valsts pamatfunkciju īstenošana | D55: =D86+D117 -> 0 | E55: =E86+E117 -> 0 | F55: =F86+F117 -> 0 | G55: =G86+G117 -> 0 | H55: =H86+H117 -> 0 | I55: =I86+I117 -> 0 | J55: =J86+J117 -> 0 | K55: =K86+K117 -> 0
A56: 1 | B56: valsts sociālās apdrošināšanas speciālais budžets | D56: =D87+D118 -> 0 | E56: =E87+E118 -> 0 | F56: =F87+F118 -> 0 | G56: =G87+G118 -> 0 | H56: =H87+H118 -> 0 | I56: =I87+I118 -> 0 | J56: =J87+J118 -> 0 | K56: =K87+K118 -> 0
A57: 1 | B57: Eiropas Savienības politiku instrumentu un pārējās ārvalstu finanšu palīdzības līdzfinansēto projektu un pasākumu īstenošana | D57: =D88+D119 -> 0 | E57: =E88+E119 -> 0 | F57: =F88+F119 -> 0 | G57: =G88+G119 -> 0 | H57: =H88+H119 -> 0 | I57: =I88+I119 -> 0 | J57: =J88+J119 -> 0 | K57: =K88+K119 -> 0
B58: 19. Tieslietu ministrija | D58: =D89+D120 -> 0 | E58: =E89+E120 -> 0 | F58: =F89+F120 -> 0 | G58: =G89+G120 -> 0 | H58: =H89+H120 -> 0 | I58: =I89+I120 -> 0 | J58: =J89+J120 -> 0 | K58: =K89+K120 -> 0
B59: valsts pamatfunkciju īstenošana | D59: =D90+D121 -> 0 | E59: =E90+E121 -> 0 | F59: =F90+F121 -> 0 | G59: =G90+G121 -> 0 | H59: =H90+H121 -> 0 | I59: =I90+I121 -> 0 | J59: =J90+J121 -> 0 | K59: =K90+K121 -> 0
B60: Eiropas Savienības politiku instrumentu un pārējās ārvalstu finanšu palīdzības līdzfinansēto projektu un pasākumu īstenošana | D60: =D91+D122 -> 0 | E60: =E91+E122 -> 0 | F60: =F91+F122 -> 0 | G60: =G91+G122 -> 0 | H60: =H91+H122 -> 0 | I60: =I91+I122 -> 0 | J60: =J91+J122 -> 0 | K60: =K91+K122 -> 0
B61: 21.Vides aizsardzības un reģionālās attīstības ministrija | D61: =D92+D123 -> 0 | E61: =E92+E123 -> 0 | F61: =F92+F123 -> 0 | G61: =G92+G123 -> 0 | H61: =H92+H123 -> 0 | I61: =I92+I123 -> 0 | J61: =J92+J123 -> 0 | K61: =K92+K123 -> 0
B62: valsts pamatfunkciju īstenošana | D62: =D93+D124 -> 0 | E62: =E93+E124 -> 0 | F62: =F93+F124 -> 0 | G62: =G93+G124 -> 0 | H62: =H93+H124 -> 0 | I62: =I93+I124 -> 0 | J62: =J93+J124 -> 0 | K62: =K93+K124 -> 0
B63: Eiropas Savienības politiku instrumentu un pārējās ārvalstu finanšu palīdzības līdzfinansēto projektu un pasākumu īstenošana | D63: =D94+D125 -> 0 | E63: =E94+E125 -> 0 | F63: =F94+F125 -> 0 | G63: =G94+G125 -> 0 | H63: =H94+H125 -> 0 | I63: =I94+I125 -> 0 | J63: =J94+J125 -> 0 | K63: =K94+K125 -> 0
B64: 22.Kultūras ministrija | D64: =D95+D126 -> 0 | E64: =E95+E126 -> 0 | F64: =F95+F126 -> 0 | G64: =G95+G126 -> 0 | H64: =H95+H126 -> 0 | I64: =I95+I126 -> 0 | J64: =J95+J126 -> 0 | K64: =K95+K126 -> 0
B65: valsts pamatfunkciju īstenošana | D65: =D96+D127 -> 0 | E65: =E96+E127 -> 0 | F65: =F96+F127 -> 0 | G65: =G96+G127 -> 0 | H65: =H96+H127 -> 0 | I65: =I96+I127 -> 0 | J65: =J96+J127 -> 0 | K65: =K96+K127 -> 0
B66: Eiropas Savienības politiku instrumentu un pārējās ārvalstu finanšu palīdzības līdzfinansēto projektu un pasākumu īstenošana | D66: =D97+D128 -> 0 | E66: =E97+E128 -> 0 | F66: =F97+F128 -> 0 | G66: =G97+G128 -> 0 | H66: =H97+H128 -> 0 | I66: =I97+I128 -> 0 | J66: =J97+J128 -> 0 | K66: =K97+K128 -> 0
B67: 29.Veselības ministrija | D67: =D98+D129 -> 0 | E67: =E98+E129 -> 0 | F67: =F98+F129 -> 0 | G67: =G98+G129 -> 0 | H67: =H98+H129 -> 0 | I67: =I98+I129 -> 0 | J67: =J98+J129 -> 0 | K67: =K98+K129 -> 0
B68: valsts pamatfunkciju īstenošana | D68: =D99+D130 -> 0 | E68: =E99+E130 -> 0 | F68: =F99+F130 -> 0 | G68: =G99+G130 -> 0 | H68: =H99+H130 -> 0 | I68: =I99+I130 -> 0 | J68: =J99+J130 -> 0 | K68: =K99+K130 -> 0
B69: Eiropas Savienības politiku instrumentu un pārējās ārvalstu finanšu palīdzības līdzfinansēto projektu un pasākumu īstenošana | D69: =D100+D131 -> 0 | E69: =E100+E131 -> 0 | F69: =F100+F131 -> 0 | G69: =G100+G131 -> 0 | H69: =H100+H131 -> 0 | I69: =I100+I131 -> 0 | J69: =J100+J131 -> 0 | K69: =K100+K131 -> 0
D70: =D71+D72+D73+D74 -> 0 | E70: =E71+E72+E73+E74 -> 0 | F70: =F71+F72+F73+F74 -> 0 | G70: =G71+G72+G73+G74 -> 0 | H70: =H71+H72+H73+H74 -> 0 | I70: =I71+I72+I73+I74 -> 0 | J70: =J71+J72+J73+J74 -> 0 | K70: =K71+K72+K73+K74 -> 0
B71: Pašvaldību budžets
B72: Privātais sektors | D72: 0 | E72: 0 | F72: 0 | G72: 0 | H72: 0 | I72: 0 | J72: 0 | K72: 0
B73: Publiski atvasināto personu (izņemot pašvaldības) budžets | D73: 0 | E73: 0 | F73: 0 | G73: 0 | H73: 0 | I73: 0 | J73: 0 | K73: 0
B74: Vidēja termiņa budžeta ietvara likums, kopā, t.sk.: | D74: =D75+D76+D77 -> 0 | E74: =E75+E76+E77 -> 0 | F74: =F75+F76+F77 -> 0 | G74: =G75+G76+G77 -> 0 | H74: =H75+H76+H77 -> 0 | I74: =I75+I76+I77 -> 0 | J74: =J75+J76+J77 -> 0 | K74: =K75+K76+K77 -> 0
B75: valsts pamatfunkciju īstenošana | D75: =D80+D83+D86+D90+D93+D96+D99 -> 0 | E75: =E80+E83+E86+E90+E93+E96+E99 -> 0 | F75: =F80+F83+F86+F90+F93+F96+F99 -> 0 | G75: =G80+G83+G86+G90+G93+G96+G99 -> 0 | H75: =H80+H83+H86+H90+H93+H96+H99 -> 0 | I75: =I80+I83+I86+I90+I93+I96+I99 -> 0 | J75: =J80+J83+J86+J90+J93+J96+J99 -> 0 | K75: =K80+K83+K86+K90+K93+K96+K99 -> 0
B76: valsts sociālās apdrošināšanas speciālais budžets | D76: =D87 -> 0 | E76: =E87 -> 0 | F76: =F87 -> 0 | G76: =G87 -> 0 | H76: =H87 -> 0 | I76: =I87 -> 0 | J76: =J87 -> 0 | K76: =K87 -> 0
B77: Eiropas Savienības politiku instrumentu un pārējās ārvalstu finanšu palīdzības līdzfinansēto projektu un pasākumu īstenošana | D77: =D81+D84+D88+D91+D94+D97+D100 -> 0 | E77: =E81+E84+E88+E91+E94+E97+E100 -> 0 | F77: =F81+F84+F88+F91+F94+F97+F100 -> 0 | G77: =G81+G84+G88+G91+G94+G97+G100 -> 0 | H77: =H81+H84+H88+H91+H94+H97+H100 -> 0 | I77: =I81+I84+I88+I91+I94+I97+I100 -> 0 | J77: =J81+J84+J88+J91+J94+J97+J100 -> 0 | K77: =K81+K84+K88+K91+K94+K97+K100 -> 0
B78: Informatīvi Sadalījumā pa budžeta resoriem | D78: x | E78: x | F78: x | G78: x | H78: x | I78: x | J78: x | K78: x
B79: 13.Finanšu ministrija | D79: =D80+D81 -> 0 | E79: =E80+E81 -> 0 | F79: =F80+F81 -> 0 | G79: =G80+G81 -> 0 | H79: =H80+H81 -> 0 | I79: =I80+I81 -> 0 | J79: =J80+J81 -> 0 | K79: =K80+K81 -> 0
B80: valsts pamatfunkciju īstenošana
B81: Eiropas Savienības politiku instrumentu un pārējās ārvalstu finanšu palīdzības līdzfinansēto projektu un pasākumu īstenošana
B82: 15. Izglītības un zinātnes ministrija | D82: =D83+D84 -> 0 | E82: =E83+E84 -> 0 | F82: =F83+F84 -> 0 | G82: =G83+G84 -> 0 | H82: =H83+H84 -> 0 | I82: =I83+I84 -> 0 | J82: =J83+J84 -> 0 | K82: =K83+K84 -> 0
B83: valsts pamatfunkciju īstenošana
B84: Eiropas Savienības politiku instrumentu un pārējās ārvalstu finanšu palīdzības līdzfinansēto projektu un pasākumu īstenošana
B85: 18. Labklājības ministrija | D85: =D86+D87+D88 -> 0 | E85: =E86+E87+E88 -> 0 | F85: =F86+F87+F88 -> 0 | G85: =G86+G87+G88 -> 0 | H85: =H86+H87+H88 -> 0 | I85: =I86+I87+I88 -> 0 | J85: =J86+J87+J88 -> 0 | K85: =K86+K87+K88 -> 0
B86: valsts pamatfunkciju īstenošana
B87: valsts sociālās apdrošināšanas speciālais budžets
B88: Eiropas Savienības politiku instrumentu un pārējās ārvalstu finanšu palīdzības līdzfinansēto projektu un pasākumu īstenošana | D88: 0 | E88: 0 | F88: 0 | G88: 0 | H88: 0 | I88: 0 | J88: 0 | K88: 0
B89: 19. Tieslietu ministrija | D89: =D90+D91 -> 0 | E89: =E90+E91 -> 0 | F89: =F90+F91 -> 0 | G89: =G90+G91 -> 0 | H89: =H90+H91 -> 0 | I89: =I90+I91 -> 0 | J89: =J90+J91 -> 0 | K89: =K90+K91 -> 0
B90: valsts pamatfunkciju īstenošana
B91: Eiropas Savienības politiku instrumentu un pārējās ārvalstu finanšu palīdzības līdzfinansēto projektu un pasākumu īstenošana
B92: 21.Vides aizsardzības un reģionālās attīstības ministrija | D92: =D93+D94 -> 0 | E92: =E93+E94 -> 0 | F92: =F93+F94 -> 0 | G92: =G93+G94 -> 0 | H92: =H93+H94 -> 0 | I92: =I93+I94 -> 0 | J92: =J93+J94 -> 0 | K92: =K93+K94 -> 0
B93: valsts pamatfunkciju īstenošana
B94: Eiropas Savienības politiku instrumentu un pārējās ārvalstu finanšu palīdzības līdzfinansēto projektu un pasākumu īstenošana
B95: 22.Kultūras ministrija | D95: =D96+D97 -> 0 | E95: =E96+E97 -> 0 | F95: =F96+F97 -> 0 | G95: =G96+G97 -> 0 | H95: =H96+H97 -> 0 | I95: =I96+I97 -> 0 | J95: =J96+J97 -> 0 | K95: =K96+K97 -> 0
B96: valsts pamatfunkciju īstenošana
B97: Eiropas Savienības politiku instrumentu un pārējās ārvalstu finanšu palīdzības līdzfinansēto projektu un pasākumu īstenošana
B98: 29.Veselības ministrija | D98: =D99+D100 -> 0 | E98: =E99+E100 -> 0 | F98: =F99+F100 -> 0 | G98: =G99+G100 -> 0 | H98: =H99+H100 -> 0 | I98: =I99+I100 -> 0 | J98: =J99+J100 -> 0 | K98: =K99+K100 -> 0
B99: valsts pamatfunkciju īstenošana
B100: Eiropas Savienības politiku instrumentu un pārējās ārvalstu finanšu palīdzības līdzfinansēto projektu un pasākumu īstenošana
...
