Workbook

Sheet KOPSAVILKUMS
A1: Pielikums
A2: Sociālo pakalpojumu pilnveidošanas un attīstības plāns 2022.-2024.gadam
A3: Kopsavilkums par plānā iekļauto uzdevumu īstenošanai nepieciešamo valsts un pašvaldību budžeta finansējumu (euro)
A4: x | B4: Budžeta programmas (apakšprogrammas) kods un nosaukums | C4: Plānotais finansējums | F4: Nepieciešamais papildu finansējums
C5: 2022 | D5: 2023 | E5: 2024 | F5: 2023 | G5: 2024 | H5: 2025 | I5: turpmākajā laikposmā līdz pasākuma pabeigšanai (ja pasākuma īstenošana ir terminēta) | J5: turpmāk ik gadu (ja pasākuma izpilde nav terminēta)
A6: 1 | B6: 2 | C6: 3 | D6: 4 | E6: 5 | F6: 6 | G6: 7 | H6: 8 | I6: 9 | J6: 10
A7: Plāns sociālo pakalpojumu pilnveidošanai un attīstībai 2021.-2024.gadam Finansējums kopā | B7: x | C7: =C26+C222 -> 21044249 | D7: =D26+D222 -> 44064739 | E7: =E26+E222 -> 38633125 | F7: =F26+F222 -> 12909313 | G7: =G26+G222 -> 23174619 | H7: =H26+H222 -> 21552844 | I7: =I26+I222 -> 5610368.4 | J7: =J26+J222 -> 18290539
A8: Pašvaldību budžets | C8: =C27+C223 -> 0 | D8: =D27+D223 -> 0 | E8: =E27+E223 -> 0 | F8: =F27+F223 -> 0 | G8: =G27+G223 -> 0 | H8: =H27+H223 -> 0 | I8: =I27+I223 -> 0 | J8: =J27+J223 -> 0
A9: Vidēja termiņa budžeta ietvara likums, kopā, t.sk.: | C9: =C16+C19+C22 -> 21044249 | D9: =D16+D19+D22 -> 44064739 | E9: =E16+E19+E22 -> 38633125 | F9: =F16+F19+F22 -> 12909313 | G9: =G16+G19+G22 -> 23174619 | H9: =H16+H19+H22 -> 21552844 | I9: =I16+I19+I22 -> 5610368.4 | J9: =J16+J19+J22 -> 18290539
A10: valsts pamatfunkciju īstenošana | C10: =C17+C20+C23 -> 17780755 | D10: =D17+D20+D23 -> 9552364 | E10: =E17+E20+E23 -> 6193456 | F10: =F17+F20+F23 -> 7105504 | G10: =G17+G20+G23 -> 11551721 | H10: =H17+H20+H23 -> 18290539 | I10: =I17+I20+I23 -> 0 | J10: =J17+J20+J23 -> 18290539
A11: valsts sociālās apdrošināšanas speciālais budžets | C11: =C24 -> 0 | D11: =D24 -> 0 | E11: =E24 -> 0 | F11: =F24 -> 0 | G11: =G24 -> 0 | H11: =H24 -> 0 | I11: =I24 -> 0 | J11: =J24 -> 0
A12: Eiropas Savienības politiku instrumentu un pārējās ārvalstu finanšu palīdzības līdzfinansēto projektu un pasākumu īstenošana | C12: =C18+C21+C25 -> 3263494 | D12: =D18+D21+D25 -> 34512375 | E12: =E18+E21+E25 -> 32439669 | F12: =F18+F21+F25 -> 5803809 | G12: =G18+G21+G25 -> 11622898 | H12: =H18+H21+H25 -> 3262304.6 | I12: =I18+I21+I25 -> 5610368.4 | J12: =J18+J21+J25 -> 0
A13: =A32 -> 12.Ekonomikas ministrija | C13: =C32 -> 0 | D13: =D32 -> 0 | E13: =E32 -> 0 | F13: =F32 -> 0 | G13: =G32 -> 0 | H13: =H32 -> 0 | I13: =I32 -> 0 | J13: =J32 -> 0
A14: =A33 -> valsts pamatfunkciju īstenošana | C14: =C33 -> 0 | D14: =D33 -> 0 | E14: =E33 -> 0 | F14: =F33 -> 0 | G14: =G33 -> 0 | H14: =H33 -> 0 | I14: =I33 -> 0 | J14: =J33 -> 0
A15: =A34 -> Eiropas Savienības politiku instrumentu un pārējās ārvalstu finanšu palīdzības līdzfinansēto projektu un pasākumu īstenošana | C15: =C34 -> 0 | D15: =D34 -> 0 | E15: =E34 -> 0 | F15: =F34 -> 0 | G15: =G34 -> 0 | H15: =H34 -> 0 | I15: =I34 -> 0 | J15: =J34 -> 0
A16: 13.Finanšu ministrija | C16: =C228 -> 0 | D16: =D228 -> 0 | E16: =E228 -> 0 | F16: =F228 -> 0 | G16: =G228 -> 0 | H16: =H228 -> 0 | I16: =I228 -> 0 | J16: =J228 -> 0
A17: valsts pamatfunkciju īstenošana | C17: =C229 -> 0 | D17: =D229 -> 0 | E17: =E229 -> 0 | F17: =F229 -> 0 | G17: =G229 -> 0 | H17: =H229 -> 0 | I17: =I229 -> 0 | J17: =J229 -> 0
A18: Eiropas Savienības politiku instrumentu un pārējās ārvalstu finanšu palīdzības līdzfinansēto projektu un pasākumu īstenošana | C18: =C230 -> 0 | D18: =D230 -> 0 | E18: =E230 -> 0 | F18: =F230 -> 0 | G18: =G230 -> 0 | H18: =H230 -> 0 | I18: =I230 -> 0 | J18: =J230 -> 0
A19: 15. Izglītības un zinātnes ministrija | C19: =C35 -> 575064 | D19: =D35 -> 575064 | E19: =E35 -> 575064 | F19: =F35 -> 238836 | G19: =G35 -> 358253 | H19: =H35 -> 477671 | I19: =I35 -> 0 | J19: =J35 -> 477671
A20: valsts pamatfunkciju īstenošana | C20: =C36 -> 575064 | D20: =D36 -> 575064 | E20: =E36 -> 575064 | F20: =F36 -> 238836 | G20: =G36 -> 358253 | H20: =H36 -> 477671 | I20: =I36 -> 0 | J20: =J36 -> 477671
A21: Eiropas Savienības politiku instrumentu un pārējās ārvalstu finanšu palīdzības līdzfinansēto projektu un pasākumu īstenošana | C21: =C37 -> 0 | D21: =D37 -> 0 | E21: =E37 -> 0 | F21: =F37 -> 0 | G21: =G37 -> 0 | H21: =H37 -> 0 | I21: =I37 -> 0 | J21: =J37 -> 0
A22: 18. Labklājības ministrija | C22: =C23+C24+C25 -> 20469185 | D22: =D23+D24+D25 -> 43489675 | E22: =E23+E24+E25 -> 38058061 | F22: =F23+F24+F25 -> 12670477 | G22: =G23+G24+G25 -> 22816366 | H22: =H23+H24+H25 -> 21075173 | I22: =I23+I24+I25 -> 5610368.4 | J22: =J23+J24+J25 -> 17812868
A23: valsts pamatfunkciju īstenošana | C23: =C39+C232 -> 17205691 | D23: =D39+D232 -> 8977300 | E23: =E39+E232 -> 5618392 | F23: =F39+F232 -> 6866668 | G23: =G39+G232 -> 11193468 | H23: =H39+H232 -> 17812868 | I23: =I39+I232 -> 0 | J23: =J39+J232 -> 17812868
A24: valsts sociālās apdrošināšanas speciālais budžets | C24: =C40+C233 -> 0 | D24: =D40+D233 -> 0 | E24: =E40+E233 -> 0 | F24: =F40+F233 -> 0 | G24: =G40+G233 -> 0 | H24: =H40+H233 -> 0 | I24: =I40+I233 -> 0 | J24: =J40+J233 -> 0
A25: Eiropas Savienības politiku instrumentu un pārējās ārvalstu finanšu palīdzības līdzfinansēto projektu un pasākumu īstenošana | C25: =C41+C234 -> 3263494 | D25: =D41+D234 -> 34512375 | E25: =E41+E234 -> 32439669 | F25: =F41+F234 -> 5803809 | G25: =G41+G234 -> 11622898 | H25: =H41+H234 -> 3262304.6 | I25: =I41+I234 -> 5610368.4 | J25: =J41+J234 -> 0
A26: 1. Rīcības virziens Moderna un pieejama sociālo pakalpojumu sistēma, kas cita starpā uzlabo iedzīvotāju iespējas dzīvot neatkarīgi un dzīvot sabiedrībā, iekļauties izglītībā un darba tirgū Finansējums kopā | B26: x | C26: ='1.RĪCĪBAS VIRZIENS'!D8 -> 20609249 | D26: ='1.RĪCĪBAS VIRZIENS'!E8 -> 44064739 | E26: ='1.RĪCĪBAS VIRZIENS'!F8 -> 38633125 | F26: ='1.RĪCĪBAS VIRZIENS'!G8 -> 12153917 | G26: ='1.RĪCĪBAS VIRZIENS'!H8 -> 22383974 | H26: ='1.RĪCĪBAS VIRZIENS'!I8 -> 20762199 | I26: ='1.RĪCĪBAS VIRZIENS'!J8 -> 3898868.4 | J26: ='1.RĪCĪBAS VIRZIENS'!K8 -> 18290539
A27: ='1.RĪCĪBAS VIRZIENS'!B9 -> Pašvaldību budžets | C27: ='1.RĪCĪBAS VIRZIENS'!D9 -> 0 | D27: ='1.RĪCĪBAS VIRZIENS'!E9 -> 0 | E27: ='1.RĪCĪBAS VIRZIENS'!F9 -> 0 | F27: ='1.RĪCĪBAS VIRZIENS'!G9 -> 0 | G27: ='1.RĪCĪBAS VIRZIENS'!H9 -> 0 | H27: ='1.RĪCĪBAS VIRZIENS'!I9 -> 0 | I27: ='1.RĪCĪBAS VIRZIENS'!J9 -> 0 | J27: ='1.RĪCĪBAS VIRZIENS'!K9 -> 0
A28: ='1.RĪCĪBAS VIRZIENS'!B12 -> Vidēja termiņa budžeta ietvara likums, kopā, t.sk.: | C28: ='1.RĪCĪBAS VIRZIENS'!D12 -> 20609249 | D28: ='1.RĪCĪBAS VIRZIENS'!E12 -> 44064739 | E28: ='1.RĪCĪBAS VIRZIENS'!F12 -> 38633125 | F28: ='1.RĪCĪBAS VIRZIENS'!G12 -> 12153917 | G28: ='1.RĪCĪBAS VIRZIENS'!H12 -> 22383974 | H28: ='1.RĪCĪBAS VIRZIENS'!I12 -> 20762199 | I28: ='1.RĪCĪBAS VIRZIENS'!J12 -> 3898868.4 | J28: ='1.RĪCĪBAS VIRZIENS'!K12 -> 18290539
A29: ='1.RĪCĪBAS VIRZIENS'!B13 -> valsts pamatfunkciju īstenošana | C29: ='1.RĪCĪBAS VIRZIENS'!D13 -> 17780755 | D29: ='1.RĪCĪBAS VIRZIENS'!E13 -> 9552364 | E29: ='1.RĪCĪBAS VIRZIENS'!F13 -> 6193456 | F29: ='1.RĪCĪBAS VIRZIENS'!G13 -> 7105504 | G29: ='1.RĪCĪBAS VIRZIENS'!H13 -> 11551721 | H29: ='1.RĪCĪBAS VIRZIENS'!I13 -> 18290539 | I29: ='1.RĪCĪBAS VIRZIENS'!J13 -> 0 | J29: ='1.RĪCĪBAS VIRZIENS'!K13 -> 18290539
A30: ='1.RĪCĪBAS VIRZIENS'!B14 -> valsts sociālās apdrošināšanas speciālais budžets | C30: ='1.RĪCĪBAS VIRZIENS'!D14 -> 0 | D30: ='1.RĪCĪBAS VIRZIENS'!E14 -> 0 | E30: ='1.RĪCĪBAS VIRZIENS'!F14 -> 0 | F30: ='1.RĪCĪBAS VIRZIENS'!G14 -> 0 | G30: ='1.RĪCĪBAS VIRZIENS'!H14 -> 0 | H30: ='1.RĪCĪBAS VIRZIENS'!I14 -> 0 | I30: ='1.RĪCĪBAS VIRZIENS'!J14 -> 0 | J30: ='1.RĪCĪBAS VIRZIENS'!K14 -> 0
A31: ='1.RĪCĪBAS VIRZIENS'!B15 -> Eiropas Savienības politiku instrumentu un pārējās ārvalstu finanšu palīdzības līdzfinansēto projektu un pasākumu īstenošana | C31: ='1.RĪCĪBAS VIRZIENS'!D15 -> 2828494 | D31: ='1.RĪCĪBAS VIRZIENS'!E15 -> 34512375 | E31: ='1.RĪCĪBAS VIRZIENS'!F15 -> 32439669 | F31: ='1.RĪCĪBAS VIRZIENS'!G15 -> 5048413 | G31: ='1.RĪCĪBAS VIRZIENS'!H15 -> 10832253 | H31: ='1.RĪCĪBAS VIRZIENS'!I15 -> 2471659.6 | I31: ='1.RĪCĪBAS VIRZIENS'!J15 -> 3898868.4 | J31: ='1.RĪCĪBAS VIRZIENS'!K15 -> 0
A32: ='1.RĪCĪBAS VIRZIENS'!B17 -> 12.Ekonomikas ministrija | C32: ='1.RĪCĪBAS VIRZIENS'!D17 -> 0 | D32: ='1.RĪCĪBAS VIRZIENS'!E17 -> 0 | E32: ='1.RĪCĪBAS VIRZIENS'!F17 -> 0 | F32: ='1.RĪCĪBAS VIRZIENS'!G17 -> 0 | G32: ='1.RĪCĪBAS VIRZIENS'!H17 -> 0 | H32: ='1.RĪCĪBAS VIRZIENS'!I17 -> 0 | I32: ='1.RĪCĪBAS VIRZIENS'!J17 -> 0 | J32: ='1.RĪCĪBAS VIRZIENS'!K17 -> 0
A33: ='1.RĪCĪBAS VIRZIENS'!B18 -> valsts pamatfunkciju īstenošana | C33: ='1.RĪCĪBAS VIRZIENS'!D18 -> 0 | D33: ='1.RĪCĪBAS VIRZIENS'!E18 -> 0 | E33: ='1.RĪCĪBAS VIRZIENS'!F18 -> 0 | F33: ='1.RĪCĪBAS VIRZIENS'!G18 -> 0 | G33: ='1.RĪCĪBAS VIRZIENS'!H18 -> 0 | H33: ='1.RĪCĪBAS VIRZIENS'!I18 -> 0 | I33: ='1.RĪCĪBAS VIRZIENS'!J18 -> 0 | J33: ='1.RĪCĪBAS VIRZIENS'!K18 -> 0
A34: ='1.RĪCĪBAS VIRZIENS'!B19 -> Eiropas Savienības politiku instrumentu un pārējās ārvalstu finanšu palīdzības līdzfinansēto projektu un pasākumu īstenošana | C34: ='1.RĪCĪBAS VIRZIENS'!D19 -> 0 | D34: ='1.RĪCĪBAS VIRZIENS'!E19 -> 0 | E34: ='1.RĪCĪBAS VIRZIENS'!F19 -> 0 | F34: ='1.RĪCĪBAS VIRZIENS'!G19 -> 0 | G34: ='1.RĪCĪBAS VIRZIENS'!H19 -> 0 | H34: ='1.RĪCĪBAS VIRZIENS'!I19 -> 0 | I34: ='1.RĪCĪBAS VIRZIENS'!J19 -> 0 | J34: ='1.RĪCĪBAS VIRZIENS'!K19 -> 0
A35: ='1.RĪCĪBAS VIRZIENS'!B20 -> 15. Izglītības un zinātnes ministrija | C35: ='1.RĪCĪBAS VIRZIENS'!D20 -> 575064 | D35: ='1.RĪCĪBAS VIRZIENS'!E20 -> 575064 | E35: ='1.RĪCĪBAS VIRZIENS'!F20 -> 575064 | F35: ='1.RĪCĪBAS VIRZIENS'!G20 -> 238836 | G35: ='1.RĪCĪBAS VIRZIENS'!H20 -> 358253 | H35: ='1.RĪCĪBAS VIRZIENS'!I20 -> 477671 | I35: ='1.RĪCĪBAS VIRZIENS'!J20 -> 0 | J35: ='1.RĪCĪBAS VIRZIENS'!K20 -> 477671
A36: ='1.RĪCĪBAS VIRZIENS'!B21 -> valsts pamatfunkciju īstenošana | C36: ='1.RĪCĪBAS VIRZIENS'!D21 -> 575064 | D36: ='1.RĪCĪBAS VIRZIENS'!E21 -> 575064 | E36: ='1.RĪCĪBAS VIRZIENS'!F21 -> 575064 | F36: ='1.RĪCĪBAS VIRZIENS'!G21 -> 238836 | G36: ='1.RĪCĪBAS VIRZIENS'!H21 -> 358253 | H36: ='1.RĪCĪBAS VIRZIENS'!I21 -> 477671 | I36: ='1.RĪCĪBAS VIRZIENS'!J21 -> 0 | J36: ='1.RĪCĪBAS VIRZIENS'!K21 -> 477671
A37: ='1.RĪCĪBAS VIRZIENS'!B22 -> Eiropas Savienības politiku instrumentu un pārējās ārvalstu finanšu palīdzības līdzfinansēto projektu un pasākumu īstenošana | C37: ='1.RĪCĪBAS VIRZIENS'!D25 -> 0 | D37: ='1.RĪCĪBAS VIRZIENS'!E25 -> 0 | E37: ='1.RĪCĪBAS VIRZIENS'!F25 -> 0 | F37: ='1.RĪCĪBAS VIRZIENS'!G25 -> 0 | G37: ='1.RĪCĪBAS VIRZIENS'!H25 -> 0 | H37: ='1.RĪCĪBAS VIRZIENS'!I25 -> 0 | I37: ='1.RĪCĪBAS VIRZIENS'!J25 -> 0 | J37: ='1.RĪCĪBAS VIRZIENS'!K25 -> 0
A38: ='1.RĪCĪBAS VIRZIENS'!B23 -> 18. Labklājības ministrija | C38: ='1.RĪCĪBAS VIRZIENS'!D23 -> 20034185 | D38: ='1.RĪCĪBAS VIRZIENS'!E23 -> 43489675 | E38: ='1.RĪCĪBAS VIRZIENS'!F23 -> 38058061 | F38: ='1.RĪCĪBAS VIRZIENS'!G23 -> 11915081 | G38: ='1.RĪCĪBAS VIRZIENS'!H23 -> 22025721 | H38: ='1.RĪCĪBAS VIRZIENS'!I23 -> 20284528 | I38: ='1.RĪCĪBAS VIRZIENS'!J23 -> 3898868.4 | J38: ='1.RĪCĪBAS VIRZIENS'!K23 -> 17812868
A39: ='1.RĪCĪBAS VIRZIENS'!B24 -> valsts pamatfunkciju īstenošana | C39: ='1.RĪCĪBAS VIRZIENS'!D24 -> 17205691 | D39: ='1.RĪCĪBAS VIRZIENS'!E24 -> 8977300 | E39: ='1.RĪCĪBAS VIRZIENS'!F24 -> 5618392 | F39: ='1.RĪCĪBAS VIRZIENS'!G24 -> 6866668 | G39: ='1.RĪCĪBAS VIRZIENS'!H24 -> 11193468 | H39: ='1.RĪCĪBAS VIRZIENS'!I24 -> 17812868 | I39: ='1.RĪCĪBAS VIRZIENS'!J24 -> 0 | J39: ='1.RĪCĪBAS VIRZIENS'!K24 -> 17812868
A40: ='1.RĪCĪBAS VIRZIENS'!B25 -> valsts sociālās apdrošināšanas speciālais budžets | C40: ='1.RĪCĪBAS VIRZIENS'!D25 -> 0 | D40: ='1.RĪCĪBAS VIRZIENS'!E25 -> 0 | E40: ='1.RĪCĪBAS VIRZIENS'!F25 -> 0 | F40: ='1.RĪCĪBAS VIRZIENS'!G25 -> 0 | G40: ='1.RĪCĪBAS VIRZIENS'!H25 -> 0 | H40: ='1.RĪCĪBAS VIRZIENS'!I25 -> 0 | I40: ='1.RĪCĪBAS VIRZIENS'!J25 -> 0 | J40: ='1.RĪCĪBAS VIRZIENS'!K25 -> 0
...

Sheet 1.RĪCĪBAS VIRZIENS
A1: Pielikums
A2: Plāns sociālo pakalpojumu pilnveidošanai un attīstībai 2022.-2024.gadam
A3: 1. Rīcības virzienā plānā iekļauto uzdevumu īstenošanai nepieciešamais valsts un pašvaldību budžeta finansējums (euro)
A4: 1. Rīcības virziens Moderna un pieejama sociālo pakalpojumu sistēma, kas cita starpā uzlabo iedzīvotāju iespējas dzīvot neatkarīgi un dzīvot sabiedrībā, iekļauties izglītībā un darba tirgū Finansējums kopā
B5: Pasākums | C5: Budžeta programmas (apakšprogrammas) kods un nosaukums | D5: Vidēja termiņa budžeta ietvara likumā plānotais finansējums | G5: Nepieciešamais papildu finansējums | L5: Pasākuma īstenošanas gads (ja pasākuma īstenošana ir terminēta)
D6: 2022 | E6: 2023 | F6: 2024 | G6: 2023 | H6: 2024 | I6: 2025 | J6: turpmākajā laikposmā līdz pasākuma pabeigšanai (ja pasākuma īstenošana ir terminēta) | K6: turpmāk ik gadu (ja pasākuma izpilde nav terminēta)
A7: 2 | B7: 1 | C7: 2 | D7: 3 | E7: 4 | F7: 5 | G7: 6 | H7: 7 | I7: 8 | J7: 9 | K7: 10 | L7: 11
A8: 1 | B8: Finansējums kopā 1. Rīcības virziens | D8: =D39+D1020+D1528+D1749+D3201+D3604+D5061 -> 20609249 | E8: =E39+E1020+E1528+E1749+E3201+E3604+E5061 -> 44064739 | F8: =F39+F1020+F1528+F1749+F3201+F3604+F5061 -> 38633125 | G8: =G39+G1020+G1528+G1749+G3201+G3604+G5061 -> 12153917 | H8: =H39+H1020+H1528+H1749+H3201+H3604+H5061 -> 22383974 | I8: =I39+I1020+I1528+I1749+I3201+I3604+I5061 -> 20762199 | J8: =J39+J1020+J1528+J1749+J3201+J3604+J5061 -> 3898868.4 | K8: =K39+K1020+K1528+K1749+K3201+K3604+K5061 -> 18290539
A9: 1 | B9: Pašvaldību budžets | D9: =D40+D1021+D1529+D1750+D3202+D3605+D5062 -> 0 | E9: =E40+E1021+E1529+E1750+E3202+E3605+E5062 -> 0 | F9: =F40+F1021+F1529+F1750+F3202+F3605+F5062 -> 0 | G9: =G40+G1021+G1529+G1750+G3202+G3605+G5062 -> 0 | H9: =H40+H1021+H1529+H1750+H3202+H3605+H5062 -> 0 | I9: =I40+I1021+I1529+I1750+I3202+I3605+I5062 -> 0 | J9: =J40+J1021+J1529+J1750+J3202+J3605+J5062 -> 0 | K9: =K40+K1021+K1529+K1750+K3202+K3605+K5062 -> 0
B10: Privātais sektors | D10: =D41+D1022+D1530+D1751+D3203+D3606+D5063 -> 0 | E10: =E41+E1022+E1530+E1751+E3203+E3606+E5063 -> 0 | F10: =F41+F1022+F1530+F1751+F3203+F3606+F5063 -> 0 | G10: =G41+G1022+G1530+G1751+G3203+G3606+G5063 -> 0 | H10: =H41+H1022+H1530+H1751+H3203+H3606+H5063 -> 0 | I10: =I41+I1022+I1530+I1751+I3203+I3606+I5063 -> 0 | J10: =J41+J1022+J1530+J1751+J3203+J3606+J5063 -> 0 | K10: =K41+K1022+K1530+K1751+K3203+K3606+K5063 -> 0
B11: Publiski atvasināto personu (izņemot pašvaldības) budžets | D11: =D42+D1023+D1531+D1752+D3204+D3607+D5064 -> 0 | E11: =E42+E1023+E1531+E1752+E3204+E3607+E5064 -> 0 | F11: =F42+F1023+F1531+F1752+F3204+F3607+F5064 -> 0 | G11: =G42+G1023+G1531+G1752+G3204+G3607+G5064 -> 0 | H11: =H42+H1023+H1531+H1752+H3204+H3607+H5064 -> 0 | I11: =I42+I1023+I1531+I1752+I3204+I3607+I5064 -> 0 | J11: =J42+J1023+J1531+J1752+J3204+J3607+J5064 -> 0 | K11: =K42+K1023+K1531+K1752+K3204+K3607+K5064 -> 0
A12: 1 | B12: Vidēja termiņa budžeta ietvara likums, kopā, t.sk.: | D12: =D43+D1024+D1532+D1753+D3205+D3608+D5065 -> 20609249 | E12: =E43+E1024+E1532+E1753+E3205+E3608+E5065 -> 44064739 | F12: =F43+F1024+F1532+F1753+F3205+F3608+F5065 -> 38633125 | G12: =G43+G1024+G1532+G1753+G3205+G3608+G5065 -> 12153917 | H12: =H43+H1024+H1532+H1753+H3205+H3608+H5065 -> 22383974 | I12: =I43+I1024+I1532+I1753+I3205+I3608+I5065 -> 20762199 | J12: =J43+J1024+J1532+J1753+J3205+J3608+J5065 -> 3898868.4 | K12: =K43+K1024+K1532+K1753+K3205+K3608+K5065 -> 18290539
A13: 1 | B13: valsts pamatfunkciju īstenošana | D13: =D44+D1025+D1533+D1754+D3206+D3609+D5066 -> 17780755 | E13: =E44+E1025+E1533+E1754+E3206+E3609+E5066 -> 9552364 | F13: =F44+F1025+F1533+F1754+F3206+F3609+F5066 -> 6193456 | G13: =G44+G1025+G1533+G1754+G3206+G3609+G5066 -> 7105504 | H13: =H44+H1025+H1533+H1754+H3206+H3609+H5066 -> 11551721 | I13: =I44+I1025+I1533+I1754+I3206+I3609+I5066 -> 18290539 | J13: =J44+J1025+J1533+J1754+J3206+J3609+J5066 -> 0 | K13: =K44+K1025+K1533+K1754+K3206+K3609+K5066 -> 18290539
A14: 1 | B14: valsts sociālās apdrošināšanas speciālais budžets | D14: =D45+D1026+D1534+D1755+D3207+D3610+D5067 -> 0 | E14: =E45+E1026+E1534+E1755+E3207+E3610+E5067 -> 0 | F14: =F45+F1026+F1534+F1755+F3207+F3610+F5067 -> 0 | G14: =G45+G1026+G1534+G1755+G3207+G3610+G5067 -> 0 | H14: =H45+H1026+H1534+H1755+H3207+H3610+H5067 -> 0 | I14: =I45+I1026+I1534+I1755+I3207+I3610+I5067 -> 0 | J14: =J45+J1026+J1534+J1755+J3207+J3610+J5067 -> 0 | K14: =K45+K1026+K1534+K1755+K3207+K3610+K5067 -> 0
A15: 1 | B15: Eiropas Savienības politiku instrumentu un pārējās ārvalstu finanšu palīdzības līdzfinansēto projektu un pasākumu īstenošana | D15: =D46+D1027+D1535+D1756+D3208+D3611+D5068 -> 2828494 | E15: =E46+E1027+E1535+E1756+E3208+E3611+E5068 -> 34512375 | F15: =F46+F1027+F1535+F1756+F3208+F3611+F5068 -> 32439669 | G15: =G46+G1027+G1535+G1756+G3208+G3611+G5068 -> 5048413 | H15: =H46+H1027+H1535+H1756+H3208+H3611+H5068 -> 10832253 | I15: =I46+I1027+I1535+I1756+I3208+I3611+I5068 -> 2471659.6 | J15: =J46+J1027+J1535+J1756+J3208+J3611+J5068 -> 3898868.4 | K15: =K46+K1027+K1535+K1756+K3208+K3611+K5068 -> 0
A16: 1 | B16: Informatīvi Sadalījumā pa budžeta resoriem | D16: x | E16: x | F16: x | G16: x | H16: x | I16: x | J16: x | K16: x
A17: 1 | B17: 12.Ekonomikas ministrija | D17: =D48+D1029+D1537+D1758+D3210+D3613+D5070 -> 0 | E17: =E48+E1029+E1537+E1758+E3210+E3613+E5070 -> 0 | F17: =F48+F1029+F1537+F1758+F3210+F3613+F5070 -> 0 | G17: =G48+G1029+G1537+G1758+G3210+G3613+G5070 -> 0 | H17: =H48+H1029+H1537+H1758+H3210+H3613+H5070 -> 0 | I17: =I48+I1029+I1537+I1758+I3210+I3613+I5070 -> 0 | J17: =J48+J1029+J1537+J1758+J3210+J3613+J5070 -> 0 | K17: =K48+K1029+K1537+K1758+K3210+K3613+K5070 -> 0
A18: 1 | B18: valsts pamatfunkciju īstenošana | D18: =D49+D1030+D1538+D1759+D3211+D3614+D5071 -> 0 | E18: =E49+E1030+E1538+E1759+E3211+E3614+E5071 -> 0 | F18: =F49+F1030+F1538+F1759+F3211+F3614+F5071 -> 0 | G18: =G49+G1030+G1538+G1759+G3211+G3614+G5071 -> 0 | H18: =H49+H1030+H1538+H1759+H3211+H3614+H5071 -> 0 | I18: =I49+I1030+I1538+I1759+I3211+I3614+I5071 -> 0 | J18: =J49+J1030+J1538+J1759+J3211+J3614+J5071 -> 0 | K18: =K49+K1030+K1538+K1759+K3211+K3614+K5071 -> 0
A19: 1 | B19: Eiropas Savienības politiku instrumentu un pārējās ārvalstu finanšu palīdzības līdzfinansēto projektu un pasākumu īstenošana | D19: =D50+D1031+D1539+D1760+D3212+D3615+D5072 -> 0 | E19: =E50+E1031+E1539+E1760+E3212+E3615+E5072 -> 0 | F19: =F50+F1031+F1539+F1760+F3212+F3615+F5072 -> 0 | G19: =G50+G1031+G1539+G1760+G3212+G3615+G5072 -> 0 | H19: =H50+H1031+H1539+H1760+H3212+H3615+H5072 -> 0 | I19: =I50+I1031+I1539+I1760+I3212+I3615+I5072 -> 0 | J19: =J50+J1031+J1539+J1760+J3212+J3615+J5072 -> 0 | K19: =K50+K1031+K1539+K1760+K3212+K3615+K5072 -> 0
A20: 1 | B20: 15. Izglītības un zinātnes ministrija | D20: =D51+D1032+D1540+D1761+D3213+D3616+D5073 -> 575064 | E20: =E51+E1032+E1540+E1761+E3213+E3616+E5073 -> 575064 | F20: =F51+F1032+F1540+F1761+F3213+F3616+F5073 -> 575064 | G20: =G51+G1032+G1540+G1761+G3213+G3616+G5073 -> 238836 | H20: =H51+H1032+H1540+H1761+H3213+H3616+H5073 -> 358253 | I20: =I51+I1032+I1540+I1761+I3213+I3616+I5073 -> 477671 | J20: =J51+J1032+J1540+J1761+J3213+J3616+J5073 -> 0 | K20: =K51+K1032+K1540+K1761+K3213+K3616+K5073 -> 477671
A21: 1 | B21: valsts pamatfunkciju īstenošana | D21: =D52+D1033+D1541+D1762+D3214+D3617+D5074 -> 575064 | E21: =E52+E1033+E1541+E1762+E3214+E3617+E5074 -> 575064 | F21: =F52+F1033+F1541+F1762+F3214+F3617+F5074 -> 575064 | G21: =G52+G1033+G1541+G1762+G3214+G3617+G5074 -> 238836 | H21: =H52+H1033+H1541+H1762+H3214+H3617+H5074 -> 358253 | I21: =I52+I1033+I1541+I1762+I3214+I3617+I5074 -> 477671 | J21: =J52+J1033+J1541+J1762+J3214+J3617+J5074 -> 0 | K21: =K52+K1033+K1541+K1762+K3214+K3617+K5074 -> 477671
A22: 1 | B22: Eiropas Savienības politiku instrumentu un pārējās ārvalstu finanšu palīdzības līdzfinansēto projektu un pasākumu īstenošana | D22: =D53+D1034+D1542+D1763+D3215+D3618+D5075 -> 0 | E22: =E53+E1034+E1542+E1763+E3215+E3618+E5075 -> 0 | F22: =F53+F1034+F1542+F1763+F3215+F3618+F5075 -> 0 | G22: =G53+G1034+G1542+G1763+G3215+G3618+G5075 -> 0 | H22: =H53+H1034+H1542+H1763+H3215+H3618+H5075 -> 0 | I22: =I53+I1034+I1542+I1763+I3215+I3618+I5075 -> 0 | J22: =J53+J1034+J1542+J1763+J3215+J3618+J5075 -> 0 | K22: =K53+K1034+K1542+K1763+K3215+K3618+K5075 -> 0
A23: 1 | B23: 18. Labklājības ministrija | D23: =D54+D1035+D1543+D1764+D3216+D3619+D5076 -> 20034185 | E23: =E54+E1035+E1543+E1764+E3216+E3619+E5076 -> 43489675 | F23: =F54+F1035+F1543+F1764+F3216+F3619+F5076 -> 38058061 | G23: =G54+G1035+G1543+G1764+G3216+G3619+G5076 -> 11915081 | H23: =H54+H1035+H1543+H1764+H3216+H3619+H5076 -> 22025721 | I23: =I54+I1035+I1543+I1764+I3216+I3619+I5076 -> 20284528 | J23: =J54+J1035+J1543+J1764+J3216+J3619+J5076 -> 3898868.4 | K23: =K54+K1035+K1543+K1764+K3216+K3619+K5076 -> 17812868
A24: 1 | B24: valsts pamatfunkciju īstenošana | D24: =D55+D1036+D1544+D1765+D3217+D3620+D5077 -> 17205691 | E24: =E55+E1036+E1544+E1765+E3217+E3620+E5077 -> 8977300 | F24: =F55+F1036+F1544+F1765+F3217+F3620+F5077 -> 5618392 | G24: =G55+G1036+G1544+G1765+G3217+G3620+G5077 -> 6866668 | H24: =H55+H1036+H1544+H1765+H3217+H3620+H5077 -> 11193468 | I24: =I55+I1036+I1544+I1765+I3217+I3620+I5077 -> 17812868 | J24: =J55+J1036+J1544+J1765+J3217+J3620+J5077 -> 0 | K24: =K55+K1036+K1544+K1765+K3217+K3620+K5077 -> 17812868
A25: 1 | B25: valsts sociālās apdrošināšanas speciālais budžets | D25: =D56+D1037+D1545+D1766+D3218+D3621+D5078 -> 0 | E25: =E56+E1037+E1545+E1766+E3218+E3621+E5078 -> 0 | F25: =F56+F1037+F1545+F1766+F3218+F3621+F5078 -> 0 | G25: =G56+G1037+G1545+G1766+G3218+G3621+G5078 -> 0 | H25: =H56+H1037+H1545+H1766+H3218+H3621+H5078 -> 0 | I25: =I56+I1037+I1545+I1766+I3218+I3621+I5078 -> 0 | J25: =J56+J1037+J1545+J1766+J3218+J3621+J5078 -> 0 | K25: =K56+K1037+K1545+K1766+K3218+K3621+K5078 -> 0
A26: 1 | B26: Eiropas Savienības politiku instrumentu un pārējās ārvalstu finanšu palīdzības līdzfinansēto projektu un pasākumu īstenošana | D26: =D57+D1038+D1546+D1767+D3219+D3622+D5079 -> 2828494 | E26: =E57+E1038+E1546+E1767+E3219+E3622+E5079 -> 34512375 | F26: =F57+F1038+F1546+F1767+F3219+F3622+F5079 -> 32439669 | G26: =G57+G1038+G1546+G1767+G3219+G3622+G5079 -> 5048413 | H26: =H57+H1038+H1546+H1767+H3219+H3622+H5079 -> 10832253 | I26: =I57+I1038+I1546+I1767+I3219+I3622+I5079 -> 2471659.6 | J26: =J57+J1038+J1546+J1767+J3219+J3622+J5079 -> 3898868.4 | K26: =K57+K1038+K1546+K1767+K3219+K3622+K5079 -> 0
B27: 19. Tieslietu ministrija | D27: =D58+D1039+D1547+D1768+D3220+D3623+D5080 -> 0 | E27: =E58+E1039+E1547+E1768+E3220+E3623+E5080 -> 0 | F27: =F58+F1039+F1547+F1768+F3220+F3623+F5080 -> 0 | G27: =G58+G1039+G1547+G1768+G3220+G3623+G5080 -> 0 | H27: =H58+H1039+H1547+H1768+H3220+H3623+H5080 -> 0 | I27: =I58+I1039+I1547+I1768+I3220+I3623+I5080 -> 0 | J27: =J58+J1039+J1547+J1768+J3220+J3623+J5080 -> 0 | K27: =K58+K1039+K1547+K1768+K3220+K3623+K5080 -> 0
B28: valsts pamatfunkciju īstenošana | D28: =D59+D1040+D1548+D1769+D3221+D3624+D5081 -> 0 | E28: =E59+E1040+E1548+E1769+E3221+E3624+E5081 -> 0 | F28: =F59+F1040+F1548+F1769+F3221+F3624+F5081 -> 0 | G28: =G59+G1040+G1548+G1769+G3221+G3624+G5081 -> 0 | H28: =H59+H1040+H1548+H1769+H3221+H3624+H5081 -> 0 | I28: =I59+I1040+I1548+I1769+I3221+I3624+I5081 -> 0 | J28: =J59+J1040+J1548+J1769+J3221+J3624+J5081 -> 0 | K28: =K59+K1040+K1548+K1769+K3221+K3624+K5081 -> 0
B29: Eiropas Savienības politiku instrumentu un pārējās ārvalstu finanšu palīdzības līdzfinansēto projektu un pasākumu īstenošana | D29: =D60+D1041+D1549+D1770+D3222+D3625+D5082 -> 0 | E29: =E60+E1041+E1549+E1770+E3222+E3625+E5082 -> 0 | F29: =F60+F1041+F1549+F1770+F3222+F3625+F5082 -> 0 | G29: =G60+G1041+G1549+G1770+G3222+G3625+G5082 -> 0 | H29: =H60+H1041+H1549+H1770+H3222+H3625+H5082 -> 0 | I29: =I60+I1041+I1549+I1770+I3222+I3625+I5082 -> 0 | J29: =J60+J1041+J1549+J1770+J3222+J3625+J5082 -> 0 | K29: =K60+K1041+K1549+K1770+K3222+K3625+K5082 -> 0
B30: 21.Vides aizsardzības un reģionālās attīstības ministrija | D30: =D61+D1042+D1550+D1771+D3223+D3626+D5083 -> 0 | E30: =E61+E1042+E1550+E1771+E3223+E3626+E5083 -> 0 | F30: =F61+F1042+F1550+F1771+F3223+F3626+F5083 -> 0 | G30: =G61+G1042+G1550+G1771+G3223+G3626+G5083 -> 0 | H30: =H61+H1042+H1550+H1771+H3223+H3626+H5083 -> 0 | I30: =I61+I1042+I1550+I1771+I3223+I3626+I5083 -> 0 | J30: =J61+J1042+J1550+J1771+J3223+J3626+J5083 -> 0 | K30: =K61+K1042+K1550+K1771+K3223+K3626+K5083 -> 0
B31: valsts pamatfunkciju īstenošana | D31: =D62+D1043+D1551+D1772+D3224+D3627+D5084 -> 0 | E31: =E62+E1043+E1551+E1772+E3224+E3627+E5084 -> 0 | F31: =F62+F1043+F1551+F1772+F3224+F3627+F5084 -> 0 | G31: =G62+G1043+G1551+G1772+G3224+G3627+G5084 -> 0 | H31: =H62+H1043+H1551+H1772+H3224+H3627+H5084 -> 0 | I31: =I62+I1043+I1551+I1772+I3224+I3627+I5084 -> 0 | J31: =J62+J1043+J1551+J1772+J3224+J3627+J5084 -> 0 | K31: =K62+K1043+K1551+K1772+K3224+K3627+K5084 -> 0
B32: Eiropas Savienības politiku instrumentu un pārējās ārvalstu finanšu palīdzības līdzfinansēto projektu un pasākumu īstenošana | D32: =D63+D1044+D1552+D1773+D3225+D3628+D5085 -> 0 | E32: =E63+E1044+E1552+E1773+E3225+E3628+E5085 -> 0 | F32: =F63+F1044+F1552+F1773+F3225+F3628+F5085 -> 0 | G32: =G63+G1044+G1552+G1773+G3225+G3628+G5085 -> 0 | H32: =H63+H1044+H1552+H1773+H3225+H3628+H5085 -> 0 | I32: =I63+I1044+I1552+I1773+I3225+I3628+I5085 -> 0 | J32: =J63+J1044+J1552+J1773+J3225+J3628+J5085 -> 0 | K32: =K63+K1044+K1552+K1773+K3225+K3628+K5085 -> 0
B33: 22.Kultūras ministrija | D33: =D64+D1045+D1553+D1774+D3226+D3629+D5086 -> 0 | E33: =E64+E1045+E1553+E1774+E3226+E3629+E5086 -> 0 | F33: =F64+F1045+F1553+F1774+F3226+F3629+F5086 -> 0 | G33: =G64+G1045+G1553+G1774+G3226+G3629+G5086 -> 0 | H33: =H64+H1045+H1553+H1774+H3226+H3629+H5086 -> 0 | I33: =I64+I1045+I1553+I1774+I3226+I3629+I5086 -> 0 | J33: =J64+J1045+J1553+J1774+J3226+J3629+J5086 -> 0 | K33: =K64+K1045+K1553+K1774+K3226+K3629+K5086 -> 0
B34: valsts pamatfunkciju īstenošana | D34: =D65+D1046+D1554+D1775+D3227+D3630+D5087 -> 0 | E34: =E65+E1046+E1554+E1775+E3227+E3630+E5087 -> 0 | F34: =F65+F1046+F1554+F1775+F3227+F3630+F5087 -> 0 | G34: =G65+G1046+G1554+G1775+G3227+G3630+G5087 -> 0 | H34: =H65+H1046+H1554+H1775+H3227+H3630+H5087 -> 0 | I34: =I65+I1046+I1554+I1775+I3227+I3630+I5087 -> 0 | J34: =J65+J1046+J1554+J1775+J3227+J3630+J5087 -> 0 | K34: =K65+K1046+K1554+K1775+K3227+K3630+K5087 -> 0
B35: Eiropas Savienības politiku instrumentu un pārējās ārvalstu finanšu palīdzības līdzfinansēto projektu un pasākumu īstenošana | D35: =D66+D1047+D1555+D1776+D3228+D3631+D5088 -> 0 | E35: =E66+E1047+E1555+E1776+E3228+E3631+E5088 -> 0 | F35: =F66+F1047+F1555+F1776+F3228+F3631+F5088 -> 0 | G35: =G66+G1047+G1555+G1776+G3228+G3631+G5088 -> 0 | H35: =H66+H1047+H1555+H1776+H3228+H3631+H5088 -> 0 | I35: =I66+I1047+I1555+I1776+I3228+I3631+I5088 -> 0 | J35: =J66+J1047+J1555+J1776+J3228+J3631+J5088 -> 0 | K35: =K66+K1047+K1555+K1776+K3228+K3631+K5088 -> 0
B36: 29.Veselības ministrija | D36: =D67+D1048+D1556+D1777+D3229+D3632+D5089 -> 0 | E36: =E67+E1048+E1556+E1777+E3229+E3632+E5089 -> 0 | F36: =F67+F1048+F1556+F1777+F3229+F3632+F5089 -> 0 | G36: =G67+G1048+G1556+G1777+G3229+G3632+G5089 -> 0 | H36: =H67+H1048+H1556+H1777+H3229+H3632+H5089 -> 0 | I36: =I67+I1048+I1556+I1777+I3229+I3632+I5089 -> 0 | J36: =J67+J1048+J1556+J1777+J3229+J3632+J5089 -> 0 | K36: =K67+K1048+K1556+K1777+K3229+K3632+K5089 -> 0
B37: valsts pamatfunkciju īstenošana | D37: =D68+D1049+D1557+D1778+D3230+D3633+D5090 -> 0 | E37: =E68+E1049+E1557+E1778+E3230+E3633+E5090 -> 0 | F37: =F68+F1049+F1557+F1778+F3230+F3633+F5090 -> 0 | G37: =G68+G1049+G1557+G1778+G3230+G3633+G5090 -> 0 | H37: =H68+H1049+H1557+H1778+H3230+H3633+H5090 -> 0 | I37: =I68+I1049+I1557+I1778+I3230+I3633+I5090 -> 0 | J37: =J68+J1049+J1557+J1778+J3230+J3633+J5090 -> 0 | K37: =K68+K1049+K1557+K1778+K3230+K3633+K5090 -> 0
B38: Eiropas Savienības politiku instrumentu un pārējās ārvalstu finanšu palīdzības līdzfinansēto projektu un pasākumu īstenošana | D38: =D69+D1050+D1558+D1779+D3231+D3634+D5091 -> 0 | E38: =E69+E1050+E1558+E1779+E3231+E3634+E5091 -> 0 | F38: =F69+F1050+F1558+F1779+F3231+F3634+F5091 -> 0 | G38: =G69+G1050+G1558+G1779+G3231+G3634+G5091 -> 0 | H38: =H69+H1050+H1558+H1779+H3231+H3634+H5091 -> 0 | I38: =I69+I1050+I1558+I1779+I3231+I3634+I5091 -> 0 | J38: =J69+J1050+J1558+J1779+J3231+J3634+J5091 -> 0 | K38: =K69+K1050+K1558+K1779+K3231+K3634+K5091 -> 0
A39: 1 | B39: 1.Uzdevums. Palielināt sabiedrībā balstītu sociālo pakalpojumu pieejamību, efektivitāti un atbilstību mērķa grupas vajadzībām. Finansējums kopā | D39: =+D70+D357+D733+D892 -> 1170253 | E39: =+E70+E357+E733+E892 -> 523067 | F39: =+F70+F357+F733+F892 -> 523067 | G39: =+G70+G357+G733+G892 -> 6342600 | H39: =+H70+H357+H733+H892 -> 9185200 | I39: =+I70+I357+I733+I892 -> 10627800 | J39: =+J70+J357+J733+J892 -> 0 | K39: =+K70+K357+K733+K892 -> 10627800
A40: 1 | B40: Pašvaldību budžets | D40: =+D71+D358+D734+D893 -> 0 | E40: =+E71+E358+E734+E893 -> 0 | F40: =+F71+F358+F734+F893 -> 0 | G40: =+G71+G358+G734+G893 -> 0 | H40: =+H71+H358+H734+H893 -> 0 | I40: =+I71+I358+I734+I893 -> 0 | J40: =+J71+J358+J734+J893 -> 0 | K40: =+K71+K358+K734+K893 -> 0
...

Sheet 2.RĪCĪBAS VIRZIENS
A1: 1.2. pielikums
A2: Plāns sociālo pakalpojumu pilnveidošanai un attīstībai 2022.-2024.gadam
A3: 2. Rīcības virzienā plānā iekļauto uzdevumu īstenošanai nepieciešamais valsts un pašvaldību budžeta finansējums (euro)
A4: 2. Rīcības virziens Sociālo pakalpojumu jomas pārvaldības stiprināšana. Finansējums kopā
B5: Pasākums | C5: Budžeta programmas (apakšprogrammas) kods un nosaukums | D5: Vidēja termiņa budžeta ietvara likumā plānotais finansējums | G5: Nepieciešamais papildu finansējums | L5: Pasākuma īstenošanas gads (ja pasākuma īstenošana ir terminēta)
D6: 2022 | E6: 2023 | F6: 2024 | G6: 2023 | H6: 2024 | I6: 2025 | J6: turpmākajā laikposmā līdz pasākuma pabeigšanai (ja pasākuma īstenošana ir terminēta) | K6: turpmāk ik gadu (ja pasākuma izpilde nav terminēta)
B7: 1 | C7: 2 | D7: 3 | E7: 4 | F7: 5 | G7: 6 | H7: 7 | I7: 8 | J7: 9 | K7: 10 | L7: 11
A8: 1 | B8: Finansējums kopā 2. Rīcības virziens | D8: =D39+D132+D256+D380+D442+D535+D628 -> 435000 | E8: =E39+E132+E256+E380+E442+E535+E628 -> 0 | F8: =F39+F132+F256+F380+F442+F535+F628 -> 0 | G8: =G39+G132+G256+G380+G442+G535+G628 -> 755396 | H8: =H39+H132+H256+H380+H442+H535+H628 -> 790645 | I8: =I39+I132+I256+I380+I442+I535+I628 -> 790645 | J8: =J39+J132+J256+J380+J442+J535+J628 -> 1711500 | K8: =K39+K132+K256+K380+K442+K535+K628 -> 0
A9: 1 | B9: Pašvaldību budžets | D9: =D40+D133+D257+D381+D443+D536+D629 -> 0 | E9: =E40+E133+E257+E381+E443+E536+E629 -> 0 | F9: =F40+F133+F257+F381+F443+F536+F629 -> 0 | G9: =G40+G133+G257+G381+G443+G536+G629 -> 0 | H9: =H40+H133+H257+H381+H443+H536+H629 -> 0 | I9: =I40+I133+I257+I381+I443+I536+I629 -> 0 | J9: =J40+J133+J257+J381+J443+J536+J629 -> 0 | K9: =K40+K133+K257+K381+K443+K536+K629 -> 0
B10: Privātais sektors | D10: =D41+D134+D258+D382+D444+D537+D630 -> 0 | E10: =E41+E134+E258+E382+E444+E537+E630 -> 0 | F10: =F41+F134+F258+F382+F444+F537+F630 -> 0 | G10: =G41+G134+G258+G382+G444+G537+G630 -> 0 | H10: =H41+H134+H258+H382+H444+H537+H630 -> 0 | I10: =I41+I134+I258+I382+I444+I537+I630 -> 0 | J10: =J41+J134+J258+J382+J444+J537+J630 -> 0 | K10: =K41+K134+K258+K382+K444+K537+K630 -> 0
B11: Publiski atvasināto personu (izņemot pašvaldības) budžets | D11: =D42+D135+D259+D383+D445+D538+D631 -> 0 | E11: =E42+E135+E259+E383+E445+E538+E631 -> 0 | F11: =F42+F135+F259+F383+F445+F538+F631 -> 0 | G11: =G42+G135+G259+G383+G445+G538+G631 -> 0 | H11: =H42+H135+H259+H383+H445+H538+H631 -> 0 | I11: =I42+I135+I259+I383+I445+I538+I631 -> 0 | J11: =J42+J135+J259+J383+J445+J538+J631 -> 0 | K11: =K42+K135+K259+K383+K445+K538+K631 -> 0
A12: 1 | B12: Vidēja termiņa budžeta ietvara likums, kopā, t.sk.: | D12: =D43+D136+D260+D384+D446+D539+D632 -> 435000 | E12: =E43+E136+E260+E384+E446+E539+E632 -> 0 | F12: =F43+F136+F260+F384+F446+F539+F632 -> 0 | G12: =G43+G136+G260+G384+G446+G539+G632 -> 755396 | H12: =H43+H136+H260+H384+H446+H539+H632 -> 790645 | I12: =I43+I136+I260+I384+I446+I539+I632 -> 790645 | J12: =J43+J136+J260+J384+J446+J539+J632 -> 1711500 | K12: =K43+K136+K260+K384+K446+K539+K632 -> 0
A13: 1 | B13: valsts pamatfunkciju īstenošana | D13: =D44+D137+D261+D385+D447+D540+D633 -> 0 | E13: =E44+E137+E261+E385+E447+E540+E633 -> 0 | F13: =F44+F137+F261+F385+F447+F540+F633 -> 0 | G13: =G44+G137+G261+G385+G447+G540+G633 -> 0 | H13: =H44+H137+H261+H385+H447+H540+H633 -> 0 | I13: =I44+I137+I261+I385+I447+I540+I633 -> 0 | J13: =J44+J137+J261+J385+J447+J540+J633 -> 0 | K13: =K44+K137+K261+K385+K447+K540+K633 -> 0
A14: 1 | B14: valsts sociālās apdrošināšanas speciālais budžets | D14: =D45+D138+D262+D386+D448+D541+D634 -> 0 | E14: =E45+E138+E262+E386+E448+E541+E634 -> 0 | F14: =F45+F138+F262+F386+F448+F541+F634 -> 0 | G14: =G45+G138+G262+G386+G448+G541+G634 -> 0 | H14: =H45+H138+H262+H386+H448+H541+H634 -> 0 | I14: =I45+I138+I262+I386+I448+I541+I634 -> 0 | J14: =J45+J138+J262+J386+J448+J541+J634 -> 0 | K14: =K45+K138+K262+K386+K448+K541+K634 -> 0
A15: 1 | B15: Eiropas Savienības politiku instrumentu un pārējās ārvalstu finanšu palīdzības līdzfinansēto projektu un pasākumu īstenošana | D15: =D46+D139+D263+D387+D449+D542+D635 -> 435000 | E15: =E46+E139+E263+E387+E449+E542+E635 -> 0 | F15: =F46+F139+F263+F387+F449+F542+F635 -> 0 | G15: =G46+G139+G263+G387+G449+G542+G635 -> 755396 | H15: =H46+H139+H263+H387+H449+H542+H635 -> 790645 | I15: =I46+I139+I263+I387+I449+I542+I635 -> 790645 | J15: =J46+J139+J263+J387+J449+J542+J635 -> 1711500 | K15: =K46+K139+K263+K387+K449+K542+K635 -> 0
A16: 1 | B16: Informatīvi Sadalījumā pa budžeta resoriem | D16: X | E16: X | F16: X | G16: X | H16: X | I16: X | J16: X | K16: X
A17: 1 | B17: 13.Finanšu ministrija | D17: =D48+D141+D265+D389+D451+D544+D637 -> 0 | E17: =E48+E141+E265+E389+E451+E544+E637 -> 0 | F17: =F48+F141+F265+F389+F451+F544+F637 -> 0 | G17: =G48+G141+G265+G389+G451+G544+G637 -> 0 | H17: =H48+H141+H265+H389+H451+H544+H637 -> 0 | I17: =I48+I141+I265+I389+I451+I544+I637 -> 0 | J17: =J48+J141+J265+J389+J451+J544+J637 -> 0 | K17: =K48+K141+K265+K389+K451+K544+K637 -> 0
A18: 1 | B18: valsts pamatfunkciju īstenošana | D18: =D49+D142+D266+D390+D452+D545+D638 -> 0 | E18: =E49+E142+E266+E390+E452+E545+E638 -> 0 | F18: =F49+F142+F266+F390+F452+F545+F638 -> 0 | G18: =G49+G142+G266+G390+G452+G545+G638 -> 0 | H18: =H49+H142+H266+H390+H452+H545+H638 -> 0 | I18: =I49+I142+I266+I390+I452+I545+I638 -> 0 | J18: =J49+J142+J266+J390+J452+J545+J638 -> 0 | K18: =K49+K142+K266+K390+K452+K545+K638 -> 0
A19: 1 | B19: Eiropas Savienības politiku instrumentu un pārējās ārvalstu finanšu palīdzības līdzfinansēto projektu un pasākumu īstenošana | D19: =D50+D143+D267+D391+D453+D546+D639 -> 0 | E19: =E50+E143+E267+E391+E453+E546+E639 -> 0 | F19: =F50+F143+F267+F391+F453+F546+F639 -> 0 | G19: =G50+G143+G267+G391+G453+G546+G639 -> 0 | H19: =H50+H143+H267+H391+H453+H546+H639 -> 0 | I19: =I50+I143+I267+I391+I453+I546+I639 -> 0 | J19: =J50+J143+J267+J391+J453+J546+J639 -> 0 | K19: =K50+K143+K267+K391+K453+K546+K639 -> 0
B20: 15. Izglītības un zinātnes ministrija | D20: =D51+D144+D268+D392+D454+D547+D640 -> 0 | E20: =E51+E144+E268+E392+E454+E547+E640 -> 0 | F20: =F51+F144+F268+F392+F454+F547+F640 -> 0 | G20: =G51+G144+G268+G392+G454+G547+G640 -> 0 | H20: =H51+H144+H268+H392+H454+H547+H640 -> 0 | I20: =I51+I144+I268+I392+I454+I547+I640 -> 0 | J20: =J51+J144+J268+J392+J454+J547+J640 -> 0 | K20: =K51+K144+K268+K392+K454+K547+K640 -> 0
B21: valsts pamatfunkciju īstenošana | D21: =D52+D145+D269+D393+D455+D548+D641 -> 0 | E21: =E52+E145+E269+E393+E455+E548+E641 -> 0 | F21: =F52+F145+F269+F393+F455+F548+F641 -> 0 | G21: =G52+G145+G269+G393+G455+G548+G641 -> 0 | H21: =H52+H145+H269+H393+H455+H548+H641 -> 0 | I21: =I52+I145+I269+I393+I455+I548+I641 -> 0 | J21: =J52+J145+J269+J393+J455+J548+J641 -> 0 | K21: =K52+K145+K269+K393+K455+K548+K641 -> 0
B22: Eiropas Savienības politiku instrumentu un pārējās ārvalstu finanšu palīdzības līdzfinansēto projektu un pasākumu īstenošana | D22: =D53+D146+D270+D394+D456+D549+D642 -> 0 | E22: =E53+E146+E270+E394+E456+E549+E642 -> 0 | F22: =F53+F146+F270+F394+F456+F549+F642 -> 0 | G22: =G53+G146+G270+G394+G456+G549+G642 -> 0 | H22: =H53+H146+H270+H394+H456+H549+H642 -> 0 | I22: =I53+I146+I270+I394+I456+I549+I642 -> 0 | J22: =J53+J146+J270+J394+J456+J549+J642 -> 0 | K22: =K53+K146+K270+K394+K456+K549+K642 -> 0
A23: 1 | B23: 18. Labklājības ministrija | D23: =D54+D147+D271+D395+D457+D550+D643 -> 435000 | E23: =E54+E147+E271+E395+E457+E550+E643 -> 0 | F23: =F54+F147+F271+F395+F457+F550+F643 -> 0 | G23: =G54+G147+G271+G395+G457+G550+G643 -> 755396 | H23: =H54+H147+H271+H395+H457+H550+H643 -> 790645 | I23: =I54+I147+I271+I395+I457+I550+I643 -> 790645 | J23: =J54+J147+J271+J395+J457+J550+J643 -> 1711500 | K23: =K54+K147+K271+K395+K457+K550+K643 -> 0
A24: 1 | B24: valsts pamatfunkciju īstenošana | D24: =D55+D148+D272+D396+D458+D551+D644 -> 0 | E24: =E55+E148+E272+E396+E458+E551+E644 -> 0 | F24: =F55+F148+F272+F396+F458+F551+F644 -> 0 | G24: =G55+G148+G272+G396+G458+G551+G644 -> 0 | H24: =H55+H148+H272+H396+H458+H551+H644 -> 0 | I24: =I55+I148+I272+I396+I458+I551+I644 -> 0 | J24: =J55+J148+J272+J396+J458+J551+J644 -> 0 | K24: =K55+K148+K272+K396+K458+K551+K644 -> 0
A25: 1 | B25: valsts sociālās apdrošināšanas speciālais budžets | D25: =D56+D149+D273+D397+D459+D552+D645 -> 0 | E25: =E56+E149+E273+E397+E459+E552+E645 -> 0 | F25: =F56+F149+F273+F397+F459+F552+F645 -> 0 | G25: =G56+G149+G273+G397+G459+G552+G645 -> 0 | H25: =H56+H149+H273+H397+H459+H552+H645 -> 0 | I25: =I56+I149+I273+I397+I459+I552+I645 -> 0 | J25: =J56+J149+J273+J397+J459+J552+J645 -> 0 | K25: =K56+K149+K273+K397+K459+K552+K645 -> 0
A26: 1 | B26: Eiropas Savienības politiku instrumentu un pārējās ārvalstu finanšu palīdzības līdzfinansēto projektu un pasākumu īstenošana | D26: =D57+D150+D274+D398+D460+D553+D646 -> 435000 | E26: =E57+E150+E274+E398+E460+E553+E646 -> 0 | F26: =F57+F150+F274+F398+F460+F553+F646 -> 0 | G26: =G57+G150+G274+G398+G460+G553+G646 -> 755396 | H26: =H57+H150+H274+H398+H460+H553+H646 -> 790645 | I26: =I57+I150+I274+I398+I460+I553+I646 -> 790645 | J26: =J57+J150+J274+J398+J460+J553+J646 -> 1711500 | K26: =K57+K150+K274+K398+K460+K553+K646 -> 0
B27: 19. Tieslietu ministrija | D27: =D58+D151+D275+D399+D461+D554+D647 -> 0 | E27: =E58+E151+E275+E399+E461+E554+E647 -> 0 | F27: =F58+F151+F275+F399+F461+F554+F647 -> 0 | G27: =G58+G151+G275+G399+G461+G554+G647 -> 0 | H27: =H58+H151+H275+H399+H461+H554+H647 -> 0 | I27: =I58+I151+I275+I399+I461+I554+I647 -> 0 | J27: =J58+J151+J275+J399+J461+J554+J647 -> 0 | K27: =K58+K151+K275+K399+K461+K554+K647 -> 0
B28: valsts pamatfunkciju īstenošana | D28: =D59+D152+D276+D400+D462+D555+D648 -> 0 | E28: =E59+E152+E276+E400+E462+E555+E648 -> 0 | F28: =F59+F152+F276+F400+F462+F555+F648 -> 0 | G28: =G59+G152+G276+G400+G462+G555+G648 -> 0 | H28: =H59+H152+H276+H400+H462+H555+H648 -> 0 | I28: =I59+I152+I276+I400+I462+I555+I648 -> 0 | J28: =J59+J152+J276+J400+J462+J555+J648 -> 0 | K28: =K59+K152+K276+K400+K462+K555+K648 -> 0
B29: Eiropas Savienības politiku instrumentu un pārējās ārvalstu finanšu palīdzības līdzfinansēto projektu un pasākumu īstenošana | D29: =D60+D153+D277+D401+D463+D556+D649 -> 0 | E29: =E60+E153+E277+E401+E463+E556+E649 -> 0 | F29: =F60+F153+F277+F401+F463+F556+F649 -> 0 | G29: =G60+G153+G277+G401+G463+G556+G649 -> 0 | H29: =H60+H153+H277+H401+H463+H556+H649 -> 0 | I29: =I60+I153+I277+I401+I463+I556+I649 -> 0 | J29: =J60+J153+J277+J401+J463+J556+J649 -> 0 | K29: =K60+K153+K277+K401+K463+K556+K649 -> 0
B30: 21.Vides aizsardzības un reģionālās attīstības ministrija | D30: =D61+D154+D278+D402+D464+D557+D650 -> 0 | E30: =E61+E154+E278+E402+E464+E557+E650 -> 0 | F30: =F61+F154+F278+F402+F464+F557+F650 -> 0 | G30: =G61+G154+G278+G402+G464+G557+G650 -> 0 | H30: =H61+H154+H278+H402+H464+H557+H650 -> 0 | I30: =I61+I154+I278+I402+I464+I557+I650 -> 0 | J30: =J61+J154+J278+J402+J464+J557+J650 -> 0 | K30: =K61+K154+K278+K402+K464+K557+K650 -> 0
B31: valsts pamatfunkciju īstenošana | D31: =D62+D155+D279+D403+D465+D558+D651 -> 0 | E31: =E62+E155+E279+E403+E465+E558+E651 -> 0 | F31: =F62+F155+F279+F403+F465+F558+F651 -> 0 | G31: =G62+G155+G279+G403+G465+G558+G651 -> 0 | H31: =H62+H155+H279+H403+H465+H558+H651 -> 0 | I31: =I62+I155+I279+I403+I465+I558+I651 -> 0 | J31: =J62+J155+J279+J403+J465+J558+J651 -> 0 | K31: =K62+K155+K279+K403+K465+K558+K651 -> 0
B32: Eiropas Savienības politiku instrumentu un pārējās ārvalstu finanšu palīdzības līdzfinansēto projektu un pasākumu īstenošana | D32: =D63+D156+D280+D404+D466+D559+D652 -> 0 | E32: =E63+E156+E280+E404+E466+E559+E652 -> 0 | F32: =F63+F156+F280+F404+F466+F559+F652 -> 0 | G32: =G63+G156+G280+G404+G466+G559+G652 -> 0 | H32: =H63+H156+H280+H404+H466+H559+H652 -> 0 | I32: =I63+I156+I280+I404+I466+I559+I652 -> 0 | J32: =J63+J156+J280+J404+J466+J559+J652 -> 0 | K32: =K63+K156+K280+K404+K466+K559+K652 -> 0
B33: 22.Kultūras ministrija | D33: =D64+D157+D281+D405+D467+D560+D653 -> 0 | E33: =E64+E157+E281+E405+E467+E560+E653 -> 0 | F33: =F64+F157+F281+F405+F467+F560+F653 -> 0 | G33: =G64+G157+G281+G405+G467+G560+G653 -> 0 | H33: =H64+H157+H281+H405+H467+H560+H653 -> 0 | I33: =I64+I157+I281+I405+I467+I560+I653 -> 0 | J33: =J64+J157+J281+J405+J467+J560+J653 -> 0 | K33: =K64+K157+K281+K405+K467+K560+K653 -> 0
B34: valsts pamatfunkciju īstenošana | D34: =D65+D158+D282+D406+D468+D561+D654 -> 0 | E34: =E65+E158+E282+E406+E468+E561+E654 -> 0 | F34: =F65+F158+F282+F406+F468+F561+F654 -> 0 | G34: =G65+G158+G282+G406+G468+G561+G654 -> 0 | H34: =H65+H158+H282+H406+H468+H561+H654 -> 0 | I34: =I65+I158+I282+I406+I468+I561+I654 -> 0 | J34: =J65+J158+J282+J406+J468+J561+J654 -> 0 | K34: =K65+K158+K282+K406+K468+K561+K654 -> 0
B35: Eiropas Savienības politiku instrumentu un pārējās ārvalstu finanšu palīdzības līdzfinansēto projektu un pasākumu īstenošana | D35: =D66+D159+D283+D407+D469+D562+D655 -> 0 | E35: =E66+E159+E283+E407+E469+E562+E655 -> 0 | F35: =F66+F159+F283+F407+F469+F562+F655 -> 0 | G35: =G66+G159+G283+G407+G469+G562+G655 -> 0 | H35: =H66+H159+H283+H407+H469+H562+H655 -> 0 | I35: =I66+I159+I283+I407+I469+I562+I655 -> 0 | J35: =J66+J159+J283+J407+J469+J562+J655 -> 0 | K35: =K66+K159+K283+K407+K469+K562+K655 -> 0
B36: 29.Veselības ministrija | D36: =D67+D160+D284+D408+D470+D563+D656 -> 0 | E36: =E67+E160+E284+E408+E470+E563+E656 -> 0 | F36: =F67+F160+F284+F408+F470+F563+F656 -> 0 | G36: =G67+G160+G284+G408+G470+G563+G656 -> 0 | H36: =H67+H160+H284+H408+H470+H563+H656 -> 0 | I36: =I67+I160+I284+I408+I470+I563+I656 -> 0 | J36: =J67+J160+J284+J408+J470+J563+J656 -> 0 | K36: =K67+K160+K284+K408+K470+K563+K656 -> 0
B37: valsts pamatfunkciju īstenošana | D37: =D68+D161+D285+D409+D471+D564+D657 -> 0 | E37: =E68+E161+E285+E409+E471+E564+E657 -> 0 | F37: =F68+F161+F285+F409+F471+F564+F657 -> 0 | G37: =G68+G161+G285+G409+G471+G564+G657 -> 0 | H37: =H68+H161+H285+H409+H471+H564+H657 -> 0 | I37: =I68+I161+I285+I409+I471+I564+I657 -> 0 | J37: =J68+J161+J285+J409+J471+J564+J657 -> 0 | K37: =K68+K161+K285+K409+K471+K564+K657 -> 0
B38: Eiropas Savienības politiku instrumentu un pārējās ārvalstu finanšu palīdzības līdzfinansēto projektu un pasākumu īstenošana | D38: =D69+D162+D286+D410+D472+D565+D658 -> 0 | E38: =E69+E162+E286+E410+E472+E565+E658 -> 0 | F38: =F69+F162+F286+F410+F472+F565+F658 -> 0 | G38: =G69+G162+G286+G410+G472+G565+G658 -> 0 | H38: =H69+H162+H286+H410+H472+H565+H658 -> 0 | I38: =I69+I162+I286+I410+I472+I565+I658 -> 0 | J38: =J69+J162+J286+J410+J472+J565+J658 -> 0 | K38: =K69+K162+K286+K410+K472+K565+K658 -> 0
A39: 1 | B39: 1.Uzdevums. Attīstīt uz personu ar funkcionēšanas ierobežojumiem vajadzībām mērķētu atbalsta pasākumu sistēmu (t.sk. starpnozaru līmenī), primāri tādās jomās kā nodarbinātība, veselība, izglītība, publiskās vides un sabiedriskā transporta pieejamība. Finansējums kopā | D39: =D70+D101 -> 0 | E39: =E70+E101 -> 0 | F39: =F70+F101 -> 0 | G39: =G70+G101 -> 0 | H39: =H70+H101 -> 0 | I39: =I70+I101 -> 0 | J39: =J70+J101 -> 0 | K39: =K70+K101 -> 0
B40: Pašvaldību budžets | D40: =D71+D102 -> 0 | E40: =E71+E102 -> 0 | F40: =F71+F102 -> 0 | G40: =G71+G102 -> 0 | H40: =H71+H102 -> 0 | I40: =I71+I102 -> 0 | J40: =J71+J102 -> 0 | K40: =K71+K102 -> 0
...
