Workbook
Name _bkm2: '6piel'!#REF!

Sheet proj2022_ietvars2024 tekstam
B1: Ministriju un citu centrālo valsts iestāžu priekšlikumi
B2: likumprojekta "Par valsts budžetu 2022.gadam" un likumprojekta "Par vidēja termiņa budžeta ietvaru 2022., 2023. un 2024.gadam" izskatīšanai Saeimā otrajā lasījumā
D4: Priekšlikums MK atzinumam
B5: Pieņemts pirmajā lasījumā | C5: Priekšlikumi 2.lasījumam
B7: Par likumprojekta "Par valsts budžetu 2022.gadam" teksta daļu:
B9: 15. Izglītības un zinānes ministrija
A10: =1 -> 1 | B10: 3.pants. (1) Apstiprināt mērķdotāciju apjomu pašvaldībām 431 222 629 euro apmērā, tai skaitā: | C10: Izteikt likumprojekta 3.panta pirmo daļu šādā redakcijā: "3.pants. (1) Apstiprināt mērķdotāciju apjomu pašvaldībām 430 177 616 euro apmērā, tajā skaitā: | D10: Atbalstīt
B11: 1) pašvaldību pamata un vispārējās vidējās izglītības iestāžu, pašvaldību speciālās izglītības iestāžu, pašvaldību profesionālās izglītības iestāžu un daļējai interešu izglītības programmu pedagogu darba samaksai un valsts sociālās apdrošināšanas obligātajām iemaksām 327 365 811 euro apmērā saskaņā ar 6. un 7. pielikumu; | C11: 1) pašvaldību pamata un vispārējās vidējās izglītības iestāžu, pašvaldību speciālās izglītības iestāžu, pašvaldību profesionālās izglītības iestāžu un daļējai interešu izglītības programmu pedagogu darba samaksai un valsts sociālās apdrošināšanas obligātajām iemaksām 327 716 473 euro apmērā saskaņā ar 6. un 7. pielikumu;
B12: 2) pašvaldību speciālo pirmsskolas izglītības grupu pedagogu darba samaksai un valsts sociālās apdrošināšanas obligātajām iemaksām, speciālajām izglītības iestādēm, kas nodrošina internāta pakalpojumus, 57 454 704 euro apmērā saskaņā ar 8. pielikumu; | C12: 2) pašvaldību speciālo pirmsskolas izglītības grupu pedagogu darba samaksai un valsts sociālās apdrošināšanas obligātajām iemaksām, speciālajām izglītības iestādēm, kas nodrošina internāta pakalpojumus, 55 629 175 euro apmērā saskaņā ar 8. pielikumu;
B13: 3) pašvaldību izglītības iestādēs bērnu no piecu gadu vecuma izglītošanā nodarbināto pedagogu darba samaksai un valsts sociālās apdrošināšanas obligātajām iemaksām 45 423 634 euro apmērā saskaņā ar 9. pielikumu; | C13: 3) pašvaldību izglītības iestādēs bērnu no piecu gadu vecuma izglītošanā nodarbināto pedagogu darba samaksai un valsts sociālās apdrošināšanas obligātajām iemaksām 45 853 488 euro apmērā saskaņā ar 9. pielikumu;
B14: 4) māksliniecisko kolektīvu vadītāju darba samaksai un valsts sociālās apdrošināšanas obligātajām iemaksām 978 480 euro apmērā saskaņā ar 10. pielikumu. | C14: 4) māksliniecisko kolektīvu vadītāju darba samaksai un valsts sociālās apdrošināšanas obligātajām iemaksām 978 480 euro apmērā saskaņā ar 10. pielikumu.
B15: Priekšlikums paredz precizēt likumprojekta "Par valsts budžetu 2022.gadam" 3.panta pirmo daļu, lai nodrošinātu pedagogu darba samaksu 2022.gadā un turpmāk, ņemot vērā pedagogu minimālās algas likmes palielināšanu līdz 830 euro un pirmskolas pedagogu minimālās algas likmes palielināšanu līdz 872 euro ar 2021.gada 1.septembri un izglītojamo skaita uz 2021.gada 1.septembri izmaiņu ietekmi (MK 05.10.2021. sēdes prot. Nr.66 28.§ 3.punkts).
B17: 13. Finanšu ministrija
A18: =A10+1 -> 2 | B18: 4. pants. Apstiprināt valsts budžeta dotāciju pašvaldībām 187 190 543 euro apmērā, tai skaitā: | C18: Izteikt likumprojekta 4.pantu šādā redakcijā: "4. pants. Apstiprināt valsts budžeta dotāciju pašvaldībām 188 059 821 euro apmērā, tai skaitā: | D18: Atbalstīt
B19: 1) pašvaldību finanšu izlīdzināšanas fondam 81 087 932 euro apmērā; | C19: 1) pašvaldību finanšu izlīdzināšanas fondam 81 087 932 euro apmērā;
B20: 2) budžeta dotāciju 105 497 811 euro apmērā, kura tiek integrēta pašvaldību finanšu izlīdzināšanas sistēmā pēc iedzīvotāju ienākuma nodokļa sadales principiem. Ministru kabinets nosaka kārtību, kādā pašvaldībām piešķir budžeta dotāciju; | C20: 2) budžeta dotāciju 105 497 811 euro apmērā, kura tiek integrēta pašvaldību finanšu izlīdzināšanas sistēmā pēc iedzīvotāju ienākuma nodokļa sadales principiem. Ministru kabinets nosaka kārtību, kādā pašvaldībām piešķir budžeta dotāciju;
B21: 3) pašvaldībām par iemītniekiem veco ļaužu pansionātos un centros (par vienu iemītnieku 7200 euro), kuri tajos ievietoti līdz 1998. gada 1. janvārim, 604 800 euro apmērā. Ministru kabinets nosaka kārtību, kādā pašvaldībām piešķir valsts budžeta dotāciju. | C21: 3) pašvaldībām par iemītniekiem veco ļaužu pansionātos un centros (par vienu iemītnieku 7200 euro), kuri tajos ievietoti līdz 1998. gada 1. janvārim, 604 800 euro apmērā. Ministru kabinets nosaka kārtību, kādā pašvaldībām piešķir valsts budžeta dotāciju;
C22: 4) budžeta dotāciju 869 278 euro apmērā pamatojoties uz Ministru kabineta rīkojumu piešķiršanai pašvaldībām, kurām izlīdzinātie ieņēmumi uz vienu iedzīvotāju ir zemāki par 800 euro un izlīdzināto ieņēmumu pieaugums, salīdzinot ar 2021. gadu, ir mazāks par pašvaldību vidējo izlīdzināto ieņēmumu pieaugumu (3,1%), ar nosacījumu, ka šīm pašvaldībām tiek nodrošināti izlīdzinātie ieņēmumi ne mazāk kā 2021. gadā, iekļaujot Covid-19 izraisītās krīzes pārvarēšanas un seku novēršanas pasākumu īstenošanai 2021. gadā piešķirto finansējumu."
B23: Priekšlikums paredz papildināt likumprojekta "Par valsts budžetu 2022.gadam" 4.pantu ar 4.punktu, lai nodrošinātu valsts budžeta dotācijas piešķiršanu pašvaldībām, kurām izlīdzinātie ieņēmumi uz vienu iedzīvotāju ir zemāki par 800 euro un izlīdzināto ieņēmumu pieaugums, salīdzinot ar 2021. gadu, ir mazāks par pašvaldību vidējo izlīdzināto ieņēmumu pieaugumu (3,1%), ar nosacījumu, ka šīm pašvaldībām tiek nodrošināti izlīdzinātie ieņēmumi ne mazāk kā 2021. gadā, iekļaujot Covid-19 izraisītās krīzes pārvarēšanas un seku novēršanas pasākumu īstenošanai 2021. gadā piešķirto finansējumu. (MK 11.10.2021, sēdes prot. Nr.68 1.§ 2.3.apakšpunkts).
B25: 12. Ekonomikas ministrija
A26: =A18+1 -> 3 | B26: 27. pants. Noteikt, ka akciju sabiedrība “Latvenergo” ieskaita valsts pamatbudžeta ieņēmumos dividenžu maksājumu 2022. gadā (par 2021. pārskata gadu) 64 procentu apmērā no pārskata gada peļņas, bet ne mazāk kā 70 160 000 euro, uzņēmumu ienākuma nodokli aprēķinot un nomaksājot uzņēmumu ienākuma nodokli regulējošos normatīvos aktos noteiktajā kārtībā. | C26: Izteikt likumprojekta 27.pantu šādā redakcijā: "27. pants. Noteikt, ka akciju sabiedrība “Latvenergo” ieskaita valsts pamatbudžeta ieņēmumos dividenžu maksājumu, kas atbilst 64 procentiem no 2021. pārskata gada peļņas, bet ne mazāk kā 70 160 000 euro, uzņēmumu ienākuma nodokli aprēķinot un nomaksājot uzņēmumu ienākuma nodokli regulējošos normatīvos aktos noteiktajā kārtībā. Lai nodrošinātu minimāli izmaksājamo dividenžu apmēru 2022. gadā, nepieciešamības gadījumā to var veikt arī no 2022. gada pirmā pusgada starpperiodu pārskata peļņas ar nosacījumu, ka, balstoties uz pusgada starpperiodu pārskata rezultātiem un prognozēm par Latvenergo darbību, netiek radīta negatīva ietekmes uz vispārējās valdības budžeta bilanci 2023.gadā." | D26: Neatbalstīt
B27: Priekšlikums paredz precizēt likumprojektā "Par valsts budžetu 2022.gadam" iekļauto 27.pantu, lai samazinātu riskus valsts budžetā paredzēto akciju sabiedrības “Latvenergo” dividenžu izmaksai 2022.gadā, paredzot papildus iespēju dividenžu izmaksu veikt arī no 2022.gada 6 mēnešu auditētās starp periodu peļņas.
B29: 13. Finanšu ministrija
A30: =A26+1 -> 4 | B30: 29.pants. Noteikt, ka akciju sabiedrība “Augstsprieguma tīkls” ieskaita valsts pamatbudžeta ieņēmumos dividenžu maksājumu 2022. gadā (par 2021. pārskata gadu) 64 procentu apmērā no pārskata gada peļņas, bet ne mazāk kā 10 314 534 euro, uzņēmumu ienākuma nodokli aprēķinot un nomaksājot uzņēmumu ienākuma nodokli regulējošos normatīvos aktos noteiktajā kārtībā. | C30: Izteikt likumprojekta 29. pantu šādā redakcijā: "29.pants. Noteikt, ka akciju sabiedrība “Augstsprieguma tīkls” ieskaita valsts pamatbudžeta ieņēmumos dividenžu maksājumu 2022. gadā (par 2021. pārskata gadu) 50 procentu apmērā no akciju sabiedrības ''Augstsprieguma tīkls'' pārskata gada peļņas, bet ne mazāk kā 29 143 118 euro, uzņēmumu ienākuma nodokli aprēķinot un nomaksājot uzņēmumu ienākuma nodokli regulējošos normatīvos aktos noteiktajā kārtībā." | D30: Atbalstīt
B31: Ņemot vērā “Augstsprieguma tīkls” prognozētās peļņas apmēru, 2022.gadā nepieciešams palielināt ieņēmumu prognozi no “Augstsprieguma tīkls” maksājuma par valsts kapitāla izmantošanu.
B33: 13. Finanšu ministrija
A34: =A30+1 -> 5 | B34: 54.pants. Finanšu ministram ir tiesības palielināt šajā likumā noteikto apropriāciju budžeta resora “74. Gadskārtējā valsts budžeta izpildes procesā pārdalāmais finansējums” programmā 02.00.00 “Līdzekļi neparedzētiem gadījumiem” ar Covid-19 izplatību saistītā valsts apdraudējuma un tā seku novēršanas un pārvarēšanas pasākumiem un vienreizējām valsts budžeta investīcijām, un paplašināt valdības rīcības pieļaujamās robežas valdības saistību izpildei, ja ir pieņemts attiecīgs Ministru kabineta lēmums un Saeimas Budžeta un finanšu (nodokļu) komisija piecu darba dienu laikā no attiecīgās informācijas saņemšanas dienas ir to izskatījusi un nav iebildusi pret apropriācijas palielinājumu. | C34: Izteikt likumprojekta 54.pantu šādā redakcijā: "54.pants. Finanšu ministram ir tiesības palielināt šajā likumā noteikto apropriāciju budžeta resora “74. Gadskārtējā valsts budžeta izpildes procesā pārdalāmais finansējums” programmā 02.00.00 “Līdzekļi neparedzētiem gadījumiem” ar Covid-19 izplatību saistītā valsts apdraudējuma un tā seku novēršanas un pārvarēšanas pasākumiem un vienreizējām valsts budžeta investīcijām, palielināt 8.pantā noteikto maksimālo valsts parādu 2022.gada beigās un paplašināt valdības rīcības pieļaujamās robežas valdības saistību izpildei, ja ir pieņemts attiecīgs Ministru kabineta lēmums un Saeimas Budžeta un finanšu (nodokļu) komisija piecu darba dienu laikā no attiecīgās informācijas saņemšanas dienas ir to izskatījusi un nav iebildusi pret apropriācijas palielinājumu." | D34: Atbalstīt
B35: Palielinot izdevumus budžeta resora “74. Gadskārtējā valsts budžeta izpildes procesā pārdalāmais finansējums” programmā 02.00.00 “Līdzekļi neparedzētiem gadījumiem” atbilstoši likumprojekta “Par valsts budžetu 2022.gadam” 54.pantam, pieaug valsts budžeta deficīts, izraisot arī valsts parāda pieaugumu, ja valsts budžeta deficīta finansēšanai ir nepieciešams veikt aizņemšanās pasākumus. Līdz ar to priekšlikums paredz precizēt likumprojekta “Par valsts budžetu 2022.gadam” 54.panta redakciju, paredzot finanšu ministra tiesības vienlaicīgi ar apropriācijas palielināšanu budžeta resora “74. Gadskārtējā valsts budžeta izpildes procesā pārdalāmais finansējums” programmā 02.00.00 “Līdzekļi neparedzētiem gadījumiem” ar Covid-19 izplatību saistītā valsts apdraudējuma un tā seku novēršanas un pārvarēšanas pasākumiem un vienreizējām valsts budžeta investīcijām palielināt arī maksimālo valsts parāda apjomu 2022.gada beigās.
B37: 29. Veselības ministrija
A38: =A34+1 -> 6 | C38: Papildināt likumprojektu ar jaunu pantu šādā redakcijā: "__.pants. Finanšu ministram ir tiesības budžeta resora "74. Gadskārtējā valsts budžeta izpildes procesā pārdalāmais finansējums" programmā 08.00.00 "Veselības aprūpes sistēmas reformas ieviešanas finansējums" rezervēto finansējumu 10 070 713 euro apmērā pārdalīt Veselības ministrijai, lai atbilstoši Latvijas Republikas Senāta 2021.gada 22.marta spriedumam administratīvajā lietā Nr.A420143317 (SKA-123/2021) nodrošinātu pievienotās vērtības nodokļa likmes pieauguma segšanu, ja ir pieņemts attiecīgs Ministru kabineta lēmums un Saeimas Budžeta un finanšu (nodokļu) komisija piecu darba dienu laikā no attiecīgās informācijas saņemšanas dienas nav iebildusi pret apropriācijas pārdali.” | D38: Atbalstīt
B39: Priekšlikums paredz likumprojektā "Par valsts budžetu 2022.gadam" iekļaut jaunu pantu, lai nodrošinātu Latvijas Republikas Senāta 2021.gada 22.marta sprieduma administratīvajā lietā Nr.A420143317 (SKA-123/2021) izpildei nepieciešamo finansējumu pievienotās vērtības nodokļa likmes pieaugumam (MK 26.10.2021. sēdes prot. Nr.72 45.§ 7.punkts).
B41: 13. Finanšu ministrija
A42: =A38+1 -> 7 | C42: Kopsavilkuma skaitļus likumprojekta tekstā un pielikumos precizēt pēc balsojumiem par konkrētām pielikumu pozīcijām. | D42: Atbalstīt
B45: Par likumprojekta "Par vidēja termiņa budžeta ietvaru 2022., 2023. un 2024.gadam" teksta daļu:
B48: 12. Ekonomikas ministrija
A49: 1 | B49: 20. pants. Noteikt, ka akciju sabiedrība "Latvenergo" ieskaita valsts pamatbudžeta ieņēmumos dividenžu maksājumu 2022. gadā (par 2021. pārskata gadu) 64 procentu apmērā no pārskata gada peļņas, bet ne mazāk kā 70 160 000 euro un 2023. gadā (par 2022. pārskata gadu) 64 procentu apmērā no pārskata gada peļņas, bet ne mazāk kā 56 763 546 euro, uzņēmumu ienākuma nodokli aprēķinot un nomaksājot uzņēmumu ienākuma nodokli regulējošos normatīvos aktos noteiktajā kārtībā. | C49: Izteikt likumprojekta 20.pantu šādā redakcijā: "20. pants. Noteikt, ka akciju sabiedrība “Latvenergo” ieskaita valsts pamatbudžeta ieņēmumos dividenžu maksājumu, kas atbilst 64 procentiem no 2021. pārskata gada peļņas, bet ne mazāk kā 70 160 000 euro, lai nodrošinātu minimāli izmaksājamo dividenžu apmēru 2022. gadā, nepieciešamības gadījumā to var veikt arī no 2022. gada pirmā pusgada starpperiodu pārskata peļņas ar nosacījumu, ka, balstoties uz pusgada starpperiodu pārskata rezultātiem un prognozēm par Latvenergo darbību, netiek radīta negatīva ietekmes uz vispārējās valdības budžeta bilanci 2023.gadā, un 2023. gadā (par 2022. pārskata gadu) 64 procentu apmērā no pārskata gada peļņas, bet ne mazāk kā 56 763 546 euro, uzņēmumu ienākuma nodokli aprēķinot un nomaksājot uzņēmumu ienākuma nodokli regulējošos normatīvos aktos noteiktajā kārtībā." | D49: Neatbalstīt
B50: Priekšlikums paredz precizēt likumprojektā "Par vidēja termiņa budžeta ietvaru 2022., 2023. un 2024.gadam" iekļauto 20.pantu, lai samazinātu riskus valsts budžetā paredzēto akciju sabiedrības “Latvenergo” dividenžu izmaksai 2022.gadā, paredzot papildus iespēju dividenžu izmaksu veikt arī no 2022.gada 6 mēnešu auditētās starp periodu peļņas.
B52: 13. Finanšu ministrija
A53: =A49+1 -> 2 | B53: 22.pants. Noteikt, ka akciju sabiedrība "Augstsprieguma tīkls" ieskaita valsts pamatbudžeta ieņēmumos dividenžu maksājumu 2022. gadā (par 2021. pārskata gadu) 64 procentu apmērā no pārskata gada peļņas, bet ne mazāk kā 10 314 534 euro un 2023. gadā (par 2022. pārskata gadu) 64 procentu apmērā no pārskata gada peļņas, bet ne mazāk kā 11 628 557 euro, uzņēmumu ienākuma nodokli aprēķinot un nomaksājot uzņēmumu ienākuma nodokli regulējošos normatīvos aktos noteiktajā kārtībā. | C53: Izteikt likumprojekta 22.pantu šādā redakcijā: "22.pants. Noteikt, ka akciju sabiedrība “Augstsprieguma tīkls” ieskaita valsts pamatbudžeta ieņēmumos dividenžu maksājumu 2022. gadā (par 2021. pārskata gadu) 50 procentu apmērā no akciju sabiedrības ''Augstsprieguma tīkls'' pārskata gada peļņas, bet ne mazāk kā 29 143 118 euro un 2023. gadā (par 2022. pārskata gadu) 64 procentu apmērā no pārskata gada peļņas, bet ne mazāk kā 11 628 557 euro, uzņēmumu ienākuma nodokli aprēķinot un nomaksājot uzņēmumu ienākuma nodokli regulējošos normatīvos aktos noteiktajā kārtībā." | D53: Atbalstīt
B54: Ņemot vērā “Augstsprieguma tīkls” prognozētās peļņas apmēru, 2022.gadā nepieciešams palielināt ieņēmumu prognozi no “Augstsprieguma tīkls” maksājuma par valsts kapitāla izmantošanu.
...

Sheet VPK
C1: Pieņemts pirmajā lasījumā | D1: Priekšlikums par izmaiņām | F1: Pieņemts pirmajā lasījumā | G1: Priekšlikums par izmaiņām | H1: Priekšlikums MK atzinumam
B4: Par likumprojekta "Par valsts budžetu 2022.gadam" un likumprojekta „Par vidēja termiņa budžeta ietvaru 2022., 2023. un 2024.gadam” skaitlisko daļu:
B6: Sadalījumā pa budžeta resoriem
B8: 01. Valsts prezidenta kanceleja
B9: Ierosināts pārdalīt no (-)/ uz (+): | E9: Atbalstīt pārdali no (-)/ uz (+):
B10: 02.00.00 Līdzekļi neparedzētiem gadījumiem | E10: 02.00.00 Līdzekļi neparedzētiem gadījumiem
B11: 2022.gadā | C11: 54338675 | D11: =G20 -> 183921 | E11: 2022.gadā | F11: 54338675 | G11: =D11 -> 183921
B12: 2023.gadā | C12: 19240528 | E12: 2023.gadā | F12: 19240528 | G12: =D12 -> 0
B13: 2024.gadā | C13: 99084581 | E13: 2024.gadā | F13: 99084581 | G13: =D13 -> 0
B15: likumprojektam "Par valsts budžetu 2022.gadam"
A17: 1 | B17: 01. Valsts prezidenta kanceleja | E17: 74. Gadskārtējā valsts budžeta izpildes procesā pārdalāmais finansējums | H17: Atbalstīt
B18: 4.pielikums | E18: 4.pielikums
B19: 04.00.00 Valsts prezidenta darbības nodrošināšana | E19: 02.00.00 Līdzekļi neparedzētiem gadījumiem
B20: Resursi izdevumu segšanai | C20: =C21 -> 6783340 | D20: =D21 -> -183921 | E20: Resursi izdevumu segšanai | F20: =F21 -> 54338675 | G20: =G21 -> 183921
B21: Dotācija no vispārējiem ieņēmumiem | C21: =C22 -> 6783340 | D21: =D22 -> -183921 | E21: Dotācija no vispārējiem ieņēmumiem | F21: =F22 -> 54338675 | G21: =G22 -> 183921
B22: Vispārējā kārtībā sadalāmā dotācija no vispārējiem ieņēmumiem | C22: 6783340 | D22: -183921 | E22: Vispārējā kārtībā sadalāmā dotācija no vispārējiem ieņēmumiem | F22: 54338675 | G22: 183921
B23: Izdevumi – kopā | C23: =C24++C35 -> 6783340 | D23: =D24++D35 -> -183921 | E23: Izdevumi – kopā | F23: =F24 -> 54338675 | G23: =G24 -> 183921
B24: Uzturēšanas izdevumi | C24: =C25+C28+C31 -> 6478637 | D24: =D25+D28+D31 -> 0 | E24: Uzturēšanas izdevumi | F24: =F25 -> 54338675 | G24: =G25 -> 183921
B25: Kārtējie izdevumi | C25: =C26+C27 -> 6219945 | D25: =D26+D27 -> 0 | E25: Subsīdijas, dotācijas, sociālie maksājumi un kompensācijas | F25: =F26 -> 54338675 | G25: =G26 -> 183921
B26: Atlīdzība | C26: 2599744 | E26: Subsīdijas un dotācijas | F26: 54338675 | G26: 183921
B27: Preces un pakalpojumi | C27: 3620201
B28: Subsīdijas, dotācijas, sociālie maksājumi un kompensācijas | C28: =C29+C30 -> 238592 | D28: =D29+D30 -> 0
B29: Subsīdijas un dotācijas | C29: 24500
B30: Sociāla rakstura maksājumi un kompensācijas | C30: 214092
B31: Transferti viena budžeta veida ietvaros un uzturēšanas izdevumu transferti starp budžeta veidiem | C31: =C32 -> 20100 | D31: =D32 -> 0
B32: Valsts budžeta transferti un uzturēšanas izdevumu transferti | C32: =C33 -> 20100 | D32: =D33 -> 0
B33: Valsts budžeta transferti no valsts pamatbudžeta uz valsts pamatbudžetu | C33: =C34 -> 20100 | D33: =D34 -> 0
B34: Valsts budžeta transferti no valsts pamatbudžeta dotācijas no vispārējiem ieņēmumiem uz valsts pamatbudžetu | C34: 20100
B35: Kapitālie izdevumi | C35: =C36 -> 304703 | D35: =D36 -> -183921
B36: Pamatkapitāla veidošana | C36: 304703 | D36: -183921
B37: Prioritārajam pasākumam "Koncertflīģeļa iegāde Rīgas pils Svētku zālei " piešķirtā finansējuma pārdale uz budžeta resora “74.Gadzkārtējā valsts budžeta izpildes procesā pārdalamais finansējums” programmu 02.00.00 "Līdzekļi neparedzētiem gadījumiem"
B39: likumprojektam "Par vidēja termiņa budžeta ietvaru 2022., 2023. un 2024.gadam"
A41: =A17 -> 1 | B41: 01. Valsts prezidenta kanceleja | E41: 74. Gadskārtējā valsts budžeta izpildes procesā pārdalāmais finansējums | H41: Atbalstīt
B42: 3.pielikums | E42: 3.pielikums
B43: I. Valsts pamatfunkciju īstenošana | E43: I. Valsts pamatfunkciju īstenošana
B44: 2022.gads | E44: 2022.gads
B45: Resursi izdevumu segšanai | C45: =C46 -> 6783340 | D45: =D46 -> -183921 | E45: Resursi izdevumu segšanai | F45: =F46 -> 261972494 | G45: =G46 -> 183921
B46: Dotācija no vispārējiem ieņēmumiem | C46: =C47 -> 6783340 | D46: =D47 -> -183921 | E46: Dotācija no vispārējiem ieņēmumiem | F46: =F47 -> 261972494 | G46: =G47 -> 183921
B47: Vispārējā kārtībā sadalāmā dotācija no vispārējiem ieņēmumiem | C47: 6783340 | D47: -183921 | E47: Vispārējā kārtībā sadalāmā dotācija no vispārējiem ieņēmumiem | F47: 261972494 | G47: 183921
B48: Izdevumi – kopā | C48: =C49++C60 -> 6783340 | D48: =D49++D60 -> -183921 | E48: Izdevumi – kopā | F48: =F49 -> 261972494 | G48: =G49 -> 183921
...

Sheet AM
C1: Pieņemts pirmajā lasījumā | D1: Priekšlikums par izmaiņām | F1: Pieņemts pirmajā lasījumā | G1: Priekšlikums par izmaiņām | H1: Priekšlikums MK atzinumam
B4: 12. Ārlietu ministrija
B5: Ierosināts pārdalīt no (-)/ uz (+): | E5: Atbalstīt pārdali no (-)/ uz (+):
B6: 02.00.00 Līdzekļi neparedzētiem gadījumiem | E6: 02.00.00 Līdzekļi neparedzētiem gadījumiem
B7: 2022.gadā | C7: 54338675 | D7: =D16+D57 -> -373953 | E7: 2022.gadā | F7: 54338675 | G7: =D7 -> -373953
B8: 2023.gadā | C8: 19240528 | D8: =D66 -> -11665 | E8: 2023.gadā | F8: 19240528 | G8: =D8 -> -11665
B9: 2024.gadā | C9: 99084581 | E9: 2024.gadā | F9: 99084581 | G9: =D9 -> 0
B11: likumprojektam "Par valsts budžetu 2022.gadam"
A13: =VPK!A17+1 -> 2 | B13: 74. Gadskārtējā valsts budžeta izpildes procesā pārdalāmais finansējums | E13: 11. Ārlietu ministrija | H13: Atbalstīt
B14: 4.pielikums | E14: 4.pielikums
B15: 02.00.00. Līdzekļi neparedzētiem gadījumiem | E15: 01.04.00 Diplomātiskās misijas ārvalstīs
B16: Resursi izdevumu segšanai | C16: 54338675 | D16: -373953 | E16: Resursi izdevumu segšanai | F16: 43450898 | G16: 373953
B17: Dotācija no vispārējiem ieņēmumiem | C17: 54338675 | D17: -373953 | E17: Ieņēmumi no maksas pakalpojumiem un citi pašu ieņēmumi – kopā | F17: 1421257
B18: Vispārējā kārtībā sadalāmā dotācija no vispārējiem ieņēmumiem | C18: 54338675 | D18: -373953 | E18: Dotācija no vispārējiem ieņēmumiem | F18: 42029641 | G18: 373953
B19: Izdevumi – kopā | C19: 54338675 | D19: -373953 | E19: Vispārējā kārtībā sadalāmā dotācija no vispārējiem ieņēmumiem | F19: 42029641 | G19: 373953
B20: Uzturēšanas izdevumi | C20: 54338675 | D20: -373953 | E20: Izdevumi – kopā | F20: 43450898 | G20: 373953
B21: Subsīdijas, dotācijas, sociālie maksājumi un kompensācijas | C21: 54338675 | D21: -373953 | E21: Uzturēšanas izdevumi | F21: 42192160 | G21: 373953
B22: Subsīdijas un dotācijas | C22: 54338675 | D22: -373953 | E22: Kārtējie izdevumi | F22: 42116673 | G22: 373953
E23: Atlīdzība | F23: 21262876 | G23: 316721
E24: Preces un pakalpojumi | F24: 20853797 | G24: 57232
E25: Subsīdijas, dotācijas, sociālie maksājumi un kompensācijas | F25: 57600
E26: Subsīdijas un dotācijas | F26: 57600
E27: Transferti viena budžeta veida ietvaros un uzturēšanas izdevumu transferti starp budžeta veidiem | F27: 17887
E28: Valsts budžeta transferti un uzturēšanas izdevumu transferti | F28: 17887
E29: Valsts budžeta uzturēšanas izdevumu transferti no valsts pamatbudžeta uz valsts speciālo budžetu | F29: 17887
E30: Kapitālie izdevumi | F30: 1258738
E31: Pamatkapitāla veidošana | F31: 1258738
B32: Palielināti izdevumi, pārdalot finansējumu no 74.resora programmas 02.00.00 "Līdzekļi neparedzētiem gadījumiem" uz Ārlietu ministrijas apakšprogrammu 01.04.00 "Diplomātiskās misijas ārvalstīs" 373 953 euro apmērā, kas saistīti ar 8 civilo ekspertu dalības nodrošināšanu Eiropas Savienības Padomdevēja misijā civilā drošības sektora reformām Ukrainā un Eiropas Drošības un sadarbības organizācijas Speciālajā novērošanas misijā Ukrainā (MK 06.10.2021. rīk. Nr.700; MK 06.10.2021. rīk. Nr.701; MK 26.10.2021 sēdē atbalstītie rīkojumu projekti Nr.21-TA-422, Nr.21-TA-475 un Nr.21-TA-560).
B34: likumprojektam "Par vidēja termiņa budžeta ietvaru 2022., 2023. un 2024.gadam"
A36: =A13 -> 2 | B36: 74. Gadskārtējā valsts budžeta izpildes procesā pārdalāmais finansējums | E36: 11. Ārlietu ministrija | H36: Atbalstīt
B37: 3.pielikums | E37: 3.pielikums
B38: I. Valsts pamatfunkciju īstenošana | E38: I. Valsts pamatfunkciju īstenošana
B39: 2022.gads | E39: 2022.gads
B40: Resursi izdevumu segšanai | C40: 261972494 | D40: -373953 | E40: Resursi izdevumu segšanai | F40: 71743383 | G40: 373953
B41: Dotācija no vispārējiem ieņēmumiem | C41: 261972494 | D41: -373953 | E41: Ieņēmumi no maksas pakalpojumiem un citi pašu ieņēmumi – kopā | F41: 1625603
B42: Vispārējā kārtībā sadalāmā dotācija no vispārējiem ieņēmumiem | C42: 261972494 | D42: -373953 | E42: Dotācija no vispārējiem ieņēmumiem | F42: 70117780 | G42: 373953
B43: Izdevumi – kopā | C43: 261972494 | D43: -373953 | E43: Vispārējā kārtībā sadalāmā dotācija no vispārējiem ieņēmumiem | F43: 70117780 | G43: 373953
B44: Uzturēšanas izdevumi | C44: 261972494 | D44: -373953 | E44: Izdevumi – kopā | F44: 71743383 | G44: 373953
B45: Subsīdijas, dotācijas, sociālie maksājumi un kompensācijas | C45: 261972494 | D45: -373953 | E45: Uzturēšanas izdevumi | F45: 69878366 | G45: 373953
B46: Subsīdijas un dotācijas | C46: 261972494 | D46: -373953 | E46: Kārtējie izdevumi | F46: 58956794 | G46: 373953
...

Sheet EM
C1: Pieņemts pirmajā lasījumā | D1: Priekšlikums par izmaiņām | F1: Pieņemts pirmajā lasījumā | G1: Priekšlikums par izmaiņām | H1: Priekšlikums MK atzinumam
B4: 12. Ekonomikas ministrija
B6: likumprojektam "Par valsts budžetu 2022.gadam"
A8: =AM!A36+1 -> 3 | B8: I. Valsts pamatbudžeta ieņēmumi | E8: 12. Ekonomikas ministrija | H8: Atbalstīt
B9: 2.pielikums | E9: 4.pielikums
B10: Pievienotās vērtības nodoklis | C10: 3067525000 | D10: 517592 | E10: 29.01.00 Naftas produktu rezervju uzturēšana
B11: Valsts nodeva par naftas produktu drošības rezervju uzturēšanu | C11: 22045997 | D11: 2464722 | E11: Resursi izdevumu segšanai | F11: =F12 -> 26609506 | G11: =G12 -> 2982314
E12: Dotācija no vispārējiem ieņēmumiem | F12: =F13 -> 26609506 | G12: =G13 -> 2982314
E13: Vispārējā kārtībā sadalāmā dotācija no vispārējiem ieņēmumiem | F13: 26609506 | G13: 2982314
E14: Izdevumi – kopā | F14: =F15 -> 26609506 | G14: =G15 -> 2982314
E15: Uzturēšanas izdevumi | F15: =F16 -> 26609506 | G15: =G16 -> 2982314
E16: Kārtējie izdevumi | F16: =F17+F18 -> 26609506 | G16: =G17+G18 -> 2982314
E17: Atlīdzība | F17: 69980
E18: Preces un pakalpojumi | F18: 26539526 | G18: 2982314
B19: Pamatojoties uz Enerģētikas likuma 72.panta 2.daļu tika organizēts iepirkums drošības rezervju pakalpojumam valsts naftas produktu rezervju izveidei. Saskaņā ar Iepirkumu komisijas 18.10.2021. sēdes protokola Nr.12 8.punktu vispārīgās vienošanās slēgšanas tiesības 2022.gadam noteiktas 11 pretendentiem par kopējo summu 24 204 000 euro bez PVN (29 286 840 euro ar PVN). Ņemot vērā, ka likumprojektā "Par valsts budžetu 2022.gadam" Ekonomikas ministrijas apakšprogrammā 29.01.00 “Naftas produktu rezervju uzturēšana” naftas produktu rezervju uzturēšanai paredzēts finansējums 26 304 526 euro apmērā, savukārt būs nepieciešams finansējums 29 286 840 euro apmērā, attiecīgi tiek palielināti izdevumi par 2 982 314 euro, vienlaikus atbilstoši palielinot valsts budžeta ieņēmumus no valsts nodevas par naftas produktu drošības rezervju uzturēšanu 2 464 722 euro apmērā un pievienotās vērtības nodokļa ieņēmumus par 517 592 euro.
B21: likumprojektam "Par vidēja termiņa budžeta ietvaru 2022., 2023. un 2024.gadam"
A23: =A8 -> 3 | B23: I. Valsts pamatbudžeta ieņēmumi | E23: 12. Ekonomikas ministrija | H23: Atbalstīt
B24: 2.pielikums | E24: 3.pielikums
E25: I. Valsts pamatfunkciju īstenošana
B26: 2022.gads | E26: 2022.gads
B27: Pievienotās vērtības nodoklis | C27: 3067525000 | D27: 517592 | E27: Resursi izdevumu segšanai | F27: =F28+F29+F34 -> 169724563 | G27: =G28+G29+G34 -> 2982314
B28: Valsts nodeva par naftas produktu drošības rezervju uzturēšanu | C28: 22045997 | D28: 2464722 | E28: Ieņēmumi no maksas pakalpojumiem un citi pašu ieņēmumi | F28: 2953606
E29: Trasferti | F29: =F30 -> 99966 | G29: =G30 -> 0
E30: Valsts budžeta transferti | F30: =F31 -> 99966 | G30: =G31 -> 0
E31: Valsts pamatbudžeta savstarpējie transferti | F31: =F32 -> 99966 | G31: =G32 -> 0
E32: Valsts pamatbudžeta iestāžu saņemtie transferti no valsts pamatbudžeta | F32: =F33 -> 99966 | G32: =G33 -> 0
E33: Valsts pamatbudžeta iestāžu saņemtie transferti no valsts pamatbudžeta dotācijas no vispārējiem ieņēmumiem | F33: 99966
E34: Dotācija no vispārējiem ieņēmumiem | F34: =F35 -> 166670991 | G34: =G35 -> 2982314
E35: Vispārējā kārtībā sadalāmā dotācija no vispārējiem ieņēmumiem | F35: 166670991 | G35: 2982314
E36: Izdevumi – kopā | F36: =F37+F53 -> 170032563 | G36: =G37+G53 -> 2982314
E37: Uzturēšanas izdevumi | F37: =F38+F41+F43+F45 -> 167526107 | G37: =G38+G41+G43+G45 -> 2982314
E38: Kārtējie izdevumi | F38: =F39+F40 -> 69728956 | G38: =G39+G40 -> 2982314
E39: Atlīdzība | F39: 25848238
E40: Preces un pakalpojumi | F40: 43880718 | G40: 2982314
E41: Subsīdijas, dotācijas un sociālie pabalsti | F41: =F42 -> 97158671 | G41: =G42 -> 0
E42: Subsīdijas un dotācijas | F42: 97158671
E43: Kārtējie maksājumi Eiropas Savienības budžetā un starptautiskā sadarbība | F43: =F44 -> 230083 | G43: =G44 -> 0
E44: Starptautiskā sadarbība | F44: 230083
E45: Transferti viena budžeta veida ietvaros un uzturēšanas izdevumu transferti starp budžeta veidiem | F45: =F46+F50 -> 408397 | G45: =G46+G50 -> 0
E46: Valsts budžeta transferti un uzturēšanas izdevumu transferti | F46: =F47+F48 -> 211660 | G46: =G47+G48 -> 0
...

Sheet FM
C1: Pieņemts pirmajā lasījumā | D1: Priekšlikums par izmaiņām | F1: Pieņemts pirmajā lasījumā | G1: Priekšlikums par izmaiņām | H1: Priekšlikums MK atzinumam
B4: 13. Finanšu ministrija
B5: Ierosināts pārdalīt no (-)/ uz (+): | E5: Atbalstīt pārdali no (-)/ uz (+):
B6: 02.00.00 Līdzekļi neparedzētiem gadījumiem | E6: 02.00.00 Līdzekļi neparedzētiem gadījumiem
B7: 2022.gadā | C7: 54338675 | D7: =G22 -> 18828584 | E7: 2022.gadā | F7: 54338675 | G7: =D7 -> 18828584
B8: 2023.gadā | C8: 19240528 | E8: 2023.gadā | F8: 19240528
B9: 2024.gadā | C9: 99084581 | E9: 2024.gadā | F9: 99084581
B11: likumprojektam "Par valsts budžetu 2022.gadam"
A13: =EM!A8+1 -> 4 | E13: 74. Gadskārtējā valsts budžeta izpildes procesā pārdalāmais finansējums | H13: Atbalstīt
B14: 2.pielikums | E14: 4.pielikums
B15: Ieņēmumi no dividendēm (ieņēmumi no valsts (pašvaldību) kapitāla izmantošanas) | C15: 180450000 | D15: 18828584 | E15: 02.00.00 Līdzekļi neparedzētiem gadījumiem
E16: Resursi izdevumu segšanai | F16: =F17 -> 54338675 | G16: =G17 -> 18828584
E17: Dotācija no vispārējiem ieņēmumiem | F17: =F18 -> 54338675 | G17: =G18 -> 18828584
E18: Vispārējā kārtībā sadalāmā dotācija no vispārējiem ieņēmumiem | F18: 54338675 | G18: =G19 -> 18828584
E19: Izdevumi – kopā | F19: =F20 -> 54338675 | G19: =G20 -> 18828584
E20: Uzturēšanas izdevumi | F20: =F21 -> 54338675 | G20: =G21 -> 18828584
E21: Subsīdijas, dotācijas, sociālie maksājumi un kompensācijas | F21: =F22 -> 54338675 | G21: =G22 -> 18828584
E22: Subsīdijas un dotācijas | F22: 54338675 | G22: =D15 -> 18828584
B23: Palielināt ieņēmumu prognozi 2022. gadam no akciju sabiedrības “Augstsprieguma tīkls" maksājuma par valsts kapitāla izmantošanu par 18 828 584 eiro, atbilstoši palielinot finansējumu budžeta resora “74.Gadzkārtējā valsts budžeta izpildes procesā pārdalamais finansējums” programmā 02.00.00 "Līdzekļi neparedzētiem gadījumiem"
B25: likumprojektam "Par vidēja termiņa budžeta ietvaru 2022., 2023. un 2024.gadam"
A27: =A13 -> 4 | E27: 74. Gadskārtējā valsts budžeta izpildes procesā pārdalāmais finansējums | H27: Atbalstīt
B28: 2.pielikums | E28: 3.pielikums
B29: 2022.gads | E29: I. Valsts pamatfunkciju īstenošana
B30: Ieņēmumi no dividendēm (ieņēmumi no valsts (pašvaldību) kapitāla izmantošanas) | C30: 180450000 | D30: 18828584 | E30: 2022.gads
E31: Resursi izdevumu segšanai | F31: =F32 -> 261972494 | G31: =G32 -> 18828584
E32: Dotācija no vispārējiem ieņēmumiem | F32: =F33 -> 261972494 | G32: =G33 -> 18828584
E33: Vispārējā kārtībā sadalāmā dotācija no vispārējiem ieņēmumiem | F33: 261972494 | G33: =G34 -> 18828584
E34: Izdevumi – kopā | F34: =F35 -> 261972494 | G34: =G35 -> 18828584
E35: Uzturēšanas izdevumi | F35: =F36 -> 261972494 | G35: =G36 -> 18828584
E36: Subsīdijas, dotācijas, sociālie maksājumi un kompensācijas | F36: =F37 -> 261972494 | G36: =G37 -> 18828584
E37: Subsīdijas un dotācijas | F37: 261972494 | G37: =D30 -> 18828584
B38: Palielināt ieņēmumu prognozi 2022. gadam no akciju sabiedrības “Augstsprieguma tīkls" maksājuma par valsts kapitāla izmantošanu par 18 828 584 eiro, atbilstoši palielinot finansējumu budžeta resora “74.Gadzkārtējā valsts budžeta izpildes procesā pārdalamais finansējums” programmā 02.00.00 "Līdzekļi neparedzētiem gadījumiem"

Sheet IeM
C1: Pieņemts pirmajā lasījumā | D1: Priekšlikums par izmaiņām | F1: Pieņemts pirmajā lasījumā | G1: Priekšlikums par izmaiņām | H1: Priekšlikums MK atzinumam
B4: 14. Iekšlietu ministrija
B6: likumprojektam „Par valsts budžetu 2022.gadam”
A8: =FM!A13+1 -> 5 | B8: 74. Gadskārtējā valsts budžeta izpildes procesā pārdalāmais finansējums | E8: 14. Iekšlietu ministrija | H8: Atbalstīt
B9: 4.pielikums | E9: 4.pielikums
B10: 13.00.00 Finansējums augstas gatavības projektiem Covid-19 krīzes pārvarēšanai un ekonomikas atlabšanai | E10: 07.00.00 Ugunsdrošība, glābšana un civilā aizsardzība | F10: `
B11: Resursi izdevumu segšanai | C11: =C12 -> 12127267 | D11: =D12 -> -333608 | E11: Resursi izdevumu segšanai | F11: 75091172 | G11: =G12+G13 -> 333608
B12: Dotācija no vispārējiem ieņēmumiem | C12: =C13 -> 12127267 | D12: =D13 -> -333608 | E12: Ieņēmumi no maksas pakalpojumiem un citi pašu ieņēmumi – kopā | F12: 43947
B13: Vispārējā kārtībā sadalāmā dotācija no vispārējiem ieņēmumiem | C13: 12127267 | D13: -333608 | E13: Dotācija no vispārējiem ieņēmumiem | F13: 75047225 | G13: =G14 -> 333608
B14: Izdevumi – kopā | C14: =C15 -> 12127267 | D14: =D15 -> -333608 | E14: Vispārējā kārtībā sadalāmā dotācija no vispārējiem ieņēmumiem | F14: 75047225 | G14: 333608
B15: Uzturēšanas izdevumi | C15: =C16 -> 12127267 | D15: =D16 -> -333608 | E15: Izdevumi – kopā | F15: 75091172 | G15: =G16+G24 -> 333608
B16: Subsīdijas, dotācijas, sociālie maksājumi un kompensācijas | C16: =C17 -> 12127267 | D16: =D17 -> -333608 | E16: Uzturēšanas izdevumi | F16: 58355176 | G16: =G17+G20+G22 -> 0
B17: Subsīdijas un dotācijas | C17: 12127267 | D17: -333608 | E17: Kārtējie izdevumi | F17: 58342036 | G17: =G18+G19 -> 0
E18: Atlīdzība | F18: 55064369
E19: Preces un pakalpojumi | F19: 3277667
E20: Subsīdijas, dotācijas, sociālie maksājumi un kompensācijas | F20: 6666 | G20: =G21 -> 0
E21: Sociāla rakstura maksājumi un kompensācijas | F21: 6666
E22: Kārtējie maksājumi Eiropas Savienības budžetā un starptautiskā sadarbība | F22: 6474 | G22: =G23 -> 0
E23: Starptautiskā sadarbība | F23: 6474
E24: Kapitālie izdevumi | F24: 16735996 | G24: =G25 -> 333608
E25: Pamatkapitāla veidošana | F25: 16735996 | G25: 333608
B26: 2021.gada 12.oktobra Ministru kabineta sēdē (prot. Nr.69, 38. §, 3.punkts) atbalstīta valsts budžeta finansējuma piešķiršana Iekšlietu ministrijai 2022. gadā depo aprīkošanai budžeta programmai 07.00.00 "Ugunsdrošība, glābšana un civilā aizsardzība" 333 608 EUR (pamatkapitāla veidošana) atbilstoši veiktajam iepirkumam Covid-19 krīzes seku pārvarēšanas un ekonomikas atlabšanas pasākuma "Infrastruktūras attīstības projektu īstenošana iekšlietu nozarē" ietvaros, kā arī 4.punktā dots uzdevums Iekšlietu ministrijai normatīvajos aktos noteiktā kārtībā sagatavot un iesniegt Finanšu ministrijai priekšlikumus likumprojekta "Par valsts budžetu 2022. gadam" izskatīšanai Saeimā otrajā lasījumā atbilstoši šī protokollēmuma 2. punktam, veicot pārdali no budžeta resora "74. Gadskārtējā valsts budžeta izpildes procesā pārdalāmais finansējums" programmas 13.00.00 "Finansējums augstas gatavības projektiem Covid-19 krīzes pārvarēšanai un ekonomikas atlabšanai".
B28: likumprojektam „Par vidēja termiņa budžeta ietvaru 2022., 2023. un 2024.gadam”
A30: =A8 -> 5 | B30: 74. Gadskārtējā valsts budžeta izpildes procesā pārdalāmais finansējums | E30: 14. Iekšlietu ministrija | H30: Atbalstīt
B31: 3.pielikums | E31: 3.pielikums
B32: I. Valsts pamatfunkciju īstenošana | E32: I. Valsts pamatfunkciju īstenošana
B33: 2022.gads | E33: 2022.gads
B34: Resursi izdevumu segšanai | C34: =C35 -> 261972494 | D34: =D35 -> -333608 | E34: Resursi izdevumu segšanai | F34: 437604646 | G34: =G35+G36+G41 -> 333608
B35: Dotācija no vispārējiem ieņēmumiem | C35: =C36 -> 261972494 | D35: =D36 -> -333608 | E35: Ieņēmumi no maksas pakalpojumiem un citi pašu ieņēmumi – kopā | F35: 3979658
B36: Vispārējā kārtībā sadalāmā dotācija no vispārējiem ieņēmumiem | C36: 261972494 | D36: -333608 | E36: Transferti | F36: 210000
B37: Izdevumi – kopā | C37: =C38 -> 261972494 | D37: =D38 -> -333608 | E37: Valsts budžeta transferti | F37: 210000
B38: Uzturēšanas izdevumi | C38: =C39 -> 261972494 | D38: =D39 -> -333608 | E38: Valsts pamatbudžeta savstarpējie transferti | F38: 210000
B39: Subsīdijas, dotācijas, sociālie maksājumi un kompensācijas | C39: =C40 -> 261972494 | D39: =D40 -> -333608 | E39: Valsts pamatbudžeta iestāžu saņemtie transferti no valsts pamatbudžeta | F39: 210000
B40: Subsīdijas un dotācijas | C40: 261972494 | D40: -333608 | E40: Pārējie valsts pamatbudžetā saņemtie transferti no valsts pamatbudžeta | F40: 210000
E41: Dotācija no vispārējiem ieņēmumiem | F41: 433414988 | G41: =G42 -> 333608
E42: Vispārējā kārtībā sadalāmā dotācija no vispārējiem ieņēmumiem | F42: 433414988 | G42: 333608
E43: Izdevumi – kopā | F43: 437604646 | G43: =G44+G60 -> 333608
E44: Uzturēšanas izdevumi | F44: 390549185 | G44: =G45+G48+G51+G53 -> 0
E45: Kārtējie izdevumi | F45: 383163890 | G45: =G46+G47 -> 0
E46: Atlīdzība | F46: 276710579
...

Sheet IZM
C1: Pieņemts pirmajā lasījumā | D1: Priekšlikums par izmaiņām | F1: Pieņemts pirmajā lasījumā | G1: Priekšlikums par izmaiņām | H1: Priekšlikums MK atzinumam
B4: 15. Izglītības un zinātnes ministrija
B6: likumprojektam "Par valsts budžetu 2022.gadam"
A8: =IeM!A553+1 -> 11 | B8: 62.resors "Mērķdotācijas pašvaldībām" | E8: 15. Izglītības un zinātnes ministrija | H8: Atbalstīt
B9: 4.pielikums | E9: 4.pielikums
B10: 01.00.00. "Mērķdotācijas izglītības pasākumiem" | E10: 01.05.00 "Dotācija privātajām mācību iestādēm"
B11: Resursi izdevumu segšanai | C11: 57454704 | D11: -1011180 | E11: Resursi izdevumu segšanai | F11: 12667356 | G11: 1011180
B12: Dotācija no vispārējiem ieņēmumiem | C12: 57454704 | D12: -1011180 | E12: Dotācija no vispārējiem ieņēmumiem | F12: 12667356 | G12: 1011180
B13: Vispārējā kārtībā sadalāmā dotācija no vispārējiem ieņēmumiem | C13: 57454704 | D13: -1011180 | E13: Vispārējā kārtībā sadalāmā dotācija no vispārējiem ieņēmumiem | F13: 12667356 | G13: 1011180
B14: Izdevumi – kopā | C14: 57454704 | D14: -1011180 | E14: Izdevumi – kopā | F14: 12667356 | G14: 1011180
B15: Uzturēšanas izdevumi | C15: 57454704 | D15: -1011180 | E15: Uzturēšanas izdevumi | F15: 12667356 | G15: 1011180
B16: Transferti viena budžeta veida ietvaros un uzturēšanas izdevumu transferti starp budžeta veidiem | C16: 57454704 | D16: -1011180 | E16: Subsīdijas, dotācijas, sociālie maksājumi un kompensācijas | F16: 12454354 | G16: 1011180
B17: Pārējie valsts budžeta uzturēšanas izdevumu transferti citiem budžetiem | C17: 57454704 | D17: -1011180 | E17: Subsīdijas un dotācijas | F17: 12454354 | G17: 1011180
B18: Pārējie valsts budžeta uzturēšanas izdevumu transferti pašvaldībām | C18: 57454704 | D18: -1011180
B23: Saskaņā ar Ministru kabineta 2021. gada 5. oktobra sēdes protokollēmumu Nr.66, 28.§. tiek pārdalīts finansējums 1 011 180 euro apmērā no 62.resora budžeta programmas 01.00.00. "Mērķdotācijas izglītības pasākumiem" uz 15. resora budžeta apakšprogrammu 01.05.00 Dotācija privātajām mācību iestādēm, lai nodrošinātu pedagogu darba samaksu 2022. gadā un turpmāk, ņemot vērā pedagogu minimālās algas likmes palielināšanu līdz 830 euro un pirmskolas pedagogu minimālās algas likmes palielināšanu līdz 872 euro sākot ar 2021. gada 1. septembri un izglītojamo skaita uz 2021. gada 1. septembri izmaiņu ietekmi.
B25: likumprojektam "Par vidēja termiņa budžeta ietvaru 2022., 2023. un 2024.gadam"
A27: =A8 -> 11 | B27: 62. resors "Mērķdotācijas pašvaldībām" | E27: 15. Izglītības un zinātnes ministrija | H27: Atbalstīt
B28: 3.pielikums | E28: 3.pielikums
B29: I Valsts pamatfunkciju īstenošana | E29: I Valsts pamatfunkciju īstenošana
B30: 2022.gads | E30: 2022.gads
B31: Resursi izdevumu segšanai | C31: 431222629 | D31: -1011180 | E31: Resursi izdevumu segšanai | F31: 334326783 | G31: 1011180
B32: Dotācija no vispārējiem ieņēmumiem | C32: 431222629 | D32: -1011180 | E32: Dotācija no vispārējiem ieņēmumiem | F32: 327039183 | G32: 1011180
B33: Vispārējā kārtībā sadalāmā dotācija no vispārējiem ieņēmumiem | C33: 431222629 | D33: -1011180 | E33: Vispārējā kārtībā sadalāmā dotācija no vispārējiem ieņēmumiem | F33: 327039183 | G33: 1011180
B34: Izdevumi – kopā | C34: 431222629 | D34: -1011180 | E34: Izdevumi – kopā | F34: 316113777 | G34: 1011180
B35: Uzturēšanas izdevumi | C35: 431222629 | D35: -1011180 | E35: Uzturēšanas izdevumi | F35: 304193418 | G35: 1011180
B36: Transferti viena budžeta veida ietvaros un uzturēšanas izdevumu transferti starp budžeta veidiem | C36: 431222629 | D36: -1011180 | E36: Subsīdijas, dotācijas, sociālie maksājumi un kompensācijas | F36: 50829857 | G36: 1011180
B37: Pārējie valsts budžeta uzturēšanas izdevumu transferti citiem budžetiem | C37: 431222629 | D37: -1011180 | E37: Subsīdijas un dotācijas | F37: 40793556 | G37: 1011180
B38: Pārējie valsts budžeta uzturēšanas izdevumu transferti pašvaldībām | C38: 431222629 | D38: -1011180
B43: 2023.gads | E43: 2023.gads
B44: Resursi izdevumu segšanai | C44: 453536441 | D44: -1011180 | E44: Resursi izdevumu segšanai | F44: 318678839 | G44: 1011180
B45: Dotācija no vispārējiem ieņēmumiem | C45: 453536441 | D45: -1011180 | E45: Dotācija no vispārējiem ieņēmumiem | F45: 311946569 | G45: 1011180
B46: Vispārējā kārtībā sadalāmā dotācija no vispārējiem ieņēmumiem | C46: 453536441 | D46: -1011180 | E46: Vispārējā kārtībā sadalāmā dotācija no vispārējiem ieņēmumiem | F46: 311946569 | G46: 1011180
B47: Izdevumi – kopā | C47: 453536441 | D47: -1011180 | E47: Izdevumi – kopā | F47: 317863344 | G47: 1011180
B48: Uzturēšanas izdevumi | C48: 453536441 | D48: -1011180 | E48: Uzturēšanas izdevumi | F48: 311394688 | G48: 1011180
B49: Transferti viena budžeta veida ietvaros un uzturēšanas izdevumu transferti starp budžeta veidiem | C49: 453536441 | D49: -1011180 | E49: Subsīdijas, dotācijas, sociālie maksājumi un kompensācijas | F49: 51503899 | G49: 1011180
B50: Pārējie valsts budžeta uzturēšanas izdevumu transferti citiem budžetiem | C50: 453536441 | D50: -1011180 | E50: Subsīdijas un dotācijas | F50: 41287578 | G50: 1011180
B51: Pārējie valsts budžeta uzturēšanas izdevumu transferti pašvaldībām | C51: 453536441 | D51: -1011180
B52: 2024.gads | E52: 2024.gads
B53: Resursi izdevumu segšanai | C53: 453536441 | D53: -1011180 | E53: Resursi izdevumu segšanai | F53: 319434266 | G53: 1011180
B54: Dotācija no vispārējiem ieņēmumiem | C54: 453536441 | D54: -1011180 | E54: Dotācija no vispārējiem ieņēmumiem | F54: 313179736 | G54: 1011180
...

Sheet LM
C1: Pieņemts pirmajā lasījumā | D1: Priekšlikums par izmaiņām | F1: Pieņemts pirmajā lasījumā | G1: Priekšlikums par izmaiņām | H1: Priekšlikums MK atzinumam
B4: 18. Labklājības ministrija
B6: likumprojektam "Par valsts budžetu 2022.gadam"
A8: =IZM!A65+1 -> 13 | B8: 18.Labklājības ministrija (speciālais budžets) | E8: 18.Labklājības ministrija | H8: Atbalstīt
B9: 5.pielikums | E9: 4.pielikums
B10: 04.01.00 Valsts pensiju speciālais budžets | E10: 05.01.00 Sociālās rehabilitācijas valsts programmas
B11: Ieņēmumi – kopā | C11: 2492891538 | D11: 0 | E11: Resursi izdevumu segšanai | F11: 71736562 | G11: 5861
B12: Nodokļu ieņēmumi | C12: 2025073327 | E12: Dotācija no vispārējiem ieņēmumiem | F12: 71736562 | G12: 5861
B13: Sociālās apdrošināšanas iemaksas – kopā | C13: 2025073327 | E13: Vispārējā kārtībā sadalāmā dotācija no vispārējiem ieņēmumiem | F13: 71736562 | G13: 5861
B14: Sociālās apdrošināšanas iemaksas | C14: 2025073327 | E14: Izdevumi - kopā | F14: 71736562 | G14: 5861
B15: Brīvprātīgās sociālās apdrošināšanas iemaksas | C15: 205000 | E15: Uzturēšanas izdevumi | F15: 71736562 | G15: 5861
B16: Brīvprātīgās sociālās apdrošināšanas iemaksas valsts pensiju apdrošināšanai | C16: 205000 | E16: Kārtējie izdevumi | F16: 71603
B17: Ieņēmumi valsts speciālajā budžetā no valsts sociālās apdrošināšanas obligāto iemaksu sadales | C17: 2024868327 | E17: Preces un pakalpojumi | F17: 71603
B18: Valsts sociālās apdrošināšanas obligātās iemaksas valsts pensiju apdrošināšanai | C18: 2024868327 | E18: Subsīdijas, dotācijas, sociālie maksājumi un kompensācijas | F18: 21877397 | G18: 5861
B19: Nenodokļu ieņēmumi | C19: 57561832 | E19: Subsīdijas un dotācijas | F19: 21876077 | G19: 5861
B20: Transferti | C20: 410256379 | E20: Sociāla rakstura maksājumi un kompensācijas | F20: 1320
B21: Valsts budžeta transferti | C21: 410256379 | E21: Transferti viena budžeta veida ietvaros un uzturēšanas izdevumu transferti starp budžeta veidiem | F21: 49787562
B22: Valsts speciālajā budžetā saņemtie transferti no valsts pamatbudžeta | C22: 205965246 | E22: Pārējie valsts budžeta uzturēšanas izdevumu transferti citiem budžetiem | F22: 49787562
B23: Valsts speciālā budžeta savstarpējie transferti | C23: 204291133 | E23: Pārējie valsts budžeta uzturēšanas izdevumu transferti pašvaldībām | F23: 49787562
B24: Valsts sociālās apdrošināšanas speciālā budžeta transferti | C24: 204291133
B25: No nodarbinātības speciālā budžeta valsts pensiju apdrošināšanai | C25: 31868443
B26: No darba negadījumu speciālā budžeta valsts pensiju apdrošināšanai | C26: 6469352
B27: No invaliditātes, maternitātes un slimības speciālā budžeta valsts pensiju apdrošināšanai | C27: 165953338
B28: Izdevumi – kopā | C28: 2400018872 | D28: -5861
B29: Uzturēšanas izdevumi | C29: 2400018872 | D29: -5861
B30: Subsīdijas, dotācijas, sociālie maksājumi un kompensācijas | C30: 2386051983
B31: Sociāla rakstura maksājumi un kompensācijas | C31: 2386051983
B32: Transferti viena budžeta veida ietvaros un uzturēšanas izdevumu transferti starp budžeta veidiem | C32: 13966889 | D32: -5861
B33: Valsts budžeta transferti un uzturēšanas izdevumu transferti | C33: 13966889 | D33: -5861
B34: Valsts budžeta transferti no valsts speciālā budžeta uz valsts speciālo budžetu | C34: 13966889 | D34: -5861
B35: Finansiālā bilance | C35: 92872666 | D35: 5861
B36: Finansēšana | C36: -92872666 | D36: -5861
B37: Naudas līdzekļi | C37: -92872666 | D37: -5861
B38: Valsts speciālā budžeta naudas līdzekļu atlikumu izmaiņas palielinājums (-) vai samazinājums (+) | C38: -92872666 | D38: -5861
B39: 04.05.00 Valsts sociālās apdrošināšanas aģentūras speciālais budžets
B40: Ieņēmumi – kopā | C40: 24263955 | D40: -5861
B41: Nenodokļu ieņēmumi | C41: 1026255
B42: Ieņēmumi no maksas pakalpojumiem un citi pašu ieņēmumi – kopā | C42: 16105
B43: Transferti | C43: 23221595 | D43: -5861
B44: Valsts budžeta transferti | C44: 23221595 | D44: -5861
...

Sheet TM
C1: Pieņemts pirmajā lasījumā | D1: Priekšlikums par izmaiņām | F1: Pieņemts pirmajā lasījumā | G1: Priekšlikums par izmaiņām | H1: Priekšlikums MK atzinumam
B4: 19. Tieslietu ministrija
B6: likumprojektam "Par valsts budžetu 2022.gadam"
A8: =LM!A396+1 -> 18 | B8: 19. Tieslietu ministrija | E8: 18. Labklājības ministrija | H8: Atbalstīt
B9: 4.pielikums | E9: 4.pielikums
B10: 03.02.00 Apgabaltiesas un rajonu (pilsētu) tiesas | E10: 20.02.00 Izdienas pensijas
B11: Resursi izdevumu segšanai | C11: 75679914 | D11: -148000 | E11: Resursi izdevumu segšanai | F11: 66588792 | G11: 148000
B12: Ieņēmumi no maksas pakalpojumiem un citi pašu ieņēmumi – kopā | C12: 759924 | E12: Dotācija no vispārējiem ieņēmumiem | F12: 66588792 | G12: 148000
B13: Dotācija no vispārējiem ieņēmumiem | C13: 74919990 | D13: -148000 | E13: Vispārējā kārtībā sadalāmā dotācija no vispārējiem ieņēmumiem | F13: 66588792 | G13: 148000
B14: Vispārējā kārtībā sadalāmā dotācija no vispārējiem ieņēmumiem | C14: 74919990 | D14: -148000 | E14: Izdevumi – kopā | F14: 66588792 | G14: 148000
B15: Izdevumi – kopā | C15: 75679914 | D15: -148000 | E15: Uzturēšanas izdevumi | F15: 66588792 | G15: 148000
B16: Uzturēšanas izdevumi | C16: 73543807 | D16: -148000 | E16: Subsīdijas, dotācijas, sociālie maksājumi un kompensācijas | F16: 66489015 | G16: 148000
B17: Kārtējie izdevumi | C17: 73380694 | D17: -148000 | E17: Sociāla rakstura maksājumi un kompensācijas | F17: 66489015 | G17: 148000
B18: Atlīdzība | C18: 56247972 | D18: -148000 | E18: Transferti viena budžeta veida ietvaros un uzturēšanas izdevumu transferti starp budžeta veidiem | F18: 99777
B19: Preces un pakalpojumi | C19: 17132722 | E19: Valsts budžeta transferti un uzturēšanas izdevumu transferti | F19: 99777
B20: Transferti viena budžeta veida ietvaros un uzturēšanas izdevumu transferti starp budžeta veidiem | C20: 163113 | E20: Valsts budžeta uzturēšanas izdevumu transferti no valsts pamatbudžeta uz valsts speciālo budžetu | F20: 99777
B21: Valsts budžeta transferti un uzturēšanas izdevumu transferti | C21: 163113
B22: Valsts budžeta transferti no valsts pamatbudžeta uz valsts pamatbudžetu | C22: 163113
B23: Valsts budžeta transferti no valsts pamatbudžeta dotācijas no vispārējiem ieņēmumiem uz valsts pamatbudžetu | C23: 163113
B24: Kapitālie izdevumi | C24: 2136107
B25: Pamatkapitāla veidošana | C25: 2136107
B26: Saskaņā ar Ministru kabineta 2021.gada 12.oktobra sēdes protokola Nr.69 26.§ 3.punktu tiek pārdalīts finansējums no Tieslietu ministrijas budžeta apakšprogrammas 03.02.00 “Apgabaltiesas un rajonu (pilsētu) tiesas” uz Labklājības ministrijas budžeta apakšprogrammu 20.02.00 “Izdienas pensijas” 2022.gadam 148 000 euro apmērā, lai nodrošinātu likumprojekta "Grozījumi Tiesnešu izdienas pensiju likumā" izpildi.
B28: likumprojektam "Par vidēja termiņa budžeta ietvaru 2022., 2023. un 2024.gadam"
A30: =A8 -> 18 | B30: 19. Tieslietu ministrija | E30: 18. Labklājības ministrija | H30: Atbalstīt
B31: 3.pielikums | E31: 3.pielikums
B32: I Valsts pamatfunkciju īstenošana | E32: I Valsts pamatfunkciju īstenošana
B33: 2022.gads | E33: 2022.gads
B34: Resursi izdevumu segšanai | C34: 309580038 | D34: -148000 | E34: Resursi izdevumu segšanai | F34: 878302035 | G34: 148000
B35: Ieņēmumi no maksas pakalpojumiem un citi pašu ieņēmumi – kopā | C35: 30039198 | E35: Ieņēmumi no maksas pakalpojumiem un citi pašu ieņēmumi – kopā | F35: 7737228
B36: Transferti | C36: 252957 | E36: Transferti | F36: 199932
B37: Valsts budžeta transferti | C37: 2957 | E37: Valsts budžeta transferti | F37: 92122
B38: Valsts pamatbudžeta savstarpējie transferti | C38: 2957 | E38: Valsts pamatbudžeta savstarpējie transferti | F38: 92122
B39: Valsts pamatbudžeta iestāžu saņemtie transferti no valsts pamatbudžeta | C39: 2957 | E39: Valsts pamatbudžeta iestāžu saņemtie transferti no valsts pamatbudžeta | F39: 92122
B40: Valsts pamatbudžeta iestāžu saņemtie transferti no valsts pamatbudžeta dotācijas no vispārējiem ieņēmumiem | C40: 2957 | E40: Valsts pamatbudžeta iestāžu saņemtie transferti no valsts pamatbudžeta dotācijas no vispārējiem ieņēmumiem | F40: 92122
B41: No valsts budžeta daļēji finansēto atvasināto publisko personu un budžeta nefinansēto iestāžu transferti | C41: 250000 | E41: Pašvaldību budžetu transferti | F41: 107810
B42: Valsts budžeta iestāžu saņemtie transferti no valsts budžeta daļēji finansētām atvasinātām publiskām personām un no budžeta nefinansētām iestādēm | C42: 250000 | E42: Valsts budžeta iestāžu saņemtie transferti no pašvaldībām | F42: 107810
B43: Valsts budžeta iestāžu saņemtie transferti no savas ministrijas, centrālās valsts iestādes padotībā esošām no valsts budžeta daļēji finansētām atvasinātām publiskām personām un budžeta nefinansētām iestādēm | C43: 250000 | E43: Valsts budžeta iestāžu saņemtie transferti (izņemot atmaksas) no pašvaldībām | F43: 107810
B44: Dotācija no vispārējiem ieņēmumiem | C44: 279287883 | D44: -148000 | E44: Dotācija no vispārējiem ieņēmumiem | F44: 870364875 | G44: 148000
B45: Vispārējā kārtībā sadalāmā dotācija no vispārējiem ieņēmumiem | C45: 279287883 | D45: -148000 | E45: Vispārējā kārtībā sadalāmā dotācija no vispārējiem ieņēmumiem | F45: 870364875 | G45: 148000
B46: Izdevumi – kopā | C46: 309764243 | D46: -148000 | E46: Izdevumi – kopā | F46: 878302035 | G46: 148000
...

Sheet KM
C1: Pieņemts pirmajā lasījumā | D1: Priekšlikums par izmaiņām | F1: Pieņemts pirmajā lasījumā | G1: Priekšlikums par izmaiņām | H1: Priekšlikums MK atzinumam
B4: 22. Kultūras ministrija
B6: likumprojektam "Par valsts budžetu 2022.gadam"
A8: =TM!A8+1 -> 19 | B8: Valsts budžeta ieņēmumi | E8: 74. Gadskārtējā valsts budžeta izpildes procesā pārdalāmais finansējums | H8: Atbalstīt
B9: 2.pielikums | E9: 4.pielikums
B10: Valsts pamatbudžeta ieņēmumi | E10: 01.00.00 Apropriācijas rezerve
B11: Pievienotās vērtības nodoklis | C11: 3067525000 | D11: -1470872 | E11: Resursi izdevumu segšanai | F11: 42492373 | G11: -1470872
E12: Dotācija no vispārējiem ieņēmumiem | F12: 42492373 | G12: -1470872
E13: Vispārējā kārtībā sadalāmā dotācija no vispārējiem ieņēmumiem | F13: 42492373 | G13: -1470872
E14: Izdevumi – kopā | F14: 42492373 | G14: -1470872
E15: Uzturēšanas izdevumi | F15: 42492373 | G15: -1470872
E16: Subsīdijas, dotācijas, sociālie maksājumi un kompensācijas | F16: 42492373 | G16: -1470872
E17: Subsīdijas un dotācijas | F17: 42492373 | G17: -1470872
B20: Samazinot PNV likmi e-grāmatām, laikrakstiem un periodiskiem e-izdevumi un mediju saturam digitālajā formāta no 21% uz 5% veidojas ietekme uz valsts budžetu 1 470 872 euro, t.sk., par e-grāmatām 313 000 euro; laikrakstiem un periodiskiem e-izdevumi 1 000 000 euro; mediju saturam digitālajā formāta 157 872 euro.
B22: likumprojektam "Par vidēja termiņa budžeta ietvaru 2022., 2023. un 2024.gadam"
A24: =A8 -> 19 | B24: Valsts budžeta ieņēmumi | E24: 74. Gadskārtējā valsts budžeta izpildes procesā pārdalāmais finansējums | H24: Atbalstīt
B25: 2.pielikums | E25: 3.pielikums
E26: I. Valsts pamatfunkciju īstenošana
B27: 2022.gads | E27: 2022.gads
B28: Pievienotās vērtības nodoklis | C28: 3067525000 | D28: -1470872 | E28: Resursi izdevumu segšanai | F28: 261972494 | G28: -1470872
E29: Dotācija no vispārējiem ieņēmumiem | F29: 261972494 | G29: -1470872
E30: Vispārējā kārtībā sadalāmā dotācija no vispārējiem ieņēmumiem | F30: 261972494 | G30: -1470872
E31: Izdevumi – kopā | F31: 261972494 | G31: -1470872
E32: Uzturēšanas izdevumi | F32: 261972494 | G32: -1470872
E33: Subsīdijas, dotācijas, sociālie maksājumi un kompensācijas | F33: 261972494 | G33: -1470872
E34: Subsīdijas un dotācijas | F34: 261972494 | G34: -1470872
B35: 2023.gads | E35: 2023.gads
B36: Pievienotās vērtības nodoklis | C36: 3291845000 | D36: -1470872 | E36: Resursi izdevumu segšanai | F36: 132658291 | G36: -1470872
E37: Dotācija no vispārējiem ieņēmumiem | F37: 132658291 | G37: -1470872
E38: Vispārējā kārtībā sadalāmā dotācija no vispārējiem ieņēmumiem | F38: 132658291 | G38: -1470872
E39: Izdevumi – kopā | F39: 132658291 | G39: -1470872
E40: Uzturēšanas izdevumi | F40: 132658291 | G40: -1470872
E41: Subsīdijas, dotācijas, sociālie maksājumi un kompensācijas | F41: 132658291 | G41: -1470872
E42: Subsīdijas un dotācijas | F42: 132658291 | G42: -1470872
B43: 2024.gads | E43: 2024.gads
B44: Pievienotās vērtības nodoklis | C44: 3493587000 | D44: -1470872 | E44: Resursi izdevumu segšanai | F44: 134741730 | G44: -1470872
E45: Dotācija no vispārējiem ieņēmumiem | F45: 134741730 | G45: -1470872
E46: Vispārējā kārtībā sadalāmā dotācija no vispārējiem ieņēmumiem | F46: 134741730 | G46: -1470872
E47: Izdevumi – kopā | F47: 134741730 | G47: -1470872
E48: Uzturēšanas izdevumi | F48: 134741730 | G48: -1470872
...

Sheet VM
C1: Pieņemts pirmajā lasījumā | D1: Priekšlikums par izmaiņām | F1: Pieņemts pirmajā lasījumā | G1: Priekšlikums par izmaiņām | H1: Priekšlikums MK atzinumam
B4: 29. Veselības ministrija
B6: likumprojektam "Par valsts budžetu 2022.gadam"
A8: =KM!A8+1 -> 20 | E8: 29. Veselības ministrija | H8: Atbalstīt
B9: 2.pielikums | E9: 4.pielikums
B10: 2022.gads | E10: 39.03.00 Asins un asins komponentu nodrošināšana
B11: Pievienotās vērtības nodoklis | C11: 3067525000 | D11: =G11 -> 231284 | E11: Resursi izdevumu segšanai | F11: =F12+F13 -> 10562548 | G11: =G12+G13 -> 231284
E12: Ieņēmumi no maksas pakalpojumiem un citi pašu ieņēmumi | F12: 99977
E13: Dotācija no vispārējiem ieņēmumiem | F13: =F14 -> 10462571 | G13: =G14 -> 231284
E14: Vispārējā kārtībā sadalāmā dotācija no vispārējiem ieņēmumiem | F14: 10462571 | G14: =G15 -> 231284
E15: Izdevumi - kopā | F15: =F16+F24 -> 10562548 | G15: =G16+G24 -> 231284
E16: Uzturēšanas izdevumi | F16: =F17 -> 9313522 | G16: =G17+G20 -> 231284
E17: Kārtējie izdevumi | F17: =F18+F19 -> 9313522 | G17: =G18+G19 -> 231284
E18: Atlīdzība | F18: 4138568
E19: Preces un pakalpojumi | F19: 5174954 | G19: 231284
E20: Transferti viena budžeta veida ietvaros un uzturēšanas izdevumu transferti starp budžeta veidiem | G20: =G21 -> 0
E21: Valsts budžeta transferti un uzturēšanas izdevumu transferti | G21: =G22 -> 0
E22: Valsts budžeta transferti no valsts pamatbudžeta uz valsts pamatbudžetu | G22: =G23 -> 0
E23: Valsts budžeta transferti no valsts pamatbudžeta dotācijas no vispārējiem ieņēmumiem uz valsts pamatbudžetu | G23: 0
E24: Kapitālie izdevumi | F24: =F25 -> 1249026
E25: Pamatkapitāla veidošana | F25: 1249026
B26: Palielināti izdevumi atbilstoši pievienotās vērtības nodokļa ieņēmumu pieaugumam Veselības ministrijas pamatbudžeta apakšprogrammā 39.03.00 “Asins un asins komponentu nodrošināšana” 231 284 euro apmērā, lai Valsts asinsdonoru centram nodrošinātu Latvijas Republikas Senāta 2021.gada 22.marta sprieduma administratīvajā lietā Nr.A420143317 (SKA-123/2021) izpildei nepieciešamo finansējumu pievienotās vērtības nodokļa likmes pieaugumam (MK 26.10.2021. sēdes prot. Nr.72 45.§ 8.punkts).
B28: likumprojektam „Par vidēja termiņa budžeta ietvaru 2022., 2023. un 2024.gadam”
A30: =A8 -> 20 | E30: 29. Veselības ministrija | H30: Atbalstīt
B31: 2.pielikums | E31: 3.pielikums
B32: 2022.gads | E32: I. Valsts pamatfunkciju īstenošana
B33: Pievienotās vērtības nodoklis | E33: 2022.gads
C34: 3067525000 | D34: =G34 -> 231284 | E34: Resursi izdevumu segšanai | F34: =F35+F37 -> 1510198632 | G34: =G35+G38+G47 -> 231284
E35: Ieņēmumi no maksas pakalpojumiem un citi pašu ieņēmumi | F35: 15086477
E36: Dotācija no vispārējiem ieņēmumiem | F36: =F37 -> 1495112155 | G36: =G37 -> 231284
E37: Vispārējā kārtībā sadalāmā dotācija no vispārējiem ieņēmumiem | F37: 1495112155 | G37: =G38 -> 231284
E38: Izdevumi - kopā | F38: =F39+F55 -> 1.4834278e+09 | G38: =G39+G55 -> 231284
E39: Uzturēšanas izdevumi | F39: =F40+F43+F48+F46 -> 1.4749812e+09 | G39: =G40+G43+G48+G46 -> 231284
E40: Kārtējie izdevumi | F40: =F41+F42 -> 1.3612526e+08 | G40: =G41+G42 -> 231284
E41: Atlīdzība | F41: 115052951
E42: Preces un pakalpojumi | F42: 21072313 | G42: 231284
E43: Subsīdijas, dotācijas, sociālie maksājumi un kompensācijas | F43: =F44+F45 -> 1.2799006e+09
E44: Subsīdijas un dotācijas | F44: 1.2780292e+09
E45: Sociālā rakstura maksājumi un kompensācijas | F45: 1871386
E46: Kārtējie maksājumi Eiropas Savienības budžetā un starptautiskā sadarbība | F46: =F47 -> 381341
...

Sheet 62.res
C1: Pieņemts pirmajā lasījumā | D1: Priekšlikums par izmaiņām | F1: Pieņemts pirmajā lasījumā | G1: Priekšlikums par izmaiņām | H1: Priekšlikums MK atzinumam
B4: 62.resors "Mērķdotācijas pašvaldībām" (15. Izglītības un zinātnes ministrija)
B6: likumprojektam "Par valsts budžetu 2022.gadam"
A8: =VM!A456+1 -> 25 | B8: 62.resors "Mērķdotācijas pašvaldībām" | E8: 62.resors "Mērķdotācijas pašvaldībām" | H8: Atbalstīt
B9: 4.pielikums | E9: 4.pielikums
B10: 01.00.00. "Mērķdotācijas izglītības pasākumiem" | E10: 05.00.00. "Mērķdotācijas pašvaldībām – pašvaldību izglītības iestāžu pedagogu darba samaksai un valsts sociālās apdrošināšanas obligātajām iemaksām"
B11: Resursi izdevumu segšanai | C11: 57454704 | D11: -350662 | E11: Resursi izdevumu segšanai | F11: 327365811 | G11: 350662
B12: Dotācija no vispārējiem ieņēmumiem | C12: 57454704 | D12: -350662 | E12: Dotācija no vispārējiem ieņēmumiem | F12: 327365811 | G12: 350662
B13: Vispārējā kārtībā sadalāmā dotācija no vispārējiem ieņēmumiem | C13: 57454704 | D13: -350662 | E13: Vispārējā kārtībā sadalāmā dotācija no vispārējiem ieņēmumiem | F13: 327365811 | G13: 350662
B14: Izdevumi – kopā | C14: 57454704 | D14: -350662 | E14: Izdevumi – kopā | F14: 327365811 | G14: 350662
B15: Uzturēšanas izdevumi | C15: 57454704 | D15: -350662 | E15: Uzturēšanas izdevumi | F15: 327365811 | G15: 350662
