Workbook
Name _bkm2: '6piel'!#REF!

Sheet proj2022_ietvars2024 tekstam
B1: Ministriju un citu centrālo valsts iestāžu priekšlikumi
B2: likumprojekta "Par valsts budžetu 2022.gadam" un likumprojekta "Par vidēja termiņa budžeta ietvaru 2022., 2023. un 2024.gadam" izskatīšanai Saeimā otrajā lasījumā
D4: Priekšlikums MK atzinumam
B5: Pieņemts pirmajā lasījumā | C5: Priekšlikumi 2.lasījumam
B7: Par likumprojekta "Par valsts budžetu 2022.gadam" teksta daļu:
B9: 15. Izglītības un zinānes ministrija
A10: =1 -> 1 | B10: 3.pants. (1) Apstiprināt mērķdotāciju apjomu pašvaldībām 431 222 629 euro apmērā, tai skaitā: | C10: Izteikt likumprojekta 3.panta pirmo daļu šādā redakcijā: "3.pants. (1) Apstiprināt mērķdotāciju apjomu pašvaldībām 430 177 616 euro apmērā, tajā skaitā: | D10: Atbalstīt
B11: 1) pašvaldību pamata un vispārējās vidējās izglītības iestāžu, pašvaldību speciālās izglītības iestāžu, pašvaldību profesionālās izglītības iestāžu un daļējai interešu izglītības programmu pedagogu darba samaksai un valsts sociālās apdrošināšanas obligātajām iemaksām 327 365 811 euro apmērā saskaņā ar 6. un 7. pielikumu; | C11: 1) pašvaldību pamata un vispārējās vidējās izglītības iestāžu, pašvaldību speciālās izglītības iestāžu, pašvaldību profesionālās izglītības iestāžu un daļējai interešu izglītības programmu pedagogu darba samaksai un valsts sociālās apdrošināšanas obligātajām iemaksām 327 716 473 euro apmērā saskaņā ar 6. un 7. pielikumu;
B12: 2) pašvaldību speciālo pirmsskolas izglītības grupu pedagogu darba samaksai un valsts sociālās apdrošināšanas obligātajām iemaksām, speciālajām izglītības iestādēm, kas nodrošina internāta pakalpojumus, 57 454 704 euro apmērā saskaņā ar 8. pielikumu; | C12: 2) pašvaldību speciālo pirmsskolas izglītības grupu pedagogu darba samaksai un valsts sociālās apdrošināšanas obligātajām iemaksām, speciālajām izglītības iestādēm, kas nodrošina internāta pakalpojumus, 55 629 175 euro apmērā saskaņā ar 8. pielikumu;
B13: 3) pašvaldību izglītības iestādēs bērnu no piecu gadu vecuma izglītošanā nodarbināto pedagogu darba samaksai un valsts sociālās apdrošināšanas obligātajām iemaksām 45 423 634 euro apmērā saskaņā ar 9. pielikumu; | C13: 3) pašvaldību izglītības iestādēs bērnu no piecu gadu vecuma izglītošanā nodarbināto pedagogu darba samaksai un valsts sociālās apdrošināšanas obligātajām iemaksām 45 853 488 euro apmērā saskaņā ar 9. pielikumu;
B14: 4) māksliniecisko kolektīvu vadītāju darba samaksai un valsts sociālās apdrošināšanas obligātajām iemaksām 978 480 euro apmērā saskaņā ar 10. pielikumu. | C14: 4) māksliniecisko kolektīvu vadītāju darba samaksai un valsts sociālās apdrošināšanas obligātajām iemaksām 978 480 euro apmērā saskaņā ar 10. pielikumu.
B15: Priekšlikums paredz precizēt likumprojekta "Par valsts budžetu 2022.gadam" 3.panta pirmo daļu, lai nodrošinātu pedagogu darba samaksu 2022.gadā un turpmāk, ņemot vērā pedagogu minimālās algas likmes palielināšanu līdz 830 euro un pirmskolas pedagogu minimālās algas likmes palielināšanu līdz 872 euro ar 2021.gada 1.septembri un izglītojamo skaita uz 2021.gada 1.septembri izmaiņu ietekmi (MK 05.10.2021. sēdes prot. Nr.66 28.§ 3.punkts).
B17: 13. Finanšu ministrija
A18: =A10+1 -> 2 | B18: 4. pants. Apstiprināt valsts budžeta dotāciju pašvaldībām 187 190 543 euro apmērā, tai skaitā: | C18: Izteikt likumprojekta 4.pantu šādā redakcijā: "4. pants. Apstiprināt valsts budžeta dotāciju pašvaldībām 188 059 821 euro apmērā, tai skaitā: | D18: Atbalstīt
B19: 1) pašvaldību finanšu izlīdzināšanas fondam 81 087 932 euro apmērā; | C19: 1) pašvaldību finanšu izlīdzināšanas fondam 81 087 932 euro apmērā;
B20: 2) budžeta dotāciju 105 497 811 euro apmērā, kura tiek integrēta pašvaldību finanšu izlīdzināšanas sistēmā pēc iedzīvotāju ienākuma nodokļa sadales principiem. Ministru kabinets nosaka kārtību, kādā pašvaldībām piešķir budžeta dotāciju; | C20: 2) budžeta dotāciju 105 497 811 euro apmērā, kura tiek integrēta pašvaldību finanšu izlīdzināšanas sistēmā pēc iedzīvotāju ienākuma nodokļa sadales principiem. Ministru kabinets nosaka kārtību, kādā pašvaldībām piešķir budžeta dotāciju;
B21: 3) pašvaldībām par iemītniekiem veco ļaužu pansionātos un centros (par vienu iemītnieku 7200 euro), kuri tajos ievietoti līdz 1998. gada 1. janvārim, 604 800 euro apmērā. Ministru kabinets nosaka kārtību, kādā pašvaldībām piešķir valsts budžeta dotāciju. | C21: 3) pašvaldībām par iemītniekiem veco ļaužu pansionātos un centros (par vienu iemītnieku 7200 euro), kuri tajos ievietoti līdz 1998. gada 1. janvārim, 604 800 euro apmērā. Ministru kabinets nosaka kārtību, kādā pašvaldībām piešķir valsts budžeta dotāciju;
C22: 4) budžeta dotāciju 869 278 euro apmērā pamatojoties uz Ministru kabineta rīkojumu piešķiršanai pašvaldībām, kurām izlīdzinātie ieņēmumi uz vienu iedzīvotāju ir zemāki par 800 euro un izlīdzināto ieņēmumu pieaugums, salīdzinot ar 2021. gadu, ir mazāks par pašvaldību vidējo izlīdzināto ieņēmumu pieaugumu (3,1%), ar nosacījumu, ka šīm pašvaldībām tiek nodrošināti izlīdzinātie ieņēmumi ne mazāk kā 2021. gadā, iekļaujot Covid-19 izraisītās krīzes pārvarēšanas un seku novēršanas pasākumu īstenošanai 2021. gadā piešķirto finansējumu."
B23: Priekšlikums paredz papildināt likumprojekta "Par valsts budžetu 2022.gadam" 4.pantu ar 4.punktu, lai nodrošinātu valsts budžeta dotācijas piešķiršanu pašvaldībām, kurām izlīdzinātie ieņēmumi uz vienu iedzīvotāju ir zemāki par 800 euro un izlīdzināto ieņēmumu pieaugums, salīdzinot ar 2021. gadu, ir mazāks par pašvaldību vidējo izlīdzināto ieņēmumu pieaugumu (3,1%), ar nosacījumu, ka šīm pašvaldībām tiek nodrošināti izlīdzinātie ieņēmumi ne mazāk kā 2021. gadā, iekļaujot Covid-19 izraisītās krīzes pārvarēšanas un seku novēršanas pasākumu īstenošanai 2021. gadā piešķirto finansējumu. (MK 11.10.2021, sēdes prot. Nr.68 1.§ 2.3.apakšpunkts).
B25: 12. Ekonomikas ministrija
A26: =A18+1 -> 3 | B26: 27. pants. Noteikt, ka akciju sabiedrība “Latvenergo” ieskaita valsts pamatbudžeta ieņēmumos dividenžu maksājumu 2022. gadā (par 2021. pārskata gadu) 64 procentu apmērā no pārskata gada peļņas, bet ne mazāk kā 70 160 000 euro, uzņēmumu ienākuma nodokli aprēķinot un nomaksājot uzņēmumu ienākuma nodokli regulējošos normatīvos aktos noteiktajā kārtībā. | C26: Izteikt likumprojekta 27.pantu šādā redakcijā: "27. pants. Noteikt, ka akciju sabiedrība “Latvenergo” ieskaita valsts pamatbudžeta ieņēmumos dividenžu maksājumu, kas atbilst 64 procentiem no 2021. pārskata gada peļņas, bet ne mazāk kā 70 160 000 euro, uzņēmumu ienākuma nodokli aprēķinot un nomaksājot uzņēmumu ienākuma nodokli regulējošos normatīvos aktos noteiktajā kārtībā. Lai nodrošinātu minimāli izmaksājamo dividenžu apmēru 2022. gadā, nepieciešamības gadījumā to var veikt arī no 2022. gada pirmā pusgada starpperiodu pārskata peļņas ar nosacījumu, ka, balstoties uz pusgada starpperiodu pārskata rezultātiem un prognozēm par Latvenergo darbību, netiek radīta negatīva ietekmes uz vispārējās valdības budžeta bilanci 2023.gadā." | D26: Neatbalstīt
B27: Priekšlikums paredz precizēt likumprojektā "Par valsts budžetu 2022.gadam" iekļauto 27.pantu, lai samazinātu riskus valsts budžetā paredzēto akciju sabiedrības “Latvenergo” dividenžu izmaksai 2022.gadā, paredzot papildus iespēju dividenžu izmaksu veikt arī no 2022.gada 6 mēnešu auditētās starp periodu peļņas.
B29: 13. Finanšu ministrija
A30: =A26+1 -> 4 | B30: 29.pants. Noteikt, ka akciju sabiedrība “Augstsprieguma tīkls” ieskaita valsts pamatbudžeta ieņēmumos dividenžu maksājumu 2022. gadā (par 2021. pārskata gadu) 64 procentu apmērā no pārskata gada peļņas, bet ne mazāk kā 10 314 534 euro, uzņēmumu ienākuma nodokli aprēķinot un nomaksājot uzņēmumu ienākuma nodokli regulējošos normatīvos aktos noteiktajā kārtībā. | C30: Izteikt likumprojekta 29. pantu šādā redakcijā: "29.pants. Noteikt, ka akciju sabiedrība “Augstsprieguma tīkls” ieskaita valsts pamatbudžeta ieņēmumos dividenžu maksājumu 2022. gadā (par 2021. pārskata gadu) 50 procentu apmērā no akciju sabiedrības ''Augstsprieguma tīkls'' pārskata gada peļņas, bet ne mazāk kā 29 143 118 euro, uzņēmumu ienākuma nodokli aprēķinot un nomaksājot uzņēmumu ienākuma nodokli regulējošos normatīvos aktos noteiktajā kārtībā." | D30: Atbalstīt
B31: Ņemot vērā “Augstsprieguma tīkls” prognozētās peļņas apmēru, 2022.gadā nepieciešams palielināt ieņēmumu prognozi no “Augstsprieguma tīkls” maksājuma par valsts kapitāla izmantošanu.
B33: 13. Finanšu ministrija
A34: =A30+1 -> 5 | B34: 54.pants. Finanšu ministram ir tiesības palielināt šajā likumā noteikto apropriāciju budžeta resora “74. Gadskārtējā valsts budžeta izpildes procesā pārdalāmais finansējums” programmā 02.00.00 “Līdzekļi neparedzētiem gadījumiem” ar Covid-19 izplatību saistītā valsts apdraudējuma un tā seku novēršanas un pārvarēšanas pasākumiem un vienreizējām valsts budžeta investīcijām, un paplašināt valdības rīcības pieļaujamās robežas valdības saistību izpildei, ja ir pieņemts attiecīgs Ministru kabineta lēmums un Saeimas Budžeta un finanšu (nodokļu) komisija piecu darba dienu laikā no attiecīgās informācijas saņemšanas dienas ir to izskatījusi un nav iebildusi pret apropriācijas palielinājumu. | C34: Izteikt likumprojekta 54.pantu šādā redakcijā: "54.pants. Finanšu ministram ir tiesības palielināt šajā likumā noteikto apropriāciju budžeta resora “74. Gadskārtējā valsts budžeta izpildes procesā pārdalāmais finansējums” programmā 02.00.00 “Līdzekļi neparedzētiem gadījumiem” ar Covid-19 izplatību saistītā valsts apdraudējuma un tā seku novēršanas un pārvarēšanas pasākumiem un vienreizējām valsts budžeta investīcijām, palielināt 8.pantā noteikto maksimālo valsts parādu 2022.gada beigās un paplašināt valdības rīcības pieļaujamās robežas valdības saistību izpildei, ja ir pieņemts attiecīgs Ministru kabineta lēmums un Saeimas Budžeta un finanšu (nodokļu) komisija piecu darba dienu laikā no attiecīgās informācijas saņemšanas dienas ir to izskatījusi un nav iebildusi pret apropriācijas palielinājumu." | D34: Atbalstīt
B35: Palielinot izdevumus budžeta resora “74. Gadskārtējā valsts budžeta izpildes procesā pārdalāmais finansējums” programmā 02.00.00 “Līdzekļi neparedzētiem gadījumiem” atbilstoši likumprojekta “Par valsts budžetu 2022.gadam” 54.pantam, pieaug valsts budžeta deficīts, izraisot arī valsts parāda pieaugumu, ja valsts budžeta deficīta finansēšanai ir nepieciešams veikt aizņemšanās pasākumus. Līdz ar to priekšlikums paredz precizēt likumprojekta “Par valsts budžetu 2022.gadam” 54.panta redakciju, paredzot finanšu ministra tiesības vienlaicīgi ar apropriācijas palielināšanu budžeta resora “74. Gadskārtējā valsts budžeta izpildes procesā pārdalāmais finansējums” programmā 02.00.00 “Līdzekļi neparedzētiem gadījumiem” ar Covid-19 izplatību saistītā valsts apdraudējuma un tā seku novēršanas un pārvarēšanas pasākumiem un vienreizējām valsts budžeta investīcijām palielināt arī maksimālo valsts parāda apjomu 2022.gada beigās.
B37: 29. Veselības ministrija
A38: =A34+1 -> 6 | C38: Papildināt likumprojektu ar jaunu pantu šādā redakcijā: "__.pants. Finanšu ministram ir tiesības budžeta resora "74. Gadskārtējā valsts budžeta izpildes procesā pārdalāmais finansējums" programmā 08.00.00 "Veselības aprūpes sistēmas reformas ieviešanas finansējums" rezervēto finansējumu 10 070 713 euro apmērā pārdalīt Veselības ministrijai, lai atbilstoši Latvijas Republikas Senāta 2021.gada 22.marta spriedumam administratīvajā lietā Nr.A420143317 (SKA-123/2021) nodrošinātu pievienotās vērtības nodokļa likmes pieauguma segšanu, ja ir pieņemts attiecīgs Ministru kabineta lēmums un Saeimas Budžeta un finanšu (nodokļu) komisija piecu darba dienu laikā no attiecīgās informācijas saņemšanas dienas nav iebildusi pret apropriācijas pārdali.” | D38: Atbalstīt
B39: Priekšlikums paredz likumprojektā "Par valsts budžetu 2022.gadam" iekļaut jaunu pantu, lai nodrošinātu Latvijas Republikas Senāta 2021.gada 22.marta sprieduma administratīvajā lietā Nr.A420143317 (SKA-123/2021) izpildei nepieciešamo finansējumu pievienotās vērtības nodokļa likmes pieaugumam (MK 26.10.2021. sēdes prot. Nr.72 45.§ 7.punkts).
B41: 13. Finanšu ministrija
A42: =A38+1 -> 7 | C42: Kopsavilkuma skaitļus likumprojekta tekstā un pielikumos precizēt pēc balsojumiem par konkrētām pielikumu pozīcijām. | D42: Atbalstīt
B45: Par likumprojekta "Par vidēja termiņa budžeta ietvaru 2022., 2023. un 2024.gadam" teksta daļu:
B48: 12. Ekonomikas ministrija
A49: 1 | B49: 20. pants. Noteikt, ka akciju sabiedrība "Latvenergo" ieskaita valsts pamatbudžeta ieņēmumos dividenžu maksājumu 2022. gadā (par 2021. pārskata gadu) 64 procentu apmērā no pārskata gada peļņas, bet ne mazāk kā 70 160 000 euro un 2023. gadā (par 2022. pārskata gadu) 64 procentu apmērā no pārskata gada peļņas, bet ne mazāk kā 56 763 546 euro, uzņēmumu ienākuma nodokli aprēķinot un nomaksājot uzņēmumu ienākuma nodokli regulējošos normatīvos aktos noteiktajā kārtībā. | C49: Izteikt likumprojekta 20.pantu šādā redakcijā: "20. pants. Noteikt, ka akciju sabiedrība “Latvenergo” ieskaita valsts pamatbudžeta ieņēmumos dividenžu maksājumu, kas atbilst 64 procentiem no 2021. pārskata gada peļņas, bet ne mazāk kā 70 160 000 euro, lai nodrošinātu minimāli izmaksājamo dividenžu apmēru 2022. gadā, nepieciešamības gadījumā to var veikt arī no 2022. gada pirmā pusgada starpperiodu pārskata peļņas ar nosacījumu, ka, balstoties uz pusgada starpperiodu pārskata rezultātiem un prognozēm par Latvenergo darbību, netiek radīta negatīva ietekmes uz vispārējās valdības budžeta bilanci 2023.gadā, un 2023. gadā (par 2022. pārskata gadu) 64 procentu apmērā no pārskata gada peļņas, bet ne mazāk kā 56 763 546 euro, uzņēmumu ienākuma nodokli aprēķinot un nomaksājot uzņēmumu ienākuma nodokli regulējošos normatīvos aktos noteiktajā kārtībā." | D49: Neatbalstīt
B50: Priekšlikums paredz precizēt likumprojektā "Par vidēja termiņa budžeta ietvaru 2022., 2023. un 2024.gadam" iekļauto 20.pantu, lai samazinātu riskus valsts budžetā paredzēto akciju sabiedrības “Latvenergo” dividenžu izmaksai 2022.gadā, paredzot papildus iespēju dividenžu izmaksu veikt arī no 2022.gada 6 mēnešu auditētās starp periodu peļņas.
B52: 13. Finanšu ministrija
A53: =A49+1 -> 2 | B53: 22.pants. Noteikt, ka akciju sabiedrība "Augstsprieguma tīkls" ieskaita valsts pamatbudžeta ieņēmumos dividenžu maksājumu 2022. gadā (par 2021. pārskata gadu) 64 procentu apmērā no pārskata gada peļņas, bet ne mazāk kā 10 314 534 euro un 2023. gadā (par 2022. pārskata gadu) 64 procentu apmērā no pārskata gada peļņas, bet ne mazāk kā 11 628 557 euro, uzņēmumu ienākuma nodokli aprēķinot un nomaksājot uzņēmumu ienākuma nodokli regulējošos normatīvos aktos noteiktajā kārtībā. | C53: Izteikt likumprojekta 22.pantu šādā redakcijā: "22.pants. Noteikt, ka akciju sabiedrība “Augstsprieguma tīkls” ieskaita valsts pamatbudžeta ieņēmumos dividenžu maksājumu 2022. gadā (par 2021. pārskata gadu) 50 procentu apmērā no akciju sabiedrības ''Augstsprieguma tīkls'' pārskata gada peļņas, bet ne mazāk kā 29 143 118 euro un 2023. gadā (par 2022. pārskata gadu) 64 procentu apmērā no pārskata gada peļņas, bet ne mazāk kā 11 628 557 euro, uzņēmumu ienākuma nodokli aprēķinot un nomaksājot uzņēmumu ienākuma nodokli regulējošos normatīvos aktos noteiktajā kārtībā." | D53: Atbalstīt
B54: Ņemot vērā “Augstsprieguma tīkls” prognozētās peļņas apmēru, 2022.gadā nepieciešams palielināt ieņēmumu prognozi no “Augstsprieguma tīkls” maksājuma par valsts kapitāla izmantošanu.
B56: 13. Finanšu ministrija
A57: =A53+1 -> 3 | C57: Papildināt likumprojektu ar jaunu 26.pantu šādā redakcijā: "26.pants. (1) Ministru kabinets izveido atbilstošu uzraudzības kārtību no Brexit korekcijas rezerves finansēto pasākumu īstenošanai atbilstoši Eiropas Parlamenta un Padomes 2021. gada 6. oktobra regulas (ES) Nr. 2021/1755, ar ko izveido Brexit korekcijas rezervi noteikumiem. (2) Ministru kabinets nosaka Brexit korekcijas rezerves finansēto pasākumu īstenošanas un uzraudzības kārtību un nepieciešamās informācijas sistēmas izveides un izmantošanas kārtību, kā arī šā mehānisma ieviešanā iesaistīto institūciju tiesības pieprasīt un saņemt tiešu pieeju datiem valsts informācijas sistēmās tādā apjomā, kāds nepieciešams un kādā to paredz Ministru kabinets attiecīgo pienākumu izpildei." | D57: Atbalstīt
B58: 2021.gada 8.oktobrī ir stājusies spēkā Eiropas Parlamenta un Padomes regula (ES) 2021/1755 (2021. gada 6. oktobris), ar kuru izveidota Brexit korekcijas rezerve. Lai nodrošinātu Brexit korekcijas rezerves vadību Latvijā 2022.- 2024.gada periodā, nepieciešams delēģējums Ministru Kabinetam.
B60: 13. Finanšu ministrija
A61: =A57+1 -> 4 | C61: Kopsavilkuma skaitļus likumprojekta tekstā un pielikumos precizēt pēc balsojumiem par konkrētām pielikumu pozīcijām. | D61: Atbalstīt

Sheet VPK
C1: Pieņemts pirmajā lasījumā | D1: Priekšlikums par izmaiņām | F1: Pieņemts pirmajā lasījumā | G1: Priekšlikums par izmaiņām | H1: Priekšlikums MK atzinumam
B4: Par likumprojekta "Par valsts budžetu 2022.gadam" un likumprojekta „Par vidēja termiņa budžeta ietvaru 2022., 2023. un 2024.gadam” skaitlisko daļu:
B6: Sadalījumā pa budžeta resoriem
B8: 01. Valsts prezidenta kanceleja
B9: Ierosināts pārdalīt no (-)/ uz (+): | E9: Atbalstīt pārdali no (-)/ uz (+):
B10: 02.00.00 Līdzekļi neparedzētiem gadījumiem | E10: 02.00.00 Līdzekļi neparedzētiem gadījumiem
B11: 2022.gadā | C11: 54338675 | D11: =G20 -> 183921 | E11: 2022.gadā | F11: 54338675 | G11: =D11 -> 183921
B12: 2023.gadā | C12: 19240528 | E12: 2023.gadā | F12: 19240528 | G12: =D12 -> 0
B13: 2024.gadā | C13: 99084581 | E13: 2024.gadā | F13: 99084581 | G13: =D13 -> 0
B15: likumprojektam "Par valsts budžetu 2022.gadam"
A17: 1 | B17: 01. Valsts prezidenta kanceleja | E17: 74. Gadskārtējā valsts budžeta izpildes procesā pārdalāmais finansējums | H17: Atbalstīt
B18: 4.pielikums | E18: 4.pielikums
B19: 04.00.00 Valsts prezidenta darbības nodrošināšana | E19: 02.00.00 Līdzekļi neparedzētiem gadījumiem
B20: Resursi izdevumu segšanai | C20: =C21 -> 6783340 | D20: =D21 -> -183921 | E20: Resursi izdevumu segšanai | F20: =F21 -> 54338675 | G20: =G21 -> 183921
B21: Dotācija no vispārējiem ieņēmumiem | C21: =C22 -> 6783340 | D21: =D22 -> -183921 | E21: Dotācija no vispārējiem ieņēmumiem | F21: =F22 -> 54338675 | G21: =G22 -> 183921
B22: Vispārējā kārtībā sadalāmā dotācija no vispārējiem ieņēmumiem | C22: 6783340 | D22: -183921 | E22: Vispārējā kārtībā sadalāmā dotācija no vispārējiem ieņēmumiem | F22: 54338675 | G22: 183921
B23: Izdevumi – kopā | C23: =C24++C35 -> 6783340 | D23: =D24++D35 -> -183921 | E23: Izdevumi – kopā | F23: =F24 -> 54338675 | G23: =G24 -> 183921
B24: Uzturēšanas izdevumi | C24: =C25+C28+C31 -> 6478637 | D24: =D25+D28+D31 -> 0 | E24: Uzturēšanas izdevumi | F24: =F25 -> 54338675 | G24: =G25 -> 183921
B25: Kārtējie izdevumi | C25: =C26+C27 -> 6219945 | D25: =D26+D27 -> 0 | E25: Subsīdijas, dotācijas, sociālie maksājumi un kompensācijas | F25: =F26 -> 54338675 | G25: =G26 -> 183921
B26: Atlīdzība | C26: 2599744 | E26: Subsīdijas un dotācijas | F26: 54338675 | G26: 183921
B27: Preces un pakalpojumi | C27: 3620201
B28: Subsīdijas, dotācijas, sociālie maksājumi un kompensācijas | C28: =C29+C30 -> 238592 | D28: =D29+D30 -> 0
B29: Subsīdijas un dotācijas | C29: 24500
B30: Sociāla rakstura maksājumi un kompensācijas | C30: 214092
B31: Transferti viena budžeta veida ietvaros un uzturēšanas izdevumu transferti starp budžeta veidiem | C31: =C32 -> 20100 | D31: =D32 -> 0
B32: Valsts budžeta transferti un uzturēšanas izdevumu transferti | C32: =C33 -> 20100 | D32: =D33 -> 0
B33: Valsts budžeta transferti no valsts pamatbudžeta uz valsts pamatbudžetu | C33: =C34 -> 20100 | D33: =D34 -> 0
B34: Valsts budžeta transferti no valsts pamatbudžeta dotācijas no vispārējiem ieņēmumiem uz valsts pamatbudžetu | C34: 20100
B35: Kapitālie izdevumi | C35: =C36 -> 304703 | D35: =D36 -> -183921
B36: Pamatkapitāla veidošana | C36: 304703 | D36: -183921
B37: Prioritārajam pasākumam "Koncertflīģeļa iegāde Rīgas pils Svētku zālei " piešķirtā finansējuma pārdale uz budžeta resora “74.Gadzkārtējā valsts budžeta izpildes procesā pārdalamais finansējums” programmu 02.00.00 "Līdzekļi neparedzētiem gadījumiem"
B39: likumprojektam "Par vidēja termiņa budžeta ietvaru 2022., 2023. un 2024.gadam"
A41: =A17 -> 1 | B41: 01. Valsts prezidenta kanceleja | E41: 74. Gadskārtējā valsts budžeta izpildes procesā pārdalāmais finansējums | H41: Atbalstīt
B42: 3.pielikums | E42: 3.pielikums
B43: I. Valsts pamatfunkciju īstenošana | E43: I. Valsts pamatfunkciju īstenošana
B44: 2022.gads | E44: 2022.gads
B45: Resursi izdevumu segšanai | C45: =C46 -> 6783340 | D45: =D46 -> -183921 | E45: Resursi izdevumu segšanai | F45: =F46 -> 261972494 | G45: =G46 -> 183921
B46: Dotācija no vispārējiem ieņēmumiem | C46: =C47 -> 6783340 | D46: =D47 -> -183921 | E46: Dotācija no vispārējiem ieņēmumiem | F46: =F47 -> 261972494 | G46: =G47 -> 183921
B47: Vispārējā kārtībā sadalāmā dotācija no vispārējiem ieņēmumiem | C47: 6783340 | D47: -183921 | E47: Vispārējā kārtībā sadalāmā dotācija no vispārējiem ieņēmumiem | F47: 261972494 | G47: 183921
B48: Izdevumi – kopā | C48: =C49++C60 -> 6783340 | D48: =D49++D60 -> -183921 | E48: Izdevumi – kopā | F48: =F49 -> 261972494 | G48: =G49 -> 183921
B49: Uzturēšanas izdevumi | C49: =C50+C53+C56 -> 6478637 | D49: =D50+D53+D56 -> 0 | E49: Uzturēšanas izdevumi | F49: =F50 -> 261972494 | G49: =G50 -> 183921
B50: Kārtējie izdevumi | C50: =C51+C52 -> 6219945 | D50: =D51+D52 -> 0 | E50: Subsīdijas, dotācijas, sociālie maksājumi un kompensācijas | F50: =F51 -> 261972494 | G50: =G51 -> 183921
B51: Atlīdzība | C51: 2599744 | D51: 0 | E51: Subsīdijas un dotācijas | F51: 261972494 | G51: 183921
B52: Preces un pakalpojumi | C52: 3620201
B53: Subsīdijas, dotācijas, sociālie maksājumi un kompensācijas | C53: =C54+C55 -> 238592 | D53: =D54+D55 -> 0
B54: Subsīdijas un dotācijas | C54: 24500
B55: Sociāla rakstura maksājumi un kompensācijas | C55: 214092 | D55: 0
B56: Transferti viena budžeta veida ietvaros un uzturēšanas izdevumu transferti starp budžeta veidiem | C56: =C57 -> 20100 | D56: =D57 -> 0
B57: Valsts budžeta transferti un uzturēšanas izdevumu transferti | C57: =C58 -> 20100 | D57: =D58 -> 0
B58: Valsts budžeta transferti no valsts pamatbudžeta uz valsts pamatbudžetu | C58: =C59 -> 20100 | D58: =D59 -> 0
B59: Valsts budžeta transferti no valsts pamatbudžeta dotācijas no vispārējiem ieņēmumiem uz valsts pamatbudžetu | C59: 20100
B60: Kapitālie izdevumi | C60: =C61 -> 304703 | D60: =D61 -> -183921
B61: Pamatkapitāla veidošana | C61: 304703 | D61: -183921
B62: Prioritārajam pasākumam "Koncertflīģeļa iegāde Rīgas pils Svētku zālei " piešķirtā finansējuma pārdale uz budžeta resora “74.Gadzkārtējā valsts budžeta izpildes procesā pārdalamais finansējums” programmu 02.00.00 "Līdzekļi neparedzētiem gadījumiem"

Sheet AM
C1: Pieņemts pirmajā lasījumā | D1: Priekšlikums par izmaiņām | F1: Pieņemts pirmajā lasījumā | G1: Priekšlikums par izmaiņām | H1: Priekšlikums MK atzinumam
B4: 12. Ārlietu ministrija
B5: Ierosināts pārdalīt no (-)/ uz (+): | E5: Atbalstīt pārdali no (-)/ uz (+):
B6: 02.00.00 Līdzekļi neparedzētiem gadījumiem | E6: 02.00.00 Līdzekļi neparedzētiem gadījumiem
B7: 2022.gadā | C7: 54338675 | D7: =D16+D57 -> -373953 | E7: 2022.gadā | F7: 54338675 | G7: =D7 -> -373953
B8: 2023.gadā | C8: 19240528 | D8: =D66 -> -11665 | E8: 2023.gadā | F8: 19240528 | G8: =D8 -> -11665
B9: 2024.gadā | C9: 99084581 | E9: 2024.gadā | F9: 99084581 | G9: =D9 -> 0
B11: likumprojektam "Par valsts budžetu 2022.gadam"
A13: =VPK!A17+1 -> 2 | B13: 74. Gadskārtējā valsts budžeta izpildes procesā pārdalāmais finansējums | E13: 11. Ārlietu ministrija | H13: Atbalstīt
B14: 4.pielikums | E14: 4.pielikums
B15: 02.00.00. Līdzekļi neparedzētiem gadījumiem | E15: 01.04.00 Diplomātiskās misijas ārvalstīs
B16: Resursi izdevumu segšanai | C16: 54338675 | D16: -373953 | E16: Resursi izdevumu segšanai | F16: 43450898 | G16: 373953
B17: Dotācija no vispārējiem ieņēmumiem | C17: 54338675 | D17: -373953 | E17: Ieņēmumi no maksas pakalpojumiem un citi pašu ieņēmumi – kopā | F17: 1421257
B18: Vispārējā kārtībā sadalāmā dotācija no vispārējiem ieņēmumiem | C18: 54338675 | D18: -373953 | E18: Dotācija no vispārējiem ieņēmumiem | F18: 42029641 | G18: 373953
B19: Izdevumi – kopā | C19: 54338675 | D19: -373953 | E19: Vispārējā kārtībā sadalāmā dotācija no vispārējiem ieņēmumiem | F19: 42029641 | G19: 373953
B20: Uzturēšanas izdevumi | C20: 54338675 | D20: -373953 | E20: Izdevumi – kopā | F20: 43450898 | G20: 373953
B21: Subsīdijas, dotācijas, sociālie maksājumi un kompensācijas | C21: 54338675 | D21: -373953 | E21: Uzturēšanas izdevumi | F21: 42192160 | G21: 373953
B22: Subsīdijas un dotācijas | C22: 54338675 | D22: -373953 | E22: Kārtējie izdevumi | F22: 42116673 | G22: 373953
E23: Atlīdzība | F23: 21262876 | G23: 316721
E24: Preces un pakalpojumi | F24: 20853797 | G24: 57232
E25: Subsīdijas, dotācijas, sociālie maksājumi un kompensācijas | F25: 57600
E26: Subsīdijas un dotācijas | F26: 57600
E27: Transferti viena budžeta veida ietvaros un uzturēšanas izdevumu transferti starp budžeta veidiem | F27: 17887
E28: Valsts budžeta transferti un uzturēšanas izdevumu transferti | F28: 17887
E29: Valsts budžeta uzturēšanas izdevumu transferti no valsts pamatbudžeta uz valsts speciālo budžetu | F29: 17887
E30: Kapitālie izdevumi | F30: 1258738
E31: Pamatkapitāla veidošana | F31: 1258738
B32: Palielināti izdevumi, pārdalot finansējumu no 74.resora programmas 02.00.00 "Līdzekļi neparedzētiem gadījumiem" uz Ārlietu ministrijas apakšprogrammu 01.04.00 "Diplomātiskās misijas ārvalstīs" 373 953 euro apmērā, kas saistīti ar 8 civilo ekspertu dalības nodrošināšanu Eiropas Savienības Padomdevēja misijā civilā drošības sektora reformām Ukrainā un Eiropas Drošības un sadarbības organizācijas Speciālajā novērošanas misijā Ukrainā (MK 06.10.2021. rīk. Nr.700; MK 06.10.2021. rīk. Nr.701; MK 26.10.2021 sēdē atbalstītie rīkojumu projekti Nr.21-TA-422, Nr.21-TA-475 un Nr.21-TA-560).
B34: likumprojektam "Par vidēja termiņa budžeta ietvaru 2022., 2023. un 2024.gadam"
A36: =A13 -> 2 | B36: 74. Gadskārtējā valsts budžeta izpildes procesā pārdalāmais finansējums | E36: 11. Ārlietu ministrija | H36: Atbalstīt
B37: 3.pielikums | E37: 3.pielikums
B38: I. Valsts pamatfunkciju īstenošana | E38: I. Valsts pamatfunkciju īstenošana
B39: 2022.gads | E39: 2022.gads
B40: Resursi izdevumu segšanai | C40: 261972494 | D40: -373953 | E40: Resursi izdevumu segšanai | F40: 71743383 | G40: 373953
B41: Dotācija no vispārējiem ieņēmumiem | C41: 261972494 | D41: -373953 | E41: Ieņēmumi no maksas pakalpojumiem un citi pašu ieņēmumi – kopā | F41: 1625603
B42: Vispārējā kārtībā sadalāmā dotācija no vispārējiem ieņēmumiem | C42: 261972494 | D42: -373953 | E42: Dotācija no vispārējiem ieņēmumiem | F42: 70117780 | G42: 373953
B43: Izdevumi – kopā | C43: 261972494 | D43: -373953 | E43: Vispārējā kārtībā sadalāmā dotācija no vispārējiem ieņēmumiem | F43: 70117780 | G43: 373953
B44: Uzturēšanas izdevumi | C44: 261972494 | D44: -373953 | E44: Izdevumi – kopā | F44: 71743383 | G44: 373953
B45: Subsīdijas, dotācijas, sociālie maksājumi un kompensācijas | C45: 261972494 | D45: -373953 | E45: Uzturēšanas izdevumi | F45: 69878366 | G45: 373953
B46: Subsīdijas un dotācijas | C46: 261972494 | D46: -373953 | E46: Kārtējie izdevumi | F46: 58956794 | G46: 373953
E47: Atlīdzība | F47: 31849429 | G47: 316721
E48: Preces un pakalpojumi | F48: 27107365 | G48: 57232
E49: Subsīdijas, dotācijas, sociālie maksājumi un kompensācijas | F49: 1308495
E50: Subsīdijas un dotācijas | F50: 1294351
E51: Sociālā rakstura maksājumi un kompensācijas | F51: 14144
E52: Kārtējie maksājumi Eiropas Savienības budžetā un starptautiskā sadarbība | F52: 9204190
E53: Kārtējie maksājumi Eiropas Savienības budžetā | F53: 304692
E54: Starptautiskā sadarbība | F54: 8899498
E55: Transferti viena budžeta veida ietvaros un uzturēšanas izdevumu transferti starp budžeta veidiem | F55: 408887
E56: Valsts budžeta transferti un uzturēšanas izdevumu transferti | F56: 17887
E57: Valsts budžeta uzturēšanas izdevumu transferti no valsts pamatbudžeta uz valsts speciālo budžetu | F57: 17887
E58: Pārējie valsts budžeta uzturēšanas izdevumu transferti citiem budžetiem | F58: 391000
E59: Pārējie valsts budžeta uzturēšanas izdevumu transferti valsts budžeta daļēji finansētām atvasinātām publiskām personām un budžeta nefinansētām iestādēm | F59: 391000
E60: Kapitālie izdevumi | F60: 1865017
E61: Pamatkapitāla veidošana | F61: 1865017
B62: 2023.gads | E62: 2023.gads
B63: Resursi izdevumu segšanai | C63: 132658291 | D63: -11665 | E63: Resursi izdevumu segšanai | F63: 71701926 | G63: 11665
B64: Dotācija no vispārējiem ieņēmumiem | C64: 132658291 | D64: -11665 | E64: Ieņēmumi no maksas pakalpojumiem un citi pašu ieņēmumi – kopā | F64: 1625603
B65: Vispārējā kārtībā sadalāmā dotācija no vispārējiem ieņēmumiem | C65: 132658291 | D65: -11665 | E65: Dotācija no vispārējiem ieņēmumiem | F65: 70076323 | G65: 11665
B66: Izdevumi – kopā | C66: 132658291 | D66: -11665 | E66: Vispārējā kārtībā sadalāmā dotācija no vispārējiem ieņēmumiem | F66: 70076323 | G66: 11665
B67: Uzturēšanas izdevumi | C67: 132658291 | D67: -11665 | E67: Izdevumi – kopā | F67: 71701926 | G67: 11665
B68: Subsīdijas, dotācijas, sociālie maksājumi un kompensācijas | C68: 132658291 | D68: -11665 | E68: Uzturēšanas izdevumi | F68: 70333875 | G68: 11665
B69: Subsīdijas un dotācijas | C69: 132658291 | D69: -11665 | E69: Kārtējie izdevumi | F69: 58648257 | G69: 11665
E70: Atlīdzība | F70: 31930701 | G70: 8227
E71: Preces un pakalpojumi | F71: 26717556 | G71: 3438
E72: Subsīdijas, dotācijas, sociālie maksājumi un kompensācijas | F72: 1533495
E73: Subsīdijas un dotācijas | F73: 1519351
E74: Sociālā rakstura maksājumi un kompensācijas | F74: 14144
E75: Kārtējie maksājumi Eiropas Savienības budžetā un starptautiskā sadarbība | F75: 9668236
E76: Kārtējie maksājumi Eiropas Savienības budžetā | F76: 239776
E77: Starptautiskā sadarbība | F77: 9428460
E78: Transferti viena budžeta veida ietvaros un uzturēšanas izdevumu transferti starp budžeta veidiem | F78: 483887
E79: Valsts budžeta transferti un uzturēšanas izdevumu transferti | F79: 17887
E80: Valsts budžeta uzturēšanas izdevumu transferti no valsts pamatbudžeta uz valsts speciālo budžetu | F80: 17887
E81: Pārējie valsts budžeta uzturēšanas izdevumu transferti citiem budžetiem | F81: 466000
E82: Pārējie valsts budžeta uzturēšanas izdevumu transferti valsts budžeta daļēji finansētām atvasinātām publiskām personām un budžeta nefinansētām iestādēm | F82: 466000
E83: Kapitālie izdevumi | F83: 1368051
E84: Pamatkapitāla veidošana | F84: 1368051
B85: Palielināti izdevumi, pārdalot finansējumu no 74.resora programmas 02.00.00 "Līdzekļi neparedzētiem gadījumiem" uz Ārlietu ministrijas apakšprogrammu 01.04.00 "Diplomātiskās misijas ārvalstīs" 2022.gadam 373 953 euro apmērā un 2023.gadam 11 665 euro apmērā, kas saistīti ar 8 civilo ekspertu dalības nodrošināšanu Eiropas Savienības Padomdevēja misijā civilā drošības sektora reformām Ukrainā un Eiropas Drošības un sadarbības organizācijas Speciālajā novērošanas misijā Ukrainā (MK 06.10.2021. rīk. Nr.700; MK 06.10.2021. rīk. Nr.701; MK 26.10.2021 sēdē atbalstītie rīkojumu projekti Nr.21-TA-422, Nr.21-TA-475 un Nr.21-TA-560).

Sheet EM
C1: Pieņemts pirmajā lasījumā | D1: Priekšlikums par izmaiņām | F1: Pieņemts pirmajā lasījumā | G1: Priekšlikums par izmaiņām | H1: Priekšlikums MK atzinumam
B4: 12. Ekonomikas ministrija
B6: likumprojektam "Par valsts budžetu 2022.gadam"
A8: =AM!A36+1 -> 3 | B8: I. Valsts pamatbudžeta ieņēmumi | E8: 12. Ekonomikas ministrija | H8: Atbalstīt
B9: 2.pielikums | E9: 4.pielikums
B10: Pievienotās vērtības nodoklis | C10: 3067525000 | D10: 517592 | E10: 29.01.00 Naftas produktu rezervju uzturēšana
B11: Valsts nodeva par naftas produktu drošības rezervju uzturēšanu | C11: 22045997 | D11: 2464722 | E11: Resursi izdevumu segšanai | F11: =F12 -> 26609506 | G11: =G12 -> 2982314
E12: Dotācija no vispārējiem ieņēmumiem | F12: =F13 -> 26609506 | G12: =G13 -> 2982314
E13: Vispārējā kārtībā sadalāmā dotācija no vispārējiem ieņēmumiem | F13: 26609506 | G13: 2982314
E14: Izdevumi – kopā | F14: =F15 -> 26609506 | G14: =G15 -> 2982314
E15: Uzturēšanas izdevumi | F15: =F16 -> 26609506 | G15: =G16 -> 2982314
E16: Kārtējie izdevumi | F16: =F17+F18 -> 26609506 | G16: =G17+G18 -> 2982314
E17: Atlīdzība | F17: 69980
E18: Preces un pakalpojumi | F18: 26539526 | G18: 2982314
B19: Pamatojoties uz Enerģētikas likuma 72.panta 2.daļu tika organizēts iepirkums drošības rezervju pakalpojumam valsts naftas produktu rezervju izveidei. Saskaņā ar Iepirkumu komisijas 18.10.2021. sēdes protokola Nr.12 8.punktu vispārīgās vienošanās slēgšanas tiesības 2022.gadam noteiktas 11 pretendentiem par kopējo summu 24 204 000 euro bez PVN (29 286 840 euro ar PVN). Ņemot vērā, ka likumprojektā "Par valsts budžetu 2022.gadam" Ekonomikas ministrijas apakšprogrammā 29.01.00 “Naftas produktu rezervju uzturēšana” naftas produktu rezervju uzturēšanai paredzēts finansējums 26 304 526 euro apmērā, savukārt būs nepieciešams finansējums 29 286 840 euro apmērā, attiecīgi tiek palielināti izdevumi par 2 982 314 euro, vienlaikus atbilstoši palielinot valsts budžeta ieņēmumus no valsts nodevas par naftas produktu drošības rezervju uzturēšanu 2 464 722 euro apmērā un pievienotās vērtības nodokļa ieņēmumus par 517 592 euro.
B21: likumprojektam "Par vidēja termiņa budžeta ietvaru 2022., 2023. un 2024.gadam"
A23: =A8 -> 3 | B23: I. Valsts pamatbudžeta ieņēmumi | E23: 12. Ekonomikas ministrija | H23: Atbalstīt
B24: 2.pielikums | E24: 3.pielikums
E25: I. Valsts pamatfunkciju īstenošana
B26: 2022.gads | E26: 2022.gads
B27: Pievienotās vērtības nodoklis | C27: 3067525000 | D27: 517592 | E27: Resursi izdevumu segšanai | F27: =F28+F29+F34 -> 169724563 | G27: =G28+G29+G34 -> 2982314
B28: Valsts nodeva par naftas produktu drošības rezervju uzturēšanu | C28: 22045997 | D28: 2464722 | E28: Ieņēmumi no maksas pakalpojumiem un citi pašu ieņēmumi | F28: 2953606
E29: Trasferti | F29: =F30 -> 99966 | G29: =G30 -> 0
E30: Valsts budžeta transferti | F30: =F31 -> 99966 | G30: =G31 -> 0
E31: Valsts pamatbudžeta savstarpējie transferti | F31: =F32 -> 99966 | G31: =G32 -> 0
E32: Valsts pamatbudžeta iestāžu saņemtie transferti no valsts pamatbudžeta | F32: =F33 -> 99966 | G32: =G33 -> 0
E33: Valsts pamatbudžeta iestāžu saņemtie transferti no valsts pamatbudžeta dotācijas no vispārējiem ieņēmumiem | F33: 99966
E34: Dotācija no vispārējiem ieņēmumiem | F34: =F35 -> 166670991 | G34: =G35 -> 2982314
E35: Vispārējā kārtībā sadalāmā dotācija no vispārējiem ieņēmumiem | F35: 166670991 | G35: 2982314
E36: Izdevumi – kopā | F36: =F37+F53 -> 170032563 | G36: =G37+G53 -> 2982314
E37: Uzturēšanas izdevumi | F37: =F38+F41+F43+F45 -> 167526107 | G37: =G38+G41+G43+G45 -> 2982314
E38: Kārtējie izdevumi | F38: =F39+F40 -> 69728956 | G38: =G39+G40 -> 2982314
E39: Atlīdzība | F39: 25848238
E40: Preces un pakalpojumi | F40: 43880718 | G40: 2982314
E41: Subsīdijas, dotācijas un sociālie pabalsti | F41: =F42 -> 97158671 | G41: =G42 -> 0
E42: Subsīdijas un dotācijas | F42: 97158671
E43: Kārtējie maksājumi Eiropas Savienības budžetā un starptautiskā sadarbība | F43: =F44 -> 230083 | G43: =G44 -> 0
E44: Starptautiskā sadarbība | F44: 230083
E45: Transferti viena budžeta veida ietvaros un uzturēšanas izdevumu transferti starp budžeta veidiem | F45: =F46+F50 -> 408397 | G45: =G46+G50 -> 0
E46: Valsts budžeta transferti un uzturēšanas izdevumu transferti | F46: =F47+F48 -> 211660 | G46: =G47+G48 -> 0
E47: Valsts budžeta uzturēšanas izdevumu transferti no valsts pamatbudžeta uz valsts speciālo budžetu | F47: 1660
E48: Valsts budžeta transferti no valsts pamatbudžeta uz valsts pamatbudžetu | F48: =F49 -> 210000 | G48: =G49 -> 0
E49: Pārējie valsts budžeta transferti no valsts pamatbudžeta uz valsts pamatbudžetu | F49: 210000
E50: Pārējie valsts budžeta uzturēšanas izdevumu transferti citiem budžetiem | F50: =F51+F52 -> 196737 | G50: =G51+G52 -> 0
E51: Pārējie valsts budžeta uzturēšanas izdevumu transferti pašvaldībām | F51: 16000
E52: Pārējie valsts budžeta uzturēšanas izdevumu transferti valsts budžeta daļēji finansētām atvasinātām publiskām personām un budžeta nefinansētām iestādēm | F52: 180737
E53: Kapitālie izdevumi | F53: =F54 -> 2506456 | G53: =G54 -> 0
E54: Pamatkapitāla veidošana | F54: 2506456
E55: Finansiālā bilance | F55: =F27-F36 -> -308000 | G55: =G27-G36 -> 0
E56: Finansēšana | F56: =F57 -> 308000 | G56: =G57 -> 0
E57: Naudas līdzekļi | F57: =F58 -> 308000 | G57: =G58 -> 0
E58: Maksas pakalpojumu un citu pašu ieņēmumu naudas līdzekļu atlikumu izmaiņas palielinājums (-) vai samazinājums (+) | F58: 308000
B59: Pamatojoties uz Enerģētikas likuma 72.panta 2.daļu tika organizēts iepirkums drošības rezervju pakalpojumam valsts naftas produktu rezervju izveidei. Saskaņā ar Iepirkumu komisijas 18.10.2021. sēdes protokola Nr.12 8.punktu vispārīgās vienošanās slēgšanas tiesības 2022.gadam noteiktas 11 pretendentiem par kopējo summu 24 204 000 euro bez PVN (29 286 840 euro ar PVN). Ņemot vērā, ka likumprojektā "Par valsts budžetu 2022.gadam" Ekonomikas ministrijas apakšprogrammā 29.01.00 “Naftas produktu rezervju uzturēšana” naftas produktu rezervju uzturēšanai paredzēts finansējums 26 304 526 euro apmērā, savukārt būs nepieciešams finansējums 29 286 840 euro apmērā, attiecīgi tiek palielināti izdevumi par 2 982 314 euro, vienlaikus atbilstoši palielinot valsts budžeta ieņēmumus no valsts nodevas par naftas produktu drošības rezervju uzturēšanu 2 464 722 euro apmērā un pievienotās vērtības nodokļa ieņēmumus par 517 592 euro.

Sheet FM
C1: Pieņemts pirmajā lasījumā | D1: Priekšlikums par izmaiņām | F1: Pieņemts pirmajā lasījumā | G1: Priekšlikums par izmaiņām | H1: Priekšlikums MK atzinumam
B4: 13. Finanšu ministrija
B5: Ierosināts pārdalīt no (-)/ uz (+): | E5: Atbalstīt pārdali no (-)/ uz (+):
B6: 02.00.00 Līdzekļi neparedzētiem gadījumiem | E6: 02.00.00 Līdzekļi neparedzētiem gadījumiem
B7: 2022.gadā | C7: 54338675 | D7: =G22 -> 18828584 | E7: 2022.gadā | F7: 54338675 | G7: =D7 -> 18828584
B8: 2023.gadā | C8: 19240528 | E8: 2023.gadā | F8: 19240528
B9: 2024.gadā | C9: 99084581 | E9: 2024.gadā | F9: 99084581
B11: likumprojektam "Par valsts budžetu 2022.gadam"
A13: =EM!A8+1 -> 4 | E13: 74. Gadskārtējā valsts budžeta izpildes procesā pārdalāmais finansējums | H13: Atbalstīt
B14: 2.pielikums | E14: 4.pielikums
B15: Ieņēmumi no dividendēm (ieņēmumi no valsts (pašvaldību) kapitāla izmantošanas) | C15: 180450000 | D15: 18828584 | E15: 02.00.00 Līdzekļi neparedzētiem gadījumiem
E16: Resursi izdevumu segšanai | F16: =F17 -> 54338675 | G16: =G17 -> 18828584
E17: Dotācija no vispārējiem ieņēmumiem | F17: =F18 -> 54338675 | G17: =G18 -> 18828584
E18: Vispārējā kārtībā sadalāmā dotācija no vispārējiem ieņēmumiem | F18: 54338675 | G18: =G19 -> 18828584
E19: Izdevumi – kopā | F19: =F20 -> 54338675 | G19: =G20 -> 18828584
E20: Uzturēšanas izdevumi | F20: =F21 -> 54338675 | G20: =G21 -> 18828584
E21: Subsīdijas, dotācijas, sociālie maksājumi un kompensācijas | F21: =F22 -> 54338675 | G21: =G22 -> 18828584
E22: Subsīdijas un dotācijas | F22: 54338675 | G22: =D15 -> 18828584
B23: Palielināt ieņēmumu prognozi 2022. gadam no akciju sabiedrības “Augstsprieguma tīkls" maksājuma par valsts kapitāla izmantošanu par 18 828 584 eiro, atbilstoši palielinot finansējumu budžeta resora “74.Gadzkārtējā valsts budžeta izpildes procesā pārdalamais finansējums” programmā 02.00.00 "Līdzekļi neparedzētiem gadījumiem"
B25: likumprojektam "Par vidēja termiņa budžeta ietvaru 2022., 2023. un 2024.gadam"
A27: =A13 -> 4 | E27: 74. Gadskārtējā valsts budžeta izpildes procesā pārdalāmais finansējums | H27: Atbalstīt
B28: 2.pielikums | E28: 3.pielikums
B29: 2022.gads | E29: I. Valsts pamatfunkciju īstenošana
B30: Ieņēmumi no dividendēm (ieņēmumi no valsts (pašvaldību) kapitāla izmantošanas) | C30: 180450000 | D30: 18828584 | E30: 2022.gads
E31: Resursi izdevumu segšanai | F31: =F32 -> 261972494 | G31: =G32 -> 18828584
E32: Dotācija no vispārējiem ieņēmumiem | F32: =F33 -> 261972494 | G32: =G33 -> 18828584
E33: Vispārējā kārtībā sadalāmā dotācija no vispārējiem ieņēmumiem | F33: 261972494 | G33: =G34 -> 18828584
E34: Izdevumi – kopā | F34: =F35 -> 261972494 | G34: =G35 -> 18828584
E35: Uzturēšanas izdevumi | F35: =F36 -> 261972494 | G35: =G36 -> 18828584
E36: Subsīdijas, dotācijas, sociālie maksājumi un kompensācijas | F36: =F37 -> 261972494 | G36: =G37 -> 18828584
E37: Subsīdijas un dotācijas | F37: 261972494 | G37: =D30 -> 18828584
B38: Palielināt ieņēmumu prognozi 2022. gadam no akciju sabiedrības “Augstsprieguma tīkls" maksājuma par valsts kapitāla izmantošanu par 18 828 584 eiro, atbilstoši palielinot finansējumu budžeta resora “74.Gadzkārtējā valsts budžeta izpildes procesā pārdalamais finansējums” programmā 02.00.00 "Līdzekļi neparedzētiem gadījumiem"

Sheet IeM
C1: Pieņemts pirmajā lasījumā | D1: Priekšlikums par izmaiņām | F1: Pieņemts pirmajā lasījumā | G1: Priekšlikums par izmaiņām | H1: Priekšlikums MK atzinumam
B4: 14. Iekšlietu ministrija
B6: likumprojektam „Par valsts budžetu 2022.gadam”
A8: =FM!A13+1 -> 5 | B8: 74. Gadskārtējā valsts budžeta izpildes procesā pārdalāmais finansējums | E8: 14. Iekšlietu ministrija | H8: Atbalstīt
B9: 4.pielikums | E9: 4.pielikums
B10: 13.00.00 Finansējums augstas gatavības projektiem Covid-19 krīzes pārvarēšanai un ekonomikas atlabšanai | E10: 07.00.00 Ugunsdrošība, glābšana un civilā aizsardzība | F10: `
B11: Resursi izdevumu segšanai | C11: =C12 -> 12127267 | D11: =D12 -> -333608 | E11: Resursi izdevumu segšanai | F11: 75091172 | G11: =G12+G13 -> 333608
B12: Dotācija no vispārējiem ieņēmumiem | C12: =C13 -> 12127267 | D12: =D13 -> -333608 | E12: Ieņēmumi no maksas pakalpojumiem un citi pašu ieņēmumi – kopā | F12: 43947
B13: Vispārējā kārtībā sadalāmā dotācija no vispārējiem ieņēmumiem | C13: 12127267 | D13: -333608 | E13: Dotācija no vispārējiem ieņēmumiem | F13: 75047225 | G13: =G14 -> 333608
B14: Izdevumi – kopā | C14: =C15 -> 12127267 | D14: =D15 -> -333608 | E14: Vispārējā kārtībā sadalāmā dotācija no vispārējiem ieņēmumiem | F14: 75047225 | G14: 333608
B15: Uzturēšanas izdevumi | C15: =C16 -> 12127267 | D15: =D16 -> -333608 | E15: Izdevumi – kopā | F15: 75091172 | G15: =G16+G24 -> 333608
B16: Subsīdijas, dotācijas, sociālie maksājumi un kompensācijas | C16: =C17 -> 12127267 | D16: =D17 -> -333608 | E16: Uzturēšanas izdevumi | F16: 58355176 | G16: =G17+G20+G22 -> 0
B17: Subsīdijas un dotācijas | C17: 12127267 | D17: -333608 | E17: Kārtējie izdevumi | F17: 58342036 | G17: =G18+G19 -> 0
E18: Atlīdzība | F18: 55064369
E19: Preces un pakalpojumi | F19: 3277667
E20: Subsīdijas, dotācijas, sociālie maksājumi un kompensācijas | F20: 6666 | G20: =G21 -> 0
E21: Sociāla rakstura maksājumi un kompensācijas | F21: 6666
E22: Kārtējie maksājumi Eiropas Savienības budžetā un starptautiskā sadarbība | F22: 6474 | G22: =G23 -> 0
E23: Starptautiskā sadarbība | F23: 6474
E24: Kapitālie izdevumi | F24: 16735996 | G24: =G25 -> 333608
E25: Pamatkapitāla veidošana | F25: 16735996 | G25: 333608
B26: 2021.gada 12.oktobra Ministru kabineta sēdē (prot. Nr.69, 38. §, 3.punkts) atbalstīta valsts budžeta finansējuma piešķiršana Iekšlietu ministrijai 2022. gadā depo aprīkošanai budžeta programmai 07.00.00 "Ugunsdrošība, glābšana un civilā aizsardzība" 333 608 EUR (pamatkapitāla veidošana) atbilstoši veiktajam iepirkumam Covid-19 krīzes seku pārvarēšanas un ekonomikas atlabšanas pasākuma "Infrastruktūras attīstības projektu īstenošana iekšlietu nozarē" ietvaros, kā arī 4.punktā dots uzdevums Iekšlietu ministrijai normatīvajos aktos noteiktā kārtībā sagatavot un iesniegt Finanšu ministrijai priekšlikumus likumprojekta "Par valsts budžetu 2022. gadam" izskatīšanai Saeimā otrajā lasījumā atbilstoši šī protokollēmuma 2. punktam, veicot pārdali no budžeta resora "74. Gadskārtējā valsts budžeta izpildes procesā pārdalāmais finansējums" programmas 13.00.00 "Finansējums augstas gatavības projektiem Covid-19 krīzes pārvarēšanai un ekonomikas atlabšanai".
B28: likumprojektam „Par vidēja termiņa budžeta ietvaru 2022., 2023. un 2024.gadam”
A30: =A8 -> 5 | B30: 74. Gadskārtējā valsts budžeta izpildes procesā pārdalāmais finansējums | E30: 14. Iekšlietu ministrija | H30: Atbalstīt
B31: 3.pielikums | E31: 3.pielikums
B32: I. Valsts pamatfunkciju īstenošana | E32: I. Valsts pamatfunkciju īstenošana
B33: 2022.gads | E33: 2022.gads
B34: Resursi izdevumu segšanai | C34: =C35 -> 261972494 | D34: =D35 -> -333608 | E34: Resursi izdevumu segšanai | F34: 437604646 | G34: =G35+G36+G41 -> 333608
B35: Dotācija no vispārējiem ieņēmumiem | C35: =C36 -> 261972494 | D35: =D36 -> -333608 | E35: Ieņēmumi no maksas pakalpojumiem un citi pašu ieņēmumi – kopā | F35: 3979658
B36: Vispārējā kārtībā sadalāmā dotācija no vispārējiem ieņēmumiem | C36: 261972494 | D36: -333608 | E36: Transferti | F36: 210000
B37: Izdevumi – kopā | C37: =C38 -> 261972494 | D37: =D38 -> -333608 | E37: Valsts budžeta transferti | F37: 210000
B38: Uzturēšanas izdevumi | C38: =C39 -> 261972494 | D38: =D39 -> -333608 | E38: Valsts pamatbudžeta savstarpējie transferti | F38: 210000
B39: Subsīdijas, dotācijas, sociālie maksājumi un kompensācijas | C39: =C40 -> 261972494 | D39: =D40 -> -333608 | E39: Valsts pamatbudžeta iestāžu saņemtie transferti no valsts pamatbudžeta | F39: 210000
B40: Subsīdijas un dotācijas | C40: 261972494 | D40: -333608 | E40: Pārējie valsts pamatbudžetā saņemtie transferti no valsts pamatbudžeta | F40: 210000
E41: Dotācija no vispārējiem ieņēmumiem | F41: 433414988 | G41: =G42 -> 333608
E42: Vispārējā kārtībā sadalāmā dotācija no vispārējiem ieņēmumiem | F42: 433414988 | G42: 333608
E43: Izdevumi – kopā | F43: 437604646 | G43: =G44+G60 -> 333608
E44: Uzturēšanas izdevumi | F44: 390549185 | G44: =G45+G48+G51+G53 -> 0
E45: Kārtējie izdevumi | F45: 383163890 | G45: =G46+G47 -> 0
E46: Atlīdzība | F46: 276710579
E47: Preces un pakalpojumi | F47: 106453311
E48: Subsīdijas, dotācijas, sociālie maksājumi un kompensācijas | F48: 5764932
E49: Subsīdijas un dotācijas | F49: 5504220
E50: Sociāla rakstura maksājumi un kompensācijas | F50: 260712
E51: Kārtējie maksājumi Eiropas Savienības budžetā un starptautiskā sadarbība | F51: 146873
E52: Starptautiskā sadarbība | F52: 146873
E53: Transferti viena budžeta veida ietvaros un uzturēšanas izdevumu transferti starp budžeta veidiem | F53: 1473490
E54: Valsts budžeta transferti un uzturēšanas izdevumu transferti | F54: 481485
E55: Valsts budžeta uzturēšanas izdevumu transferti no valsts pamatbudžeta uz valsts speciālo budžetu | F55: 108
E56: Valsts budžeta transferti no valsts pamatbudžeta uz valsts pamatbudžetu | F56: 481377
E57: Valsts budžeta transferti no valsts pamatbudžeta dotācijas no vispārējiem ieņēmumiem uz valsts pamatbudžetu | F57: 481377
... E59: Pārējie valsts budžeta uzturēšanas izdevumu transferti valsts budžeta daļēji finansētām atvasinātām publiskām personām un budžeta nefinansētām iestādēm | F59: 992005
E60: Kapitālie izdevumi | F60: 47055461 | G60: =G61 -> 333608
E61: Pamatkapitāla veidošana | F61: 47055461 | G61: 333608
B62: 2021.gada 12.oktobra Ministru kabineta sēdē (prot. Nr.69, 38. §, 3.punkts) atbalstīta valsts budžeta finansējuma piešķiršana Iekšlietu ministrijai 2022. gadā depo aprīkošanai budžeta programmai 07.00.00 "Ugunsdrošība, glābšana un civilā aizsardzība" 333 608 EUR (pamatkapitāla veidošana) atbilstoši veiktajam iepirkumam Covid-19 krīzes seku pārvarēšanas un ekonomikas atlabšanas pasākuma "Infrastruktūras attīstības projektu īstenošana iekšlietu nozarē" ietvaros, kā arī 4.punktā dots uzdevums Iekšlietu ministrijai normatīvajos aktos noteiktā kārtībā sagatavot un iesniegt Finanšu ministrijai priekšlikumus likumprojekta "Par vidēja termiņa budžeta ietvaru 2022., 2023. un 2024. gadam" izskatīšanai Saeimā otrajā lasījumā atbilstoši šī protokollēmuma 2. punktam, veicot pārdali no budžeta resora "74. Gadskārtējā valsts budžeta izpildes procesā pārdalāmais finansējums" programmas 13.00.00 "Finansējums augstas gatavības projektiem Covid-19 krīzes pārvarēšanai un ekonomikas atlabšanai".
B64: likumprojektam „Par valsts budžetu 2022.gadam”
A66: =A8+1 -> 6 | B66: 74. Gadskārtējā valsts budžeta izpildes procesā pārdalāmais finansējums | E66: 14. Iekšlietu ministrija | H66: Atbalstīt
B67: 4.pielikums | E67: 4.pielikums
B68: 13.00.00 Finansējums augstas gatavības projektiem Covid-19 krīzes pārvarēšanai un ekonomikas atlabšanai | E68: 40.02.00 Nekustamais īpašums un centralizētais iepirkums | F68: `
B69: Resursi izdevumu segšanai | C69: =C70 -> 12127267 | D69: =D70 -> -559988 | E69: Resursi izdevumu segšanai | F69: 44038930 | G69: =G70+G71 -> 559988
B70: Dotācija no vispārējiem ieņēmumiem | C70: =C71 -> 12127267 | D70: =D71 -> -559988 | E70: Ieņēmumi no maksas pakalpojumiem un citi pašu ieņēmumi – kopā | F70: 1493111
B71: Vispārējā kārtībā sadalāmā dotācija no vispārējiem ieņēmumiem | C71: 12127267 | D71: -559988 | E71: Dotācija no vispārējiem ieņēmumiem | F71: 42545819 | G71: =G72 -> 559988
B72: Izdevumi – kopā | C72: =C73 -> 12127267 | D72: =D73 -> -559988 | E72: Vispārējā kārtībā sadalāmā dotācija no vispārējiem ieņēmumiem | F72: 42545819 | G72: 559988
B73: Uzturēšanas izdevumi | C73: =C74 -> 12127267 | D73: =D74 -> -559988 | E73: Izdevumi – kopā | F73: 44038930 | G73: =G74+G77 -> 559988
B74: Subsīdijas, dotācijas, sociālie maksājumi un kompensācijas | C74: =C75 -> 12127267 | D74: =D75 -> -559988 | E74: Uzturēšanas izdevumi | F74: 28629860 | G74: =G75 -> 559988
B75: Subsīdijas un dotācijas | C75: 12127267 | D75: -559988 | E75: Kārtējie izdevumi | F75: 28629860 | G75: =G76 -> 559988
E76: Preces un pakalpojumi | F76: 28629860 | G76: 559988
E77: Kapitālie izdevumi | F77: 15409070 | G77: =G78 -> 0
E78: Pamatkapitāla veidošana | F78: 15409070
B79: 2021.gada 12.oktobra Ministru kabineta sēdē (prot. Nr.69, 38. §, 3.punkts) atbalstīta valsts budžeta finansējuma piešķiršana Iekšlietu ministrijai 2022. gadā augstas gatavības projektu (jaunu ugunsdzēsības depo būvniecība Aizputē, Dagdā, Iecavā, Ilūkstē, Kandavā, Priekulē, Rūjienā un Saulkrastos) vadības nodrošināšanai budžeta apakšprogrammai 40.02.00 "Nekustamais īpašums un centralizētais iepirkums" 559 988 EUR (preces un pakalpojumi), kā arī 4.punktā dots uzdevums Iekšlietu ministrijai normatīvajos aktos noteiktā kārtībā sagatavot un iesniegt Finanšu ministrijai priekšlikumus likumprojekta "Par valsts budžetu 2022. gadam" izskatīšanai Saeimā otrajā lasījumā atbilstoši šī protokollēmuma 2. punktam, veicot pārdali no budžeta resora "74. Gadskārtējā valsts budžeta izpildes procesā pārdalāmais finansējums" programmas 13.00.00 "Finansējums augstas gatavības projektiem Covid-19 krīzes pārvarēšanai un ekonomikas atlabšanai".
B81: likumprojektam „Par vidēja termiņa budžeta ietvaru 2022., 2023. un 2024.gadam”
A83: =A66 -> 6 | B83: 74. Gadskārtējā valsts budžeta izpildes procesā pārdalāmais finansējums | E83: 14. Iekšlietu ministrija | H83: Atbalstīt
B84: 3.pielikums | E84: 3.pielikums
B85: I. Valsts pamatfunkciju īstenošana | E85: I. Valsts pamatfunkciju īstenošana
B86: 2022.gads | E86: 2022.gads
B87: Resursi izdevumu segšanai | C87: =C88 -> 261972494 | D87: =D88 -> -559988 | E87: Resursi izdevumu segšanai | F87: 437604646 | G87: =G88+G89+G94 -> 559988
B88: Dotācija no vispārējiem ieņēmumiem | C88: =C89 -> 261972494 | D88: =D89 -> -559988 | E88: Ieņēmumi no maksas pakalpojumiem un citi pašu ieņēmumi – kopā | F88: 3979658
B89: Vispārējā kārtībā sadalāmā dotācija no vispārējiem ieņēmumiem | C89: 261972494 | D89: -559988 | E89: Transferti | F89: 210000
B90: Izdevumi – kopā | C90: =C91 -> 261972494 | D90: =D91 -> -559988 | E90: Valsts budžeta transferti | F90: 210000
B91: Uzturēšanas izdevumi | C91: =C92 -> 261972494 | D91: =D92 -> -559988 | E91: Valsts pamatbudžeta savstarpējie transferti | F91: 210000
B92: Subsīdijas, dotācijas, sociālie maksājumi un kompensācijas | C92: =C93 -> 261972494 | D92: =D93 -> -559988 | E92: Valsts pamatbudžeta iestāžu saņemtie transferti no valsts pamatbudžeta | F92: 210000
B93: Subsīdijas un dotācijas | C93: 261972494 | D93: -559988 | E93: Pārējie valsts pamatbudžetā saņemtie transferti no valsts pamatbudžeta | F93: 210000
E94: Dotācija no vispārējiem ieņēmumiem | F94: 433414988 | G94: =G95 -> 559988
E95: Vispārējā kārtībā sadalāmā dotācija no vispārējiem ieņēmumiem | F95: 433414988 | G95: 559988
E96: Izdevumi – kopā | F96: 437604646 | G96: =G97+G113 -> 559988
E97: Uzturēšanas izdevumi | F97: 390549185 | G97: =G98+G101+G104+G106 -> 559988
E98: Kārtējie izdevumi | F98: 383163890 | G98: =G99+G100 -> 559988
E99: Atlīdzība | F99: 276710579
E100: Preces un pakalpojumi | F100: 106453311 | G100: 559988
E101: Subsīdijas, dotācijas, sociālie maksājumi un kompensācijas | F101: 5764932
E102: Subsīdijas un dotācijas | F102: 5504220
E103: Sociāla rakstura maksājumi un kompensācijas | F103: 260712
E104: Kārtējie maksājumi Eiropas Savienības budžetā un starptautiskā sadarbība | F104: 146873
E105: Starptautiskā sadarbība | F105: 146873
E106: Transferti viena budžeta veida ietvaros un uzturēšanas izdevumu transferti starp budžeta veidiem | F106: 1473490
E107: Valsts budžeta transferti un uzturēšanas izdevumu transferti | F107: 481485
E108: Valsts budžeta uzturēšanas izdevumu transferti no valsts pamatbudžeta uz valsts speciālo budžetu | F108: 108
E109: Valsts budžeta transferti no valsts pamatbudžeta uz valsts pamatbudžetu | F109: 481377
E110: Valsts budžeta transferti no valsts pamatbudžeta dotācijas no vispārējiem ieņēmumiem uz valsts pamatbudžetu | F110: 481377
E111: Pārējie valsts budžeta uzturēšanas izdevumu transferti citiem budžetiem | F111: 992005
...

Sheet IZM
C1: Pieņemts pirmajā lasījumā | D1: Priekšlikums par izmaiņām | F1: Pieņemts pirmajā lasījumā | G1: Priekšlikums par izmaiņām | H1: Priekšlikums MK atzinumam
B4: 15. Izglītības un zinātnes ministrija
B6: likumprojektam "Par valsts budžetu 2022.gadam"
A8: =IeM!A553+1 -> 11 | B8: 62.resors "Mērķdotācijas pašvaldībām" | E8: 15. Izglītības un zinātnes ministrija | H8: Atbalstīt
B9: 4.pielikums | E9: 4.pielikums
B10: 01.00.00. "Mērķdotācijas izglītības pasākumiem" | E10: 01.05.00 "Dotācija privātajām mācību iestādēm"
B11: Resursi izdevumu segšanai | C11: 57454704 | D11: -1011180 | E11: Resursi izdevumu segšanai | F11: 12667356 | G11: 1011180
B12: Dotācija no vispārējiem ieņēmumiem | C12: 57454704 | D12: -1011180 | E12: Dotācija no vispārējiem ieņēmumiem | F12: 12667356 | G12: 1011180
B13: Vispārējā kārtībā sadalāmā dotācija no vispārējiem ieņēmumiem | C13: 57454704 | D13: -1011180 | E13: Vispārējā kārtībā sadalāmā dotācija no vispārējiem ieņēmumiem | F13: 12667356 | G13: 1011180
B14: Izdevumi – kopā | C14: 57454704 | D14: -1011180 | E14: Izdevumi – kopā | F14: 12667356 | G14: 1011180
B15: Uzturēšanas izdevumi | C15: 57454704 | D15: -1011180 | E15: Uzturēšanas izdevumi | F15: 12667356 | G15: 1011180
B16: Transferti viena budžeta veida ietvaros un uzturēšanas izdevumu transferti starp budžeta veidiem | C16: 57454704 | D16: -1011180 | E16: Subsīdijas, dotācijas, sociālie maksājumi un kompensācijas | F16: 12454354 | G16: 1011180
B17: Pārējie valsts budžeta uzturēšanas izdevumu transferti citiem budžetiem | C17: 57454704 | D17: -1011180 | E17: Subsīdijas un dotācijas | F17: 12454354 | G17: 1011180
B18: Pārējie valsts budžeta uzturēšanas izdevumu transferti pašvaldībām | C18: 57454704 | D18: -1011180
B23: Saskaņā ar Ministru kabineta 2021. gada 5. oktobra sēdes protokollēmumu Nr.66, 28.§. tiek pārdalīts finansējums 1 011 180 euro apmērā no 62.resora budžeta programmas 01.00.00. "Mērķdotācijas izglītības pasākumiem" uz 15. resora budžeta apakšprogrammu 01.05.00 Dotācija privātajām mācību iestādēm, lai nodrošinātu pedagogu darba samaksu 2022. gadā un turpmāk, ņemot vērā pedagogu minimālās algas likmes palielināšanu līdz 830 euro un pirmskolas pedagogu minimālās algas likmes palielināšanu līdz 872 euro sākot ar 2021. gada 1. septembri un izglītojamo skaita uz 2021. gada 1. septembri izmaiņu ietekmi.
B25: likumprojektam "Par vidēja termiņa budžeta ietvaru 2022., 2023. un 2024.gadam"
A27: =A8 -> 11 | B27: 62. resors "Mērķdotācijas pašvaldībām" | E27: 15. Izglītības un zinātnes ministrija | H27: Atbalstīt
B28: 3.pielikums | E28: 3.pielikums
B29: I Valsts pamatfunkciju īstenošana | E29: I Valsts pamatfunkciju īstenošana
B30: 2022.gads | E30: 2022.gads
B31: Resursi izdevumu segšanai | C31: 431222629 | D31: -1011180 | E31: Resursi izdevumu segšanai | F31: 334326783 | G31: 1011180
B32: Dotācija no vispārējiem ieņēmumiem | C32: 431222629 | D32: -1011180 | E32: Dotācija no vispārējiem ieņēmumiem | F32: 327039183 | G32: 1011180
B33: Vispārējā kārtībā sadalāmā dotācija no vispārējiem ieņēmumiem | C33: 431222629 | D33: -1011180 | E33: Vispārējā kārtībā sadalāmā dotācija no vispārējiem ieņēmumiem | F33: 327039183 | G33: 1011180
B34: Izdevumi – kopā | C34: 431222629 | D34: -1011180 | E34: Izdevumi – kopā | F34: 316113777 | G34: 1011180
B35: Uzturēšanas izdevumi | C35: 431222629 | D35: -1011180 | E35: Uzturēšanas izdevumi | F35: 304193418 | G35: 1011180
B36: Transferti viena budžeta veida ietvaros un uzturēšanas izdevumu transferti starp budžeta veidiem | C36: 431222629 | D36: -1011180 | E36: Subsīdijas, dotācijas, sociālie maksājumi un kompensācijas | F36: 50829857 | G36: 1011180
B37: Pārējie valsts budžeta uzturēšanas izdevumu transferti citiem budžetiem | C37: 431222629 | D37: -1011180 | E37: Subsīdijas un dotācijas | F37: 40793556 | G37: 1011180
B38: Pārējie valsts budžeta uzturēšanas izdevumu transferti pašvaldībām | C38: 431222629 | D38: -1011180
B43: 2023.gads | E43: 2023.gads
B44: Resursi izdevumu segšanai | C44: 453536441 | D44: -1011180 | E44: Resursi izdevumu segšanai | F44: 318678839 | G44: 1011180
B45: Dotācija no vispārējiem ieņēmumiem | C45: 453536441 | D45: -1011180 | E45: Dotācija no vispārējiem ieņēmumiem | F45: 311946569 | G45: 1011180
B46: Vispārējā kārtībā sadalāmā dotācija no vispārējiem ieņēmumiem | C46: 453536441 | D46: -1011180 | E46: Vispārējā kārtībā sadalāmā dotācija no vispārējiem ieņēmumiem | F46: 311946569 | G46: 1011180
B47: Izdevumi – kopā | C47: 453536441 | D47: -1011180 | E47: Izdevumi – kopā | F47: 317863344 | G47: 1011180
B48: Uzturēšanas izdevumi | C48: 453536441 | D48: -1011180 | E48: Uzturēšanas izdevumi | F48: 311394688 | G48: 1011180
B49: Transferti viena budžeta veida ietvaros un uzturēšanas izdevumu transferti starp budžeta veidiem | C49: 453536441 | D49: -1011180 | E49: Subsīdijas, dotācijas, sociālie maksājumi un kompensācijas | F49: 51503899 | G49: 1011180
B50: Pārējie valsts budžeta uzturēšanas izdevumu transferti citiem budžetiem | C50: 453536441 | D50: -1011180 | E50: Subsīdijas un dotācijas | F50: 41287578 | G50: 1011180
B51: Pārējie valsts budžeta uzturēšanas izdevumu transferti pašvaldībām | C51: 453536441 | D51: -1011180
B52: 2024.gads | E52: 2024.gads
B53: Resursi izdevumu segšanai | C53: 453536441 | D53: -1011180 | E53: Resursi izdevumu segšanai | F53: 319434266 | G53: 1011180
B54: Dotācija no vispārējiem ieņēmumiem | C54: 453536441 | D54: -1011180 | E54: Dotācija no vispārējiem ieņēmumiem | F54: 313179736 | G54: 1011180
B55: Vispārējā kārtībā sadalāmā dotācija no vispārējiem ieņēmumiem | C55: 453536441 | D55: -1011180 | E55: Vispārējā kārtībā sadalāmā dotācija no vispārējiem ieņēmumiem | F55: 313179736 | G55: 1011180
B56: Izdevumi – kopā | C56: 453536441 | D56: -1011180 | E56: Izdevumi – kopā | F56: 318618771 | G56: 1011180
B57: Uzturēšanas izdevumi | C57: 453536441 | D57: -1011180 | E57: Uzturēšanas izdevumi | F57: 312150115 | G57: 1011180
B58: Transferti viena budžeta veida ietvaros un uzturēšanas izdevumu transferti starp budžeta veidiem | C58: 453536441 | D58: -1011180 | E58: Subsīdijas, dotācijas, sociālie maksājumi un kompensācijas | F58: 50762550 | G58: 1011180
B59: Pārējie valsts budžeta uzturēšanas izdevumu transferti citiem budžetiem | C59: 453536441 | D59: -1011180 | E59: Subsīdijas un dotācijas | F59: 40390549 | G59: 1011180
B60: Pārējie valsts budžeta uzturēšanas izdevumu transferti pašvaldībām | C60: 453536441 | D60: -1011180
B61: Saskaņā ar Ministru kabineta 2021. gada 5. oktobra sēdes protokollēmumu Nr.66, 28.§. tiek pārdalīts finansējums 1 011 180 euro apmērā no 62.resora budžeta programmas 01.00.00. "Mērķdotācijas izglītības pasākumiem" uz 15. resora budžeta apakšprogrammu 01.05.00 Dotācija privātajām mācību iestādēm, lai nodrošinātu pedagogu darba samaksu 2022. gadā un turpmāk, ņemot vērā pedagogu minimālās algas likmes palielināšanu līdz 830 euro un pirmskolas pedagogu minimālās algas likmes palielināšanu līdz 872 euro sākot ar 2021. gada 1. septembri un izglītojamo skaita uz 2021. gada 1. septembri izmaiņu ietekmi.
B63: likumprojektam "Par valsts budžetu 2022.gadam"
A65: =A8+1 -> 12 | B65: 62.resors "Mērķdotācijas pašvaldībām" | E65: 15. Izglītības un zinātnes ministrija | H65: Atbalstīt
B66: 4.pielikums | E66: 4.pielikums
B67: 01.00.00. "Mērķdotācijas izglītības pasākumiem" | E67: 01.08.00 "Vispārējās izglītības atbalsta pasākumi"
B68: Resursi izdevumu segšanai | C68: 57454704 | D68: -33833 | E68: Resursi izdevumu segšanai | F68: 398632 | G68: 33833
B69: Dotācija no vispārējiem ieņēmumiem | C69: 57454704 | D69: -33833 | E69: Dotācija no vispārējiem ieņēmumiem | F69: 398632 | G69: 33833
B70: Vispārējā kārtībā sadalāmā dotācija no vispārējiem ieņēmumiem | C70: 57454704 | D70: -33833 | E70: Vispārējā kārtībā sadalāmā dotācija no vispārējiem ieņēmumiem | F70: 398632 | G70: 33833
B71: Izdevumi – kopā | C71: 57454704 | D71: -33833 | E71: Izdevumi – kopā | F71: 398632 | G71: 33833
B72: Uzturēšanas izdevumi | C72: 57454704 | D72: -33833 | E72: Uzturēšanas izdevumi | F72: 398632 | G72: 33833
B73: Transferti viena budžeta veida ietvaros un uzturēšanas izdevumu transferti starp budžeta veidiem | C73: 57454704 | D73: -33833 | E73: Kārtējie izdevumi | F73: 64241 | G73: 24833
B74: Pārējie valsts budžeta uzturēšanas izdevumu transferti citiem budžetiem | C74: 57454704 | D74: -33833 | E74: Atlīdzība | F74: 64241 | G74: 24833
B75: Pārējie valsts budžeta uzturēšanas izdevumu transferti pašvaldībām | C75: 57454704 | D75: -33833 | E75: Transferti viena budžeta veida ietvaros un uzturēšanas izdevumu transferti starp budžeta veidiem | F75: 146942 | G75: 9000
E76: Pārējie valsts budžeta uzturēšanas izdevumu transferti citiem budžetiem | F76: 146942 | G76: 9000
E77: Pārējie valsts budžeta uzturēšanas izdevumu transferti pašvaldībām | F77: 146942 | G77: 9000
B78: Saskaņā ar Ministru kabineta 2021. gada 5. oktobra sēdes protokollēmumu Nr.66, 28.§. tiek pārdalīts finansējums 33 833 euro apmērā no 62.resora budžeta programmas 01.00.00. "Mērķdotācijas izglītības pasākumiem" uz 15. resora budžeta apakšprogrammu 01.08.00 Vispārējās izglītības atbalsta pasākumi, lai nodrošinātu pedagogu darba samaksu 2022. gadā un turpmāk, ņemot vērā pedagogu minimālās algas likmes palielināšanu līdz 830 euro un pirmskolas pedagogu minimālās algas likmes palielināšanu līdz 872 euro sākot ar 2021. gada 1. septembri un izglītojamo skaita uz 2021. gada 1. septembri izmaiņu ietekmi.
B80: likumprojektam "Par vidēja termiņa budžeta ietvaru 2022., 2023. un 2024.gadam"
A82: =A65 -> 12 | B82: 62. resors "Mērķdotācijas pašvaldībām" | E82: 15. Izglītības un zinātnes ministrija | H82: Atbalstīt
B83: 3.pielikums | E83: 3.pielikums
B84: I Valsts pamatfunkciju īstenošana | E84: I Valsts pamatfunkciju īstenošana
B85: 2022.gads | E85: 2022.gads
B86: Resursi izdevumu segšanai | C86: 431222629 | D86: -33833 | E86: Resursi izdevumu segšanai | F86: 334326783 | G86: 33833
B87: Dotācija no vispārējiem ieņēmumiem | C87: 431222629 | D87: -33833 | E87: Dotācija no vispārējiem ieņēmumiem | F87: 327039183 | G87: 33833
B88: Vispārējā kārtībā sadalāmā dotācija no vispārējiem ieņēmumiem | C88: 431222629 | D88: -33833 | E88: Vispārējā kārtībā sadalāmā dotācija no vispārējiem ieņēmumiem | F88: 327039183 | G88: 33833
B89: Izdevumi – kopā | C89: 431222629 | D89: -33833 | E89: Izdevumi – kopā | F89: 316113777 | G89: 33833
B90: Uzturēšanas izdevumi | C90: 431222629 | D90: -33833 | E90: Uzturēšanas izdevumi | F90: 304193418 | G90: 33833
B91: Transferti viena budžeta veida ietvaros un uzturēšanas izdevumu transferti starp budžeta veidiem | C91: 431222629 | D91: -33833 | E91: Kārtējie izdevumi | F91: 91447468 | G91: 24833
B92: Pārējie valsts budžeta uzturēšanas izdevumu transferti citiem budžetiem | C92: 431222629 | D92: -33833 | E92: Atlīdzība | F92: 66539025 | G92: 24833
B93: Pārējie valsts budžeta uzturēšanas izdevumu transferti pašvaldībām | C93: 431222629 | D93: -33833 | E93: Transferti viena budžeta veida ietvaros un uzturēšanas izdevumu transferti starp budžeta veidiem | F93: 159081342 | G93: 9000
E94: Pārējie valsts budžeta uzturēšanas izdevumu transferti citiem budžetiem | F94: 158919688 | G94: 9000
E95: Pārējie valsts budžeta uzturēšanas izdevumu transferti pašvaldībām | F95: 29076964 | G95: 9000
B96: 2023.gads | E96: 2023.gads
B97: Resursi izdevumu segšanai | C97: 453536441 | D97: -33833 | E97: Resursi izdevumu segšanai | F97: 318678839 | G97: 33833
B98: Dotācija no vispārējiem ieņēmumiem | C98: 453536441 | D98: -33833 | E98: Dotācija no vispārējiem ieņēmumiem | F98: 311946569 | G98: 33833
B99: Vispārējā kārtībā sadalāmā dotācija no vispārējiem ieņēmumiem | C99: 453536441 | D99: -33833 | E99: Vispārējā kārtībā sadalāmā dotācija no vispārējiem ieņēmumiem | F99: 311946569 | G99: 33833
B100: Izdevumi – kopā | C100: 453536441 | D100: -33833 | E100: Izdevumi – kopā | F100: 317863344 | G100: 33833
B101: Uzturēšanas izdevumi | C101: 453536441 | D101: -33833 | E101: Uzturēšanas izdevumi | F101: 311394688 | G101: 33833
B102: Transferti viena budžeta veida ietvaros un uzturēšanas izdevumu transferti starp budžeta veidiem | C102: 453536441 | D102: -33833 | E102: Kārtējie izdevumi | F102: 94882351 | G102: 24833
B103: Pārējie valsts budžeta uzturēšanas izdevumu transferti citiem budžetiem | C103: 453536441 | D103: -33833 | E103: Atlīdzība | F103: 70190179 | G103: 24833
B104: Pārējie valsts budžeta uzturēšanas izdevumu transferti pašvaldībām | C104: 453536441 | D104: -33833 | E104: Transferti viena budžeta veida ietvaros un uzturēšanas izdevumu transferti starp budžeta veidiem | F104: 162082310 | G104: 9000
E105: Pārējie valsts budžeta uzturēšanas izdevumu transferti citiem budžetiem | F105: 162082310 | G105: 9000
E106: Pārējie valsts budžeta uzturēšanas izdevumu transferti pašvaldībām | F106: 30434168 | G106: 9000
B107: 2024.gads | E107: 2024.gads
B108: Resursi izdevumu segšanai | C108: 453536441 | D108: -33833 | E108: Resursi izdevumu segšanai | F108: 319434266 | G108: 33833
B109: Dotācija no vispārējiem ieņēmumiem | C109: 453536441 | D109: -33833 | E109: Dotācija no vispārējiem ieņēmumiem | F109: 313179736 | G109: 33833
B110: Vispārējā kārtībā sadalāmā dotācija no vispārējiem ieņēmumiem | C110: 453536441 | D110: -33833 | E110: Vispārējā kārtībā sadalāmā dotācija no vispārējiem ieņēmumiem | F110: 313179736 | G110: 33833
B111: Izdevumi – kopā | C111: 453536441 | D111: -33833 | E111: Izdevumi – kopā | F111: 318618771 | G111: 33833
B112: Uzturēšanas izdevumi | C112: 453536441 | D112: -33833 | E112: Uzturēšanas izdevumi | F112: 312150115 | G112: 33833
B113: Transferti viena budžeta veida ietvaros un uzturēšanas izdevumu transferti starp budžeta veidiem | C113: 453536441 | D113: -33833 | E113: Kārtējie izdevumi | F113: 94848910 | G113: 24833
B114: Pārējie valsts budžeta uzturēšanas izdevumu transferti citiem budžetiem | C114: 453536441 | D114: -33833 | E114: Atlīdzība | F114: 70158574 | G114: 24833
B115: Pārējie valsts budžeta uzturēšanas izdevumu transferti pašvaldībām | C115: 453536441 | D115: -33833 | E115: Transferti viena budžeta veida ietvaros un uzturēšanas izdevumu transferti starp budžeta veidiem | F115: 163612527 | G115: 9000
E116: Pārējie valsts budžeta uzturēšanas izdevumu transferti citiem budžetiem | F116: 163612527 | G116: 9000
E117: Pārējie valsts budžeta uzturēšanas izdevumu transferti pašvaldībām | F117: 30572489 | G117: 9000
B118: Saskaņā ar Ministru kabineta 2021. gada 5. oktobra sēdes protokollēmumu Nr.66, 28.§. tiek pārdalīts finansējums 33 833 euro apmērā no 62.resora budžeta programmas 01.00.00. "Mērķdotācijas izglītības pasākumiem" uz 15. resora budžeta apakšprogrammu 01.08.00 Vispārējās izglītības atbalsta pasākumi, lai nodrošinātu pedagogu darba samaksu 2022. gadā un turpmāk, ņemot vērā pedagogu minimālās algas likmes palielināšanu līdz 830 euro un pirmskolas pedagogu minimālās algas likmes palielināšanu līdz 872 euro sākot ar 2021. gada 1. septembri un izglītojamo skaita uz 2021. gada 1. septembri izmaiņu ietekmi.

Sheet LM
C1: Pieņemts pirmajā lasījumā | D1: Priekšlikums par izmaiņām | F1: Pieņemts pirmajā lasījumā | G1: Priekšlikums par izmaiņām | H1: Priekšlikums MK atzinumam
B4: 18. Labklājības ministrija
B6: likumprojektam "Par valsts budžetu 2022.gadam"
A8: =IZM!A65+1 -> 13 | B8: 18.Labklājības ministrija (speciālais budžets) | E8: 18.Labklājības ministrija | H8: Atbalstīt
B9: 5.pielikums | E9: 4.pielikums
B10: 04.01.00 Valsts pensiju speciālais budžets | E10: 05.01.00 Sociālās rehabilitācijas valsts programmas
B11: Ieņēmumi – kopā | C11: 2492891538 | D11: 0 | E11: Resursi izdevumu segšanai | F11: 71736562 | G11: 5861
B12: Nodokļu ieņēmumi | C12: 2025073327 | E12: Dotācija no vispārējiem ieņēmumiem | F12: 71736562 | G12: 5861
B13: Sociālās apdrošināšanas iemaksas – kopā | C13: 2025073327 | E13: Vispārējā kārtībā sadalāmā dotācija no vispārējiem ieņēmumiem | F13: 71736562 | G13: 5861
B14: Sociālās apdrošināšanas iemaksas | C14: 2025073327 | E14: Izdevumi - kopā | F14: 71736562 | G14: 5861
B15: Brīvprātīgās sociālās apdrošināšanas iemaksas | C15: 205000 | E15: Uzturēšanas izdevumi | F15: 71736562 | G15: 5861
B16: Brīvprātīgās sociālās apdrošināšanas iemaksas valsts pensiju apdrošināšanai | C16: 205000 | E16: Kārtējie izdevumi | F16: 71603
B17: Ieņēmumi valsts speciālajā budžetā no valsts sociālās apdrošināšanas obligāto iemaksu sadales | C17: 2024868327 | E17: Preces un pakalpojumi | F17: 71603
B18: Valsts sociālās apdrošināšanas obligātās iemaksas valsts pensiju apdrošināšanai | C18: 2024868327 | E18: Subsīdijas, dotācijas, sociālie maksājumi un kompensācijas | F18: 21877397 | G18: 5861
B19: Nenodokļu ieņēmumi | C19: 57561832 | E19: Subsīdijas un dotācijas | F19: 21876077 | G19: 5861
B20: Transferti | C20: 410256379 | E20: Sociāla rakstura maksājumi un kompensācijas | F20: 1320
B21: Valsts budžeta transferti | C21: 410256379 | E21: Transferti viena budžeta veida ietvaros un uzturēšanas izdevumu transferti starp budžeta veidiem | F21: 49787562
B22: Valsts speciālajā budžetā saņemtie transferti no valsts pamatbudžeta | C22: 205965246 | E22: Pārējie valsts budžeta uzturēšanas izdevumu transferti citiem budžetiem | F22: 49787562
B23: Valsts speciālā budžeta savstarpējie transferti | C23: 204291133 | E23: Pārējie valsts budžeta uzturēšanas izdevumu transferti pašvaldībām | F23: 49787562
B24: Valsts sociālās apdrošināšanas speciālā budžeta transferti | C24: 204291133
B25: No nodarbinātības speciālā budžeta valsts pensiju apdrošināšanai | C25: 31868443
B26: No darba negadījumu speciālā budžeta valsts pensiju apdrošināšanai | C26: 6469352
B27: No invaliditātes, maternitātes un slimības speciālā budžeta valsts pensiju apdrošināšanai | C27: 165953338
B28: Izdevumi – kopā | C28: 2400018872 | D28: -5861
B29: Uzturēšanas izdevumi | C29: 2400018872 | D29: -5861
B30: Subsīdijas, dotācijas, sociālie maksājumi un kompensācijas | C30: 2386051983
B31: Sociāla rakstura maksājumi un kompensācijas | C31: 2386051983
B32: Transferti viena budžeta veida ietvaros un uzturēšanas izdevumu transferti starp budžeta veidiem | C32: 13966889 | D32: -5861
B33: Valsts budžeta transferti un uzturēšanas izdevumu transferti | C33: 13966889 | D33: -5861
B34: Valsts budžeta transferti no valsts speciālā budžeta uz valsts speciālo budžetu | C34: 13966889 | D34: -5861
B35: Finansiālā bilance | C35: 92872666 | D35: 5861
B36: Finansēšana | C36: -92872666 | D36: -5861
B37: Naudas līdzekļi | C37: -92872666 | D37: -5861
B38: Valsts speciālā budžeta naudas līdzekļu atlikumu izmaiņas palielinājums (-) vai samazinājums (+) | C38: -92872666 | D38: -5861
B39: 04.05.00 Valsts sociālās apdrošināšanas aģentūras speciālais budžets
B40: Ieņēmumi – kopā | C40: 24263955 | D40: -5861
B41: Nenodokļu ieņēmumi | C41: 1026255
B42: Ieņēmumi no maksas pakalpojumiem un citi pašu ieņēmumi – kopā | C42: 16105
B43: Transferti | C43: 23221595 | D43: -5861
B44: Valsts budžeta transferti | C44: 23221595 | D44: -5861
B45: Valsts speciālajā budžetā saņemtie transferti no valsts pamatbudžeta | C45: 3399157
B46: Valsts speciālā budžeta savstarpējie transferti | C46: 19822438 | D46: -5861
B47: Valsts sociālās apdrošināšanas speciālā budžeta transferti | C47: 19822438 | D47: -5861
B48: No valsts pensiju speciālā budžeta ieskaitītie līdzekļi Valsts sociālās apdrošināšanas aģentūrai | C48: 13966889 | D48: -5861
B49: No nodarbinātības speciālā budžeta ieskaitītie līdzekļi Valsts sociālās apdrošināšanas aģentūrai | C49: 689822
B50: No darba negadījumu speciālā budžeta ieskaitītie līdzekļi Valsts sociālās apdrošināšanas aģentūrai | C50: 412306
B51: No invaliditātes, maternitātes un slimības speciālā budžeta ieskaitītie līdzekļi Valsts sociālās apdrošināšanas aģentūrai | C51: 4753421
B52: Izdevumi – kopā | C52: 24263955 | D52: -5861
B53: Uzturēšanas izdevumi | C53: 21933049 | D53: -5861
B54: Kārtējie izdevumi | C54: 21912735 | D54: -5861
B55: Atlīdzība | C55: 15463536 | D55: -5861
B56: Preces un pakalpojumi | C56: 6449199
B57: Kārtējie maksājumi Eiropas Savienības budžetā un starptautiskā sadarbība | C57: 20314
B58: Starptautiskā sadarbība | C58: 20314
B59: Kapitālie izdevumi | C59: 2330906
B60: Pamatkapitāla veidošana | C60: 2330906
B61: Pamatojoties uz Labklājības ministrijas un Veselības ministrijas kopīgo priekšlikumu likumprojekta “Grozījumi likumā “Par maternitātes un slimības apdrošināšanu”” priekšlikumiem 2.lasījumam, kas paredz valsts apmaksāto darbnespējas dienu skaita palielināšanu ieviest no 2022.gada 1.aprīļa (iepriekš no 2022.gada 1.janvāra), speciālā budžeta apakšprogrammā 04.05.00 “Valsts sociālās apdrošināšanas aģentūras speciālais budžets” samazināti izdevumi atlīdzībai par 8 318 euro 2022.gadā. Izdevumu samazinājums valsts sociālās apdrošināšanas aģentūras speciālajā budžetā tiks nodrošināts, samazinot pārējo speciālo budžetu uzturēšanas izdevumu transfertus no valsts speciālā budžeta uz valsts speciālo budžetu atbilstoši to īpatsvariem valsts sociālās apdrošināšanas speciālajā budžetā. Atbilstoši apakšprogrammas 04.01.00 “Valsts pensiju speciālais budžets” 2022.gada ieņēmumu īpatsvaram valsts sociālās apdrošināšanas speciālajā budžetā (70,46%) samazināti izdevumi valsts budžeta uzturēšanas izdevumu transfertiem no valsts speciālā budžeta uz valsts speciālo budžetu 5 861 euro apmērā, palielinot valsts pensiju speciālā budžeta naudas līdzekļu atlikumu, vienlaikus apakšprogrammā 04.05.00 “Valsts sociālās apdrošināšanas aģentūras speciālais budžets” samazinot ieņēmumus no valsts pensiju speciālā budžeta ieskaitītajiem līdzekļiem Valsts sociālās apdrošināšanas aģentūrai un izdevumus atlīdzībai. Izdevumu samazinājums apakšprogrammā 04.01.00 “Valsts pensiju speciālais budžets” palielina valsts budžeta fiskālo telpu 2022.gadam un fiskālās telpas palielinājums tiks novirzīts LM pamatbudžeta apakšprogrammai 05.01.00 “Sociālās rehabilitācijas valsts programmas” (kopējais finansējuma apmērs 1 738 729 euro apmērā, attiecībā uz šo priekšlikumu - 5 861 euro), lai 2022.gadā nodrošinātu valsts nodrošināto tehnisko palīglīdzekļu pieejamības uzlabošanu atbilstoši personu ar funkcionāliem traucējumiem vajadzībām. Papildu finansējums paredzēts, lai veicinātu personu ar kustību traucējumiem vai anatomiskiem defektiem iekļaušanos sabiedrībā, tostarp uzlabojot iespējas strādāt algotu darbu un iegūt izglītību. Plānots izsniegt papildus vidēji 3 303 TPL vienību gadā. LM priekšlikumam nav fiskālas ietekmes uz valsts konsolidētā budžeta izdevumiem.
B63: likumprojektam "Par vidēja termiņa budžeta ietvaru 2022., 2023. un 2024.gadam"
A65: =A8 -> 13 | B65: 18.Labklājības ministrija (speciālais budžets) | E65: 18. Labklājības ministrija | H65: Atbalstīt
B66: 3.pielikums | E66: 3.pielikums
B67: I. Valsts pamatfunkciju īstenošana | E67: I. Valsts pamatfunkciju īstenošana
B68: 2022.gads | E68: 2022.gads
B69: Ieņēmumi – kopā | C69: 3437530586 | D69: 0 | E69: Resursi izdevumu segšanai | F69: =F70+F71+F79 -> 878302035 | G69: =G79 -> 5861
B70: Nodokļu ieņēmumi | C70: 3133344030 | E70: Ieņēmumi no maksas pakalpojumiem un citi pašu ieņēmumi – kopā | F70: 7737228
B71: Sociālās apdrošināšanas iemaksas – kopā | C71: 3133344030 | E71: Transferti | F71: =F72+F76 -> 199932
B72: Nenodokļu ieņēmumi | C72: 60333819 | E72: Valsts budžeta transferti | F72: =F73 -> 92122
B73: Ieņēmumi no maksas pakalpojumiem un citi pašu ieņēmumi – kopā | C73: 16105 | E73: Valsts pamatbudžeta savstarpējie transferti | F73: =F74 -> 92122
B74: Transferti | C74: 243836632 | E74: Valsts pamatbudžeta iestāžu saņemtie transferti no valsts pamatbudžeta | F74: =F75 -> 92122
B75: Valsts budžeta transferti | C75: 243836632 | E75: Valsts pamatbudžeta iestāžu saņemtie transferti no valsts pamatbudžeta dotācijas no vispārējiem ieņēmumiem | F75: 92122
B76: Izdevumi – kopā | C76: 3387127470 | D76: -5861 | E76: Pašvaldību budžeta transferti | F76: =F77 -> 107810
B77: Uzturēšanas izdevumi | C77: 3384796564 | D77: -5861 | E77: Valsts budžeta iestāžu saņemtie transferti no pašvaldībām | F77: =F78 -> 107810
B78: Kārtējie izdevumi | C78: 23292063 | D78: -5861 | E78: Valsts budžeta iestāžu saņemtie transferti (izņemot atmaksas) no pašvaldībām | F78: 107810
B79: Atlīdzība | C79: 16704150 | D79: -5861 | E79: Dotācija no vispārējiem ieņēmumiem | F79: =F80 -> 870364875 | G79: =G80 -> 5861
B80: Preces un pakalpojumi | C80: 6587913 | E80: Vispārējā kārtībā sadalāmā dotācija no vispārējiem ieņēmumiem | F80: 870364875 | G80: =G81 -> 5861
B81: Subsīdijas, dotācijas, sociālie maksājumi un kompensācijas | C81: 3355609982 | E81: Izdevumi - kopā | F81: =F82+F96 -> 878302035 | G81: =G82+G96 -> 5861
B82: Subsīdijas un dotācijas | C82: 2193380 | E82: Uzturēšanas izdevumi | F82: =F83+F86+F89+F91 -> 869417989 | G82: =G86 -> 5861
B83: Sociāla rakstura maksājumi un kompensācijas | C83: 3353416602 | E83: Kārtējie izdevumi | F83: =F84+F85 -> 78587228
B84: Kārtējie maksājumi Eiropas Savienības budžetā un starptautiskā sadarbība | C84: 20314 | E84: Atlīdzība | F84: 61001667
B85: Starptautiskā sadarbība | C85: 20314 | E85: Preces un pakalpojumi | F85: 17585561
B86: Transferti viena budžeta veida ietvaros un uzturēšanas izdevumu transferti starp budžeta veidiem | C86: 5874205 | E86: Subsīdijas, dotācijas, sociālie maksājumi un kompensācijas | F86: =F87+F88 -> 497687451 | G86: 5861
B87: Pārējie valsts budžeta uzturēšanas izdevumu transferti citiem budžetiem | C87: 5874205 | E87: Subsīdijas un dotācijas | F87: 24913176 | G87: 5861
B88: Pārējie valsts budžeta uzturēšanas izdevumu transferti pašvaldībām | C88: 5742578 | E88: Sociāla rakstura maksājumi un kompensācijas | F88: 472774275
B89: Pārējie valsts budžeta uzturēšanas izdevumu transferti valsts budžeta daļēji finansētām atvasinātām publiskām personām un budžeta nefinansētām iestādēm | C89: 131627 | E89: Kārtējie maksājumi Eiropas Savienības budžetā un starptautiskā sadarbība | F89: =F90 -> 179787
B90: Kapitālie izdevumi | C90: 2330906 | E90: Starptautiskā sadarbība | F90: 179787
B91: Pamatkapitāla veidošana | C91: 2330906 | E91: Transferti viena budžeta veida ietvaros un uzturēšanas izdevumu transferti starp budžeta veidiem | F91: =F92+F94 -> 292963523
B92: Finansiālā bilance | C92: 50403116 | D92: 5861 | E92: Valsts budžeta transferti un uzturēšanas izdevumu transferti | F92: =F93 -> 242175961
B93: Finansēšana | C93: -50403116 | D93: -5861 | E93: Valsts budžeta uzturēšanas izdevumu transferti no valsts pamatbudžeta uz valsts speciālo budžetu | F93: 242175961
B94: Naudas līdzekļi | C94: -50403116 | D94: -5861 | E94: Pārējie valsts budžeta uzturēšanas izdevumu transferti citiem budžetiem | F94: =F95 -> 50787562
B95: Valsts speciālā budžeta naudas līdzekļu atlikumu izmaiņas palielinājums (-) vai samazinājums (+) | C95: -50403116 | D95: -5861 | E95: Pārējie valsts budžeta uzturēšanas izdevumu transferti pašvaldībām | F95: 50787562
E96: Kapitālie izdevumi | F96: =F97+F98 -> 8884046
E97: Pamatkapitāla veidošana | F97: 7529619
E98: Kapitālo izdevumu transferti | F98: =F100 -> 1354427
E99: Valsts budžeta kapitālo izdevumu transferti | F99: =F100 -> 1354427
E100: Valsts budžeta kapitālo izdevumu transferti no valsts pamatbudžeta uz valsts speciālo budžetu | F100: 1354427
B101: Pamatojoties uz Labklājības ministrijas un Veselības ministrijas kopīgo priekšlikumu likumprojekta “Grozījumi likumā “Par maternitātes un slimības apdrošināšanu”” priekšlikumiem 2.lasījumam, kas paredz valsts apmaksāto darbnespējas dienu skaita palielināšanu ieviest no 2022.gada 1.aprīļa (iepriekš no 2022.gada 1.janvāra), speciālā budžeta apakšprogrammā 04.05.00 “Valsts sociālās apdrošināšanas aģentūras speciālais budžets” samazināti izdevumi atlīdzībai par 8 318 euro 2022.gadā. Izdevumu samazinājums valsts sociālās apdrošināšanas aģentūras speciālajā budžetā tiks nodrošināts, samazinot pārējo speciālo budžetu uzturēšanas izdevumu transfertus no valsts speciālā budžeta uz valsts speciālo budžetu atbilstoši to īpatsvariem valsts sociālās apdrošināšanas speciālajā budžetā. Atbilstoši apakšprogrammas 04.01.00 “Valsts pensiju speciālais budžets” 2022.gada ieņēmumu īpatsvaram valsts sociālās apdrošināšanas speciālajā budžetā (70,46%) samazināti izdevumi valsts budžeta uzturēšanas izdevumu transfertiem no valsts speciālā budžeta uz valsts speciālo budžetu 5 861 euro apmērā, palielinot valsts pensiju speciālā budžeta naudas līdzekļu atlikumu, vienlaikus apakšprogrammā 04.05.00 “Valsts sociālās apdrošināšanas aģentūras speciālais budžets” samazinot ieņēmumus no valsts pensiju speciālā budžeta ieskaitītajiem līdzekļiem Valsts sociālās apdrošināšanas aģentūrai un izdevumus atlīdzībai. Izdevumu samazinājums apakšprogrammā 04.01.00 “Valsts pensiju speciālais budžets” palielina valsts budžeta fiskālo telpu 2022.gadam un fiskālās telpas palielinājums tiks novirzīts LM pamatbudžeta apakšprogrammai 05.01.00 “Sociālās rehabilitācijas valsts programmas” (kopējais finansējuma apmērs 1 738 729 euro apmērā, attiecībā uz šo priekšlikumu - 5 861 euro), lai 2022.gadā nodrošinātu valsts nodrošināto tehnisko palīglīdzekļu pieejamības uzlabošanu atbilstoši personu ar funkcionāliem traucējumiem vajadzībām. Papildu finansējums paredzēts, lai veicinātu personu ar kustību traucējumiem vai anatomiskiem defektiem iekļaušanos sabiedrībā, tostarp uzlabojot iespējas strādāt algotu darbu un iegūt izglītību. Plānots izsniegt papildus vidēji 3 303 TPL vienību gadā. LM priekšlikumam nav fiskālas ietekmes uz valsts konsolidētā budžeta izdevumiem.
B103: likumprojektam "Par valsts budžetu 2022.gadam"
A105: =A8+1 -> 14 | B105: 18.Labklājības ministrija (speciālais budžets) | E105: 18.Labklājības ministrija | H105: Atbalstīt
B106: 5.pielikums | E106: 4.pielikums
B107: 04.02.00 Nodarbinātības speciālais budžets | E107: 05.01.00 Sociālās rehabilitācijas valsts programmas
B108: Ieņēmumi – kopā | C108: 137057993 | D108: 0 | E108: Resursi izdevumu segšanai | F108: 71736562 | G108: 289
...

Sheet TM
C1: Pieņemts pirmajā lasījumā | D1: Priekšlikums par izmaiņām | F1: Pieņemts pirmajā lasījumā | G1: Priekšlikums par izmaiņām | H1: Priekšlikums MK atzinumam
B4: 19. Tieslietu ministrija
B6: likumprojektam "Par valsts budžetu 2022.gadam"
A8: =LM!A396+1 -> 18 | B8: 19. Tieslietu ministrija | E8: 18. Labklājības ministrija | H8: Atbalstīt
B9: 4.pielikums | E9: 4.pielikums
B10: 03.02.00 Apgabaltiesas un rajonu (pilsētu) tiesas | E10: 20.02.00 Izdienas pensijas
B11: Resursi izdevumu segšanai | C11: 75679914 | D11: -148000 | E11: Resursi izdevumu segšanai | F11: 66588792 | G11: 148000
B12: Ieņēmumi no maksas pakalpojumiem un citi pašu ieņēmumi – kopā | C12: 759924 | E12: Dotācija no vispārējiem ieņēmumiem | F12: 66588792 | G12: 148000
B13: Dotācija no vispārējiem ieņēmumiem | C13: 74919990 | D13: -148000 | E13: Vispārējā kārtībā sadalāmā dotācija no vispārējiem ieņēmumiem | F13: 66588792 | G13: 148000
B14: Vispārējā kārtībā sadalāmā dotācija no vispārējiem ieņēmumiem | C14: 74919990 | D14: -148000 | E14: Izdevumi – kopā | F14: 66588792 | G14: 148000
B15: Izdevumi – kopā | C15: 75679914 | D15: -148000 | E15: Uzturēšanas izdevumi | F15: 66588792 | G15: 148000
B16: Uzturēšanas izdevumi | C16: 73543807 | D16: -148000 | E16: Subsīdijas, dotācijas, sociālie maksājumi un kompensācijas | F16: 66489015 | G16: 148000
B17: Kārtējie izdevumi | C17: 73380694 | D17: -148000 | E17: Sociāla rakstura maksājumi un kompensācijas | F17: 66489015 | G17: 148000
B18: Atlīdzība | C18: 56247972 | D18: -148000 | E18: Transferti viena budžeta veida ietvaros un uzturēšanas izdevumu transferti starp budžeta veidiem | F18: 99777
B19: Preces un pakalpojumi | C19: 17132722 | E19: Valsts budžeta transferti un uzturēšanas izdevumu transferti | F19: 99777
B20: Transferti viena budžeta veida ietvaros un uzturēšanas izdevumu transferti starp budžeta veidiem | C20: 163113 | E20: Valsts budžeta uzturēšanas izdevumu transferti no valsts pamatbudžeta uz valsts speciālo budžetu | F20: 99777
B21: Valsts budžeta transferti un uzturēšanas izdevumu transferti | C21: 163113
B22: Valsts budžeta transferti no valsts pamatbudžeta uz valsts pamatbudžetu | C22: 163113
B23: Valsts budžeta transferti no valsts pamatbudžeta dotācijas no vispārējiem ieņēmumiem uz valsts pamatbudžetu | C23: 163113
B24: Kapitālie izdevumi | C24: 2136107
B25: Pamatkapitāla veidošana | C25: 2136107
B26: Saskaņā ar Ministru kabineta 2021.gada 12.oktobra sēdes protokola Nr.69 26.§ 3.punktu tiek pārdalīts finansējums no Tieslietu ministrijas budžeta apakšprogrammas 03.02.00 “Apgabaltiesas un rajonu (pilsētu) tiesas” uz Labklājības ministrijas budžeta apakšprogrammu 20.02.00 “Izdienas pensijas” 2022.gadam 148 000 euro apmērā, lai nodrošinātu likumprojekta "Grozījumi Tiesnešu izdienas pensiju likumā" izpildi.
B28: likumprojektam "Par vidēja termiņa budžeta ietvaru 2022., 2023. un 2024.gadam"
A30: =A8 -> 18 | B30: 19. Tieslietu ministrija | E30: 18. Labklājības ministrija | H30: Atbalstīt
B31: 3.pielikums | E31: 3.pielikums
B32: I Valsts pamatfunkciju īstenošana | E32: I Valsts pamatfunkciju īstenošana
B33: 2022.gads | E33: 2022.gads
B34: Resursi izdevumu segšanai | C34: 309580038 | D34: -148000 | E34: Resursi izdevumu segšanai | F34: 878302035 | G34: 148000
B35: Ieņēmumi no maksas pakalpojumiem un citi pašu ieņēmumi – kopā | C35: 30039198 | E35: Ieņēmumi no maksas pakalpojumiem un citi pašu ieņēmumi – kopā | F35: 7737228
B36: Transferti | C36: 252957 | E36: Transferti | F36: 199932
B37: Valsts budžeta transferti | C37: 2957 | E37: Valsts budžeta transferti | F37: 92122
B38: Valsts pamatbudžeta savstarpējie transferti | C38: 2957 | E38: Valsts pamatbudžeta savstarpējie transferti | F38: 92122
B39: Valsts pamatbudžeta iestāžu saņemtie transferti no valsts pamatbudžeta | C39: 2957 | E39: Valsts pamatbudžeta iestāžu saņemtie transferti no valsts pamatbudžeta | F39: 92122
B40: Valsts pamatbudžeta iestāžu saņemtie transferti no valsts pamatbudžeta dotācijas no vispārējiem ieņēmumiem | C40: 2957 | E40: Valsts pamatbudžeta iestāžu saņemtie transferti no valsts pamatbudžeta dotācijas no vispārējiem ieņēmumiem | F40: 92122
B41: No valsts budžeta daļēji finansēto atvasināto publisko personu un budžeta nefinansēto iestāžu transferti | C41: 250000 | E41: Pašvaldību budžetu transferti | F41: 107810
B42: Valsts budžeta iestāžu saņemtie transferti no valsts budžeta daļēji finansētām atvasinātām publiskām personām un no budžeta nefinansētām iestādēm | C42: 250000 | E42: Valsts budžeta iestāžu saņemtie transferti no pašvaldībām | F42: 107810
B43: Valsts budžeta iestāžu saņemtie transferti no savas ministrijas, centrālās valsts iestādes padotībā esošām no valsts budžeta daļēji finansētām atvasinātām publiskām personām un budžeta nefinansētām iestādēm | C43: 250000 | E43: Valsts budžeta iestāžu saņemtie transferti (izņemot atmaksas) no pašvaldībām | F43: 107810
B44: Dotācija no vispārējiem ieņēmumiem | C44: 279287883 | D44: -148000 | E44: Dotācija no vispārējiem ieņēmumiem | F44: 870364875 | G44: 148000
B45: Vispārējā kārtībā sadalāmā dotācija no vispārējiem ieņēmumiem | C45: 279287883 | D45: -148000 | E45: Vispārējā kārtībā sadalāmā dotācija no vispārējiem ieņēmumiem | F45: 870364875 | G45: 148000
B46: Izdevumi – kopā | C46: 309764243 | D46: -148000 | E46: Izdevumi – kopā | F46: 878302035 | G46: 148000
B47: Uzturēšanas izdevumi | C47: 299266566 | D47: -148000 | E47: Uzturēšanas izdevumi | F47: 869417989 | G47: 148000
B48: Kārtējie izdevumi | C48: 230996883 | D48: -148000 | E48: Kārtējie izdevumi | F48: 78587228
B49: Atlīdzība | C49: 142432471 | D49: -148000 | E49: Atlīdzība | F49: 61001667
B50: Preces un pakalpojumi | C50: 88564412 | E50: Preces un pakalpojumi | F50: 17585561
B51: Subsīdijas, dotācijas, sociālie maksājumi un kompensācijas | C51: 67931889 | E51: Subsīdijas, dotācijas, sociālie maksājumi un kompensācijas | F51: 497687451 | G51: 148000
B52: Subsīdijas un dotācijas | C52: 4403933 | E52: Subsīdijas un dotācijas | F52: 24913176
B53: Sociāla rakstura maksājumi un kompensācijas | C53: 63527956 | E53: Sociāla rakstura maksājumi un kompensācijas | F53: 472774275 | G53: 148000
B54: Kārtējie maksājumi Eiropas Savienības budžetā un starptautiskā sadarbība | C54: 162276 | E54: Kārtējie maksājumi Eiropas Savienības budžetā un starptautiskā sadarbība | F54: 179787
B55: Starptautiskā sadarbība | C55: 162276 | E55: Starptautiskā sadarbība | F55: 179787
B56: Transferti viena budžeta veida ietvaros un uzturēšanas izdevumu transferti starp budžeta veidiem | C56: 175518 | E56: Transferti viena budžeta veida ietvaros un uzturēšanas izdevumu transferti starp budžeta veidiem | F56: 292963523
B57: Valsts budžeta transferti un uzturēšanas izdevumu transferti | C57: 163487 | E57: Valsts budžeta transferti un uzturēšanas izdevumu transferti | F57: 242175961
B58: Valsts budžeta uzturēšanas izdevumu transferti no valsts pamatbudžeta uz valsts speciālo budžetu | C58: 374 | E58: Valsts budžeta uzturēšanas izdevumu transferti no valsts pamatbudžeta uz valsts speciālo budžetu | F58: 242175961
B59: Valsts budžeta transferti no valsts pamatbudžeta uz valsts pamatbudžetu | C59: 163113 | E59: Pārējie valsts budžeta uzturēšanas izdevumu transferti citiem budžetiem | F59: 50787562
B60: Valsts budžeta transferti no valsts pamatbudžeta dotācijas no vispārējiem ieņēmumiem uz valsts pamatbudžetu | C60: 163113 | E60: Pārējie valsts budžeta uzturēšanas izdevumu transferti pašvaldībām | F60: 50787562
B61: Pārējie valsts budžeta uzturēšanas izdevumu transferti citiem budžetiem | C61: 12031 | E61: Kapitālie izdevumi | F61: 8884046
B62: Pārējie valsts budžeta uzturēšanas izdevumu transferti pašvaldībām | C62: 12031 | E62: Pamatkapitāla veidošana | F62: 7529619
B63: Kapitālie izdevumi | C63: 10497677 | E63: Kapitālo izdevumu transferti | F63: 1354427
B64: Pamatkapitāla veidošana | C64: 10497677 | E64: Valsts budžeta kapitālo izdevumu transferti | F64: 1354427
B65: Finansiālā bilance | C65: -184205 | E65: Valsts budžeta kapitālo izdevumu transferti no valsts pamatbudžeta uz valsts speciālo budžetu | F65: 1354427
B66: Finansēšana | C66: 184205
B67: Naudas līdzekļi | C67: 5241846
B68: Maksas pakalpojumu un citu pašu ieņēmumu naudas līdzekļu atlikumu izmaiņas palielinājums (-) vai samazinājums (+) | C68: 5241846
B69: Akcijas un cita līdzdalība pašu kapitālā | C69: -5057641
B70: Saskaņā ar Ministru kabineta 2021.gada 12.oktobra sēdes protokola Nr.69 26.§ 3.punktu tiek pārdalīts finansējums no Tieslietu ministrijas budžeta apakšprogrammas 03.02.00 “Apgabaltiesas un rajonu (pilsētu) tiesas” uz Labklājības ministrijas budžeta apakšprogrammu 20.02.00 “Izdienas pensijas” 2022.gadam 148 000 euro apmērā, lai nodrošinātu likumprojekta "Grozījumi Tiesnešu izdienas pensiju likumā" izpildi.

Sheet KM
C1: Pieņemts pirmajā lasījumā | D1: Priekšlikums par izmaiņām | F1: Pieņemts pirmajā lasījumā | G1: Priekšlikums par izmaiņām | H1: Priekšlikums MK atzinumam
B4: 22. Kultūras ministrija
B6: likumprojektam "Par valsts budžetu 2022.gadam"
A8: =TM!A8+1 -> 19 | B8: Valsts budžeta ieņēmumi | E8: 74. Gadskārtējā valsts budžeta izpildes procesā pārdalāmais finansējums | H8: Atbalstīt
B9: 2.pielikums | E9: 4.pielikums
B10: Valsts pamatbudžeta ieņēmumi | E10: 01.00.00 Apropriācijas rezerve
B11: Pievienotās vērtības nodoklis | C11: 3067525000 | D11: -1470872 | E11: Resursi izdevumu segšanai | F11: 42492373 | G11: -1470872
E12: Dotācija no vispārējiem ieņēmumiem | F12: 42492373 | G12: -1470872
E13: Vispārējā kārtībā sadalāmā dotācija no vispārējiem ieņēmumiem | F13: 42492373 | G13: -1470872
E14: Izdevumi – kopā | F14: 42492373 | G14: -1470872
E15: Uzturēšanas izdevumi | F15: 42492373 | G15: -1470872
E16: Subsīdijas, dotācijas, sociālie maksājumi un kompensācijas | F16: 42492373 | G16: -1470872
E17: Subsīdijas un dotācijas | F17: 42492373 | G17: -1470872
B20: Samazinot PNV likmi e-grāmatām, laikrakstiem un periodiskiem e-izdevumi un mediju saturam digitālajā formāta no 21% uz 5% veidojas ietekme uz valsts budžetu 1 470 872 euro, t.sk., par e-grāmatām 313 000 euro; laikrakstiem un periodiskiem e-izdevumi 1 000 000 euro; mediju saturam digitālajā formāta 157 872 euro.
B22: likumprojektam "Par vidēja termiņa budžeta ietvaru 2022., 2023. un 2024.gadam"
A24: =A8 -> 19 | B24: Valsts budžeta ieņēmumi | E24: 74. Gadskārtējā valsts budžeta izpildes procesā pārdalāmais finansējums | H24: Atbalstīt
B25: 2.pielikums | E25: 3.pielikums
E26: I. Valsts pamatfunkciju īstenošana
B27: 2022.gads | E27: 2022.gads
B28: Pievienotās vērtības nodoklis | C28: 3067525000 | D28: -1470872 | E28: Resursi izdevumu segšanai | F28: 261972494 | G28: -1470872
E29: Dotācija no vispārējiem ieņēmumiem | F29: 261972494 | G29: -1470872
E30: Vispārējā kārtībā sadalāmā dotācija no vispārējiem ieņēmumiem | F30: 261972494 | G30: -1470872
E31: Izdevumi – kopā | F31: 261972494 | G31: -1470872
E32: Uzturēšanas izdevumi | F32: 261972494 | G32: -1470872
E33: Subsīdijas, dotācijas, sociālie maksājumi un kompensācijas | F33: 261972494 | G33: -1470872
E34: Subsīdijas un dotācijas | F34: 261972494 | G34: -1470872
B35: 2023.gads | E35: 2023.gads
B36: Pievienotās vērtības nodoklis | C36: 3291845000 | D36: -1470872 | E36: Resursi izdevumu segšanai | F36: 132658291 | G36: -1470872
E37: Dotācija no vispārējiem ieņēmumiem | F37: 132658291 | G37: -1470872
E38: Vispārējā kārtībā sadalāmā dotācija no vispārējiem ieņēmumiem | F38: 132658291 | G38: -1470872
E39: Izdevumi – kopā | F39: 132658291 | G39: -1470872
E40: Uzturēšanas izdevumi | F40: 132658291 | G40: -1470872
E41: Subsīdijas, dotācijas, sociālie maksājumi un kompensācijas | F41: 132658291 | G41: -1470872
E42: Subsīdijas un dotācijas | F42: 132658291 | G42: -1470872
B43: 2024.gads | E43: 2024.gads
B44: Pievienotās vērtības nodoklis | C44: 3493587000 | D44: -1470872 | E44: Resursi izdevumu segšanai | F44: 134741730 | G44: -1470872
E45: Dotācija no vispārējiem ieņēmumiem | F45: 134741730 | G45: -1470872
E46: Vispārējā kārtībā sadalāmā dotācija no vispārējiem ieņēmumiem | F46: 134741730 | G46: -1470872
E47: Izdevumi – kopā | F47: 134741730 | G47: -1470872
E48: Uzturēšanas izdevumi | F48: 134741730 | G48: -1470872
E49: Subsīdijas, dotācijas, sociālie maksājumi un kompensācijas | F49: 134741730 | G49: -1470872
E50: Subsīdijas un dotācijas | F50: 134741730 | G50: -1470872
B51: Samazinot PNV likmi e-grāmatām, laikrakstiem un periodiskiem e-izdevumi un mediju saturam digitālajā formāta no 21% uz 5% veidojas ietekme uz valsts budžetu 1 470 872 euro, t.sk., par e-grāmatām 313 000 euro; laikrakstiem un periodiskiem e-izdevumi 1 000 000 euro; mediju saturam digitālajā formāta 157 872 euro.

Sheet VM
C1: Pieņemts pirmajā lasījumā | D1: Priekšlikums par izmaiņām | F1: Pieņemts pirmajā lasījumā | G1: Priekšlikums par izmaiņām | H1: Priekšlikums MK atzinumam
B4: 29. Veselības ministrija
B6: likumprojektam "Par valsts budžetu 2022.gadam"
A8: =KM!A8+1 -> 20 | E8: 29. Veselības ministrija | H8: Atbalstīt
B9: 2.pielikums | E9: 4.pielikums
B10: 2022.gads | E10: 39.03.00 Asins un asins komponentu nodrošināšana
B11: Pievienotās vērtības nodoklis | C11: 3067525000 | D11: =G11 -> 231284 | E11: Resursi izdevumu segšanai | F11: =F12+F13 -> 10562548 | G11: =G12+G13 -> 231284
E12: Ieņēmumi no maksas pakalpojumiem un citi pašu ieņēmumi | F12: 99977
E13: Dotācija no vispārējiem ieņēmumiem | F13: =F14 -> 10462571 | G13: =G14 -> 231284
E14: Vispārējā kārtībā sadalāmā dotācija no vispārējiem ieņēmumiem | F14: 10462571 | G14: =G15 -> 231284
E15: Izdevumi - kopā | F15: =F16+F24 -> 10562548 | G15: =G16+G24 -> 231284
E16: Uzturēšanas izdevumi | F16: =F17 -> 9313522 | G16: =G17+G20 -> 231284
E17: Kārtējie izdevumi | F17: =F18+F19 -> 9313522 | G17: =G18+G19 -> 231284
E18: Atlīdzība | F18: 4138568
E19: Preces un pakalpojumi | F19: 5174954 | G19: 231284
E20: Transferti viena budžeta veida ietvaros un uzturēšanas izdevumu transferti starp budžeta veidiem | G20: =G21 -> 0
E21: Valsts budžeta transferti un uzturēšanas izdevumu transferti | G21: =G22 -> 0
E22: Valsts budžeta transferti no valsts pamatbudžeta uz valsts pamatbudžetu | G22: =G23 -> 0
E23: Valsts budžeta transferti no valsts pamatbudžeta dotācijas no vispārējiem ieņēmumiem uz valsts pamatbudžetu | G23: 0
E24: Kapitālie izdevumi | F24: =F25 -> 1249026
E25: Pamatkapitāla veidošana | F25: 1249026
B26: Palielināti izdevumi atbilstoši pievienotās vērtības nodokļa ieņēmumu pieaugumam Veselības ministrijas pamatbudžeta apakšprogrammā 39.03.00 “Asins un asins komponentu nodrošināšana” 231 284 euro apmērā, lai Valsts asinsdonoru centram nodrošinātu Latvijas Republikas Senāta 2021.gada 22.marta sprieduma administratīvajā lietā Nr.A420143317 (SKA-123/2021) izpildei nepieciešamo finansējumu pievienotās vērtības nodokļa likmes pieaugumam (MK 26.10.2021. sēdes prot. Nr.72 45.§ 8.punkts).
B28: likumprojektam „Par vidēja termiņa budžeta ietvaru 2022., 2023. un 2024.gadam”
A30: =A8 -> 20 | E30: 29. Veselības ministrija | H30: Atbalstīt
B31: 2.pielikums | E31: 3.pielikums
B32: 2022.gads | E32: I. Valsts pamatfunkciju īstenošana
B33: Pievienotās vērtības nodoklis | E33: 2022.gads
C34: 3067525000 | D34: =G34 -> 231284 | E34: Resursi izdevumu segšanai | F34: =F35+F37 -> 1510198632 | G34: =G35+G38+G47 -> 231284
E35: Ieņēmumi no maksas pakalpojumiem un citi pašu ieņēmumi | F35: 15086477
E36: Dotācija no vispārējiem ieņēmumiem | F36: =F37 -> 1495112155 | G36: =G37 -> 231284
E37: Vispārējā kārtībā sadalāmā dotācija no vispārējiem ieņēmumiem | F37: 1495112155 | G37: =G38 -> 231284
E38: Izdevumi - kopā | F38: =F39+F55 -> 1.4834278e+09 | G38: =G39+G55 -> 231284
E39: Uzturēšanas izdevumi | F39: =F40+F43+F48+F46 -> 1.4749812e+09 | G39: =G40+G43+G48+G46 -> 231284
E40: Kārtējie izdevumi | F40: =F41+F42 -> 1.3612526e+08 | G40: =G41+G42 -> 231284
E41: Atlīdzība | F41: 115052951
E42: Preces un pakalpojumi | F42: 21072313 | G42: 231284
E43: Subsīdijas, dotācijas, sociālie maksājumi un kompensācijas | F43: =F44+F45 -> 1.2799006e+09
E44: Subsīdijas un dotācijas | F44: 1.2780292e+09
E45: Sociālā rakstura maksājumi un kompensācijas | F45: 1871386
E46: Kārtējie maksājumi Eiropas Savienības budžetā un starptautiskā sadarbība | F46: =F47 -> 381341
E47: Starptautiskā sadarbība | F47: 381341
E48: Transferti viena budžeta veida ietvaros un uzturēšanas izdevumu transferti starp budžeta veidiem | F48: =F49+F52 -> 58574029
E49: Valsts budžeta transferti un uzturēšanas izdevumu transferti | F49: 0
E50: Valsts budžeta transferti no valsts pamatbudžeta uz valsts pamatbudžetu | F50: 0
E51: Valsts budžeta transferti no valsts pamatbudžeta dotācijas no vispārējiem ieņēmumiem uz valsts pamatbudžetu | F51: 0
E52: Pārējie valsts budžeta uzturēšanas izdevumu transferti citiem budžetiem | F52: =F53+F54 -> 58574029
E53: Pārējie valsts budžeta uzturēšanas izdevumu transferti pašvaldībām | F53: 2423272
E54: Pārējie valsts budžeta uzturēšanas izdevumu transferti valsts budžeta daļēji finansētām atvasinātām publiskām personām un budžeta nefinansētām iestādēm | F54: 56150757
E55: Kapitālie izdevumi | F55: =F56 -> 8446550
E56: Pamatkapitāla veidošana | F56: 8446550
E57: Finansiālā bilance | F57: =F34-F38 -> 26770841
E58: Finansēšana | F58: =F38-F34 -> -26770841
E59: Naudas līdzekļi | F59: =F60 -> 832150
E60: Maksas pakalpojumu un citu pašu ieņēmumu naudas līdzekļu atlikumu izmaiņas palielinājums (-) vai samazinājums (+) | F60: 832150
E61: Akcijas un cita līdzdalība pašu kapitālā | F61: -27602991
B62: 2023.gads | E62: 2023.gads
B63: Pievienotās vērtības nodoklis | C63: 3291845000 | D63: =G63 -> 231284 | E63: Resursi izdevumu segšanai | F63: =F64+F66 -> 1470504847 | G63: =G64+G67+G76 -> 231284
E64: Ieņēmumi no maksas pakalpojumiem un citi pašu ieņēmumi | F64: 8086477
E65: Dotācija no vispārējiem ieņēmumiem | F65: =F66 -> 1462418370 | G65: =G66 -> 231284
E66: Vispārējā kārtībā sadalāmā dotācija no vispārējiem ieņēmumiem | F66: 1462418370 | G66: =G67 -> 231284
E67: Izdevumi - kopā | F67: =F68+F84 -> 1.4705048e+09 | G67: =G68+G84 -> 231284
E68: Uzturēšanas izdevumi | F68: =F69+F72+F77+F75 -> 1.466837e+09 | G68: =G69+G72+G77+G75 -> 231284
E69: Kārtējie izdevumi | F69: =F70+F71 -> 1.3571483e+08 | G69: =G70+G71 -> 231284
E70: Atlīdzība | F70: 114651281
E71: Preces un pakalpojumi | F71: 21063546 | G71: 231284
E72: Subsīdijas, dotācijas, sociālie maksājumi un kompensācijas | F72: =F73+F74 -> 1.2711644e+09
E73: Subsīdijas un dotācijas | F73: 1.269743e+09
E74: Sociālā rakstura maksājumi un kompensācijas | F74: 1421386
E75: Kārtējie maksājumi Eiropas Savienības budžetā un starptautiskā sadarbība | F75: =F76 -> 381341
E76: Starptautiskā sadarbība | F76: 381341
E77: Transferti viena budžeta veida ietvaros un uzturēšanas izdevumu transferti starp budžeta veidiem | F77: =F78+F81 -> 59576410
E78: Valsts budžeta transferti un uzturēšanas izdevumu transferti
E79: Valsts budžeta transferti no valsts pamatbudžeta uz valsts pamatbudžetu
E80: Valsts budžeta transferti no valsts pamatbudžeta dotācijas no vispārējiem ieņēmumiem uz valsts pamatbudžetu
E81: Pārējie valsts budžeta uzturēšanas izdevumu transferti citiem budžetiem | F81: =F82+F83 -> 59576410
E82: Pārējie valsts budžeta uzturēšanas izdevumu transferti pašvaldībām | F82: 2423272
E83: Pārējie valsts budžeta uzturēšanas izdevumu transferti valsts budžeta daļēji finansētām atvasinātām publiskām personām un budžeta nefinansētām iestādēm | F83: 57153138
E84: Kapitālie izdevumi | F84: =F85 -> 3667890
E85: Pamatkapitāla veidošana | F85: 3667890
E86: Finansiālā bilance | F86: =F63-F67 -> 0.43431473
E87: Finansēšana | F87: =F67-F63 -> -0.43431473
E88: Akcijas un cita līdzdalība pašu kapitālā | F88: 0
B89: 2024.gads | E89: 2024.gads
B90: Pievienotās vērtības nodoklis | C90: 3493587000 | D90: =G90 -> 231284 | E90: Resursi izdevumu segšanai | F90: =F91+F93 -> 1471197623 | G90: =G91+G94+G103 -> 231284
E91: Ieņēmumi no maksas pakalpojumiem un citi pašu ieņēmumi | F91: 8086477
E92: Dotācija no vispārējiem ieņēmumiem | F92: =F93 -> 1463111146 | G92: =G93 -> 231284
E93: Vispārējā kārtībā sadalāmā dotācija no vispārējiem ieņēmumiem | F93: 1463111146 | G93: =G94 -> 231284
E94: Izdevumi - kopā | F94: =F95+F111 -> 1.4711976e+09 | G94: =G95+G111 -> 231284
E95: Uzturēšanas izdevumi | F95: =F96+F99+F104+F102 -> 1.4677956e+09 | G95: =G96+G99+G104+G102 -> 231284
E96: Kārtējie izdevumi | F96: =F97+F98 -> 1.356807e+08 | G96: =G97+G98 -> 231284
E97: Atlīdzība | F97: 114398360
E98: Preces un pakalpojumi | F98: 21282345 | G98: 231284
E99: Subsīdijas, dotācijas, sociālie maksājumi un kompensācijas | F99: =F100+F101 -> 1.2711963e+09
E100: Subsīdijas un dotācijas | F100: 1.2697749e+09
E101: Sociālā rakstura maksājumi un kompensācijas | F101: 1421386
E102: Kārtējie maksājumi Eiropas Savienības budžetā un starptautiskā sadarbība | F102: =F103 -> 381341
E103: Starptautiskā sadarbība | F103: 381341
E104: Transferti viena budžeta veida ietvaros un uzturēšanas izdevumu transferti starp budžeta veidiem | F104: =F105+F108 -> 60537229
E105: Valsts budžeta transferti un uzturēšanas izdevumu transferti
E106: Valsts budžeta transferti no valsts pamatbudžeta uz valsts pamatbudžetu
...

Sheet 62.res
C1: Pieņemts pirmajā lasījumā | D1: Priekšlikums par izmaiņām | F1: Pieņemts pirmajā lasījumā | G1: Priekšlikums par izmaiņām | H1: Priekšlikums MK atzinumam
B4: 62.resors "Mērķdotācijas pašvaldībām" (15. Izglītības un zinātnes ministrija)
B6: likumprojektam "Par valsts budžetu 2022.gadam"
A8: =VM!A456+1 -> 25 | B8: 62.resors "Mērķdotācijas pašvaldībām" | E8: 62.resors "Mērķdotācijas pašvaldībām" | H8: Atbalstīt
B9: 4.pielikums | E9: 4.pielikums
B10: 01.00.00. "Mērķdotācijas izglītības pasākumiem" | E10: 05.00.00. "Mērķdotācijas pašvaldībām – pašvaldību izglītības iestāžu pedagogu darba samaksai un valsts sociālās apdrošināšanas obligātajām iemaksām"
B11: Resursi izdevumu segšanai | C11: 57454704 | D11: -350662 | E11: Resursi izdevumu segšanai | F11: 327365811 | G11: 350662
B12: Dotācija no vispārējiem ieņēmumiem | C12: 57454704 | D12: -350662 | E12: Dotācija no vispārējiem ieņēmumiem | F12: 327365811 | G12: 350662
B13: Vispārējā kārtībā sadalāmā dotācija no vispārējiem ieņēmumiem | C13: 57454704 | D13: -350662 | E13: Vispārējā kārtībā sadalāmā dotācija no vispārējiem ieņēmumiem | F13: 327365811 | G13: 350662
B14: Izdevumi – kopā | C14: 57454704 | D14: -350662 | E14: Izdevumi – kopā | F14: 327365811 | G14: 350662
B15: Uzturēšanas izdevumi | C15: 57454704 | D15: -350662 | E15: Uzturēšanas izdevumi | F15: 327365811 | G15: 350662
B16: Transferti viena budžeta veida ietvaros un uzturēšanas izdevumu transferti starp budžeta veidiem | C16: 57454704 | D16: -350662 | E16: Transferti viena budžeta veida ietvaros un uzturēšanas izdevumu transferti starp budžeta veidiem | F16: 327365811 | G16: 350662
B17: Pārējie valsts budžeta uzturēšanas izdevumu transferti citiem budžetiem | C17: 57454704 | D17: -350662 | E17: Pārējie valsts budžeta uzturēšanas izdevumu transferti citiem budžetiem | F17: 327365811 | G17: 350662
B18: Pārējie valsts budžeta uzturēšanas izdevumu transferti pašvaldībām | C18: 57454704 | D18: -350662 | E18: Pārējie valsts budžeta uzturēšanas izdevumu transferti pašvaldībām | F18: 327365811 | G18: 350662
B19: Iekšējā līdzekļu pārdale 350 662 euro apmērā no budžeta programmas 01.00.00 "Mērķdotācijas izglītības pasākumiem" uz budžeta programmu 05.00.00. "Mērķdotācijas pašvaldībām – pašvaldību izglītības iestāžu pedagogu darba samaksai un valsts sociālās apdrošināšanas obligātajām iemaksām", lai nodrošinātu pedagogu darba samaksu 2022. gadā un turpmāk, ņemot vērā pedagogu minimālās algas likmes palielināšanu līdz 830 euro un pirmskolas pedagogu minimālās algas likmes palielināšanu līdz 872 euro sākot ar 2021. gada 1. septembri un izglītojamo skaita uz 2021. gada 1. septembri izmaiņu ietekmi, saskaņā ar MK 05.10.2021. sēdes prot. Nr.66, 28.§.
B21: likumprojektam "Par vidēja termiņa budžeta ietvaru 2022., 2023. un 2024.gadam"
A23: =A8 -> 25 | B23: 62. resors "Mērķdotācijas pašvaldībām" | H23: Atbalstīt
B24: 3.pielikums
B25: I Valsts pamatfunkciju īstenošana
B26: 2022.gads
B27: Resursi izdevumu segšanai | C27: 431222629
B28: Dotācija no vispārējiem ieņēmumiem | C28: 431222629
B29: Vispārējā kārtībā sadalāmā dotācija no vispārējiem ieņēmumiem | C29: 431222629
B30: Izdevumi – kopā | C30: 431222629
B31: Uzturēšanas izdevumi | C31: 431222629
B32: Transferti viena budžeta veida ietvaros un uzturēšanas izdevumu transferti starp budžeta veidiem | C32: 431222629
B33: Pārējie valsts budžeta uzturēšanas izdevumu transferti citiem budžetiem | C33: 431222629
B34: Pārējie valsts budžeta uzturēšanas izdevumu transferti pašvaldībām | C34: 431222629
B37: 2023.gads
B38: Resursi izdevumu segšanai | C38: 453536441
B39: Dotācija no vispārējiem ieņēmumiem | C39: 453536441
B40: Vispārējā kārtībā sadalāmā dotācija no vispārējiem ieņēmumiem | C40: 453536441
B41: Izdevumi – kopā | C41: 453536441
B42: Uzturēšanas izdevumi | C42: 453536441
B43: Transferti viena budžeta veida ietvaros un uzturēšanas izdevumu transferti starp budžeta veidiem | C43: 453536441
B44: Pārējie valsts budžeta uzturēšanas izdevumu transferti citiem budžetiem | C44: 453536441
B45: Pārējie valsts budžeta uzturēšanas izdevumu transferti pašvaldībām | C45: 453536441
B48: 2024.gads
B49: Resursi izdevumu segšanai | C49: 453536441
B50: Dotācija no vispārējiem ieņēmumiem | C50: 453536441
B51: Vispārējā kārtībā sadalāmā dotācija no vispārējiem ieņēmumiem | C51: 453536441
B52: Izdevumi – kopā | C52: 453536441
B53: Uzturēšanas izdevumi | C53: 453536441
B54: Transferti viena budžeta veida ietvaros un uzturēšanas izdevumu transferti starp budžeta veidiem | C54: 453536441
B55: Pārējie valsts budžeta uzturēšanas izdevumu transferti citiem budžetiem | C55: 453536441
B56: Pārējie valsts budžeta uzturēšanas izdevumu transferti pašvaldībām | C56: 453536441
B59: Iekšējā līdzekļu pārdale 2022.gadā un turpmāk ik gadu 350 662 euro apmērā no budžeta programmas 01.00.00 "Mērķdotācijas izglītības pasākumiem" uz budžeta programmu 05.00.00. "Mērķdotācijas pašvaldībām – pašvaldību izglītības iestāžu pedagogu darba samaksai un valsts sociālās apdrošināšanas obligātajām iemaksām", lai nodrošinātu pedagogu darba samaksu 2022. gadā un turpmāk, ņemot vērā pedagogu minimālās algas likmes palielināšanu līdz 830 euro un pirmskolas pedagogu minimālās algas likmes palielināšanu līdz 872 euro sākot ar 2021. gada 1. septembri un izglītojamo skaita uz 2021. gada 1. septembri izmaiņu ietekmi, saskaņā ar MK 05.10.2021. sēdes prot. Nr.66, 28.§.
B61: likumprojektam "Par valsts budžetu 2022.gadam"
A63: =A23+1 -> 26 | B63: 62.resors "Mērķdotācijas pašvaldībām" | E63: 62.resors "Mērķdotācijas pašvaldībām" | H63: Atbalstīt
B64: 4.pielikums | E64: 4.pielikums
B65: 01.00.00. "Mērķdotācijas izglītības pasākumiem" | E65: 10.00.00. "Mērķdotācijas pašvaldībām – pašvaldību izglītības iestādēs bērnu no piecu gadu vecuma izglītošanā nodarbināto pedagogu darba samaksai un valsts sociālās apdrošināšanas obligātajām iemaksām"
B66: Resursi izdevumu segšanai | C66: 57454704 | D66: -429854 | E66: Resursi izdevumu segšanai | F66: 45423634 | G66: 429854
B67: Dotācija no vispārējiem ieņēmumiem | C67: 57454704 | D67: -429854 | E67: Dotācija no vispārējiem ieņēmumiem | F67: 45423634 | G67: 429854
B68: Vispārējā kārtībā sadalāmā dotācija no vispārējiem ieņēmumiem | C68: 57454704 | D68: -429854 | E68: Vispārējā kārtībā sadalāmā dotācija no vispārējiem ieņēmumiem | F68: 45423634 | G68: 429854
B69: Izdevumi – kopā | C69: 57454704 | D69: -429854 | E69: Izdevumi – kopā | F69: 45423634 | G69: 429854
B70: Uzturēšanas izdevumi | C70: 57454704 | D70: -429854 | E70: Uzturēšanas izdevumi | F70: 45423634 | G70: 429854
B71: Transferti viena budžeta veida ietvaros un uzturēšanas izdevumu transferti starp budžeta veidiem | C71: 57454704 | D71: -429854 | E71: Transferti viena budžeta veida ietvaros un uzturēšanas izdevumu transferti starp budžeta veidiem | F71: 45423634 | G71: 429854
B72: Pārējie valsts budžeta uzturēšanas izdevumu transferti citiem budžetiem | C72: 57454704 | D72: -429854 | E72: Pārējie valsts budžeta uzturēšanas izdevumu transferti citiem budžetiem | F72: 45423634 | G72: 429854
B73: Pārējie valsts budžeta uzturēšanas izdevumu transferti pašvaldībām | C73: 57454704 | D73: -429854 | E73: Pārējie valsts budžeta uzturēšanas izdevumu transferti pašvaldībām | F73: 45423634 | G73: 429854
B74: Iekšējā līdzekļu pārdale 429 854 euro apmērā no budžeta programmas 01.00.00 "Mērķdotācijas izglītības pasākumiem" uz budžeta programmu 10.00.00. "Mērķdotācijas pašvaldībām – pašvaldību izglītības iestādēs bērnu no piecu gadu vecuma izglītošanā nodarbināto pedagogu darba samaksai un valsts sociālās apdrošināšanas obligātajām iemaksām", lai nodrošinātu pedagogu darba samaksu 2022. gadā un turpmāk, ņemot vērā pedagogu minimālās algas likmes palielināšanu līdz 830 euro un pirmskolas pedagogu minimālās algas likmes palielināšanu līdz 872 euro sākot ar 2021. gada 1. septembri un izglītojamo skaita uz 2021. gada 1. septembri izmaiņu ietekmi, saskaņā ar MK 05.10.2021. sēdes prot. Nr.66, 28.§.
B76: likumprojektam "Par vidēja termiņa budžeta ietvaru 2022., 2023. un 2024.gadam"
A78: =A63 -> 26 | B78: 62. resors "Mērķdotācijas pašvaldībām" | H78: Atbalstīt
B79: 3.pielikums
B80: I Valsts pamatfunkciju īstenošana
B81: 2022.gads
B82: Resursi izdevumu segšanai | C82: 431222629
B83: Dotācija no vispārējiem ieņēmumiem | C83: 431222629
B84: Vispārējā kārtībā sadalāmā dotācija no vispārējiem ieņēmumiem | C84: 431222629
B85: Izdevumi – kopā | C85: 431222629
B86: Uzturēšanas izdevumi | C86: 431222629
B87: Transferti viena budžeta veida ietvaros un uzturēšanas izdevumu transferti starp budžeta veidiem | C87: 431222629
B88: Pārējie valsts budžeta uzturēšanas izdevumu transferti citiem budžetiem | C88: 431222629
B89: Pārējie valsts budžeta uzturēšanas izdevumu transferti pašvaldībām | C89: 431222629
B92: 2023.gads
B93: Resursi izdevumu segšanai | C93: 453536441
B94: Dotācija no vispārējiem ieņēmumiem | C94: 453536441
B95: Vispārējā kārtībā sadalāmā dotācija no vispārējiem ieņēmumiem | C95: 453536441
B96: Izdevumi – kopā | C96: 453536441
B97: Uzturēšanas izdevumi | C97: 453536441
B98: Transferti viena budžeta veida ietvaros un uzturēšanas izdevumu transferti starp budžeta veidiem | C98: 453536441
B99: Pārējie valsts budžeta uzturēšanas izdevumu transferti citiem budžetiem | C99: 453536441
B100: Pārējie valsts budžeta uzturēšanas izdevumu transferti pašvaldībām | C100: 453536441
B103: 2024.gads
B104: Resursi izdevumu segšanai | C104: 453536441
B105: Dotācija no vispārējiem ieņēmumiem | C105: 453536441
B106: Vispārējā kārtībā sadalāmā dotācija no vispārējiem ieņēmumiem | C106: 453536441
B107: Izdevumi – kopā | C107: 453536441
B108: Uzturēšanas izdevumi | C108: 453536441
B109: Transferti viena budžeta veida ietvaros un uzturēšanas izdevumu transferti starp budžeta veidiem | C109: 453536441
B110: Pārējie valsts budžeta uzturēšanas izdevumu transferti citiem budžetiem | C110: 453536441
B111: Pārējie valsts budžeta uzturēšanas izdevumu transferti pašvaldībām | C111: 453536441
B114: Iekšējā līdzekļu pārdale 2022.gadā un turpmāk ik gadu 429 854 euro apmērā no budžeta programmas 01.00.00 "Mērķdotācijas izglītības pasākumiem" uz budžeta programmu 10.00.00. "Mērķdotācijas pašvaldībām – pašvaldību izglītības iestādēs bērnu no piecu gadu vecuma izglītošanā nodarbināto pedagogu darba samaksai un valsts sociālās apdrošināšanas obligātajām iemaksām", lai nodrošinātu pedagogu darba samaksu 2022. gadā un turpmāk, ņemot vērā pedagogu minimālās algas likmes palielināšanu līdz 830 euro un pirmskolas pedagogu minimālās algas likmes palielināšanu līdz 872 euro sākot ar 2021. gada 1. septembri un izglītojamo skaita uz 2021. gada 1. septembri izmaiņu ietekmi, saskaņā ar MK 05.10.2021. sēdes prot. Nr.66, 28.§.

Sheet 64.res
C1: Pieņemts pirmajā lasījumā | D1: Priekšlikums par izmaiņām | F1: Pieņemts pirmajā lasījumā | G1: Priekšlikums par izmaiņām | H1: Priekšlikums MK atzinumam
B4: 64.resors "Dotācija pašvaldībām" (13. Finanšu ministrija)
B5: Ierosināts pārdalīt no (-)/ uz (+): | E5: Atbalstīt pārdali no (-)/ uz (+):
B6: 02.00.00 Līdzekļi neparedzētiem gadījumiem | E6: 02.00.00 Līdzekļi neparedzētiem gadījumiem
B7: 2022.gadā | C7: 54338675 | D7: =D16 -> -869278 | E7: 2022.gadā | F7: 54338675 | G7: =D7 -> -869278
B8: 2023.gadā | C8: 19240528 | E8: 2023.gadā | F8: 19240528 | G8: =D8 -> 0
B9: 2024.gadā | C9: 99084581 | E9: 2024.gadā | F9: 99084581 | G9: =D9 -> 0
B11: likumprojektam "Par valsts budžetu 2022.gadam"
A13: ='62.res'!A78+1 -> 27 | B13: 74. Gadskārtējā valsts budžeta izpildes procesā pārdalāmais finansējums | E13: 64.resors "Dotācija pašvaldībām" | H13: Atbalstīt
B14: 4.pielikums | E14: 4.pielikums
B15: 02.00.00 "Līdzekļi neparedzētiem gadījumiem" | E15: 01.00.00. "Dotācija pašvaldību finanšu izlīdzināšanas fondam"
B16: Resursi izdevumu segšanai | C16: 54338675 | D16: -869278 | E16: Resursi izdevumu segšanai | F16: 187190543 | G16: 869278
B17: Dotācija no vispārējiem ieņēmumiem | C17: 54338675 | D17: -869278 | E17: Dotācija no vispārējiem ieņēmumiem | F17: 187190543 | G17: 869278
B18: Vispārējā kārtībā sadalāmā dotācija no vispārējiem ieņēmumiem | C18: 54338675 | D18: -869278 | E18: Vispārējā kārtībā sadalāmā dotācija no vispārējiem ieņēmumiem | F18: 187190543 | G18: 869278
B19: Izdevumi – kopā | C19: 54338675 | D19: -869278 | E19: Izdevumi – kopā | F19: 187190543 | G19: 869278
B20: Uzturēšanas izdevumi | C20: 54338675 | D20: -869278 | E20: Uzturēšanas izdevumi | F20: 187190543 | G20: 869278
B21: Subsīdijas, dotācijas, sociālie maksājumi un kompensācijas | C21: 54338675 | D21: -869278 | E21: Transferti viena budžeta veida ietvaros un uzturēšanas izdevumu transferti starp budžeta veidiem | F21: 187190543 | G21: 869278
B22: Subsīdijas un dotācijas | C22: 54338675 | D22: -869278 | E22: Pārējie valsts budžeta uzturēšanas izdevumu transferti citiem budžetiem | F22: 187190543 | G22: 869278
E23: Pārējie valsts budžeta uzturēšanas izdevumu transferti pašvaldībām | F23: 187190543 | G23: 869278
B24: Pamatojoties uz Ministru kabineta 2021. gada 11. oktobra sēdes protokollēmumu Nr.68, 1.§. veikta pārdale 869 278 euro apmērā no programmas 02.00.00 "Līdzekļi neparedzētiem gadījumiem" uz 64.resora programmu 01.01.00 "Dotācija pašvaldību finanšu izlīdzināšanas fondam", lai nodrošinātu valsts budžeta dotācijas piešķiršanu pašvaldībām, kurām izlīdzinātie ieņēmumi uz vienu iedzīvotāju ir zemāki par 800 euro un izlīdzināto ieņēmumu pieaugums, salīdzinot ar 2021. gadu, ir mazāks par pašvaldību vidējo izlīdzināto ieņēmumu pieaugumu (3,1%), ar nosacījumu, ka šīm pašvaldībām tiek nodrošināti izlīdzinātie ieņēmumi ne mazāk kā 2021. gadā, iekļaujot Covid-19 izraisītās krīzes pārvarēšanas un seku novēršanas pasākumu īstenošanai 2021. gadā piešķirto finansējumu.
B26: likumprojektam "Par vidēja termiņa budžeta ietvaru 2022., 2023. un 2024.gadam"
A28: =A13 -> 27 | B28: 74. Gadskārtējā valsts budžeta izpildes procesā pārdalāmais finansējums | E28: 64.resors "Dotācija pašvaldībām" | H28: Atbalstīt
B29: 3.pielikums | E29: 3.pielikums
B30: I. Valsts pamatfunkciju īstenošana | E30: I Valsts pamatfunkciju īstenošana
B31: 2022.gads | E31: 2022.gads
B32: Resursi izdevumu segšanai | C32: 261972494 | D32: -869278 | E32: Resursi izdevumu segšanai | F32: 187190543 | G32: 869278
B33: Dotācija no vispārējiem ieņēmumiem | C33: 261972494 | D33: -869278 | E33: Dotācija no vispārējiem ieņēmumiem | F33: 187190543 | G33: 869278
B34: Vispārējā kārtībā sadalāmā dotācija no vispārējiem ieņēmumiem | C34: 261972494 | D34: -869278 | E34: Vispārējā kārtībā sadalāmā dotācija no vispārējiem ieņēmumiem | F34: 187190543 | G34: 869278
B35: Izdevumi – kopā | C35: 261972494 | D35: -869278 | E35: Izdevumi – kopā | F35: 187190543 | G35: 869278
B36: Uzturēšanas izdevumi | C36: 261972494 | D36: -869278 | E36: Uzturēšanas izdevumi | F36: 187190543 | G36: 869278
B37: Subsīdijas, dotācijas, sociālie maksājumi un kompensācijas | C37: 261972494 | D37: -869278 | E37: Transferti viena budžeta veida ietvaros un uzturēšanas izdevumu transferti starp budžeta veidiem | F37: 187190543 | G37: 869278
B38: Subsīdijas un dotācijas | C38: 261972494 | D38: -869278 | E38: Pārējie valsts budžeta uzturēšanas izdevumu transferti citiem budžetiem | F38: 187190543 | G38: 869278
E39: Pārējie valsts budžeta uzturēšanas izdevumu transferti pašvaldībām | F39: 187190543 | G39: 869278
B40: Pamatojoties uz Ministru kabineta 2021. gada 11. oktobra sēdes protokollēmumu Nr.68, 1.§. veikta pārdale 869 278 euro apmērā no programmas 02.00.00 "Līdzekļi neparedzētiem gadījumiem" uz 64.resora programmu 01.01.00 "Dotācija pašvaldību finanšu izlīdzināšanas fondam", lai nodrošinātu valsts budžeta dotācijas piešķiršanu pašvaldībām, kurām izlīdzinātie ieņēmumi uz vienu iedzīvotāju ir zemāki par 800 euro un izlīdzināto ieņēmumu pieaugums, salīdzinot ar 2021. gadu, ir mazāks par pašvaldību vidējo izlīdzināto ieņēmumu pieaugumu (3,1%), ar nosacījumu, ka šīm pašvaldībām tiek nodrošināti izlīdzinātie ieņēmumi ne mazāk kā 2021. gadā, iekļaujot Covid-19 izraisītās krīzes pārvarēšanas un seku novēršanas pasākumu īstenošanai 2021. gadā piešķirto finansējumu.

Sheet 74.res
C1: Pieņemts pirmajā lasījumā | D1: Priekšlikums par izmaiņām | F1: Pieņemts pirmajā lasījumā | G1: Priekšlikums par izmaiņām | H1: Priekšlikums MK atzinumam
B4: 74.resors " Gadskārtējā valsts budžeta izpildes procesā pārdalāmais finansējums"
B5: Ierosināts pārdalīt no (-)/ uz (+): | E5: Atbalstīt pārdali no (-)/ uz (+):
B6: 02.00.00 Līdzekļi neparedzētiem gadījumiem | E6: 02.00.00 Līdzekļi neparedzētiem gadījumiem
B7: 2022.gadā | C7: 54338675 | D7: =G16 -> 20000000 | E7: 2022.gadā | F7: 54338675 | G7: =D7 -> 20000000
B8: 2023.gadā | C8: 19240528 | E8: 2023.gadā | F8: 19240528 | G8: =D8 -> 0
B9: 2024.gadā | C9: 99084581 | E9: 2024.gadā | F9: 99084581 | G9: =D9 -> 0
B11: likumprojektam "Par valsts budžetu 2022.gadam"
A13: ='64.res'!A28+1 -> 28 | B13: 74. Gadskārtējā valsts budžeta izpildes procesā pārdalāmais finansējums | E13: 74. Gadskārtējā valsts budžeta izpildes procesā pārdalāmais finansējums | H13: Atbalstīt
B14: 4.pielikums | E14: 4.pielikums
B15: 01.00.00 "Apropriācijas rezerve" | E15: 02.00.00 "Līdzekļi neparedzētiem gadījumiem"
B16: Resursi izdevumu segšanai | C16: 42492373 | D16: -20000000 | E16: Resursi izdevumu segšanai | F16: 54338675 | G16: 20000000
B17: Dotācija no vispārējiem ieņēmumiem | C17: 42492373 | D17: -20000000 | E17: Dotācija no vispārējiem ieņēmumiem | F17: 54338675 | G17: 20000000
B18: Vispārējā kārtībā sadalāmā dotācija no vispārējiem ieņēmumiem | C18: 42492373 | D18: -20000000 | E18: Vispārējā kārtībā sadalāmā dotācija no vispārējiem ieņēmumiem | F18: 54338675 | G18: 20000000
B19: Izdevumi – kopā | C19: 42492373 | D19: -20000000 | E19: Izdevumi – kopā | F19: 54338675 | G19: 20000000
B20: Uzturēšanas izdevumi | C20: 42492373 | D20: -20000000 | E20: Uzturēšanas izdevumi | F20: 54338675 | G20: 20000000
B21: Subsīdijas, dotācijas, sociālie maksājumi un kompensācijas | C21: 42492373 | D21: -20000000 | E21: Subsīdijas, dotācijas, sociālie maksājumi un kompensācijas | F21: 54338675 | G21: 20000000
B22: Subsīdijas un dotācijas | C22: 42492373 | D22: -20000000 | E22: Subsīdijas un dotācijas | F22: 54338675 | G22: 20000000
B23: Finansējuma pārdale budžeta resora “74.Gadzkārtējā valsts budžeta izpildes procesā pārdalamais finansējums” ietvaros no programmas 01.00.00 "Apropriācijas rezerve" uz programmu 02.00.00 "Līdzekļi neparedzētiem gadījumiem"
B25: likumprojektam "Par vidēja termiņa budžeta ietvaru 2022., 2023. un 2024.gadam"
A27: =A13 -> 28 | B27: 74. Gadskārtējā valsts budžeta izpildes procesā pārdalāmais finansējums | H27: Atbalstīt
B28: 3.pielikums
B29: I. Valsts pamatfunkciju īstenošana
B30: 2022.gads
B31: Resursi izdevumu segšanai | C31: 261972494 | D31: 0
B32: Dotācija no vispārējiem ieņēmumiem | C32: 261972494 | D32: 0
B33: Vispārējā kārtībā sadalāmā dotācija no vispārējiem ieņēmumiem | C33: 261972494 | D33: 0
B34: Izdevumi – kopā | C34: 261972494 | D34: 0
B35: Uzturēšanas izdevumi | C35: 261972494 | D35: 0
B36: Subsīdijas, dotācijas, sociālie maksājumi un kompensācijas | C36: 261972494 | D36: 0
B37: Subsīdijas un dotācijas | C37: 261972494 | D37: 0
B39: Finansējuma pārdale budžeta resora “74.Gadzkārtējā valsts budžeta izpildes procesā pārdalamais finansējums” ietvaros no programmas 01.00.00 "Apropriācijas rezerve" uz programmu 02.00.00 "Līdzekļi neparedzētiem gadījumiem"

Sheet 6piel
B3: Nobalsots 1.lasījumā | D3: Priekšlikumi 2.lasījumam | J3: Priekšlikums MK atzinumam
B6: 15. Izglītības un zinātnes ministrija | D6: Izteikt likumprojekta 6.pielikumu jaunā redakcijā:
B8: 6.pielikums | D8: 6.pielikums
A9: ='74.res'!A27+1 -> 29 | B9: Mērķdotācijas pašvaldībām – pašvaldību pamata un vispārējās vidējās izglītības iestāžu, pašvaldību speciālās izglītības iestāžu un pašvaldību profesionālās izglītības iestāžu pedagogu darba samaksai un valsts sociālās apdrošināšanas obligātajām iemaksām | D9: Mērķdotācijas pašvaldībām – pašvaldību pamata un vispārējās vidējās izglītības iestāžu, pašvaldību speciālās izglītības iestāžu un pašvaldību profesionālās izglītības iestāžu pedagogu darba samaksai un valsts sociālās apdrošināšanas obligātajām iemaksām | J9: Atbalstīt
D11: I. No 2022.gada 1.janvāra līdz 2022.gada 31.augustam
B12: Pašvaldības | C12: Euro | D12: Pašvaldības | E12: Euro | F12: tai skaitā piemaksām pedagogiem, kuri ieguvuši kvalitātes pakāpi
F13: Kopā | G13: 3.kvalitātes pakāpe | H13: 4.kvalitātes pakāpe | I13: 5.kvalitātes pakāpe
B15: KOPĀ | C15: 307409117 | D15: Rīgas valstspilsēta | E15: 57559504 | F15: 0 | G15: 0 | H15: 0 | I15: 0
D16: Daugavpils valstspilsēta | E16: 8075656 | F16: 0 | G16: 0 | H16: 0 | I16: 0
D17: Jelgavas valstspilsēta | E17: 6709577 | F17: 385 | G17: 385 | H17: 0 | I17: 0
D18: Jūrmalas valstspilsēta | E18: 3993488 | F18: 0 | G18: 0 | H18: 0 | I18: 0
D19: Liepājas valstspilsēta | E19: 7086264 | F19: 0 | G19: 0 | H19: 0 | I19: 0
D20: Rēzeknes valstspilsēta | E20: 3337608 | F20: 0 | G20: 0 | H20: 0 | I20: 0
D21: Ventspils valstspilsēta | E21: 3650584 | F21: 0 | G21: 0 | H21: 0 | I21: 0
D22: Aizkraukles novads | E22: 3464992 | F22: 0 | G22: 0 | H22: 0 | I22: 0
D23: Alūksnes novads | E23: 1597776 | F23: 0 | G23: 0 | H23: 0 | I23: 0
D24: Augšdaugavas novads | E24: 2294808 | F24: 0 | G24: 0 | H24: 0 | I24: 0
D25: Ādažu novads | E25: 2137933 | F25: 5013 | G25: 0 | H25: 1691 | I25: 3322
D26: Balvu novads | E26: 2360304 | F26: 0 | G26: 0 | H26: 0 | I26: 0
D27: Bauskas novads | E27: 5253056 | F27: 0 | G27: 0 | H27: 0 | I27: 0
... D58: KOPĀ | E58: 199405250 | F58: 7162 | G58: 2149 | H58: 1691 | I58: 3322
D60: II. No 2022.gada 1.septembra līdz 2022.gada 31.decembrim
D61: Pašvaldības | E61: Euro
D62: Nesadalītie līdzekļi | E62: 108206047
D64: PAVISAM KOPĀ | E64: =E62+E58 -> 307611297
B65: * Mērķdotācijas sadalījumu pašvaldībām Izglītības un zinātnes ministrija iesniegs uz likumprojekta izskatīšanu Saeimā otrajā lasījumā, kad būs apkopota informācija par skolēnu skaitu izglītības iestādēs 2021.gada 1.septembrī.

Sheet 7piel
B3: Nobalsots 1.lasījumā | D3: Priekšlikumi 2.lasījumam | J3: Priekšlikums MK atzinumam
B6: 15. Izglītības un zinātnes ministrija | D6: Izteikt likumprojekta 7.pielikumu jaunā redakcijā:
B8: 7.pielikums | D8: 7.pielikums
A9: ='6piel'!A9+1 -> 30 | B9: Mērķdotācijas pašvaldībām – interešu izglītības programmu pedagogu daļējai darba samaksai un valsts sociālās apdrošināšanas obligātajām iemaksām | D9: Mērķdotācijas pašvaldībām – interešu izglītības programmu pedagogu daļējai darba samaksai un valsts sociālās apdrošināšanas obligātajām iemaksām | J9: Atbalstīt
D11: I. No 2022.gada 1.janvāra līdz 2022.gada 31.augustam
B12: Pašvaldības | C12: Euro | D12: Pasvaldības | E12: Euro | F12: tai skaitā piemaksām pedagogiem, kuri ieguvuši kvalitātes pakāpi
F13: Kopā | G13: 3.kvalitātes pakāpe | H13: 4.kvalitātes pakāpe | I13: 5.kvalitātes pakāpe
B15: KOPĀ | C15: 19956694 | D15: Rīgas valstspilsēta | E15: 4451995 | F15: 0 | G15: 0 | H15: 0 | I15: 0
D16: Daugavpils valstspilsēta | E16: 552168 | F16: 0 | G16: 0 | H16: 0 | I16: 0
D17: Jelgavas valstspilsēta | E17: 439976 | F17: 0 | G17: 0 | H17: 0 | I17: 0
D18: Jūrmalas valstspilsēta | E18: 265016 | F18: 0 | G18: 0 | H18: 0 | I18: 0
D19: Liepājas valstspilsēta | E19: 503400 | F19: 0 | G19: 0 | H19: 0 | I19: 0
D20: Rēzeknes valstspilsēta | E20: 249040 | F20: 0 | G20: 0 | H20: 0 | I20: 0
D21: Ventspils valstspilsēta | E21: 237248 | F21: 0 | G21: 0 | H21: 0 | I21: 0
D22: Aizkraukles novads | E22: 173104 | F22: 0 | G22: 0 | H22: 0 | I22: 0
D23: Alūksnes novads | E23: 82936 | F23: 0 | G23: 0 | H23: 0 | I23: 0
D24: Augšdaugavas novads | E24: 121344 | F24: 0 | G24: 0 | H24: 0 | I24: 0
D25: Ādažu novads | E25: 164128 | F25: 0 | G25: 0 | H25: 0 | I25: 0
D26: Balvu novads | E26: 111712 | F26: 0 | G26: 0 | H26: 0 | I26: 0
D27: Bauskas novads | E27: 434168 | F27: 0 | G27: 0 | H27: 0 | I27: 0
... D58: KOPĀ | E58: 13036065 | F58: 222 | G58: 222 | H58: 0 | I58: 0
D60: II. No 2022.gada 1.septembra līdz 2022.gada 31.decembrim
D61: Pašvaldības | E61: Euro
D62: Nesadalītie līdzekļi | E62: 7069111
D64: PAVISAM KOPĀ | E64: =E58+E62 -> 20105176
B65: * Mērķdotācijas sadalījumu pašvaldībām Izglītības un zinātnes ministrija iesniegs uz likumprojekta izskatīšanu Saeimā otrajā lasījumā, kad būs apkopota informācija par skolēnu skaitu izglītības iestādēs 2021.gada 1.septembrī.

Sheet 8piel
B3: Nobalsots 1.lasījumā | E3: Priekšlikumi 2.lasījumam | L3: Priekšlikums MK atzinumam
B6: 15. Izglītības un zinātnes ministrija | E6: Izteikt likumprojekta 8.pielikumu jaunā redakcijā:
B8: 8.pielikums | E8: 8.pielikums
A9: ='7piel'!A9+1 -> 31 | B9: Mērķdotācijas pašvaldībām – pašvaldību speciālo pirmsskolas izglītības grupu pedagogu darba samaksai un valsts sociālās apdrošināšanas obligātajām iemaksām, speciālajām izglītības iestādēm, kas nodrošina internāta pakalpojumus | E9: Mērķdotācijas pašvaldībām – pašvaldību speciālo pirmsskolas izglītības grupu pedagogu darba samaksai un valsts sociālās apdrošināšanas obligātajām iemaksām, speciālajām izglītības iestādēm, kas nodrošina internāta pakalpojumus | L9: Atbalstīt
E11: I. No 2022.gada 1.janvāra līdz 2022.gada 31.augustam
B12: Pašvaldības | C12: Pedagogu darba samaksai un valsts sociālās apdrošināšanas obligātajām iemaksām (Euro) | D12: Pavisam kopā (Euro) | E12: Pašvaldības | F12: Pedagogu darba samaksai un valsts sociālās apdrošināšanas obligātajām iemaksām (Euro) | G12: tai skaitā piemaksām pedagogiem, kuri ieguvuši kvalitātes pakāpi | K12: Pavisam kopā (Euro)
G13: Kopā | H13: 3.kvalitātes pakāpe | I13: 4.kvalitātes pakāpe | J13: 5.kvalitātes pakāpe
B15: KOPĀ | C15: 36405438 | D15: 57454704 | E15: Rīgas valstspilsēta | F15: 6263632 | G15: 0 | H15: 0 | I15: 0 | J15: 0 | K15: 9988750
E16: Daugavpils valstspilsēta | F16: 1169456 | G16: 0 | H16: 0 | I16: 0 | J16: 0 | K16: 1921789
E17: Jelgavas valstspilsēta | F17: 783832 | G17: 0 | H17: 0 | I17: 0 | J17: 0 | K17: 1182439
E18: Jūrmalas valstspilsēta | F18: 364864 | G18: 0 | H18: 0 | I18: 0 | J18: 0 | K18: 598550
E19: Liepājas valstspilsēta | F19: 1052264 | G19: 0 | H19: 0 | I19: 0 | J19: 0 | K19: 1681254
E20: Rēzeknes valstspilsēta | F20: 679392 | G20: 0 | H20: 0 | I20: 0 | J20: 0 | K20: 926385
E21: Ventspils valstspilsēta | F21: 8240 | G21: 0 | H21: 0 | I21: 0 | J21: 0 | K21: 8240
E22: Aizkraukles novads | F22: 642144 | G22: 0 | H22: 0 | I22: 0 | J22: 0 | K22: 986398
E23: Alūksnes novads | F23: 50888 | G23: 0 | H23: 0 | I23: 0 | J23: 0 | K23: 50888
E24: Augšdaugavas novads | F24: 431232 | G24: 0 | H24: 0 | I24: 0 | J24: 0 | K24: 707491
E25: Bauskas novads | F25: 736808 | G25: 0 | H25: 0 | I25: 0 | J25: 0 | K25: 1141902
E26: Cēsu novads | F26: 1375784 | G26: 0 | H26: 0 | I26: 0 | J26: 0 | K26: 2005752
E27: Dienvidkurzemes novads | F27: 561784 | G27: 0 | H27: 0 | I27: 0 | J27: 0 | K27: 921446
... E49: Ventspils novads | F49: 151688 | G49: 0 | H49: 0 | I49: 0 | J49: 0 | K49: 276451
E50: KOPĀ | F50: =SUM(F15:F49) -> 22757752 | G50: =SUM(G15:G49) -> 0 | H50: =SUM(H15:H49) -> 0 | I50: =SUM(I15:I49) -> 0 | J50: =SUM(J15:J49) -> 0 | K50: =SUM(K15:K49) -> 36479075
E52: II. No 2022.gada 1.septembra līdz 2022.gada 31.decembrim
E53: Pašvaldības | F53: Pedagogu darba samaksai un valsts sociālās apdrošināšanas obligātajām iemaksām (Euro) | K53: Pavisam kopā (Euro)
E54: Nesadalītie līdzekļi | F54: 12289438 | K54: 19150100
E56: PAVISAM KOPĀ | F56: =F54+F50 -> 35047190 | K56: =K54+K50 -> 55629175
B57: * Mērķdotācijas sadalījumu pašvaldībām Izglītības un zinātnes ministrija iesniegs uz likumprojekta izskatīšanu Saeimā otrajā lasījumā, kad būs apkopota informācija par skolēnu skaitu izglītības iestādēs 2021.gada 1.septembrī.

Sheet 9piel
B3: Nobalsots 1.lasījumā | D3: Priekšlikumi 2.lasījumam | J3: Priekšlikums MK atzinumam
B6: 15. Izglītības un zinātnes ministrija | D6: Izteikt likumprojekta 9.pielikumu jaunā redakcijā:
B8: 9.pielikums | D8: 9.pielikums
A9: ='8piel'!A9+1 -> 32 | B9: Mērķdotācijas pašvaldībām – pašvaldību izglītības iestādēs bērnu no piecu gadu vecuma izglītošanā nodarbināto pedagogu darba samaksai un valsts sociālās apdrošināšanas obligātajām iemaksām | D9: Mērķdotācijas pašvaldībām – pašvaldību izglītības iestādēs bērnu no piecu gadu vecuma izglītošanā nodarbināto pedagogu darba samaksai un valsts sociālās apdrošināšanas obligātajām iemaksām | J9: Atbalstīt
D11: I. No 2022. gada 1.janvāra līdz 2022. gada 31.augustam
B12: Pašvaldības | C12: Euro | D12: Pašvaldības | E12: Euro | F12: tai skaitā piemaksām pedagogiem, kuri ieguvuši kvalitātes pakāpi
F13: Kopā | G13: 3.kvalitātes pakāpe | H13: 4.kvalitātes pakāpe | I13: 5.kvalitātes pakāpe
B15: KOPĀ | C15: 45423634 | D15: Rīgas valstspilsēta | E15: 7717040 | F15: 0 | G15: 0 | H15: 0 | I15: 0
D16: Daugavpils valstspilsēta | E16: 1219512 | F16: 0 | G16: 0 | H16: 0 | I16: 0
D17: Jelgavas valstspilsēta | E17: 784672 | F17: 0 | G17: 0 | H17: 0 | I17: 0
D18: Jūrmalas valstspilsēta | E18: 636208 | F18: 0 | G18: 0 | H18: 0 | I18: 0
D19: Liepājas valstspilsēta | E19: 1026312 | F19: 0 | G19: 0 | H19: 0 | I19: 0
D20: Rēzeknes valstspilsēta | E20: 444224 | F20: 0 | G20: 0 | H20: 0 | I20: 0
D21: Ventspils valstspilsēta | E21: 516616 | F21: 0 | G21: 0 | H21: 0 | I21: 0
D22: Aizkraukles novads | E22: 560048 | F22: 0 | G22: 0 | H22: 0 | I22: 0
D23: Alūksnes novads | E23: 267240 | F23: 0 | G23: 0 | H23: 0 | I23: 0
D24: Augšdaugavas novads | E24: 246504 | F24: 0 | G24: 0 | H24: 0 | I24: 0
D25: Ādažu novads | E25: 341280 | F25: 0 | G25: 0 | H25: 0 | I25: 0
D26: Balvu novads | E26: 276248 | F26: 0 | G26: 0 | H26: 0 | I26: 0
D27: Bauskas novads | E27: 960536 | F27: 0 | G27: 0 | H27: 0 | I27: 0
... D57: Ventspils novads | E57: 193416 | F57: 0 | G57: 0 | H57: 0 | I57: 0
D58: KOPĀ | E58: =SUM(E15:E57) -> 29763018 | F58: =SUM(F15:F57) -> 890 | G58: =SUM(G15:G57) -> 890 | H58: =SUM(H15:H57) -> 0 | I58: =SUM(I15:I57) -> 0
D60: II. No 2022 gada 1.septembra līdz 2022.gada 31.decembrim
D61: Pašvaldības | E61: Euro
D62: Nesadalītie līdzekļi | E62: 16090470
D64: PAVISAM KOPĀ | E64: =E58+E62 -> 45853488
B65: * Mērķdotācijas sadalījumu pašvaldībām Izglītības un zinātnes ministrija iesniegs uz likumprojekta izskatīšanu Saeimā otrajā lasījumā, kad būs apkopota informācija par skolēnu skaitu izglītības iestādēs 2021.gada 1.septembrī.
B69: Finanšu ministrs | I69: J. Reirs
B72: Siņkovska, 67083813
B73: dace.sinkovska@fm.gov.lv
