Workbook

Sheet kopsavilkums
B1: Piešķirtā finansējuma sadalījums pa merķiem un tā izlietojums uz 28.09.2021.
B3: Kopā piešķirts finansējums | C3: Izlietots kopā uz 28.09.2021
A4: Kopā trīs piešķīrumi, tai skaitā | B4: =B5+B11+B14 -> 86593857 | C4: =C5+C11+C14 -> 34123428
A5: Kopā infrastruktūrai kapitālsabiedrībās un IV līmeņa slimnīcās | B5: =B7+B10+B9 -> 25460377 | C5: =C7+C10+C9 -> 1703719.4
A6: Kopā infrastruktūrai, gultām un iekārtām | B6: =B7+B8+B10+B37+B38 -> 45700521 | C6: =C7+C8+C10+C37+C38 -> 11637496
A7: infrastruktūra RAKUS, PSKUS | B7: 21664877 | C7: 920977.41
A8: II, III, IV līmeņa slimnīcām, tai skaitā: | B8: =B15+B9 -> 22818575 | C8: 10227509
A9: infrastruktūra Jēkabpils un Vidzeme | B9: =170000+2899500 -> 3069500 | C9: =13798+[1]LNG_kopa_3!G9 -> 782742
A10: operatīvā datu paneļa izveidei | B10: 726000
A11: tarifiem | B11: =B12+B13 -> 27858753 | C11: =C12+C13 -> 15480342
A12: observācijas gultu apmaksai | B12: 3474533 | C12: 2084719.2 | E12: Izveidoto gultu skaits par līdz šim izlietoto finansējumu, atbilstoši plānotajam
A13: IT gultu uzturēšanai | B13: 24384220 | C13: 13395623
A14: Kopā gultām un iekārtām | B14: =B15+B39 -> 33274727 | C14: =C15+C39 -> 16939366
A15: II, III, IV līmeņa slimnīcām, tai skaitā: | B15: =SUM(B16:B36)+B38+B37 -> 19749075 | C15: =SUM(C16:C36)+C38+C37 -> 10895296 | E15: Jaunas gultas | F15: Pārprofilētas | G15: IT gultas aprīkotas atbilstoši līmenim | H15: Jaunas IT gultas
A16: SIA "Liepājas reģionālā slimnīca" | B16: ='[1]1_LNG_kopā'!D12+'[1]2_LNG_kopā'!D10+'[1]3_LNG_kopā'!D11 -> 1471388 | C16: =[1]LNG_kopa_3!G11+[1]LNG_kopā_2!E11+[1]LNG_kopā_1!E12 -> 1392849 | F16: =[1]gultu_salidzinajums!P7 -> 30 | G16: =[1]gultu_salidzinajums!Q7 -> 6
A17: SIA "Ziemeļkurzemes reģionālā slimnīca" Ventspils | B17: ='[1]1_LNG_kopā'!D15+'[1]3_LNG_kopā'!D13+'[1]2_LNG_kopā'!D12 -> 1939352 | C17: =[1]LNG_kopa_3!G13+[1]LNG_kopā_2!E13+[1]LNG_kopā_1!E15 -> 1822349 | F17: =[1]gultu_salidzinajums!P8 -> 56 | G17: =[1]gultu_salidzinajums!Q8 -> 15 | H17: =[1]gultu_salidzinajums!R8 -> 8
A18: SIA "Vidzemes slimnīca" | B18: ='[1]1_LNG_kopā'!D14+'[1]3_LNG_kopā'!D8+'[1]2_LNG_kopā'!D8-170000 -> 2517440 | C18: =[1]LNG_kopa_3!G8+[1]LNG_kopā_2!E9+[1]LNG_kopā_1!E14-13798 -> 461487 | F18: =[1]gultu_salidzinajums!P9 -> 27 | G18: =[1]gultu_salidzinajums!Q9 -> 3
A19: SIA "Daugavpils reģionālā slimnīca" | B19: ='[1]1_LNG_kopā'!D9+'[1]3_LNG_kopā'!D7+'[1]2_LNG_kopā'!D7 -> 1163837 | C19: =[1]LNG_kopa_3!G7+[1]LNG_kopā_2!E8+[1]LNG_kopā_1!E9 -> 693369 | F19: =[1]gultu_salidzinajums!P10 -> 87
A20: SIA "Rēzeknes slimnīca" | B20: ='[1]1_LNG_kopā'!D13+'[1]3_LNG_kopā'!D12+'[1]2_LNG_kopā'!D11 -> 4077143 | C20: =[1]LNG_kopa_3!G12+[1]LNG_kopā_2!E12+[1]LNG_kopā_1!E13 -> 2501469 | F20: =[1]gultu_salidzinajums!P11 -> 20 | H20: =[1]gultu_salidzinajums!R11 -> 8
A21: SIA"Jēkabpils reģionālā slimnīca" | B21: ='[1]1_LNG_kopā'!D10+'[1]3_LNG_kopā'!D9+'[1]3_LNG_kopā'!D10+'[1]2_LNG_kopā'!D9-2899500 -> 2985294 | C21: =[1]LNG_kopa_3!G10+[1]LNG_kopā_2!E10+[1]LNG_kopā_1!E10 -> 763647 | F21: =[1]gultu_salidzinajums!P12 -> 55 | G21: =[1]gultu_salidzinajums!Q12 -> 3
A22: SIA "Jelgavas pilsētas slimnīca" | B22: ='[1]1_LNG_kopā'!D11+'[1]3_LNG_kopā'!D14+'[1]2_LNG_kopā'!D13 -> 514668 | C22: =[1]LNG_kopa_3!G14+[1]LNG_kopā_2!E14+[1]LNG_kopā_1!E11 -> 483473 | F22: =[1]gultu_salidzinajums!P13 -> 50
A23: SIA "Balvu un Gulbenes slimnīcu apvienība" slimnīcā Balvos | B23: ='[1]1_LNG_kopā'!D8+'[1]3_LNG_kopā'!D18+'[1]2_LNG_kopā'!D18 -> 497481 | C23: =[1]LNG_kopa_3!G18+[1]LNG_kopā_2!E19+[1]LNG_kopā_1!E8 -> 334882 | E23: =[1]gultu_salidzinajums!O14 -> 25
A24: SIA Bauskas slimnīca | B24: ='[1]2_LNG_kopā'!D14 -> 107776 | C24: =[1]LNG_kopā_2!E15 -> 47841 | F24: =[1]gultu_salidzinajums!P15 -> 20
A25: SIA Aizkraukles slimnīca | B25: ='[1]2_LNG_kopā'!D15 -> 61860 | C25: =[1]LNG_kopā_2!D16 -> 61860 | F25: 40
A26: SIA Ludzas medicīnas centrs | B26: ='[1]2_LNG_kopā'!D16 -> 207750 | C26: =[1]LNG_kopā_2!E17 -> 160217
A27: SIA "Rīgas 1.slimnīca" | B27: ='[1]2_LNG_kopā'!D17+'[1]3_LNG_kopā'!D17 -> 832110 | C27: =[1]LNG_kopa_3!G17+[1]LNG_kopā_2!E18 -> 593589 | E27: 50
A28: SAI "Alūksnes slimnīca" | B28: ='[1]2_LNG_kopā'!D19+'[1]3_LNG_kopā'!D19 -> 510876 | C28: =[1]LNG_kopa_3!G19+[1]LNG_kopā_2!E20 -> 174203
A29: SIA "Kuldīgas slimnīca" | B29: ='[1]2_LNG_kopā'!D20+'[1]3_LNG_kopā'!D21 -> 5406 | C29: =[1]LNG_kopa_3!E21+[1]LNG_kopā_2!E21 -> 5405
A30: SIA "Ogres rajona slimnīca" | B30: ='[1]3_LNG_kopā'!D23 -> 505072 | C30: ='[1]3_LNG_kopā'!E23 -> 0
A31: SIA "Jūrmalas slimnīca" | B31: ='[1]3_LNG_kopā'!D15 -> 166502 | C31: =[1]LNG_kopa_3!G15 -> 117812
A32: SIA "Cēsu klīnika" | B32: ='[1]3_LNG_kopā'!D20 -> 355106 | C32: =[1]LNG_kopa_3!G20 -> 196464 | H32: 4
A33: SIA "Tukuma slimnīca" | B33: ='[1]3_LNG_kopā'!D16 -> 540058 | C33: ='[1]3_LNG_kopā'!E16 -> 373162.79 | G33: 4
A34: SIA "Dobeles un apkārtnes slimnīca" | B34: ='[1]3_LNG_kopā'!D22 -> 188362 | C34: ='[1]3_LNG_kopā'!E22 -> 0
A35: SIA "Krāslavas slimnīca" | B35: ='[1]3_LNG_kopā'!D24 -> 264286 | C35: =[1]LNG_kopa_3!G24 -> 222208 | F35: 2
A36: SIA "Preiļu slimnīca" | B36: ='[1]3_LNG_kopā'!D25 -> 346239 | C36: ='[1]3_LNG_kopā'!E25 -> 0
A37: mākslīgo plaušu ventilācijas iegādei (NVD CENTRALIZĒTI IEGĀDĀTS) | B37: 341069 | C37: 341069
A38: Planšetēm | B38: 150000 | C38: 147940.1
A39: VM kapitālsabiedrībām, tai skaitā: | B39: =B40+B41+B42+B43+B44 -> 13525652 | C39: =C40+C41+C42+C43+C44 -> 6044070
A40: RAKUS | B40: 8229186 | C40: 4629193 | E40: =[1]gultu_salidzinajums!O4 -> 122 | F40: =[1]gultu_salidzinajums!P4 -> 261 | G40: =[1]gultu_salidzinajums!Q4 -> 57 | H40: =[1]gultu_salidzinajums!R4 -> 12
A41: PSKUS | B41: 4962393 | C41: 1112628 | F41: =[1]gultu_salidzinajums!P5 -> 62
A42: BKUS | B42: 124438 | C42: 96382
A43: VSIA "Slimnīca "Ģintermuiža"" | B43: 174128 | C43: 174128
A44: VSIA "Strenču psihoneiroloģiskā slimnīca" | B44: 35507 | C44: 31739
E45: =SUM(E16:E43) -> 197 | F45: =SUM(F16:F43) -> 710 | G45: =SUM(G16:G43) -> 88 | H45: =SUM(H16:H43) -> 32
